{"text_format":"1","workbook":"xlsx","n_sheets":26,"sheets":["Instrucciones","Criterios de calificacion CClav","Peso criterios carga horaria","Peso criterios libre","Peso descrip. libre","Peso descrip. vinculaciones","Alumnos","Redondeo","Materias","Calif. de crit.","ANR","Ciencias de la Naturaleza","Ciencias Sociales","Educacion Fisica","EPV","Lengua Castellana y Lit.","Lengua extranjera","Matematicas","Musica y Danza","Religion","Calificacion de comp,","CSVcomp","Calificación materias","CSVmat","Reporte","BASE"],"not_rendered":{"charts":0,"images":3,"macros":1,"external_links":0,"defined_names":3,"comments":0,"pivot_tables":0},"unopened":[],"bounds":{"document_bytes":16777216,"sheet_cells":100000,"rows_first":2000,"rows_last":500,"rows_between":2000,"halvings":0,"cell_chars":16384,"cell_head_chars":4096},"cells_cut":0,"cells_raw":0,"read":"whole","date_system":"1900"}

{"sheet":"Instrucciones","index":0,"n_rows":6,"n_cols":2,"rows_kept":6,"cut":false,"hidden":false,"merged":[[5,1,13,1]]}
[]
[]
[null,"CALIFICACIÓN DE LAS COMPETENCIAS CLAVE Y DE LAS ÁREAS\n4º_EP"]
[]
[]
[null,"INSTRUCCIONES\n\n1. INCORPORAR LOS CRITERIOS DE CALIFICACIÓN DE LAS COMPETENCIAS CLAVE\nBOTÓN: \"INCORPORAR LOS CRITERIOS DE CALIFICACIÓN DE LAS COMPETENCIAS CLAVE.\"\nPara introducir los criterios de calificación de las competencias clave hay que seleccionar una opción en cada uno de los siguientes campos:\n-Pesos de los criterios de evaluación en el cálculo de la calificación de los descriptores operativos.\n-Pesos de los descriptores operativos en el cálculo de la calificación de las competencias clave.\nSi se considera, se puede bloquear la información introducida pulsado en el botón \"PROTEGIDA\" e introduciendo una contaseña. En caso de querer desbloquear la página se debe pulsar en el botón \"DESPROTEGIDA\" e introducir la contraseña marcada.\n\n2. INCORPORAR EL NOMBRE DE LOS ALUMNOS QUE COMPONEN EL GRUPO.\nBOTÓN: \"INCORPORAR EL LISTADO DE ALUMNOS\"\nIntroducir el nombre de todos los alumnos que componen el grupo-clase. Marcar las áreas de opción que cursa cada alumno. \nPulsando sobre el botón \"informe\" en cada alumnno se visualiza de forma individualizada la composición de las calificaciones de las áreas y de las competencias clave a partir de las notas de los criterios de evaluación.\nAdemás, se incorporan dos botones para facilitar el trabajo colaborativo a través de TEAMS o Onedrive. El procedimiento es el siguiente: 1º Se pulsa el botón superior de esta sección TEAMS/Onedrive; 2º Una vez guardado el archivo, se comparte con las citadas aplicaciones; 3º Los docentes incorporan las céntésimas de redondeo de su área en la pestaña \"Redondeo\" y las notas de los criterios de evaluación en la pestaña correspondiente a su área; 4º Se descarga el archivo y se pulsa en el segundo botón de esta sección TEAMS/Onedrive para normalizar su funcionamiento y poder visualizar toda la información que esta herramienta ofrece.\n\n3. INCORPORAR LAS CALIFICACIONES DE LOS CRITERIOS DE EVALUACIÓN DE LAS ÁREAS CURSADAS POR EL ALUMNO.\nBOTÓN: \"INCORPORAR LA CALIFICACIÓN POR ÁREAS DE LOS CRITERIOS DE EVALUACIÓN \"\nSeleccionar el área. En la pestaña de destino introducir los pesos (ponderaciones) de cada criterio de evaluación (es decir, los criterios de calificación del área) y las calificaciones de los criterios de evaluación para los alumnos que cursen el área o, en su caso, la calificación del área.\n\n4. OBSERVAR LAS NOTAS DE LAS COMPETENCIAS CLAVE DE LOS ALUMNOS.\nBOTÓN: \"VISUALIZAR LAS NOTAS DE LAS COMPETENCIAS CLAVE\"\nPermite observar las notas de las competencias clave de cada alumno en función de los criterios de calificación  de las competencias clave introducidos.\nAdemás, desde la pantalla de destino se puede generar un documento para exportar las notas de las competencias clave a STILUS. Para ello, previamente es necesario introducir las centésimas de redondeo de las notas de las competencias clave en la celda creadad al efecto.\n\n5. OBSERVAR LAS NOTAS DE LAS ÁREAS DE LOS ALUMNOS.\nBOTÓN: \"VISUALIZAR LAS NOTAS DE LAS ÁREAS\"\nPermite observar las notas de las áreas de cada alumno, en función de los criterios de calificación del área introducidos.\nAdemás, desde la pantalla de destino se puede generar un documento para exportar las notas de las áreas a STILUS.\n"]

{"sheet":"Criterios de calificacion CClav","index":1,"n_rows":20,"n_cols":5,"rows_kept":20,"cut":false,"hidden":false,"merged":[[3,3,3,4]]}
[]
[]
[]
[null,null,null,"CRITERIOS DE CALIFICACIÓN DE LAS COMPETENCIAS CLAVE"]
[]
[null,null,null,"Pesos de los criterios de evaluación en el cálculo de la calificación de los descriptores operativos"]
[]
[null,null,null,null,"MEDIA SIMPLE. Se aplica un criterio común para el cálculo de la calificación de todos los descriptores. Todos los criterios de evaluación pesan (ponderan) los mismo en la calificaión de los descriptores operativos."]
[]
[null,null,null,null,"MEDIA PONDERADA POR CARGA HORARIA. Se aplica un criterio común para el cálculo de la calificación de todos los descriptores. El peso de los criterios de evaluación se determina en función de la carga horaria deL área. (RECOMENDADO)"]
[]
[null,null,null,null,"LIBRE. Se aplica un criterio común para el cálculo de la calificación de todos los descriptores. El peso de cada  criterio de evaluación en la calificación de los descriptores se determina por el centro."]
[]
[null,null,null,null,"LIBRE DIFERENCIADO POR DESCRIPTORES. Se aplica un criterio diferenciado para el cálculo de la calificación de cada descriptor. El peso de cada  criterio de evaluación en la calificación de cada descriptor se determina por el centro."]
[]
[null,null,null,"Pesos de los descriptores operativos en el cálculo de la calificación de las competencias clave"]
[]
[null,null,null,null,"MEDIA PONDERADA. El peso de los descriptores operativos en el cálculo de la calificación de la competencia clave se determina en proporción al número de vinculaciones de cada descriptor operativo con los criterios de evaluación (RECOMENDADO)"]
[]
[null,null,null,null," LIBRE. El peso (ponderación) de los descriptores operativos en el cálculo de la calificación de la competencia clave se determina por el centro."]

{"sheet":"Peso criterios carga horaria","index":2,"n_rows":164,"n_cols":6,"rows_kept":164,"cut":false,"hidden":false,"merged":[[2,1,2,3],[1,1,1,3],[151,1,156,1],[157,1,162,1],[4,1,21,1],[4,2,6,2],[7,2,11,2],[12,2,14,2],[15,2,16,2],[17,2,19,2],[20,2,21,2],[43,1,54,1],[43,2,45,2],[46,2,48,2],[49,2,51,2],[52,2,54,2],[22,1,42,1],[22,2,24,2],[25,2,28,2],[29,2,31,2],[32,2,33,2],[34,2,37,2],[38,2,39,2],[40,2,42,2],[72,1,91,1],[72,2,75,2],[76,2,78,2],[79,2,81,2],[82,2,85,2],[86,2,88,2],[89,2,91,2],[55,1,71,1],[55,2,57,2],[58,2,60,2],[61,2,63,2],[64,2,66,2],[67,2,71,2],[118,1,132,1],[118,2,119,2],[120,2,122,2],[123,2,124,2],[125,2,126,2],[127,2,129,2],[130,2,132,2],[92,1,117,1],[92,2,93,2],[94,2,95,2],[96,2,98,2],[99,2,101,2],[102,2,103,2],[104,2,107,2],[108,2,110,2],[111,2,113,2],[114,2,115,2],[116,2,117,2],[133,1,150,1],[133,2,134,2],[135,2,138,2],[139,2,140,2],[141,2,142,2],[143,2,144,2],[145,2,146,2],[147,2,148,2],[149,2,150,2]]}
[]
[null,null,null,null,null,"Mismo peso todos los descriptores"]
[null,null,null,null,null,"Sí"]
[null,null,null,null,"CALIFICACIÓN","PESO TODOS"]
[null,"Ciencias de la Naturaleza","Comp. Esp. 1","Criterio Evaluación 1.1","-",2]
[null,null,null,"Criterio Evaluación 1.2","-",2]
[null,null,null,"Criterio Evaluación 1.3","-",2]
[null,null,"Comp. Esp. 2","Criterio Evaluación 2.1","-",2]
[null,null,null,"Criterio Evaluación 2.2","-",2]
[null,null,null,"Criterio Evaluación 2.3","-",2]
[null,null,null,"Criterio Evaluación 2.4","-",2]
[null,null,null,"Criterio Evaluación 2.5","-",2]
[null,null,"Comp. Esp. 3","Criterio Evaluación 3.1","-",2]
[null,null,null,"Criterio Evaluación 3.2","-",2]
[null,null,null,"Criterio Evaluación 3.3","-",2]
[null,null,"Comp. Esp. 4","Criterio Evaluación 4.1","-",2]
[null,null,null,"Criterio Evaluación 4.2","-",2]
[null,null,"Comp. Esp. 5","Criterio Evaluación 5.1","-",2]
[null,null,null,"Criterio Evaluación 5.2","-",2]
[null,null,null,"Criterio Evaluación 5.3","-",2]
[null,null,"Comp. Esp. 6","Criterio Evaluación 6.1","-",2]
[null,null,null,"Criterio Evaluación 6.2","-",2]
[null,"Ciencias Sociales","Comp. Esp. 1","Criterio Evaluación 1.1","-",2]
[null,null,null,"Criterio Evaluación 1.2","-",2]
[null,null,null,"Criterio Evaluación 1.3","-",2]
[null,null,"Comp. Esp. 2","Criterio Evaluación 2.1","-",2]
[null,null,null,"Criterio Evaluación 2.2","-",2]
[null,null,null,"Criterio Evaluación 2.3","-",2]
[null,null,null,"Criterio Evaluación 2.4","-",2]
[null,null,"Comp. Esp. 3","Criterio Evaluación 3.1","-",2]
[null,null,null,"Criterio Evaluación 3.2","-",2]
[null,null,null,"Criterio Evaluación 3.3","-",2]
[null,null,"Comp. Esp. 4","Criterio Evaluación 4.1","-",2]
[null,null,null,"Criterio Evaluación 4.2","-",2]
[null,null,"Comp. Esp. 5","Criterio Evaluación 5.1","-",2]
[null,null,null,"Criterio Evaluación 5.2","-",2]
[null,null,null,"Criterio Evaluación 5.3","-",2]
[null,null,null,"Criterio Evaluación 5.4","-",2]
[null,null,"Comp. Esp. 6","Criterio Evaluación 6.1","-",2]
[null,null,null,"Criterio Evaluación 6.2","-",2]
[null,null,"Comp. Esp. 7","Criterio Evaluación 7.1","-",2]
[null,null,null,"Criterio Evaluación 7.2","-",2]
[null,null,null,"Criterio Evaluación 7.3","-",2]
[null,"Educación Plástica y Visual","Comp. Esp. 1","Criterio Evaluación 1.1","-",1.5]
[null,null,null,"Criterio Evaluación 1.2","-",1.5]
[null,null,null,"Criterio Evaluación 1.3","-",1.5]
[null,null,"Comp. Esp. 2","Criterio Evaluación 2.1","-",1.5]
[null,null,null,"Criterio Evaluación 2.2","-",1.5]
[null,null,null,"Criterio Evaluación 2.3","-",1.5]
[null,null,"Comp. Esp. 3","Criterio Evaluación 3.1","-",1.5]
[null,null,null,"Criterio Evaluación 3.2","-",1.5]
[null,null,null,"Criterio Evaluación 3.3","-",1.5]
[null,null,"Comp. Esp. 4","Criterio Evaluación 4.1","-",1.5]
[null,null,null,"Criterio Evaluación 4.2","-",1.5]
[null,null,null,"Criterio Evaluación 4.3","-",1.5]
[null,"Música y Danza  ","Comp. Esp. 1","Criterio Evaluación 1.1","-",1]
[null,null,null,"Criterio Evaluación 1.2","-",1]
[null,null,null,"Criterio Evaluación 1.3","-",1]
[null,null,"Comp. Esp. 2","Criterio Evaluación 2.1","-",1]
[null,null,null,"Criterio Evaluación 2.2","-",1]
[null,null,null,"Criterio Evaluación 2.3","-",1]
[null,null,"Comp. Esp. 3","Criterio Evaluación 3.1","-",1]
[null,null,null,"Criterio Evaluación 3.2","-",1]
[null,null,null,"Criterio Evaluación 3.3","-",1]
[null,null,"Comp. Esp. 4","Criterio Evaluación 4.1","-",1]
[null,null,null,"Criterio Evaluación 4.2","-",1]
[null,null,null,"Criterio Evaluación 4.3","-",1]
[null,null,"Comp. Esp. 5","Criterio Evaluación 5.1","-",1]
[null,null,null,"Criterio Evaluación 5.2","-",1]
[null,null,null,"Criterio Evaluación 5.3","-",1]
[null,null,null,"Criterio Evaluación 5.4","-",1]
[null,null,null,"Criterio Evaluación 5.5","-",1]
[null,"Educación Física","Comp. Esp. 1","Criterio Evaluación 1.1","-",2.5]
[null,null,null,"Criterio Evaluación 1.2","-",2.5]
[null,null,null,"Criterio Evaluación 1.3","-",2.5]
[null,null,null,"Criterio Evaluación 1.4","-",2.5]
[null,null,"Comp. Esp. 2","Criterio Evaluación 2.1","-",2.5]
[null,null,null,"Criterio Evaluación 2.2","-",2.5]
[null,null,null,"Criterio Evaluación 2.3","-",2.5]
[null,null,"Comp. Esp. 3","Criterio Evaluación 3.1","-",2.5]
[null,null,null,"Criterio Evaluación 3.2","-",2.5]
[null,null,null,"Criterio Evaluación 3.3","-",2.5]
[null,null,"Comp. Esp. 4","Criterio Evaluación 4.1","-",2.5]
[null,null,null,"Criterio Evaluación 4.2","-",2.5]
[null,null,null,"Criterio Evaluación 4.3","-",2.5]
[null,null,null,"Criterio Evaluación 4.4","-",2.5]
[null,null,"Comp. Esp. 5","Criterio Evaluación 5.1","-",2.5]
[null,null,null,"Criterio Evaluación 5.2","-",2.5]
[null,null,null,"Criterio Evaluación 5.3","-",2.5]
[null,null,"Comp. Esp. 6","Criterio Evaluación 6.1","-",2.5]
[null,null,null,"Criterio Evaluación 6.2","-",2.5]
[null,null,null,"Criterio Evaluación 6.3","-",2.5]
[null,"Lengua Castellana y Literatura","Comp. Esp. 1","Criterio Evaluación 1.1","-",5.5]
[null,null,null,"Criterio Evaluación 1.2","-",5.5]
[null,null,"Comp. Esp. 2","Criterio Evaluación 2.1","-",5.5]
[null,null,null,"Criterio Evaluación 2.2","-",5.5]
[null,null,"Comp. Esp. 3","Criterio Evaluación 3.1","-",5.5]
[null,null,null,"Criterio Evaluación 3.2","-",5.5]
[null,null,null,"Criterio Evaluación 3.3","-",5.5]
[null,null,"Comp. Esp. 4","Criterio Evaluación 4.1","-",5.5]
[null,null,null,"Criterio Evaluación 4.2","-",5.5]
[null,null,null,"Criterio Evaluación 4.3","-",5.5]
[null,null,"Comp. Esp. 5","Criterio Evaluación 5.1","-",5.5]
[null,null,null,"Criterio Evaluación 5.2","-",5.5]
[null,null,"Comp. Esp. 6","Criterio Evaluación 6.1","-",5.5]
[null,null,null,"Criterio Evaluación 6.2","-",5.5]
[null,null,null,"Criterio Evaluación 6.3","-",5.5]
[null,null,null,"Criterio Evaluación 6.4","-",5.5]
[null,null,"Comp. Esp. 7","Criterio Evaluación 7.1","-",5.5]
[null,null,null,"Criterio Evaluación 7.2","-",5.5]
[null,null,null,"Criterio Evaluación 7.3","-",5.5]
[null,null,"Comp. Esp. 8","Criterio Evaluación 8.1","-",5.5]
[null,null,null,"Criterio Evaluación 8.2","-",5.5]
[null,null,null,"Criterio Evaluación 8.3","-",5.5]
[null,null,"Comp. Esp. 9","Criterio Evaluación 9.1","-",5.5]
[null,null,null,"Criterio Evaluación 9.2","-",5.5]
[null,null,"Comp. Esp. 10","Criterio Evaluación 10.1","-",5.5]
[null,null,null,"Criterio Evaluación 10.2","-",5.5]
[null,"Lengua Extranjera","Comp. Esp. 1","Criterio Evaluación 1.1","-",2.5]
[null,null,null,"Criterio Evaluación 1.2","-",2.5]
[null,null,"Comp. Esp. 2","Criterio Evaluación 2.1","-",2.5]
[null,null,null,"Criterio Evaluación 2.2","-",2.5]
[null,null,null,"Criterio Evaluación 2.3","-",2.5]
[null,null,"Comp. Esp. 3","Criterio Evaluación 3.1","-",2.5]
[null,null,null,"Criterio Evaluación 3.2","-",2.5]
[null,null,"Comp. Esp. 4","Criterio Evaluación 4.1","-",2.5]
[null,null,null,"Criterio Evaluación 4.2","-",2.5]
[null,null,"Comp. Esp. 5","Criterio Evaluación 5.1","-",2.5]
[null,null,null,"Criterio Evaluación 5.2","-",2.5]
[null,null,null,"Criterio Evaluación 5.3","-",2.5]
[null,null,"Comp. Esp. 6","Criterio Evaluación 6.1","-",2.5]
[null,null,null,"Criterio Evaluación 6.2","-",2.5]
[null,null,null,"Criterio Evaluación 6.3","-",2.5]
[null,"Matemáticas","Comp. Esp. 1","Criterio Evaluación 1.1","-",4.5]
[null,null,null,"Criterio Evaluación 1.2","-",4.5]
[null,null,"Comp. Esp. 2","Criterio Evaluación 2.1","-",4.5]
[null,null,null,"Criterio Evaluación 2.2","-",4.5]
[null,null,null,"Criterio Evaluación 2.3","-",4.5]
[null,null,null,"Criterio Evaluación 2.4","-",4.5]
[null,null,"Comp. Esp. 3","Criterio Evaluación 3.1","-",4.5]
[null,null,null,"Criterio Evaluación 3.2","-",4.5]
[null,null,"Comp. Esp. 4","Criterio Evaluación 4.1","-",4.5]
[null,null,null,"Criterio Evaluación 4.2","-",4.5]
[null,null,"Comp. Esp. 5","Criterio Evaluación 5.1","-",4.5]
[null,null,null,"Criterio Evaluación 5.2","-",4.5]
[null,null,"Comp. Esp. 6","Criterio Evaluación 6.1","-",4.5]
[null,null,null,"Criterio Evaluación 6.2","-",4.5]
[null,null,"Comp. Esp. 7","Criterio Evaluación 7.1","-",4.5]
[null,null,null,"Criterio Evaluación 7.2","-",4.5]
[null,null,"Comp. Esp. 8","Criterio Evaluación 8.1","-",4.5]
[null,null,null,"Criterio Evaluación 8.2","-",4.5]
[null,"Religión","Comp. Esp. 1","Criterio Evaluación 1.1","-",1]
[null,null,"Comp. Esp. 2","Criterio Evaluación 2.1","-",1]
[null,null,"Comp. Esp. 3","Criterio Evaluación 3.1","-",1]
[null,null,"Comp. Esp. 4","Criterio Evaluación 4.1","-",1]
[null,null,"Comp. Esp. 5","Criterio Evaluación 5.1","-",1]
[null,null,"Comp. Esp. 6","Criterio Evaluación 6.1","-",1]
[null,"Área dirigida al alumnado que no cursa religión","Comp. Esp. 1","Criterio Evaluación 1.1","-",1]
[null,null,"Comp. Esp. 2","Criterio Evaluación 2.1","-",1]
[null,null,"Comp. Esp. 3","Criterio Evaluación 3.1","-",1]
[null,null,"Comp. Esp. 4","Criterio Evaluación 4.1","-",1]
[null,null,"Comp. Esp. 5","Criterio Evaluación 5.1","-",1]
[null,null,"Comp. Esp. 6","Criterio Evaluación 6.1","-",1]
[null,null,null,null,null,"TOTAL"]

{"sheet":"Peso criterios libre","index":3,"n_rows":164,"n_cols":7,"rows_kept":164,"cut":false,"hidden":false,"merged":[[2,1,2,3],[1,1,1,3],[4,1,21,1],[22,1,42,1],[29,2,31,2],[32,2,33,2],[34,2,37,2],[38,2,39,2],[40,2,42,2],[43,1,54,1],[43,2,45,2],[4,2,6,2],[7,2,11,2],[12,2,14,2],[15,2,16,2],[17,2,19,2],[20,2,21,2],[22,2,24,2],[25,2,28,2],[46,2,48,2],[49,2,51,2],[52,2,54,2],[151,1,156,1],[157,1,162,1],[72,1,91,1],[72,2,75,2],[76,2,78,2],[79,2,81,2],[82,2,85,2],[86,2,88,2],[89,2,91,2],[111,2,113,2],[114,2,115,2],[116,2,117,2],[133,1,150,1],[133,2,134,2],[135,2,138,2],[139,2,140,2],[55,2,57,2],[58,2,60,2],[61,2,63,2],[64,2,66,2],[67,2,71,2],[55,1,71,1],[118,1,132,1],[118,2,119,2],[120,2,122,2],[123,2,124,2],[125,2,126,2],[127,2,129,2],[130,2,132,2],[92,1,117,1],[92,2,93,2],[94,2,95,2],[96,2,98,2],[99,2,101,2],[102,2,103,2],[104,2,107,2],[108,2,110,2],[141,2,142,2],[143,2,144,2],[145,2,146,2],[147,2,148,2],[149,2,150,2]]}
[]
[]
[]
[null,null,null,null,"CALIFICACIÓN","PESO","PORCENTAJE"]
[null,"Ciencias de la Naturaleza","Comp. Esp. 1","Criterio Evaluación 1.1",null,1,{"$f":"F5/SUM($F$5:$F$163)","v":6.2893081761006293E-3}]
[null,null,null,"Criterio Evaluación 1.2",1,1,6.2893081761006293E-3]
[null,null,null,"Criterio Evaluación 1.3",1,1,6.2893081761006293E-3]
[null,null,"Comp. Esp. 2","Criterio Evaluación 2.1",1,1,6.2893081761006293E-3]
[null,null,null,"Criterio Evaluación 2.2",null,1,6.2893081761006293E-3]
[null,null,null,"Criterio Evaluación 2.3",null,1,6.2893081761006293E-3]
[null,null,null,"Criterio Evaluación 2.4",1,1,6.2893081761006293E-3]
[null,null,null,"Criterio Evaluación 2.5",1,1,6.2893081761006293E-3]
[null,null,"Comp. Esp. 3","Criterio Evaluación 3.1",null,1,6.2893081761006293E-3]
[null,null,null,"Criterio Evaluación 3.2",1,1,6.2893081761006293E-3]
[null,null,null,"Criterio Evaluación 3.3",null,1,6.2893081761006293E-3]
[null,null,"Comp. Esp. 4","Criterio Evaluación 4.1",null,1,6.2893081761006293E-3]
[null,null,null,"Criterio Evaluación 4.2",null,1,6.2893081761006293E-3]
[null,null,"Comp. Esp. 5","Criterio Evaluación 5.1",1,1,6.2893081761006293E-3]
[null,null,null,"Criterio Evaluación 5.2",null,1,6.2893081761006293E-3]
[null,null,null,"Criterio Evaluación 5.3",null,1,6.2893081761006293E-3]
[null,null,"Comp. Esp. 6","Criterio Evaluación 6.1",null,1,6.2893081761006293E-3]
[null,null,null,"Criterio Evaluación 6.2",null,1,6.2893081761006293E-3]
[null,"Ciencias Sociales","Comp. Esp. 1","Criterio Evaluación 1.1",null,1,6.2893081761006293E-3]
[null,null,null,"Criterio Evaluación 1.2",1,1,6.2893081761006293E-3]
[null,null,null,"Criterio Evaluación 1.3",1,1,6.2893081761006293E-3]
[null,null,"Comp. Esp. 2","Criterio Evaluación 2.1",1,1,6.2893081761006293E-3]
[null,null,null,"Criterio Evaluación 2.2",null,1,6.2893081761006293E-3]
[null,null,null,"Criterio Evaluación 2.3",1,1,6.2893081761006293E-3]
[null,null,null,"Criterio Evaluación 2.4",1,1,6.2893081761006293E-3]
[null,null,"Comp. Esp. 3","Criterio Evaluación 3.1",1,1,6.2893081761006293E-3]
[null,null,null,"Criterio Evaluación 3.2",null,1,6.2893081761006293E-3]
[null,null,null,"Criterio Evaluación 3.3",null,1,6.2893081761006293E-3]
[null,null,"Comp. Esp. 4","Criterio Evaluación 4.1",null,1,6.2893081761006293E-3]
[null,null,null,"Criterio Evaluación 4.2",null,1,6.2893081761006293E-3]
[null,null,"Comp. Esp. 5","Criterio Evaluación 5.1",null,1,6.2893081761006293E-3]
[null,null,null,"Criterio Evaluación 5.2",null,1,6.2893081761006293E-3]
[null,null,null,"Criterio Evaluación 5.3",null,1,{"$f":"F37/SUM($F$5:$F$163)","v":6.2893081761006293E-3}]
[null,null,null,"Criterio Evaluación 5.4",null,1,6.2893081761006293E-3]
[null,null,"Comp. Esp. 6","Criterio Evaluación 6.1",null,1,6.2893081761006293E-3]
[null,null,null,"Criterio Evaluación 6.2",null,1,6.2893081761006293E-3]
[null,null,"Comp. Esp. 7","Criterio Evaluación 7.1",null,1,6.2893081761006293E-3]
[null,null,null,"Criterio Evaluación 7.2",null,1,6.2893081761006293E-3]
[null,null,null,"Criterio Evaluación 7.3",null,1,6.2893081761006293E-3]
[null,"Educación Plástica y Visual","Comp. Esp. 1","Criterio Evaluación 1.1",1,1,6.2893081761006293E-3]
[null,null,null,"Criterio Evaluación 1.2",1,1,6.2893081761006293E-3]
[null,null,null,"Criterio Evaluación 1.3",1,1,6.2893081761006293E-3]
[null,null,"Comp. Esp. 2","Criterio Evaluación 2.1",null,1,6.2893081761006293E-3]
[null,null,null,"Criterio Evaluación 2.2",null,1,6.2893081761006293E-3]
[null,null,null,"Criterio Evaluación 2.3",null,1,6.2893081761006293E-3]
[null,null,"Comp. Esp. 3","Criterio Evaluación 3.1",null,1,6.2893081761006293E-3]
[null,null,null,"Criterio Evaluación 3.2",1,1,6.2893081761006293E-3]
[null,null,null,"Criterio Evaluación 3.3",1,1,6.2893081761006293E-3]
[null,null,"Comp. Esp. 4","Criterio Evaluación 4.1",1,1,6.2893081761006293E-3]
[null,null,null,"Criterio Evaluación 4.2",1,1,6.2893081761006293E-3]
[null,null,null,"Criterio Evaluación 4.3",1,1,6.2893081761006293E-3]
[null,"Música y Danza  ","Comp. Esp. 1","Criterio Evaluación 1.1",1,1,6.2893081761006293E-3]
[null,null,null,"Criterio Evaluación 1.2",1,1,6.2893081761006293E-3]
[null,null,null,"Criterio Evaluación 1.3",1,1,6.2893081761006293E-3]
[null,null,"Comp. Esp. 2","Criterio Evaluación 2.1",null,1,6.2893081761006293E-3]
[null,null,null,"Criterio Evaluación 2.2",null,1,6.2893081761006293E-3]
[null,null,null,"Criterio Evaluación 2.3",null,1,6.2893081761006293E-3]
[null,null,"Comp. Esp. 3","Criterio Evaluación 3.1",null,1,6.2893081761006293E-3]
[null,null,null,"Criterio Evaluación 3.2",1,1,6.2893081761006293E-3]
[null,null,null,"Criterio Evaluación 3.3",1,1,6.2893081761006293E-3]
[null,null,"Comp. Esp. 4","Criterio Evaluación 4.1",1,1,6.2893081761006293E-3]
[null,null,null,"Criterio Evaluación 4.2",1,1,6.2893081761006293E-3]
[null,null,null,"Criterio Evaluación 4.3",1,1,6.2893081761006293E-3]
[null,null,"Comp. Esp. 5","Criterio Evaluación 5.1",null,1,6.2893081761006293E-3]
[null,null,null,"Criterio Evaluación 5.2",null,1,{"$f":"F69/SUM($F$5:$F$163)","v":6.2893081761006293E-3}]
[null,null,null,"Criterio Evaluación 5.3",null,1,6.2893081761006293E-3]
[null,null,null,"Criterio Evaluación 5.4",null,1,6.2893081761006293E-3]
[null,null,null,"Criterio Evaluación 5.5",null,1,6.2893081761006293E-3]
[null,"Educación Física","Comp. Esp. 1","Criterio Evaluación 1.1",null,1,6.2893081761006293E-3]
[null,null,null,"Criterio Evaluación 1.2",null,1,6.2893081761006293E-3]
[null,null,null,"Criterio Evaluación 1.3",null,1,6.2893081761006293E-3]
[null,null,null,"Criterio Evaluación 1.4",null,1,6.2893081761006293E-3]
[null,null,"Comp. Esp. 2","Criterio Evaluación 2.1",null,1,6.2893081761006293E-3]
[null,null,null,"Criterio Evaluación 2.2",null,1,6.2893081761006293E-3]
[null,null,null,"Criterio Evaluación 2.3",null,1,6.2893081761006293E-3]
[null,null,"Comp. Esp. 3","Criterio Evaluación 3.1",null,1,6.2893081761006293E-3]
[null,null,null,"Criterio Evaluación 3.2",null,1,6.2893081761006293E-3]
[null,null,null,"Criterio Evaluación 3.3",1,1,6.2893081761006293E-3]
[null,null,"Comp. Esp. 4","Criterio Evaluación 4.1",null,1,6.2893081761006293E-3]
[null,null,null,"Criterio Evaluación 4.2",null,1,6.2893081761006293E-3]
[null,null,null,"Criterio Evaluación 4.3",null,1,6.2893081761006293E-3]
[null,null,null,"Criterio Evaluación 4.4",null,1,6.2893081761006293E-3]
[null,null,"Comp. Esp. 5","Criterio Evaluación 5.1",null,1,6.2893081761006293E-3]
[null,null,null,"Criterio Evaluación 5.2",null,1,6.2893081761006293E-3]
[null,null,null,"Criterio Evaluación 5.3",null,1,6.2893081761006293E-3]
[null,null,"Comp. Esp. 6","Criterio Evaluación 6.1",null,1,6.2893081761006293E-3]
[null,null,null,"Criterio Evaluación 6.2",null,1,6.2893081761006293E-3]
[null,null,null,"Criterio Evaluación 6.3",1,1,6.2893081761006293E-3]
[null,"Lengua Castellana y Literatura","Comp. Esp. 1","Criterio Evaluación 1.1",1,1,6.2893081761006293E-3]
[null,null,null,"Criterio Evaluación 1.2",1,1,6.2893081761006293E-3]
[null,null,"Comp. Esp. 2","Criterio Evaluación 2.1",null,1,6.2893081761006293E-3]
[null,null,null,"Criterio Evaluación 2.2",null,1,6.2893081761006293E-3]
[null,null,"Comp. Esp. 3","Criterio Evaluación 3.1",1,1,6.2893081761006293E-3]
[null,null,null,"Criterio Evaluación 3.2",1,1,6.2893081761006293E-3]
[null,null,null,"Criterio Evaluación 3.3",1,1,6.2893081761006293E-3]
[null,null,"Comp. Esp. 4","Criterio Evaluación 4.1",null,1,6.2893081761006293E-3]
[null,null,null,"Criterio Evaluación 4.2",null,1,{"$f":"F101/SUM($F$5:$F$163)","v":6.2893081761006293E-3}]
[null,null,null,"Criterio Evaluación 4.3",null,1,6.2893081761006293E-3]
[null,null,"Comp. Esp. 5","Criterio Evaluación 5.1",1,1,6.2893081761006293E-3]
[null,null,null,"Criterio Evaluación 5.2",1,1,6.2893081761006293E-3]
[null,null,"Comp. Esp. 6","Criterio Evaluación 6.1",1,1,6.2893081761006293E-3]
[null,null,null,"Criterio Evaluación 6.2",1,1,6.2893081761006293E-3]
[null,null,null,"Criterio Evaluación 6.3",null,1,6.2893081761006293E-3]
[null,null,null,"Criterio Evaluación 6.4",null,1,6.2893081761006293E-3]
[null,null,"Comp. Esp. 7","Criterio Evaluación 7.1",null,1,6.2893081761006293E-3]
[null,null,null,"Criterio Evaluación 7.2",1,1,6.2893081761006293E-3]
[null,null,null,"Criterio Evaluación 7.3",1,1,6.2893081761006293E-3]
[null,null,"Comp. Esp. 8","Criterio Evaluación 8.1",1,1,6.2893081761006293E-3]
[null,null,null,"Criterio Evaluación 8.2",null,1,6.2893081761006293E-3]
[null,null,null,"Criterio Evaluación 8.3",1,1,6.2893081761006293E-3]
[null,null,"Comp. Esp. 9","Criterio Evaluación 9.1",1,1,6.2893081761006293E-3]
[null,null,null,"Criterio Evaluación 9.2",1,1,6.2893081761006293E-3]
[null,null,"Comp. Esp. 10","Criterio Evaluación 10.1",1,1,6.2893081761006293E-3]
[null,null,null,"Criterio Evaluación 10.2",1,1,6.2893081761006293E-3]
[null,"Lengua Extranjera","Comp. Esp. 1","Criterio Evaluación 1.1",null,1,6.2893081761006293E-3]
[null,null,null,"Criterio Evaluación 1.2",null,1,6.2893081761006293E-3]
[null,null,"Comp. Esp. 2","Criterio Evaluación 2.1",1,1,6.2893081761006293E-3]
[null,null,null,"Criterio Evaluación 2.2",1,1,6.2893081761006293E-3]
[null,null,null,"Criterio Evaluación 2.3",null,1,6.2893081761006293E-3]
[null,null,"Comp. Esp. 3","Criterio Evaluación 3.1",1,1,6.2893081761006293E-3]
[null,null,null,"Criterio Evaluación 3.2",1,1,6.2893081761006293E-3]
[null,null,"Comp. Esp. 4","Criterio Evaluación 4.1",null,1,6.2893081761006293E-3]
[null,null,null,"Criterio Evaluación 4.2",null,1,6.2893081761006293E-3]
[null,null,"Comp. Esp. 5","Criterio Evaluación 5.1",null,1,6.2893081761006293E-3]
[null,null,null,"Criterio Evaluación 5.2",null,1,6.2893081761006293E-3]
[null,null,null,"Criterio Evaluación 5.3",null,1,6.2893081761006293E-3]
[null,null,"Comp. Esp. 6","Criterio Evaluación 6.1",null,1,6.2893081761006293E-3]
[null,null,null,"Criterio Evaluación 6.2",null,1,6.2893081761006293E-3]
[null,null,null,"Criterio Evaluación 6.3",null,1,{"$f":"F133/SUM($F$5:$F$163)","v":6.2893081761006293E-3}]
[null,"Matemáticas","Comp. Esp. 1","Criterio Evaluación 1.1",null,1,6.2893081761006293E-3]
[null,null,null,"Criterio Evaluación 1.2",1,1,6.2893081761006293E-3]
[null,null,"Comp. Esp. 2","Criterio Evaluación 2.1",null,1,6.2893081761006293E-3]
[null,null,null,"Criterio Evaluación 2.2",null,1,6.2893081761006293E-3]
[null,null,null,"Criterio Evaluación 2.3",null,1,6.2893081761006293E-3]
[null,null,null,"Criterio Evaluación 2.4",null,1,6.2893081761006293E-3]
[null,null,"Comp. Esp. 3","Criterio Evaluación 3.1",null,1,6.2893081761006293E-3]
[null,null,null,"Criterio Evaluación 3.2",1,1,6.2893081761006293E-3]
[null,null,"Comp. Esp. 4","Criterio Evaluación 4.1",null,1,6.2893081761006293E-3]
[null,null,null,"Criterio Evaluación 4.2",null,1,6.2893081761006293E-3]
[null,null,"Comp. Esp. 5","Criterio Evaluación 5.1",null,1,6.2893081761006293E-3]
[null,null,null,"Criterio Evaluación 5.2",null,1,6.2893081761006293E-3]
[null,null,"Comp. Esp. 6","Criterio Evaluación 6.1",null,1,6.2893081761006293E-3]
[null,null,null,"Criterio Evaluación 6.2",1,1,6.2893081761006293E-3]
[null,null,"Comp. Esp. 7","Criterio Evaluación 7.1",1,1,6.2893081761006293E-3]
[null,null,null,"Criterio Evaluación 7.2",null,1,6.2893081761006293E-3]
[null,null,"Comp. Esp. 8","Criterio Evaluación 8.1",1,1,6.2893081761006293E-3]
[null,null,null,"Criterio Evaluación 8.2",null,1,6.2893081761006293E-3]
[null,"Religión","Comp. Esp. 1","Criterio Evaluación 1.1","-",1,6.2893081761006293E-3]
[null,null,"Comp. Esp. 2","Criterio Evaluación 2.1","-",1,6.2893081761006293E-3]
[null,null,"Comp. Esp. 3","Criterio Evaluación 3.1","-",1,6.2893081761006293E-3]
[null,null,"Comp. Esp. 4","Criterio Evaluación 4.1","-",1,6.2893081761006293E-3]
[null,null,"Comp. Esp. 5","Criterio Evaluación 5.1","-",1,6.2893081761006293E-3]
[null,null,"Comp. Esp. 6","Criterio Evaluación 6.1","-",1,6.2893081761006293E-3]
[null,"Área dirigida al alumnado que no cursa religión","Comp. Esp. 1","Criterio Evaluación 1.1","-",1,6.2893081761006293E-3]
[null,null,"Comp. Esp. 2","Criterio Evaluación 2.1","-",1,6.2893081761006293E-3]
[null,null,"Comp. Esp. 3","Criterio Evaluación 3.1","-",1,6.2893081761006293E-3]
[null,null,"Comp. Esp. 4","Criterio Evaluación 4.1","-",1,6.2893081761006293E-3]
[null,null,"Comp. Esp. 5","Criterio Evaluación 5.1","-",1,6.2893081761006293E-3]
[null,null,"Comp. Esp. 6","Criterio Evaluación 6.1","-",1,6.2893081761006293E-3]
[null,null,null,null,null,null,{"$f":"SUM($G$5:$G$163)","v":0.99999999999999989}]

{"sheet":"Peso descrip. libre","index":4,"n_rows":6,"n_cols":137,"rows_kept":6,"cut":false,"hidden":false,"merged":[[5,2,5,3],[5,52,5,55],[5,56,5,59],[5,60,5,63],[5,64,5,67],[5,68,5,71],[2,4,3,7],[2,8,3,11],[2,12,3,15],[4,44,4,47],[4,48,4,51],[4,2,4,3],[4,4,4,7],[4,8,4,11],[4,12,4,15],[4,16,4,19],[4,20,4,23],[4,24,4,27],[4,28,4,31],[4,32,4,35],[5,120,5,123],[5,124,5,127],[5,128,5,131],[5,132,5,135],[5,136,5,139],[5,4,5,7],[5,8,5,11],[5,12,5,15],[5,16,5,19],[5,20,5,23],[5,112,5,115],[5,116,5,119],[5,72,5,75],[5,76,5,79],[5,80,5,83],[5,84,5,87],[5,88,5,91],[5,92,5,95],[5,48,5,51],[5,96,5,99],[5,100,5,103],[5,104,5,107],[5,108,5,111],[4,136,4,139],[4,92,4,95],[4,96,4,99],[4,100,4,103],[4,104,4,107],[4,108,4,111],[4,112,4,115],[5,24,5,27],[5,28,5,31],[5,32,5,35],[5,36,5,39],[5,40,5,43],[5,44,5,47],[4,52,4,55],[4,56,4,59],[4,60,4,63],[4,64,4,67],[4,116,4,119],[4,120,4,123],[4,124,4,127],[4,128,4,131],[4,132,4,135],[4,36,4,39],[4,40,4,43],[2,80,3,83],[2,72,3,75],[2,76,3,79],[2,64,3,67],[2,68,3,71],[2,56,3,59],[4,68,4,71],[4,72,4,75],[4,76,4,79],[4,80,4,83],[4,84,4,87],[4,88,4,91],[2,124,3,127],[2,120,3,123],[2,116,3,119],[2,112,3,115],[2,108,3,111],[2,104,3,107],[2,100,3,103],[2,96,3,99],[2,92,3,95],[2,88,3,91],[2,84,3,87],[1,124,1,139],[2,1,2,3],[1,1,1,3],[1,4,1,23],[1,24,1,35],[1,36,1,55],[1,56,1,75],[1,76,1,95],[2,60,3,63],[2,48,3,51],[2,52,3,55],[2,40,3,43],[2,44,3,47],[2,32,3,35],[2,36,3,39],[1,96,1,111],[1,112,1,123],[2,16,3,19],[2,20,3,23],[2,24,3,27],[2,28,3,31],[2,136,3,139],[2,132,3,135],[2,128,3,131]]}
[]
[null,null,null,null,"Competencia en Comunicación Lingüística",null,null,null,null,null,null,null,null,null,null,null,null,null,null,null,null,null,null,null,"Competencia Plurilingüe",null,null,null,null,null,null,null,null,null,null,null,"Competencia Matemática y Competencia en Ciencia, Tecnología e Ingeniería",null,null,null,null,null,null,null,null,null,null,null,null,null,null,null,null,null,null,null,"Competencia Digital",null,null,null,null,null,null,null,null,null,null,null,null,null,null,null,null,null,null,null,"Competencia Personal, Social y de Aprender a Aprender",null,null,null,null,null,null,null,null,null,null,null,null,null,null,null,null,null,null,null,"Competencia Ciudadana",null,null,null,null,null,null,null,null,null,null,null,null,null,null,null,"Competencia Emprendedora",null,null,null,null,null,null,null,null,null,null,null,"Competencia en Conciencia y Expresión Culturales"]
[null,null,null,null,"CCL 1",null,null,null,"CCL 2",null,null,null,"CCL 3",null,null,null,"CCL 4",null,null,null,"CCL 5",null,null,null,"CP 1",null,null,null,"CP 2",null,null,null,"CP 3",null,null,null,"STEM 1",null,null,null,"STEM 2",null,null,null,"STEM 3",null,null,null,"STEM 4",null,null,null,"STEM 5 ",null,null,null,"CD 1",null,null,null,"CD 2",null,null,null,"CD 3",null,null,null,"CD 4",null,null,null,"CD 5",null,null,null,"CPSAA 1",null,null,null,"CPSAA 2",null,null,null,"CPSAA 3",null,null,null,"CPSAA 4",null,null,null,"CPSAA 5",null,null,null,"CC 1",null,null,null,"CC 2",null,null,null,"CC 3",null,null,null,"CC 4",null,null,null,"CE 1",null,null,null,"CE 2",null,null,null,"CE 3 ",null,null,null,"CCEC 1",null,null,null,"CCEC 2",null,null,null,"CCEC 3",null,null,null,"CCEC 4"]
[]
[null,"NO","PESO DESCRIPTORES ",null,1,null,null,null,1,null,null,null,1,null,null,null,1,null,null,null,1,null,null,null,1,null,null,null,1,null,null,null,1,null,null,null,1,null,null,null,1,null,null,null,1,null,null,null,1,null,null,null,1,null,null,null,1,null,null,null,1,null,null,null,1,null,null,null,1,null,null,null,1,null,null,null,1,null,null,null,1,null,null,null,1,null,null,null,1,null,null,null,1,null,null,null,1,null,null,null,1,null,null,null,1,null,null,null,1,null,null,null,1,null,null,null,1,null,null,null,1,null,null,null,1,null,null,null,1,null,null,null,1,null,null,null,1]
[null,null,"PORCENTAJES ",null,{"$f":"E5/SUM($E5:$U5)","v":0.2},null,null,null,{"$f":"I5/SUM($E5:$U5)","v":0.2},null,null,null,{"$f":"M5/SUM($E5:$U5)","v":0.2},null,null,null,{"$f":"Q5/SUM($E5:$U5)","v":0.2},null,null,null,{"$f":"U5/SUM($E5:$U5)","v":0.2},null,null,null,{"$f":"Y5/SUM($Y5:$AG5)","v":0.33333333333333331},null,null,null,{"$f":"AC5/SUM($Y5:$AG5)","v":0.33333333333333331},null,null,null,0.33333333333333331,null,null,null,{"$f":"AK5/SUM($AK5:$BA5)","v":0.2},null,null,null,{"$f":"AO5/SUM($AK5:$BA5)","v":0.2},null,null,null,0.2,null,null,null,0.2,null,null,null,0.2,null,null,null,{"$f":"BE5/SUM($BE5:$BU5)","v":0.2},null,null,null,{"$f":"BI5/SUM($BE5:$BU5)","v":0.2},null,null,null,0.2,null,null,null,0.2,null,null,null,0.2,null,null,null,{"$f":"BY5/SUM($BY5:$CO5)","v":0.2},null,null,null,{"$f":"CC5/SUM($BY5:$CO5)","v":0.2},null,null,null,0.2,null,null,null,0.2,null,null,null,0.2,null,null,null,{"$f":"CS5/SUM($CS5:$DE5)","v":0.25},null,null,null,{"$f":"CW5/SUM($CS5:$DE5)","v":0.25},null,null,null,0.25,null,null,null,0.25,null,null,null,{"$f":"DI5/SUM($DI5:$DQ5)","v":0.33333333333333331},null,null,null,{"$f":"DM5/SUM($DI5:$DQ5)","v":0.33333333333333331},null,null,null,0.33333333333333331,null,null,null,{"$f":"DU5/SUM($DU5:$EG5)","v":0.25},null,null,null,{"$f":"DY5/SUM($DU5:$EG5)","v":0.25},null,null,null,0.25,null,null,null,0.25]

{"sheet":"Peso descrip. vinculaciones","index":5,"n_rows":7,"n_cols":141,"rows_kept":7,"cut":false,"hidden":false,"merged":[[6,76,6,95],[6,96,6,111],[6,112,6,123],[6,124,6,139],[5,120,5,123],[5,124,5,127],[5,128,5,131],[5,132,5,135],[5,136,5,139],[5,112,5,115],[5,116,5,119],[6,2,6,3],[6,4,6,23],[6,24,6,35],[6,36,6,55],[6,56,6,75],[5,96,5,99],[5,100,5,103],[5,104,5,107],[5,108,5,111],[5,72,5,75],[5,76,5,79],[5,80,5,83],[5,84,5,87],[5,88,5,91],[5,92,5,95],[5,48,5,51],[5,52,5,55],[5,56,5,59],[5,60,5,63],[5,64,5,67],[5,68,5,71],[5,24,5,27],[5,28,5,31],[5,32,5,35],[5,36,5,39],[5,40,5,43],[5,44,5,47],[5,2,5,3],[5,4,5,7],[5,8,5,11],[5,12,5,15],[5,16,5,19],[5,20,5,23],[4,116,4,119],[4,120,4,123],[4,124,4,127],[4,128,4,131],[4,132,4,135],[4,136,4,139],[4,92,4,95],[4,96,4,99],[4,100,4,103],[4,104,4,107],[4,108,4,111],[4,112,4,115],[4,36,4,39],[4,40,4,43],[2,120,3,123],[2,124,3,127],[2,128,3,131],[2,68,3,71],[2,24,3,27],[2,28,3,31],[2,32,3,35],[2,36,3,39],[2,40,3,43],[2,44,3,47],[4,68,4,71],[4,72,4,75],[4,76,4,79],[4,80,4,83],[4,84,4,87],[4,88,4,91],[4,44,4,47],[4,48,4,51],[4,52,4,55],[4,56,4,59],[4,60,4,63],[4,64,4,67],[4,2,4,3],[4,4,4,7],[4,8,4,11],[4,12,4,15],[4,16,4,19],[2,96,3,99],[2,100,3,103],[2,104,3,107],[2,108,3,111],[2,72,3,75],[2,76,3,79],[2,80,3,83],[2,84,3,87],[2,88,3,91],[2,92,3,95],[2,48,3,51],[2,52,3,55],[2,56,3,59],[2,60,3,63],[2,64,3,67],[4,20,4,23],[4,24,4,27],[4,28,4,31],[4,32,4,35],[1,96,1,111],[1,112,1,123],[1,124,1,139],[1,140,3,140],[2,1,2,3],[2,4,3,7],[2,8,3,11],[2,12,3,15],[2,16,3,19],[2,20,3,23],[1,1,1,3],[1,4,1,23],[1,24,1,35],[1,36,1,55],[1,56,1,75],[1,76,1,95],[2,132,3,135],[2,136,3,139],[2,112,3,115],[2,116,3,119]]}
[]
[null,null,null,null,"Competencia en Comunicación Lingüística",null,null,null,null,null,null,null,null,null,null,null,null,null,null,null,null,null,null,null,"Competencia Plurilingüe",null,null,null,null,null,null,null,null,null,null,null,"Competencia Matemática y Competencia en Ciencia, Tecnología e Ingeniería",null,null,null,null,null,null,null,null,null,null,null,null,null,null,null,null,null,null,null,"Competencia Digital",null,null,null,null,null,null,null,null,null,null,null,null,null,null,null,null,null,null,null,"Competencia Personal, Social y de Aprender a Aprender",null,null,null,null,null,null,null,null,null,null,null,null,null,null,null,null,null,null,null,"Competencia Ciudadana",null,null,null,null,null,null,null,null,null,null,null,null,null,null,null,"Competencia Emprendedora",null,null,null,null,null,null,null,null,null,null,null,"Competencia en Conciencia y Expresión Culturales",null,null,null,null,null,null,null,null,null,null,null,null,null,null,null,"Vinculaciones Criterios - Descriptores "]
[null,null,null,null,"CCL 1",null,null,null,"CCL 2",null,null,null,"CCL 3",null,null,null,"CCL 4",null,null,null,"CCL 5",null,null,null,"CP 1",null,null,null,"CP 2",null,null,null,"CP 3",null,null,null,"STEM 1",null,null,null,"STEM 2",null,null,null,"STEM 3",null,null,null,"STEM 4",null,null,null,"STEM 5 ",null,null,null,"CD 1",null,null,null,"CD 2",null,null,null,"CD 3",null,null,null,"CD 4",null,null,null,"CD 5",null,null,null,"CPSAA 1",null,null,null,"CPSAA 2",null,null,null,"CPSAA 3",null,null,null,"CPSAA 4",null,null,null,"CPSAA 5",null,null,null,"CC 1",null,null,null,"CC 2",null,null,null,"CC 3",null,null,null,"CC 4",null,null,null,"CE 1",null,null,null,"CE 2",null,null,null,"CE 3 ",null,null,null,"CCEC 1",null,null,null,"CCEC 2",null,null,null,"CCEC 3",null,null,null,"CCEC 4"]
[]
[null,"NO","PESO DESCRIPTORES ",null,0.37058823529411766,null,null,null,0.14117647058823529,null,null,null,0.18235294117647058,null,null,null,7.0588235294117646E-2,null,null,null,0.23529411764705882,null,null,null,0.125,null,null,null,0.27083333333333331,null,null,null,0.60416666666666663,null,null,null,0.32520325203252032,null,null,null,0.26829268292682928,null,null,null,0.10569105691056911,null,null,null,0.13821138211382114,null,null,null,0.16260162601626016,null,null,null,0.27358490566037735,null,null,null,0.21698113207547171,null,null,null,0.23584905660377359,null,null,null,0.16981132075471697,null,null,null,0.10377358490566038,null,null,null,0.18888888888888888,null,null,null,9.4444444444444442E-2,null,null,null,0.27777777777777779,null,null,null,0.20555555555555555,null,null,null,0.23333333333333334,null,null,null,0.18965517241379309,null,null,null,0.31896551724137934,null,null,null,0.31034482758620691,null,null,null,0.18103448275862069,null,null,null,0.38666666666666666,null,null,null,9.3333333333333338E-2,null,null,null,0.52,null,null,null,0.34234234234234234,null,null,null,0.15315315315315314,null,null,null,0.27927927927927926,null,null,null,0.22522522522522523]
[null,null,"PORCENTAJES ",null,{"$f":"E5/SUM($E5:$U5)","v":0.37058823529411766},null,null,null,{"$f":"I5/SUM($E5:$U5)","v":0.14117647058823529},null,null,null,{"$f":"M5/SUM($E5:$U5)","v":0.18235294117647058},null,null,null,{"$f":"Q5/SUM($E5:$U5)","v":7.0588235294117646E-2},null,null,null,{"$f":"U5/SUM($E5:$U5)","v":0.23529411764705882},null,null,null,{"$f":"Y5/SUM($Y5:$AG5)","v":0.125},null,null,null,{"$f":"AC5/SUM($Y5:$AG5)","v":0.27083333333333331},null,null,null,0.60416666666666663,null,null,null,{"$f":"AK5/SUM($AK5:$BA5)","v":0.32520325203252032},null,null,null,{"$f":"AO5/SUM($AK5:$BA5)","v":0.26829268292682928},null,null,null,0.10569105691056911,null,null,null,0.13821138211382114,null,null,null,0.16260162601626016,null,null,null,{"$f":"BE5/SUM($BE5:$BU5)","v":0.27358490566037741},null,null,null,{"$f":"BI5/SUM($BE5:$BU5)","v":0.21698113207547173},null,null,null,0.23584905660377362,null,null,null,0.169811320754717,null,null,null,0.1037735849056604,null,null,null,{"$f":"BY5/SUM($BY5:$CO5)","v":0.18888888888888888},null,null,null,{"$f":"CC5/SUM($BY5:$CO5)","v":9.4444444444444442E-2},null,null,null,0.27777777777777779,null,null,null,0.20555555555555555,null,null,null,0.23333333333333334,null,null,null,{"$f":"CS5/SUM($CS5:$DE5)","v":0.18965517241379312},null,null,null,{"$f":"CW5/SUM($CS5:$DE5)","v":0.31896551724137939},null,null,null,0.31034482758620696,null,null,null,0.18103448275862072,null,null,null,{"$f":"DI5/SUM($DI5:$DQ5)","v":0.38666666666666666},null,null,null,{"$f":"DM5/SUM($DI5:$DQ5)","v":9.3333333333333338E-2},null,null,null,0.52,null,null,null,{"$f":"DU5/SUM($DU5:$EG5)","v":0.34234234234234234},null,null,null,{"$f":"DY5/SUM($DU5:$EG5)","v":0.15315315315315314},null,null,null,0.27927927927927926,null,null,null,0.22522522522522523]
[null,null,"CALIFICACIONES COMPETENCIAS",null,{"$f":"IFERROR(SUMPRODUCT(#REF!,E5:U5)/SUMIF(#REF!,\">=0\",E5:U5),\"\")","v":""},null,null,null,null,null,null,null,null,null,null,null,null,null,null,null,null,null,null,null,{"$f":"IFERROR(SUMPRODUCT(#REF!,Y5:AG5)/SUMIF(#REF!,\">=0\",Y5:AG5),\"\")","v":""},null,null,null,null,null,null,null,null,null,null,null,{"$f":"IFERROR(SUMPRODUCT(#REF!,AK5:BA5)/SUMIF(#REF!,\">=0\",AK5:BA5),\"\")","v":""},null,null,null,null,null,null,null,null,null,null,null,null,null,null,null,null,null,null,null,{"$f":"IFERROR(SUMPRODUCT(#REF!,BE5:BU5)/SUMIF(#REF!,\">=0\",BE5:BU5),\"\")","v":""},null,null,null,null,null,null,null,null,null,null,null,null,null,null,null,null,null,null,null,{"$f":"IFERROR(SUMPRODUCT(#REF!,BY5:CO5)/SUMIF(#REF!,\">=0\",BY5:CO5),\"\")","v":""},null,null,null,null,null,null,null,null,null,null,null,null,null,null,null,null,null,null,null,{"$f":"IFERROR(SUMPRODUCT(#REF!,CS5:DE5)/SUMIF(#REF!,\">=0\",CS5:DE5),\"\")","v":""},null,null,null,null,null,null,null,null,null,null,null,null,null,null,null,{"$f":"IFERROR(SUMPRODUCT(#REF!,DI5:DQ5)/SUMIF(#REF!,\">=0\",DI5:DQ5),\"\")","v":""},null,null,null,null,null,null,null,null,null,null,null,{"$f":"IFERROR(SUMPRODUCT(#REF!,DU5:EG5)/SUMIF(#REF!,\">=0\",DU5:EG5),\"\")","v":""}]

{"sheet":"Alumnos","index":6,"n_rows":41,"n_cols":9,"rows_kept":41,"cut":false,"hidden":false,"merged":[[3,2,3,4],[3,5,3,6]]}
[]
[]
[]
[null,null,"LISTADO DE ALUMNOS",null,null,"ÁREAS",null,null,"TEAMS / Onedrive"]
[null,null,"Informe","Grupo 1º _____","Id matrícula","ÁreaNoRel","REL"]
[null,null,null,"Nombre_Alumno_1","0000000_1","x"]
[null,null,2,"Nombre_Alumno_2","0000000_2",null,"x"]
[null,null,3,"Nombre_Alumno_3","0000000_3","x"]
[null,null,4,"Nombre_Alumno_4","0000000_4",null,"x"]
[null,null,null,"Nombre_Alumno_5","0000000_5","x"]
[null,null,6,"Nombre_Alumno_6","0000000_6",null,"x"]
[null,null,7,"Nombre_Alumno_7","0000000_7","x"]
[null,null,8,"Nombre_Alumno_8","0000000_8",null,"x"]
[null,null,9,"Nombre_Alumno_9","0000000_9","x"]
[null,null,10,"Nombre_Alumno_10","0000000_10",null,"x"]
[null,null,11]
[null,null,12]
[null,null,13]
[null,null,14]
[null,null,15]
[null,null,16]
[null,null,17]
[null,null,18]
[null,null,19]
[null,null,20]
[null,null,21]
[null,null,22]
[null,null,23]
[null,null,24]
[null,null,25]
[null,null,26]
[null,null,27]
[null,null,28]
[null,null,29]
[null,null,30]
[null,null,31]
[null,null,32]
[null,null,33]
[null,null,34]
[null,null,35]
[null,null,null,"TOTAL MATRICULADOS",null,{"$f":"COUNTA(F6:F40)","v":5},5]

{"sheet":"Redondeo","index":7,"n_rows":41,"n_cols":18,"rows_kept":41,"cut":false,"hidden":false,"merged":[[2,2,2,11],[2,17,3,18],[3,2,3,11],[4,17,4,21]]}
[]
[null,null,null,null,null,null,null,null,null,null,null,null,null,null,null,null,null,"EXPORTACIÓN NOTAS COMPETENCIAS A STILUS"]
[null,null,"CALIFICACIONES DE ÁREAS",null,null,null,null,null,null,null,null,null,null,null,null,null,null,"1º_Introduce  para cada materia las centésimas a partir de las que se realizará un redondeo al alza (valor entre 1 y 100):"]
[null,null,"CENTÉSIMAS REONDEO"]
[null,null,90,90,90,90,90,90,90,90,90,90,null,null,null,null,null,"Ejemplo: si se marca 85, desde el 4,85 (inclusive) se redondeará a 5, \nSi se marca 100, el 4,99 e inferiores se redondearán a 4"]
[null,{"$f":"TRANSPOSE('Calificación materias'!B5:AK15)","v":0},"Ciencias de la Naturaleza","Ciencias Sociales","Educación Física","Educación Plástica y Visual","Lengua Castellana y Literatura","Lengua Extranjera","Matemáticas","Música y Danza","Área alumnado no Religión","Religión",null,null,null,null,null,"2º_Pulsa el siguiente botón:"]
[null,"Nombre_Alumno_1","","","","","","","","","",""]
[null,"Nombre_Alumno_2","","","","","","","","","",""]
[null,"Nombre_Alumno_3","","","","","","","","","",""]
[null,"Nombre_Alumno_4","","","","","","","","","",""]
[null,"Nombre_Alumno_5","","","","","","","","","",""]
[null,"Nombre_Alumno_6","","","","","","","","","",""]
[null,"Nombre_Alumno_7","","","","","","","","","",""]
[null,"Nombre_Alumno_8","","","","","","","","","",""]
[null,"Nombre_Alumno_9","","","","","","","","","",""]
[null,"Nombre_Alumno_10","","","","","","","","","",""]
[null,"","","","","","","","","","",""]
[null,"","","","","","","","","","",""]
[null,"","","","","","","","","","",""]
[null,"","","","","","","","","","",""]
[null,"","","","","","","","","","",""]
[null,"","","","","","","","","","",""]
[null,"","","","","","","","","","",""]
[null,"","","","","","","","","","",""]
[null,"","","","","","","","","","",""]
[null,"","","","","","","","","","",""]
[null,"","","","","","","","","","",""]
[null,"","","","","","","","","","",""]
[null,"","","","","","","","","","",""]
[null,"","","","","","","","","","",""]
[null,"","","","","","","","","","",""]
[null,"","","","","","","","","","",""]
[null,"","","","","","","","","","",""]
[null,"","","","","","","","","","",""]
[null,"","","","","","","","","","",""]
[null,"","","","","","","","","","",""]
[null,"","","","","","","","","","",""]
[null,"","","","","","","","","","",""]
[null,"","","","","","","","","","",""]
[null,"","","","","","","","","","",""]
[null,"","","","","","","","","","",""]

{"sheet":"Materias","index":8,"n_rows":2,"n_cols":3,"rows_kept":2,"cut":false,"hidden":false,"merged":[[1,2,1,5]]}
[]
[null,null,"ÁREAS DE 4º EP"]

{"sheet":"Calif. de crit.","index":9,"n_rows":164,"n_cols":39,"rows_kept":164,"cut":false,"hidden":false,"merged":[[1,1,1,3],[2,1,19,1],[2,2,4,2],[5,2,9,2],[10,2,12,2],[13,2,14,2],[15,2,17,2],[18,2,19,2],[149,1,154,1],[155,1,160,1],[41,1,52,1],[41,2,43,2],[44,2,46,2],[47,2,49,2],[50,2,52,2],[70,1,89,1],[70,2,73,2],[74,2,76,2],[77,2,79,2],[80,2,83,2],[84,2,86,2],[87,2,89,2],[53,1,69,1],[53,2,55,2],[20,1,40,1],[20,2,22,2],[23,2,26,2],[27,2,29,2],[30,2,31,2],[32,2,35,2],[36,2,37,2],[38,2,40,2],[56,2,58,2],[59,2,61,2],[62,2,64,2],[65,2,69,2],[116,1,130,1],[116,2,117,2],[118,2,120,2],[121,2,122,2],[123,2,124,2],[125,2,127,2],[128,2,130,2],[90,1,115,1],[90,2,91,2],[92,2,93,2],[94,2,96,2],[97,2,99,2],[100,2,101,2],[102,2,105,2],[106,2,108,2],[109,2,111,2],[112,2,113,2],[114,2,115,2],[131,1,148,1],[131,2,132,2],[133,2,136,2],[137,2,138,2],[139,2,140,2],[141,2,142,2],[143,2,144,2],[145,2,146,2],[147,2,148,2]]}
[]
[null,null,null,null,{"$f":"IF(Alumnos!D6=\"\",\"\",Alumnos!D6)","v":"Nombre_Alumno_1"},{"$f":"IF(Alumnos!D7=\"\",\"\",Alumnos!D7)","v":"Nombre_Alumno_2"},{"$f":"IF(Alumnos!D8=\"\",\"\",Alumnos!D8)","v":"Nombre_Alumno_3"},{"$f":"IF(Alumnos!D9=\"\",\"\",Alumnos!D9)","v":"Nombre_Alumno_4"},{"$f":"IF(Alumnos!D10=\"\",\"\",Alumnos!D10)","v":"Nombre_Alumno_5"},{"$f":"IF(Alumnos!D11=\"\",\"\",Alumnos!D11)","v":"Nombre_Alumno_6"},{"$f":"IF(Alumnos!D12=\"\",\"\",Alumnos!D12)","v":"Nombre_Alumno_7"},{"$f":"IF(Alumnos!D13=\"\",\"\",Alumnos!D13)","v":"Nombre_Alumno_8"},{"$f":"IF(Alumnos!D14=\"\",\"\",Alumnos!D14)","v":"Nombre_Alumno_9"},{"$f":"IF(Alumnos!D15=\"\",\"\",Alumnos!D15)","v":"Nombre_Alumno_10"},{"$f":"IF(Alumnos!D16=\"\",\"\",Alumnos!D16)","v":""},{"$f":"IF(Alumnos!D17=\"\",\"\",Alumnos!D17)","v":""},{"$f":"IF(Alumnos!D18=\"\",\"\",Alumnos!D18)","v":""},{"$f":"IF(Alumnos!D19=\"\",\"\",Alumnos!D19)","v":""},{"$f":"IF(Alumnos!D20=\"\",\"\",Alumnos!D20)","v":""},{"$f":"IF(Alumnos!D21=\"\",\"\",Alumnos!D21)","v":""},{"$f":"IF(Alumnos!D22=\"\",\"\",Alumnos!D22)","v":""},{"$f":"IF(Alumnos!D23=\"\",\"\",Alumnos!D23)","v":""},{"$f":"IF(Alumnos!D24=\"\",\"\",Alumnos!D24)","v":""},{"$f":"IF(Alumnos!D25=\"\",\"\",Alumnos!D25)","v":""},{"$f":"IF(Alumnos!D26=\"\",\"\",Alumnos!D26)","v":""},{"$f":"IF(Alumnos!D27=\"\",\"\",Alumnos!D27)","v":""},{"$f":"IF(Alumnos!D28=\"\",\"\",Alumnos!D28)","v":""},{"$f":"IF(Alumnos!D29=\"\",\"\",Alumnos!D29)","v":""},{"$f":"IF(Alumnos!D30=\"\",\"\",Alumnos!D30)","v":""},{"$f":"IF(Alumnos!D31=\"\",\"\",Alumnos!D31)","v":""},{"$f":"IF(Alumnos!D32=\"\",\"\",Alumnos!D32)","v":""},{"$f":"IF(Alumnos!D33=\"\",\"\",Alumnos!D33)","v":""},{"$f":"IF(Alumnos!D34=\"\",\"\",Alumnos!D34)","v":""},{"$f":"IF(Alumnos!D35=\"\",\"\",Alumnos!D35)","v":""},{"$f":"IF(Alumnos!D36=\"\",\"\",Alumnos!D36)","v":""},{"$f":"IF(Alumnos!D37=\"\",\"\",Alumnos!D37)","v":""},{"$f":"IF(Alumnos!D38=\"\",\"\",Alumnos!D38)","v":""},{"$f":"IF(Alumnos!D39=\"\",\"\",Alumnos!D39)","v":""},{"$f":"IF(Alumnos!D40=\"\",\"\",Alumnos!D40)","v":""}]
[null,"Ciencias de la Naturaleza","Comp. Esp. 1","Criterio Evaluación 1.1",{"$f":"IF('Ciencias de la Naturaleza'!H4=\"\",\"\",'Ciencias de la Naturaleza'!H4)","v":""},{"$f":"IF('Ciencias de la Naturaleza'!I4=\"\",\"\",'Ciencias de la Naturaleza'!I4)","v":""},{"$f":"IF('Ciencias de la Naturaleza'!J4=\"\",\"\",'Ciencias de la Naturaleza'!J4)","v":""},{"$f":"IF('Ciencias de la Naturaleza'!K4=\"\",\"\",'Ciencias de la Naturaleza'!K4)","v":""},{"$f":"IF('Ciencias de la Naturaleza'!L4=\"\",\"\",'Ciencias de la Naturaleza'!L4)","v":""},{"$f":"IF('Ciencias de la Naturaleza'!M4=\"\",\"\",'Ciencias de la Naturaleza'!M4)","v":""},{"$f":"IF('Ciencias de la Naturaleza'!N4=\"\",\"\",'Ciencias de la Naturaleza'!N4)","v":""},{"$f":"IF('Ciencias de la Naturaleza'!O4=\"\",\"\",'Ciencias de la Naturaleza'!O4)","v":""},{"$f":"IF('Ciencias de la Naturaleza'!P4=\"\",\"\",'Ciencias de la Naturaleza'!P4)","v":""},{"$f":"IF('Ciencias de la Naturaleza'!Q4=\"\",\"\",'Ciencias de la Naturaleza'!Q4)","v":""},{"$f":"IF('Ciencias de la Naturaleza'!R4=\"\",\"\",'Ciencias de la Naturaleza'!R4)","v":""},{"$f":"IF('Ciencias de la Naturaleza'!S4=\"\",\"\",'Ciencias de la Naturaleza'!S4)","v":""},{"$f":"IF('Ciencias de la Naturaleza'!T4=\"\",\"\",'Ciencias de la Naturaleza'!T4)","v":""},{"$f":"IF('Ciencias de la Naturaleza'!U4=\"\",\"\",'Ciencias de la Naturaleza'!U4)","v":""},{"$f":"IF('Ciencias de la Naturaleza'!V4=\"\",\"\",'Ciencias de la Naturaleza'!V4)","v":""},{"$f":"IF('Ciencias de la Naturaleza'!W4=\"\",\"\",'Ciencias de la Naturaleza'!W4)","v":""},{"$f":"IF('Ciencias de la Naturaleza'!X4=\"\",\"\",'Ciencias de la Naturaleza'!X4)","v":""},{"$f":"IF('Ciencias de la Naturaleza'!Y4=\"\",\"\",'Ciencias de la Naturaleza'!Y4)","v":""},{"$f":"IF('Ciencias de la Naturaleza'!Z4=\"\",\"\",'Ciencias de la Naturaleza'!Z4)","v":""},{"$f":"IF('Ciencias de la Naturaleza'!AA4=\"\",\"\",'Ciencias de la Naturaleza'!AA4)","v":""},{"$f":"IF('Ciencias de la Naturaleza'!AB4=\"\",\"\",'Ciencias de la Naturaleza'!AB4)","v":""},{"$f":"IF('Ciencias de la Naturaleza'!AC4=\"\",\"\",'Ciencias de la Naturaleza'!AC4)","v":""},{"$f":"IF('Ciencias de la Naturaleza'!AD4=\"\",\"\",'Ciencias de la Naturaleza'!AD4)","v":""},{"$f":"IF('Ciencias de la Naturaleza'!AE4=\"\",\"\",'Ciencias de la Naturaleza'!AE4)","v":""},{"$f":"IF('Ciencias de la Naturaleza'!AF4=\"\",\"\",'Ciencias de la Naturaleza'!AF4)","v":""},{"$f":"IF('Ciencias de la Naturaleza'!AG4=\"\",\"\",'Ciencias de la Naturaleza'!AG4)","v":""},{"$f":"IF('Ciencias de la Naturaleza'!AH4=\"\",\"\",'Ciencias de la Naturaleza'!AH4)","v":""},{"$f":"IF('Ciencias de la Naturaleza'!AI4=\"\",\"\",'Ciencias de la Naturaleza'!AI4)","v":""},{"$f":"IF('Ciencias de la Naturaleza'!AJ4=\"\",\"\",'Ciencias de la Naturaleza'!AJ4)","v":""},{"$f":"IF('Ciencias de la Naturaleza'!AK4=\"\",\"\",'Ciencias de la Naturaleza'!AK4)","v":""},{"$f":"IF('Ciencias de la Naturaleza'!AL4=\"\",\"\",'Ciencias de la Naturaleza'!AL4)","v":""},{"$f":"IF('Ciencias de la Naturaleza'!AM4=\"\",\"\",'Ciencias de la Naturaleza'!AM4)","v":""},{"$f":"IF('Ciencias de la Naturaleza'!AN4=\"\",\"\",'Ciencias de la Naturaleza'!AN4)","v":""},{"$f":"IF('Ciencias de la Naturaleza'!AO4=\"\",\"\",'Ciencias de la Naturaleza'!AO4)","v":""},{"$f":"IF('Ciencias de la Naturaleza'!AP4=\"\",\"\",'Ciencias de la Naturaleza'!AP4)","v":""}]
[null,null,null,"Criterio Evaluación 1.2",{"$f":"IF('Ciencias de la Naturaleza'!H5=\"\",\"\",'Ciencias de la Naturaleza'!H5)","v":""},{"$f":"IF('Ciencias de la Naturaleza'!I5=\"\",\"\",'Ciencias de la Naturaleza'!I5)","v":""},{"$f":"IF('Ciencias de la Naturaleza'!J5=\"\",\"\",'Ciencias de la Naturaleza'!J5)","v":""},{"$f":"IF('Ciencias de la Naturaleza'!K5=\"\",\"\",'Ciencias de la Naturaleza'!K5)","v":""},{"$f":"IF('Ciencias de la Naturaleza'!L5=\"\",\"\",'Ciencias de la Naturaleza'!L5)","v":""},{"$f":"IF('Ciencias de la Naturaleza'!M5=\"\",\"\",'Ciencias de la Naturaleza'!M5)","v":""},{"$f":"IF('Ciencias de la Naturaleza'!N5=\"\",\"\",'Ciencias de la Naturaleza'!N5)","v":""},{"$f":"IF('Ciencias de la Naturaleza'!O5=\"\",\"\",'Ciencias de la Naturaleza'!O5)","v":""},{"$f":"IF('Ciencias de la Naturaleza'!P5=\"\",\"\",'Ciencias de la Naturaleza'!P5)","v":""},{"$f":"IF('Ciencias de la Naturaleza'!Q5=\"\",\"\",'Ciencias de la Naturaleza'!Q5)","v":""},{"$f":"IF('Ciencias de la Naturaleza'!R5=\"\",\"\",'Ciencias de la Naturaleza'!R5)","v":""},{"$f":"IF('Ciencias de la Naturaleza'!S5=\"\",\"\",'Ciencias de la Naturaleza'!S5)","v":""},{"$f":"IF('Ciencias de la Naturaleza'!T5=\"\",\"\",'Ciencias de la Naturaleza'!T5)","v":""},{"$f":"IF('Ciencias de la Naturaleza'!U5=\"\",\"\",'Ciencias de la Naturaleza'!U5)","v":""},{"$f":"IF('Ciencias de la Naturaleza'!V5=\"\",\"\",'Ciencias de la Naturaleza'!V5)","v":""},{"$f":"IF('Ciencias de la Naturaleza'!W5=\"\",\"\",'Ciencias de la Naturaleza'!W5)","v":""},{"$f":"IF('Ciencias de la Naturaleza'!X5=\"\",\"\",'Ciencias de la Naturaleza'!X5)","v":""},{"$f":"IF('Ciencias de la Naturaleza'!Y5=\"\",\"\",'Ciencias de la Naturaleza'!Y5)","v":""},{"$f":"IF('Ciencias de la Naturaleza'!Z5=\"\",\"\",'Ciencias de la Naturaleza'!Z5)","v":""},{"$f":"IF('Ciencias de la Naturaleza'!AA5=\"\",\"\",'Ciencias de la Naturaleza'!AA5)","v":""},{"$f":"IF('Ciencias de la Naturaleza'!AB5=\"\",\"\",'Ciencias de la Naturaleza'!AB5)","v":""},{"$f":"IF('Ciencias de la Naturaleza'!AC5=\"\",\"\",'Ciencias de la Naturaleza'!AC5)","v":""},{"$f":"IF('Ciencias de la Naturaleza'!AD5=\"\",\"\",'Ciencias de la Naturaleza'!AD5)","v":""},{"$f":"IF('Ciencias de la Naturaleza'!AE5=\"\",\"\",'Ciencias de la Naturaleza'!AE5)","v":""},{"$f":"IF('Ciencias de la Naturaleza'!AF5=\"\",\"\",'Ciencias de la Naturaleza'!AF5)","v":""},{"$f":"IF('Ciencias de la Naturaleza'!AG5=\"\",\"\",'Ciencias de la Naturaleza'!AG5)","v":""},{"$f":"IF('Ciencias de la Naturaleza'!AH5=\"\",\"\",'Ciencias de la Naturaleza'!AH5)","v":""},{"$f":"IF('Ciencias de la Naturaleza'!AI5=\"\",\"\",'Ciencias de la Naturaleza'!AI5)","v":""},{"$f":"IF('Ciencias de la Naturaleza'!AJ5=\"\",\"\",'Ciencias de la Naturaleza'!AJ5)","v":""},{"$f":"IF('Ciencias de la Naturaleza'!AK5=\"\",\"\",'Ciencias de la Naturaleza'!AK5)","v":""},{"$f":"IF('Ciencias de la Naturaleza'!AL5=\"\",\"\",'Ciencias de la Naturaleza'!AL5)","v":""},{"$f":"IF('Ciencias de la Naturaleza'!AM5=\"\",\"\",'Ciencias de la Naturaleza'!AM5)","v":""},{"$f":"IF('Ciencias de la Naturaleza'!AN5=\"\",\"\",'Ciencias de la Naturaleza'!AN5)","v":""},{"$f":"IF('Ciencias de la Naturaleza'!AO5=\"\",\"\",'Ciencias de la Naturaleza'!AO5)","v":""},{"$f":"IF('Ciencias de la Naturaleza'!AP5=\"\",\"\",'Ciencias de la Naturaleza'!AP5)","v":""}]
[null,null,null,"Criterio Evaluación 1.3",{"$f":"IF('Ciencias de la Naturaleza'!H6=\"\",\"\",'Ciencias de la Naturaleza'!H6)","v":""},{"$f":"IF('Ciencias de la Naturaleza'!I6=\"\",\"\",'Ciencias de la Naturaleza'!I6)","v":""},{"$f":"IF('Ciencias de la Naturaleza'!J6=\"\",\"\",'Ciencias de la Naturaleza'!J6)","v":""},{"$f":"IF('Ciencias de la Naturaleza'!K6=\"\",\"\",'Ciencias de la Naturaleza'!K6)","v":""},{"$f":"IF('Ciencias de la Naturaleza'!L6=\"\",\"\",'Ciencias de la Naturaleza'!L6)","v":""},{"$f":"IF('Ciencias de la Naturaleza'!M6=\"\",\"\",'Ciencias de la Naturaleza'!M6)","v":""},{"$f":"IF('Ciencias de la Naturaleza'!N6=\"\",\"\",'Ciencias de la Naturaleza'!N6)","v":""},{"$f":"IF('Ciencias de la Naturaleza'!O6=\"\",\"\",'Ciencias de la Naturaleza'!O6)","v":""},{"$f":"IF('Ciencias de la Naturaleza'!P6=\"\",\"\",'Ciencias de la Naturaleza'!P6)","v":""},{"$f":"IF('Ciencias de la Naturaleza'!Q6=\"\",\"\",'Ciencias de la Naturaleza'!Q6)","v":""},{"$f":"IF('Ciencias de la Naturaleza'!R6=\"\",\"\",'Ciencias de la Naturaleza'!R6)","v":""},{"$f":"IF('Ciencias de la Naturaleza'!S6=\"\",\"\",'Ciencias de la Naturaleza'!S6)","v":""},{"$f":"IF('Ciencias de la Naturaleza'!T6=\"\",\"\",'Ciencias de la Naturaleza'!T6)","v":""},{"$f":"IF('Ciencias de la Naturaleza'!U6=\"\",\"\",'Ciencias de la Naturaleza'!U6)","v":""},{"$f":"IF('Ciencias de la Naturaleza'!V6=\"\",\"\",'Ciencias de la Naturaleza'!V6)","v":""},{"$f":"IF('Ciencias de la Naturaleza'!W6=\"\",\"\",'Ciencias de la Naturaleza'!W6)","v":""},{"$f":"IF('Ciencias de la Naturaleza'!X6=\"\",\"\",'Ciencias de la Naturaleza'!X6)","v":""},{"$f":"IF('Ciencias de la Naturaleza'!Y6=\"\",\"\",'Ciencias de la Naturaleza'!Y6)","v":""},{"$f":"IF('Ciencias de la Naturaleza'!Z6=\"\",\"\",'Ciencias de la Naturaleza'!Z6)","v":""},{"$f":"IF('Ciencias de la Naturaleza'!AA6=\"\",\"\",'Ciencias de la Naturaleza'!AA6)","v":""},{"$f":"IF('Ciencias de la Naturaleza'!AB6=\"\",\"\",'Ciencias de la Naturaleza'!AB6)","v":""},{"$f":"IF('Ciencias de la Naturaleza'!AC6=\"\",\"\",'Ciencias de la Naturaleza'!AC6)","v":""},{"$f":"IF('Ciencias de la Naturaleza'!AD6=\"\",\"\",'Ciencias de la Naturaleza'!AD6)","v":""},{"$f":"IF('Ciencias de la Naturaleza'!AE6=\"\",\"\",'Ciencias de la Naturaleza'!AE6)","v":""},{"$f":"IF('Ciencias de la Naturaleza'!AF6=\"\",\"\",'Ciencias de la Naturaleza'!AF6)","v":""},{"$f":"IF('Ciencias de la Naturaleza'!AG6=\"\",\"\",'Ciencias de la Naturaleza'!AG6)","v":""},{"$f":"IF('Ciencias de la Naturaleza'!AH6=\"\",\"\",'Ciencias de la Naturaleza'!AH6)","v":""},{"$f":"IF('Ciencias de la Naturaleza'!AI6=\"\",\"\",'Ciencias de la Naturaleza'!AI6)","v":""},{"$f":"IF('Ciencias de la Naturaleza'!AJ6=\"\",\"\",'Ciencias de la Naturaleza'!AJ6)","v":""},{"$f":"IF('Ciencias de la Naturaleza'!AK6=\"\",\"\",'Ciencias de la Naturaleza'!AK6)","v":""},{"$f":"IF('Ciencias de la Naturaleza'!AL6=\"\",\"\",'Ciencias de la Naturaleza'!AL6)","v":""},{"$f":"IF('Ciencias de la Naturaleza'!AM6=\"\",\"\",'Ciencias de la Naturaleza'!AM6)","v":""},{"$f":"IF('Ciencias de la Naturaleza'!AN6=\"\",\"\",'Ciencias de la Naturaleza'!AN6)","v":""},{"$f":"IF('Ciencias de la Naturaleza'!AO6=\"\",\"\",'Ciencias de la Naturaleza'!AO6)","v":""},{"$f":"IF('Ciencias de la Naturaleza'!AP6=\"\",\"\",'Ciencias de la Naturaleza'!AP6)","v":""}]
[null,null,"Comp. Esp. 2","Criterio Evaluación 2.1",{"$f":"IF('Ciencias de la Naturaleza'!H7=\"\",\"\",'Ciencias de la Naturaleza'!H7)","v":""},{"$f":"IF('Ciencias de la Naturaleza'!I7=\"\",\"\",'Ciencias de la Naturaleza'!I7)","v":""},{"$f":"IF('Ciencias de la Naturaleza'!J7=\"\",\"\",'Ciencias de la Naturaleza'!J7)","v":""},{"$f":"IF('Ciencias de la Naturaleza'!K7=\"\",\"\",'Ciencias de la Naturaleza'!K7)","v":""},{"$f":"IF('Ciencias de la Naturaleza'!L7=\"\",\"\",'Ciencias de la Naturaleza'!L7)","v":""},{"$f":"IF('Ciencias de la Naturaleza'!M7=\"\",\"\",'Ciencias de la Naturaleza'!M7)","v":""},{"$f":"IF('Ciencias de la Naturaleza'!N7=\"\",\"\",'Ciencias de la Naturaleza'!N7)","v":""},{"$f":"IF('Ciencias de la Naturaleza'!O7=\"\",\"\",'Ciencias de la Naturaleza'!O7)","v":""},{"$f":"IF('Ciencias de la Naturaleza'!P7=\"\",\"\",'Ciencias de la Naturaleza'!P7)","v":""},{"$f":"IF('Ciencias de la Naturaleza'!Q7=\"\",\"\",'Ciencias de la Naturaleza'!Q7)","v":""},{"$f":"IF('Ciencias de la Naturaleza'!R7=\"\",\"\",'Ciencias de la Naturaleza'!R7)","v":""},{"$f":"IF('Ciencias de la Naturaleza'!S7=\"\",\"\",'Ciencias de la Naturaleza'!S7)","v":""},{"$f":"IF('Ciencias de la Naturaleza'!T7=\"\",\"\",'Ciencias de la Naturaleza'!T7)","v":""},{"$f":"IF('Ciencias de la Naturaleza'!U7=\"\",\"\",'Ciencias de la Naturaleza'!U7)","v":""},{"$f":"IF('Ciencias de la Naturaleza'!V7=\"\",\"\",'Ciencias de la Naturaleza'!V7)","v":""},{"$f":"IF('Ciencias de la Naturaleza'!W7=\"\",\"\",'Ciencias de la Naturaleza'!W7)","v":""},{"$f":"IF('Ciencias de la Naturaleza'!X7=\"\",\"\",'Ciencias de la Naturaleza'!X7)","v":""},{"$f":"IF('Ciencias de la Naturaleza'!Y7=\"\",\"\",'Ciencias de la Naturaleza'!Y7)","v":""},{"$f":"IF('Ciencias de la Naturaleza'!Z7=\"\",\"\",'Ciencias de la Naturaleza'!Z7)","v":""},{"$f":"IF('Ciencias de la Naturaleza'!AA7=\"\",\"\",'Ciencias de la Naturaleza'!AA7)","v":""},{"$f":"IF('Ciencias de la Naturaleza'!AB7=\"\",\"\",'Ciencias de la Naturaleza'!AB7)","v":""},{"$f":"IF('Ciencias de la Naturaleza'!AC7=\"\",\"\",'Ciencias de la Naturaleza'!AC7)","v":""},{"$f":"IF('Ciencias de la Naturaleza'!AD7=\"\",\"\",'Ciencias de la Naturaleza'!AD7)","v":""},{"$f":"IF('Ciencias de la Naturaleza'!AE7=\"\",\"\",'Ciencias de la Naturaleza'!AE7)","v":""},{"$f":"IF('Ciencias de la Naturaleza'!AF7=\"\",\"\",'Ciencias de la Naturaleza'!AF7)","v":""},{"$f":"IF('Ciencias de la Naturaleza'!AG7=\"\",\"\",'Ciencias de la Naturaleza'!AG7)","v":""},{"$f":"IF('Ciencias de la Naturaleza'!AH7=\"\",\"\",'Ciencias de la Naturaleza'!AH7)","v":""},{"$f":"IF('Ciencias de la Naturaleza'!AI7=\"\",\"\",'Ciencias de la Naturaleza'!AI7)","v":""},{"$f":"IF('Ciencias de la Naturaleza'!AJ7=\"\",\"\",'Ciencias de la Naturaleza'!AJ7)","v":""},{"$f":"IF('Ciencias de la Naturaleza'!AK7=\"\",\"\",'Ciencias de la Naturaleza'!AK7)","v":""},{"$f":"IF('Ciencias de la Naturaleza'!AL7=\"\",\"\",'Ciencias de la Naturaleza'!AL7)","v":""},{"$f":"IF('Ciencias de la Naturaleza'!AM7=\"\",\"\",'Ciencias de la Naturaleza'!AM7)","v":""},{"$f":"IF('Ciencias de la Naturaleza'!AN7=\"\",\"\",'Ciencias de la Naturaleza'!AN7)","v":""},{"$f":"IF('Ciencias de la Naturaleza'!AO7=\"\",\"\",'Ciencias de la Naturaleza'!AO7)","v":""},{"$f":"IF('Ciencias de la Naturaleza'!AP7=\"\",\"\",'Ciencias de la Naturaleza'!AP7)","v":""}]
[null,null,null,"Criterio Evaluación 2.2",{"$f":"IF('Ciencias de la Naturaleza'!H8=\"\",\"\",'Ciencias de la Naturaleza'!H8)","v":""},{"$f":"IF('Ciencias de la Naturaleza'!I8=\"\",\"\",'Ciencias de la Naturaleza'!I8)","v":""},{"$f":"IF('Ciencias de la Naturaleza'!J8=\"\",\"\",'Ciencias de la Naturaleza'!J8)","v":""},{"$f":"IF('Ciencias de la Naturaleza'!K8=\"\",\"\",'Ciencias de la Naturaleza'!K8)","v":""},{"$f":"IF('Ciencias de la Naturaleza'!L8=\"\",\"\",'Ciencias de la Naturaleza'!L8)","v":""},{"$f":"IF('Ciencias de la Naturaleza'!M8=\"\",\"\",'Ciencias de la Naturaleza'!M8)","v":""},{"$f":"IF('Ciencias de la Naturaleza'!N8=\"\",\"\",'Ciencias de la Naturaleza'!N8)","v":""},{"$f":"IF('Ciencias de la Naturaleza'!O8=\"\",\"\",'Ciencias de la Naturaleza'!O8)","v":""},{"$f":"IF('Ciencias de la Naturaleza'!P8=\"\",\"\",'Ciencias de la Naturaleza'!P8)","v":""},{"$f":"IF('Ciencias de la Naturaleza'!Q8=\"\",\"\",'Ciencias de la Naturaleza'!Q8)","v":""},{"$f":"IF('Ciencias de la Naturaleza'!R8=\"\",\"\",'Ciencias de la Naturaleza'!R8)","v":""},{"$f":"IF('Ciencias de la Naturaleza'!S8=\"\",\"\",'Ciencias de la Naturaleza'!S8)","v":""},{"$f":"IF('Ciencias de la Naturaleza'!T8=\"\",\"\",'Ciencias de la Naturaleza'!T8)","v":""},{"$f":"IF('Ciencias de la Naturaleza'!U8=\"\",\"\",'Ciencias de la Naturaleza'!U8)","v":""},{"$f":"IF('Ciencias de la Naturaleza'!V8=\"\",\"\",'Ciencias de la Naturaleza'!V8)","v":""},{"$f":"IF('Ciencias de la Naturaleza'!W8=\"\",\"\",'Ciencias de la Naturaleza'!W8)","v":""},{"$f":"IF('Ciencias de la Naturaleza'!X8=\"\",\"\",'Ciencias de la Naturaleza'!X8)","v":""},{"$f":"IF('Ciencias de la Naturaleza'!Y8=\"\",\"\",'Ciencias de la Naturaleza'!Y8)","v":""},{"$f":"IF('Ciencias de la Naturaleza'!Z8=\"\",\"\",'Ciencias de la Naturaleza'!Z8)","v":""},{"$f":"IF('Ciencias de la Naturaleza'!AA8=\"\",\"\",'Ciencias de la Naturaleza'!AA8)","v":""},{"$f":"IF('Ciencias de la Naturaleza'!AB8=\"\",\"\",'Ciencias de la Naturaleza'!AB8)","v":""},{"$f":"IF('Ciencias de la Naturaleza'!AC8=\"\",\"\",'Ciencias de la Naturaleza'!AC8)","v":""},{"$f":"IF('Ciencias de la Naturaleza'!AD8=\"\",\"\",'Ciencias de la Naturaleza'!AD8)","v":""},{"$f":"IF('Ciencias de la Naturaleza'!AE8=\"\",\"\",'Ciencias de la Naturaleza'!AE8)","v":""},{"$f":"IF('Ciencias de la Naturaleza'!AF8=\"\",\"\",'Ciencias de la Naturaleza'!AF8)","v":""},{"$f":"IF('Ciencias de la Naturaleza'!AG8=\"\",\"\",'Ciencias de la Naturaleza'!AG8)","v":""},{"$f":"IF('Ciencias de la Naturaleza'!AH8=\"\",\"\",'Ciencias de la Naturaleza'!AH8)","v":""},{"$f":"IF('Ciencias de la Naturaleza'!AI8=\"\",\"\",'Ciencias de la Naturaleza'!AI8)","v":""},{"$f":"IF('Ciencias de la Naturaleza'!AJ8=\"\",\"\",'Ciencias de la Naturaleza'!AJ8)","v":""},{"$f":"IF('Ciencias de la Naturaleza'!AK8=\"\",\"\",'Ciencias de la Naturaleza'!AK8)","v":""},{"$f":"IF('Ciencias de la Naturaleza'!AL8=\"\",\"\",'Ciencias de la Naturaleza'!AL8)","v":""},{"$f":"IF('Ciencias de la Naturaleza'!AM8=\"\",\"\",'Ciencias de la Naturaleza'!AM8)","v":""},{"$f":"IF('Ciencias de la Naturaleza'!AN8=\"\",\"\",'Ciencias de la Naturaleza'!AN8)","v":""},{"$f":"IF('Ciencias de la Naturaleza'!AO8=\"\",\"\",'Ciencias de la Naturaleza'!AO8)","v":""},{"$f":"IF('Ciencias de la Naturaleza'!AP8=\"\",\"\",'Ciencias de la Naturaleza'!AP8)","v":""}]
[null,null,null,"Criterio Evaluación 2.3",{"$f":"IF('Ciencias de la Naturaleza'!H9=\"\",\"\",'Ciencias de la Naturaleza'!H9)","v":""},{"$f":"IF('Ciencias de la Naturaleza'!I9=\"\",\"\",'Ciencias de la Naturaleza'!I9)","v":""},{"$f":"IF('Ciencias de la Naturaleza'!J9=\"\",\"\",'Ciencias de la Naturaleza'!J9)","v":""},{"$f":"IF('Ciencias de la Naturaleza'!K9=\"\",\"\",'Ciencias de la Naturaleza'!K9)","v":""},{"$f":"IF('Ciencias de la Naturaleza'!L9=\"\",\"\",'Ciencias de la Naturaleza'!L9)","v":""},{"$f":"IF('Ciencias de la Naturaleza'!M9=\"\",\"\",'Ciencias de la Naturaleza'!M9)","v":""},{"$f":"IF('Ciencias de la Naturaleza'!N9=\"\",\"\",'Ciencias de la Naturaleza'!N9)","v":""},{"$f":"IF('Ciencias de la Naturaleza'!O9=\"\",\"\",'Ciencias de la Naturaleza'!O9)","v":""},{"$f":"IF('Ciencias de la Naturaleza'!P9=\"\",\"\",'Ciencias de la Naturaleza'!P9)","v":""},{"$f":"IF('Ciencias de la Naturaleza'!Q9=\"\",\"\",'Ciencias de la Naturaleza'!Q9)","v":""},{"$f":"IF('Ciencias de la Naturaleza'!R9=\"\",\"\",'Ciencias de la Naturaleza'!R9)","v":""},{"$f":"IF('Ciencias de la Naturaleza'!S9=\"\",\"\",'Ciencias de la Naturaleza'!S9)","v":""},{"$f":"IF('Ciencias de la Naturaleza'!T9=\"\",\"\",'Ciencias de la Naturaleza'!T9)","v":""},{"$f":"IF('Ciencias de la Naturaleza'!U9=\"\",\"\",'Ciencias de la Naturaleza'!U9)","v":""},{"$f":"IF('Ciencias de la Naturaleza'!V9=\"\",\"\",'Ciencias de la Naturaleza'!V9)","v":""},{"$f":"IF('Ciencias de la Naturaleza'!W9=\"\",\"\",'Ciencias de la Naturaleza'!W9)","v":""},{"$f":"IF('Ciencias de la Naturaleza'!X9=\"\",\"\",'Ciencias de la Naturaleza'!X9)","v":""},{"$f":"IF('Ciencias de la Naturaleza'!Y9=\"\",\"\",'Ciencias de la Naturaleza'!Y9)","v":""},{"$f":"IF('Ciencias de la Naturaleza'!Z9=\"\",\"\",'Ciencias de la Naturaleza'!Z9)","v":""},{"$f":"IF('Ciencias de la Naturaleza'!AA9=\"\",\"\",'Ciencias de la Naturaleza'!AA9)","v":""},{"$f":"IF('Ciencias de la Naturaleza'!AB9=\"\",\"\",'Ciencias de la Naturaleza'!AB9)","v":""},{"$f":"IF('Ciencias de la Naturaleza'!AC9=\"\",\"\",'Ciencias de la Naturaleza'!AC9)","v":""},{"$f":"IF('Ciencias de la Naturaleza'!AD9=\"\",\"\",'Ciencias de la Naturaleza'!AD9)","v":""},{"$f":"IF('Ciencias de la Naturaleza'!AE9=\"\",\"\",'Ciencias de la Naturaleza'!AE9)","v":""},{"$f":"IF('Ciencias de la Naturaleza'!AF9=\"\",\"\",'Ciencias de la Naturaleza'!AF9)","v":""},{"$f":"IF('Ciencias de la Naturaleza'!AG9=\"\",\"\",'Ciencias de la Naturaleza'!AG9)","v":""},{"$f":"IF('Ciencias de la Naturaleza'!AH9=\"\",\"\",'Ciencias de la Naturaleza'!AH9)","v":""},{"$f":"IF('Ciencias de la Naturaleza'!AI9=\"\",\"\",'Ciencias de la Naturaleza'!AI9)","v":""},{"$f":"IF('Ciencias de la Naturaleza'!AJ9=\"\",\"\",'Ciencias de la Naturaleza'!AJ9)","v":""},{"$f":"IF('Ciencias de la Naturaleza'!AK9=\"\",\"\",'Ciencias de la Naturaleza'!AK9)","v":""},{"$f":"IF('Ciencias de la Naturaleza'!AL9=\"\",\"\",'Ciencias de la Naturaleza'!AL9)","v":""},{"$f":"IF('Ciencias de la Naturaleza'!AM9=\"\",\"\",'Ciencias de la Naturaleza'!AM9)","v":""},{"$f":"IF('Ciencias de la Naturaleza'!AN9=\"\",\"\",'Ciencias de la Naturaleza'!AN9)","v":""},{"$f":"IF('Ciencias de la Naturaleza'!AO9=\"\",\"\",'Ciencias de la Naturaleza'!AO9)","v":""},{"$f":"IF('Ciencias de la Naturaleza'!AP9=\"\",\"\",'Ciencias de la Naturaleza'!AP9)","v":""}]
[null,null,null,"Criterio Evaluación 2.4",{"$f":"IF('Ciencias de la Naturaleza'!H10=\"\",\"\",'Ciencias de la Naturaleza'!H10)","v":""},{"$f":"IF('Ciencias de la Naturaleza'!I10=\"\",\"\",'Ciencias de la Naturaleza'!I10)","v":""},{"$f":"IF('Ciencias de la Naturaleza'!J10=\"\",\"\",'Ciencias de la Naturaleza'!J10)","v":""},{"$f":"IF('Ciencias de la Naturaleza'!K10=\"\",\"\",'Ciencias de la Naturaleza'!K10)","v":""},{"$f":"IF('Ciencias de la Naturaleza'!L10=\"\",\"\",'Ciencias de la Naturaleza'!L10)","v":""},{"$f":"IF('Ciencias de la Naturaleza'!M10=\"\",\"\",'Ciencias de la Naturaleza'!M10)","v":""},{"$f":"IF('Ciencias de la Naturaleza'!N10=\"\",\"\",'Ciencias de la Naturaleza'!N10)","v":""},{"$f":"IF('Ciencias de la Naturaleza'!O10=\"\",\"\",'Ciencias de la Naturaleza'!O10)","v":""},{"$f":"IF('Ciencias de la Naturaleza'!P10=\"\",\"\",'Ciencias de la Naturaleza'!P10)","v":""},{"$f":"IF('Ciencias de la Naturaleza'!Q10=\"\",\"\",'Ciencias de la Naturaleza'!Q10)","v":""},{"$f":"IF('Ciencias de la Naturaleza'!R10=\"\",\"\",'Ciencias de la Naturaleza'!R10)","v":""},{"$f":"IF('Ciencias de la Naturaleza'!S10=\"\",\"\",'Ciencias de la Naturaleza'!S10)","v":""},{"$f":"IF('Ciencias de la Naturaleza'!T10=\"\",\"\",'Ciencias de la Naturaleza'!T10)","v":""},{"$f":"IF('Ciencias de la Naturaleza'!U10=\"\",\"\",'Ciencias de la Naturaleza'!U10)","v":""},{"$f":"IF('Ciencias de la Naturaleza'!V10=\"\",\"\",'Ciencias de la Naturaleza'!V10)","v":""},{"$f":"IF('Ciencias de la Naturaleza'!W10=\"\",\"\",'Ciencias de la Naturaleza'!W10)","v":""},{"$f":"IF('Ciencias de la Naturaleza'!X10=\"\",\"\",'Ciencias de la Naturaleza'!X10)","v":""},{"$f":"IF('Ciencias de la Naturaleza'!Y10=\"\",\"\",'Ciencias de la Naturaleza'!Y10)","v":""},{"$f":"IF('Ciencias de la Naturaleza'!Z10=\"\",\"\",'Ciencias de la Naturaleza'!Z10)","v":""},{"$f":"IF('Ciencias de la Naturaleza'!AA10=\"\",\"\",'Ciencias de la Naturaleza'!AA10)","v":""},{"$f":"IF('Ciencias de la Naturaleza'!AB10=\"\",\"\",'Ciencias de la Naturaleza'!AB10)","v":""},{"$f":"IF('Ciencias de la Naturaleza'!AC10=\"\",\"\",'Ciencias de la Naturaleza'!AC10)","v":""},{"$f":"IF('Ciencias de la Naturaleza'!AD10=\"\",\"\",'Ciencias de la Naturaleza'!AD10)","v":""},{"$f":"IF('Ciencias de la Naturaleza'!AE10=\"\",\"\",'Ciencias de la Naturaleza'!AE10)","v":""},{"$f":"IF('Ciencias de la Naturaleza'!AF10=\"\",\"\",'Ciencias de la Naturaleza'!AF10)","v":""},{"$f":"IF('Ciencias de la Naturaleza'!AG10=\"\",\"\",'Ciencias de la Naturaleza'!AG10)","v":""},{"$f":"IF('Ciencias de la Naturaleza'!AH10=\"\",\"\",'Ciencias de la Naturaleza'!AH10)","v":""},{"$f":"IF('Ciencias de la Naturaleza'!AI10=\"\",\"\",'Ciencias de la Naturaleza'!AI10)","v":""},{"$f":"IF('Ciencias de la Naturaleza'!AJ10=\"\",\"\",'Ciencias de la Naturaleza'!AJ10)","v":""},{"$f":"IF('Ciencias de la Naturaleza'!AK10=\"\",\"\",'Ciencias de la Naturaleza'!AK10)","v":""},{"$f":"IF('Ciencias de la Naturaleza'!AL10=\"\",\"\",'Ciencias de la Naturaleza'!AL10)","v":""},{"$f":"IF('Ciencias de la Naturaleza'!AM10=\"\",\"\",'Ciencias de la Naturaleza'!AM10)","v":""},{"$f":"IF('Ciencias de la Naturaleza'!AN10=\"\",\"\",'Ciencias de la Naturaleza'!AN10)","v":""},{"$f":"IF('Ciencias de la Naturaleza'!AO10=\"\",\"\",'Ciencias de la Naturaleza'!AO10)","v":""},{"$f":"IF('Ciencias de la Naturaleza'!AP10=\"\",\"\",'Ciencias de la Naturaleza'!AP10)","v":""}]
[null,null,null,"Criterio Evaluación 2.5",{"$f":"IF('Ciencias de la Naturaleza'!H11=\"\",\"\",'Ciencias de la Naturaleza'!H11)","v":""},{"$f":"IF('Ciencias de la Naturaleza'!I11=\"\",\"\",'Ciencias de la Naturaleza'!I11)","v":""},{"$f":"IF('Ciencias de la Naturaleza'!J11=\"\",\"\",'Ciencias de la Naturaleza'!J11)","v":""},{"$f":"IF('Ciencias de la Naturaleza'!K11=\"\",\"\",'Ciencias de la Naturaleza'!K11)","v":""},{"$f":"IF('Ciencias de la Naturaleza'!L11=\"\",\"\",'Ciencias de la Naturaleza'!L11)","v":""},{"$f":"IF('Ciencias de la Naturaleza'!M11=\"\",\"\",'Ciencias de la Naturaleza'!M11)","v":""},{"$f":"IF('Ciencias de la Naturaleza'!N11=\"\",\"\",'Ciencias de la Naturaleza'!N11)","v":""},{"$f":"IF('Ciencias de la Naturaleza'!O11=\"\",\"\",'Ciencias de la Naturaleza'!O11)","v":""},{"$f":"IF('Ciencias de la Naturaleza'!P11=\"\",\"\",'Ciencias de la Naturaleza'!P11)","v":""},{"$f":"IF('Ciencias de la Naturaleza'!Q11=\"\",\"\",'Ciencias de la Naturaleza'!Q11)","v":""},{"$f":"IF('Ciencias de la Naturaleza'!R11=\"\",\"\",'Ciencias de la Naturaleza'!R11)","v":""},{"$f":"IF('Ciencias de la Naturaleza'!S11=\"\",\"\",'Ciencias de la Naturaleza'!S11)","v":""},{"$f":"IF('Ciencias de la Naturaleza'!T11=\"\",\"\",'Ciencias de la Naturaleza'!T11)","v":""},{"$f":"IF('Ciencias de la Naturaleza'!U11=\"\",\"\",'Ciencias de la Naturaleza'!U11)","v":""},{"$f":"IF('Ciencias de la Naturaleza'!V11=\"\",\"\",'Ciencias de la Naturaleza'!V11)","v":""},{"$f":"IF('Ciencias de la Naturaleza'!W11=\"\",\"\",'Ciencias de la Naturaleza'!W11)","v":""},{"$f":"IF('Ciencias de la Naturaleza'!X11=\"\",\"\",'Ciencias de la Naturaleza'!X11)","v":""},{"$f":"IF('Ciencias de la Naturaleza'!Y11=\"\",\"\",'Ciencias de la Naturaleza'!Y11)","v":""},{"$f":"IF('Ciencias de la Naturaleza'!Z11=\"\",\"\",'Ciencias de la Naturaleza'!Z11)","v":""},{"$f":"IF('Ciencias de la Naturaleza'!AA11=\"\",\"\",'Ciencias de la Naturaleza'!AA11)","v":""},{"$f":"IF('Ciencias de la Naturaleza'!AB11=\"\",\"\",'Ciencias de la Naturaleza'!AB11)","v":""},{"$f":"IF('Ciencias de la Naturaleza'!AC11=\"\",\"\",'Ciencias de la Naturaleza'!AC11)","v":""},{"$f":"IF('Ciencias de la Naturaleza'!AD11=\"\",\"\",'Ciencias de la Naturaleza'!AD11)","v":""},{"$f":"IF('Ciencias de la Naturaleza'!AE11=\"\",\"\",'Ciencias de la Naturaleza'!AE11)","v":""},{"$f":"IF('Ciencias de la Naturaleza'!AF11=\"\",\"\",'Ciencias de la Naturaleza'!AF11)","v":""},{"$f":"IF('Ciencias de la Naturaleza'!AG11=\"\",\"\",'Ciencias de la Naturaleza'!AG11)","v":""},{"$f":"IF('Ciencias de la Naturaleza'!AH11=\"\",\"\",'Ciencias de la Naturaleza'!AH11)","v":""},{"$f":"IF('Ciencias de la Naturaleza'!AI11=\"\",\"\",'Ciencias de la Naturaleza'!AI11)","v":""},{"$f":"IF('Ciencias de la Naturaleza'!AJ11=\"\",\"\",'Ciencias de la Naturaleza'!AJ11)","v":""},{"$f":"IF('Ciencias de la Naturaleza'!AK11=\"\",\"\",'Ciencias de la Naturaleza'!AK11)","v":""},{"$f":"IF('Ciencias de la Naturaleza'!AL11=\"\",\"\",'Ciencias de la Naturaleza'!AL11)","v":""},{"$f":"IF('Ciencias de la Naturaleza'!AM11=\"\",\"\",'Ciencias de la Naturaleza'!AM11)","v":""},{"$f":"IF('Ciencias de la Naturaleza'!AN11=\"\",\"\",'Ciencias de la Naturaleza'!AN11)","v":""},{"$f":"IF('Ciencias de la Naturaleza'!AO11=\"\",\"\",'Ciencias de la Naturaleza'!AO11)","v":""},{"$f":"IF('Ciencias de la Naturaleza'!AP11=\"\",\"\",'Ciencias de la Naturaleza'!AP11)","v":""}]
[null,null,"Comp. Esp. 3","Criterio Evaluación 3.1",{"$f":"IF('Ciencias de la Naturaleza'!H12=\"\",\"\",'Ciencias de la Naturaleza'!H12)","v":""},{"$f":"IF('Ciencias de la Naturaleza'!I12=\"\",\"\",'Ciencias de la Naturaleza'!I12)","v":""},{"$f":"IF('Ciencias de la Naturaleza'!J12=\"\",\"\",'Ciencias de la Naturaleza'!J12)","v":""},{"$f":"IF('Ciencias de la Naturaleza'!K12=\"\",\"\",'Ciencias de la Naturaleza'!K12)","v":""},{"$f":"IF('Ciencias de la Naturaleza'!L12=\"\",\"\",'Ciencias de la Naturaleza'!L12)","v":""},{"$f":"IF('Ciencias de la Naturaleza'!M12=\"\",\"\",'Ciencias de la Naturaleza'!M12)","v":""},{"$f":"IF('Ciencias de la Naturaleza'!N12=\"\",\"\",'Ciencias de la Naturaleza'!N12)","v":""},{"$f":"IF('Ciencias de la Naturaleza'!O12=\"\",\"\",'Ciencias de la Naturaleza'!O12)","v":""},{"$f":"IF('Ciencias de la Naturaleza'!P12=\"\",\"\",'Ciencias de la Naturaleza'!P12)","v":""},{"$f":"IF('Ciencias de la Naturaleza'!Q12=\"\",\"\",'Ciencias de la Naturaleza'!Q12)","v":""},{"$f":"IF('Ciencias de la Naturaleza'!R12=\"\",\"\",'Ciencias de la Naturaleza'!R12)","v":""},{"$f":"IF('Ciencias de la Naturaleza'!S12=\"\",\"\",'Ciencias de la Naturaleza'!S12)","v":""},{"$f":"IF('Ciencias de la Naturaleza'!T12=\"\",\"\",'Ciencias de la Naturaleza'!T12)","v":""},{"$f":"IF('Ciencias de la Naturaleza'!U12=\"\",\"\",'Ciencias de la Naturaleza'!U12)","v":""},{"$f":"IF('Ciencias de la Naturaleza'!V12=\"\",\"\",'Ciencias de la Naturaleza'!V12)","v":""},{"$f":"IF('Ciencias de la Naturaleza'!W12=\"\",\"\",'Ciencias de la Naturaleza'!W12)","v":""},{"$f":"IF('Ciencias de la Naturaleza'!X12=\"\",\"\",'Ciencias de la Naturaleza'!X12)","v":""},{"$f":"IF('Ciencias de la Naturaleza'!Y12=\"\",\"\",'Ciencias de la Naturaleza'!Y12)","v":""},{"$f":"IF('Ciencias de la Naturaleza'!Z12=\"\",\"\",'Ciencias de la Naturaleza'!Z12)","v":""},{"$f":"IF('Ciencias de la Naturaleza'!AA12=\"\",\"\",'Ciencias de la Naturaleza'!AA12)","v":""},{"$f":"IF('Ciencias de la Naturaleza'!AB12=\"\",\"\",'Ciencias de la Naturaleza'!AB12)","v":""},{"$f":"IF('Ciencias de la Naturaleza'!AC12=\"\",\"\",'Ciencias de la Naturaleza'!AC12)","v":""},{"$f":"IF('Ciencias de la Naturaleza'!AD12=\"\",\"\",'Ciencias de la Naturaleza'!AD12)","v":""},{"$f":"IF('Ciencias de la Naturaleza'!AE12=\"\",\"\",'Ciencias de la Naturaleza'!AE12)","v":""},{"$f":"IF('Ciencias de la Naturaleza'!AF12=\"\",\"\",'Ciencias de la Naturaleza'!AF12)","v":""},{"$f":"IF('Ciencias de la Naturaleza'!AG12=\"\",\"\",'Ciencias de la Naturaleza'!AG12)","v":""},{"$f":"IF('Ciencias de la Naturaleza'!AH12=\"\",\"\",'Ciencias de la Naturaleza'!AH12)","v":""},{"$f":"IF('Ciencias de la Naturaleza'!AI12=\"\",\"\",'Ciencias de la Naturaleza'!AI12)","v":""},{"$f":"IF('Ciencias de la Naturaleza'!AJ12=\"\",\"\",'Ciencias de la Naturaleza'!AJ12)","v":""},{"$f":"IF('Ciencias de la Naturaleza'!AK12=\"\",\"\",'Ciencias de la Naturaleza'!AK12)","v":""},{"$f":"IF('Ciencias de la Naturaleza'!AL12=\"\",\"\",'Ciencias de la Naturaleza'!AL12)","v":""},{"$f":"IF('Ciencias de la Naturaleza'!AM12=\"\",\"\",'Ciencias de la Naturaleza'!AM12)","v":""},{"$f":"IF('Ciencias de la Naturaleza'!AN12=\"\",\"\",'Ciencias de la Naturaleza'!AN12)","v":""},{"$f":"IF('Ciencias de la Naturaleza'!AO12=\"\",\"\",'Ciencias de la Naturaleza'!AO12)","v":""},{"$f":"IF('Ciencias de la Naturaleza'!AP12=\"\",\"\",'Ciencias de la Naturaleza'!AP12)","v":""}]
[null,null,null,"Criterio Evaluación 3.2",{"$f":"IF('Ciencias de la Naturaleza'!H13=\"\",\"\",'Ciencias de la Naturaleza'!H13)","v":""},{"$f":"IF('Ciencias de la Naturaleza'!I13=\"\",\"\",'Ciencias de la Naturaleza'!I13)","v":""},{"$f":"IF('Ciencias de la Naturaleza'!J13=\"\",\"\",'Ciencias de la Naturaleza'!J13)","v":""},{"$f":"IF('Ciencias de la Naturaleza'!K13=\"\",\"\",'Ciencias de la Naturaleza'!K13)","v":""},{"$f":"IF('Ciencias de la Naturaleza'!L13=\"\",\"\",'Ciencias de la Naturaleza'!L13)","v":""},{"$f":"IF('Ciencias de la Naturaleza'!M13=\"\",\"\",'Ciencias de la Naturaleza'!M13)","v":""},{"$f":"IF('Ciencias de la Naturaleza'!N13=\"\",\"\",'Ciencias de la Naturaleza'!N13)","v":""},{"$f":"IF('Ciencias de la Naturaleza'!O13=\"\",\"\",'Ciencias de la Naturaleza'!O13)","v":""},{"$f":"IF('Ciencias de la Naturaleza'!P13=\"\",\"\",'Ciencias de la Naturaleza'!P13)","v":""},{"$f":"IF('Ciencias de la Naturaleza'!Q13=\"\",\"\",'Ciencias de la Naturaleza'!Q13)","v":""},{"$f":"IF('Ciencias de la Naturaleza'!R13=\"\",\"\",'Ciencias de la Naturaleza'!R13)","v":""},{"$f":"IF('Ciencias de la Naturaleza'!S13=\"\",\"\",'Ciencias de la Naturaleza'!S13)","v":""},{"$f":"IF('Ciencias de la Naturaleza'!T13=\"\",\"\",'Ciencias de la Naturaleza'!T13)","v":""},{"$f":"IF('Ciencias de la Naturaleza'!U13=\"\",\"\",'Ciencias de la Naturaleza'!U13)","v":""},{"$f":"IF('Ciencias de la Naturaleza'!V13=\"\",\"\",'Ciencias de la Naturaleza'!V13)","v":""},{"$f":"IF('Ciencias de la Naturaleza'!W13=\"\",\"\",'Ciencias de la Naturaleza'!W13)","v":""},{"$f":"IF('Ciencias de la Naturaleza'!X13=\"\",\"\",'Ciencias de la Naturaleza'!X13)","v":""},{"$f":"IF('Ciencias de la Naturaleza'!Y13=\"\",\"\",'Ciencias de la Naturaleza'!Y13)","v":""},{"$f":"IF('Ciencias de la Naturaleza'!Z13=\"\",\"\",'Ciencias de la Naturaleza'!Z13)","v":""},{"$f":"IF('Ciencias de la Naturaleza'!AA13=\"\",\"\",'Ciencias de la Naturaleza'!AA13)","v":""},{"$f":"IF('Ciencias de la Naturaleza'!AB13=\"\",\"\",'Ciencias de la Naturaleza'!AB13)","v":""},{"$f":"IF('Ciencias de la Naturaleza'!AC13=\"\",\"\",'Ciencias de la Naturaleza'!AC13)","v":""},{"$f":"IF('Ciencias de la Naturaleza'!AD13=\"\",\"\",'Ciencias de la Naturaleza'!AD13)","v":""},{"$f":"IF('Ciencias de la Naturaleza'!AE13=\"\",\"\",'Ciencias de la Naturaleza'!AE13)","v":""},{"$f":"IF('Ciencias de la Naturaleza'!AF13=\"\",\"\",'Ciencias de la Naturaleza'!AF13)","v":""},{"$f":"IF('Ciencias de la Naturaleza'!AG13=\"\",\"\",'Ciencias de la Naturaleza'!AG13)","v":""},{"$f":"IF('Ciencias de la Naturaleza'!AH13=\"\",\"\",'Ciencias de la Naturaleza'!AH13)","v":""},{"$f":"IF('Ciencias de la Naturaleza'!AI13=\"\",\"\",'Ciencias de la Naturaleza'!AI13)","v":""},{"$f":"IF('Ciencias de la Naturaleza'!AJ13=\"\",\"\",'Ciencias de la Naturaleza'!AJ13)","v":""},{"$f":"IF('Ciencias de la Naturaleza'!AK13=\"\",\"\",'Ciencias de la Naturaleza'!AK13)","v":""},{"$f":"IF('Ciencias de la Naturaleza'!AL13=\"\",\"\",'Ciencias de la Naturaleza'!AL13)","v":""},{"$f":"IF('Ciencias de la Naturaleza'!AM13=\"\",\"\",'Ciencias de la Naturaleza'!AM13)","v":""},{"$f":"IF('Ciencias de la Naturaleza'!AN13=\"\",\"\",'Ciencias de la Naturaleza'!AN13)","v":""},{"$f":"IF('Ciencias de la Naturaleza'!AO13=\"\",\"\",'Ciencias de la Naturaleza'!AO13)","v":""},{"$f":"IF('Ciencias de la Naturaleza'!AP13=\"\",\"\",'Ciencias de la Naturaleza'!AP13)","v":""}]
[null,null,null,"Criterio Evaluación 3.3",{"$f":"IF('Ciencias de la Naturaleza'!H14=\"\",\"\",'Ciencias de la Naturaleza'!H14)","v":""},{"$f":"IF('Ciencias de la Naturaleza'!I14=\"\",\"\",'Ciencias de la Naturaleza'!I14)","v":""},{"$f":"IF('Ciencias de la Naturaleza'!J14=\"\",\"\",'Ciencias de la Naturaleza'!J14)","v":""},{"$f":"IF('Ciencias de la Naturaleza'!K14=\"\",\"\",'Ciencias de la Naturaleza'!K14)","v":""},{"$f":"IF('Ciencias de la Naturaleza'!L14=\"\",\"\",'Ciencias de la Naturaleza'!L14)","v":""},{"$f":"IF('Ciencias de la Naturaleza'!M14=\"\",\"\",'Ciencias de la Naturaleza'!M14)","v":""},{"$f":"IF('Ciencias de la Naturaleza'!N14=\"\",\"\",'Ciencias de la Naturaleza'!N14)","v":""},{"$f":"IF('Ciencias de la Naturaleza'!O14=\"\",\"\",'Ciencias de la Naturaleza'!O14)","v":""},{"$f":"IF('Ciencias de la Naturaleza'!P14=\"\",\"\",'Ciencias de la Naturaleza'!P14)","v":""},{"$f":"IF('Ciencias de la Naturaleza'!Q14=\"\",\"\",'Ciencias de la Naturaleza'!Q14)","v":""},{"$f":"IF('Ciencias de la Naturaleza'!R14=\"\",\"\",'Ciencias de la Naturaleza'!R14)","v":""},{"$f":"IF('Ciencias de la Naturaleza'!S14=\"\",\"\",'Ciencias de la Naturaleza'!S14)","v":""},{"$f":"IF('Ciencias de la Naturaleza'!T14=\"\",\"\",'Ciencias de la Naturaleza'!T14)","v":""},{"$f":"IF('Ciencias de la Naturaleza'!U14=\"\",\"\",'Ciencias de la Naturaleza'!U14)","v":""},{"$f":"IF('Ciencias de la Naturaleza'!V14=\"\",\"\",'Ciencias de la Naturaleza'!V14)","v":""},{"$f":"IF('Ciencias de la Naturaleza'!W14=\"\",\"\",'Ciencias de la Naturaleza'!W14)","v":""},{"$f":"IF('Ciencias de la Naturaleza'!X14=\"\",\"\",'Ciencias de la Naturaleza'!X14)","v":""},{"$f":"IF('Ciencias de la Naturaleza'!Y14=\"\",\"\",'Ciencias de la Naturaleza'!Y14)","v":""},{"$f":"IF('Ciencias de la Naturaleza'!Z14=\"\",\"\",'Ciencias de la Naturaleza'!Z14)","v":""},{"$f":"IF('Ciencias de la Naturaleza'!AA14=\"\",\"\",'Ciencias de la Naturaleza'!AA14)","v":""},{"$f":"IF('Ciencias de la Naturaleza'!AB14=\"\",\"\",'Ciencias de la Naturaleza'!AB14)","v":""},{"$f":"IF('Ciencias de la Naturaleza'!AC14=\"\",\"\",'Ciencias de la Naturaleza'!AC14)","v":""},{"$f":"IF('Ciencias de la Naturaleza'!AD14=\"\",\"\",'Ciencias de la Naturaleza'!AD14)","v":""},{"$f":"IF('Ciencias de la Naturaleza'!AE14=\"\",\"\",'Ciencias de la Naturaleza'!AE14)","v":""},{"$f":"IF('Ciencias de la Naturaleza'!AF14=\"\",\"\",'Ciencias de la Naturaleza'!AF14)","v":""},{"$f":"IF('Ciencias de la Naturaleza'!AG14=\"\",\"\",'Ciencias de la Naturaleza'!AG14)","v":""},{"$f":"IF('Ciencias de la Naturaleza'!AH14=\"\",\"\",'Ciencias de la Naturaleza'!AH14)","v":""},{"$f":"IF('Ciencias de la Naturaleza'!AI14=\"\",\"\",'Ciencias de la Naturaleza'!AI14)","v":""},{"$f":"IF('Ciencias de la Naturaleza'!AJ14=\"\",\"\",'Ciencias de la Naturaleza'!AJ14)","v":""},{"$f":"IF('Ciencias de la Naturaleza'!AK14=\"\",\"\",'Ciencias de la Naturaleza'!AK14)","v":""},{"$f":"IF('Ciencias de la Naturaleza'!AL14=\"\",\"\",'Ciencias de la Naturaleza'!AL14)","v":""},{"$f":"IF('Ciencias de la Naturaleza'!AM14=\"\",\"\",'Ciencias de la Naturaleza'!AM14)","v":""},{"$f":"IF('Ciencias de la Naturaleza'!AN14=\"\",\"\",'Ciencias de la Naturaleza'!AN14)","v":""},{"$f":"IF('Ciencias de la Naturaleza'!AO14=\"\",\"\",'Ciencias de la Naturaleza'!AO14)","v":""},{"$f":"IF('Ciencias de la Naturaleza'!AP14=\"\",\"\",'Ciencias de la Naturaleza'!AP14)","v":""}]
[null,null,"Comp. Esp. 4","Criterio Evaluación 4.1",{"$f":"IF('Ciencias de la Naturaleza'!H15=\"\",\"\",'Ciencias de la Naturaleza'!H15)","v":""},{"$f":"IF('Ciencias de la Naturaleza'!I15=\"\",\"\",'Ciencias de la Naturaleza'!I15)","v":""},{"$f":"IF('Ciencias de la Naturaleza'!J15=\"\",\"\",'Ciencias de la Naturaleza'!J15)","v":""},{"$f":"IF('Ciencias de la Naturaleza'!K15=\"\",\"\",'Ciencias de la Naturaleza'!K15)","v":""},{"$f":"IF('Ciencias de la Naturaleza'!L15=\"\",\"\",'Ciencias de la Naturaleza'!L15)","v":""},{"$f":"IF('Ciencias de la Naturaleza'!M15=\"\",\"\",'Ciencias de la Naturaleza'!M15)","v":""},{"$f":"IF('Ciencias de la Naturaleza'!N15=\"\",\"\",'Ciencias de la Naturaleza'!N15)","v":""},{"$f":"IF('Ciencias de la Naturaleza'!O15=\"\",\"\",'Ciencias de la Naturaleza'!O15)","v":""},{"$f":"IF('Ciencias de la Naturaleza'!P15=\"\",\"\",'Ciencias de la Naturaleza'!P15)","v":""},{"$f":"IF('Ciencias de la Naturaleza'!Q15=\"\",\"\",'Ciencias de la Naturaleza'!Q15)","v":""},{"$f":"IF('Ciencias de la Naturaleza'!R15=\"\",\"\",'Ciencias de la Naturaleza'!R15)","v":""},{"$f":"IF('Ciencias de la Naturaleza'!S15=\"\",\"\",'Ciencias de la Naturaleza'!S15)","v":""},{"$f":"IF('Ciencias de la Naturaleza'!T15=\"\",\"\",'Ciencias de la Naturaleza'!T15)","v":""},{"$f":"IF('Ciencias de la Naturaleza'!U15=\"\",\"\",'Ciencias de la Naturaleza'!U15)","v":""},{"$f":"IF('Ciencias de la Naturaleza'!V15=\"\",\"\",'Ciencias de la Naturaleza'!V15)","v":""},{"$f":"IF('Ciencias de la Naturaleza'!W15=\"\",\"\",'Ciencias de la Naturaleza'!W15)","v":""},{"$f":"IF('Ciencias de la Naturaleza'!X15=\"\",\"\",'Ciencias de la Naturaleza'!X15)","v":""},{"$f":"IF('Ciencias de la Naturaleza'!Y15=\"\",\"\",'Ciencias de la Naturaleza'!Y15)","v":""},{"$f":"IF('Ciencias de la Naturaleza'!Z15=\"\",\"\",'Ciencias de la Naturaleza'!Z15)","v":""},{"$f":"IF('Ciencias de la Naturaleza'!AA15=\"\",\"\",'Ciencias de la Naturaleza'!AA15)","v":""},{"$f":"IF('Ciencias de la Naturaleza'!AB15=\"\",\"\",'Ciencias de la Naturaleza'!AB15)","v":""},{"$f":"IF('Ciencias de la Naturaleza'!AC15=\"\",\"\",'Ciencias de la Naturaleza'!AC15)","v":""},{"$f":"IF('Ciencias de la Naturaleza'!AD15=\"\",\"\",'Ciencias de la Naturaleza'!AD15)","v":""},{"$f":"IF('Ciencias de la Naturaleza'!AE15=\"\",\"\",'Ciencias de la Naturaleza'!AE15)","v":""},{"$f":"IF('Ciencias de la Naturaleza'!AF15=\"\",\"\",'Ciencias de la Naturaleza'!AF15)","v":""},{"$f":"IF('Ciencias de la Naturaleza'!AG15=\"\",\"\",'Ciencias de la Naturaleza'!AG15)","v":""},{"$f":"IF('Ciencias de la Naturaleza'!AH15=\"\",\"\",'Ciencias de la Naturaleza'!AH15)","v":""},{"$f":"IF('Ciencias de la Naturaleza'!AI15=\"\",\"\",'Ciencias de la Naturaleza'!AI15)","v":""},{"$f":"IF('Ciencias de la Naturaleza'!AJ15=\"\",\"\",'Ciencias de la Naturaleza'!AJ15)","v":""},{"$f":"IF('Ciencias de la Naturaleza'!AK15=\"\",\"\",'Ciencias de la Naturaleza'!AK15)","v":""},{"$f":"IF('Ciencias de la Naturaleza'!AL15=\"\",\"\",'Ciencias de la Naturaleza'!AL15)","v":""},{"$f":"IF('Ciencias de la Naturaleza'!AM15=\"\",\"\",'Ciencias de la Naturaleza'!AM15)","v":""},{"$f":"IF('Ciencias de la Naturaleza'!AN15=\"\",\"\",'Ciencias de la Naturaleza'!AN15)","v":""},{"$f":"IF('Ciencias de la Naturaleza'!AO15=\"\",\"\",'Ciencias de la Naturaleza'!AO15)","v":""},{"$f":"IF('Ciencias de la Naturaleza'!AP15=\"\",\"\",'Ciencias de la Naturaleza'!AP15)","v":""}]
[null,null,null,"Criterio Evaluación 4.2",{"$f":"IF('Ciencias de la Naturaleza'!H16=\"\",\"\",'Ciencias de la Naturaleza'!H16)","v":""},{"$f":"IF('Ciencias de la Naturaleza'!I16=\"\",\"\",'Ciencias de la Naturaleza'!I16)","v":""},{"$f":"IF('Ciencias de la Naturaleza'!J16=\"\",\"\",'Ciencias de la Naturaleza'!J16)","v":""},{"$f":"IF('Ciencias de la Naturaleza'!K16=\"\",\"\",'Ciencias de la Naturaleza'!K16)","v":""},{"$f":"IF('Ciencias de la Naturaleza'!L16=\"\",\"\",'Ciencias de la Naturaleza'!L16)","v":""},{"$f":"IF('Ciencias de la Naturaleza'!M16=\"\",\"\",'Ciencias de la Naturaleza'!M16)","v":""},{"$f":"IF('Ciencias de la Naturaleza'!N16=\"\",\"\",'Ciencias de la Naturaleza'!N16)","v":""},{"$f":"IF('Ciencias de la Naturaleza'!O16=\"\",\"\",'Ciencias de la Naturaleza'!O16)","v":""},{"$f":"IF('Ciencias de la Naturaleza'!P16=\"\",\"\",'Ciencias de la Naturaleza'!P16)","v":""},{"$f":"IF('Ciencias de la Naturaleza'!Q16=\"\",\"\",'Ciencias de la Naturaleza'!Q16)","v":""},{"$f":"IF('Ciencias de la Naturaleza'!R16=\"\",\"\",'Ciencias de la Naturaleza'!R16)","v":""},{"$f":"IF('Ciencias de la Naturaleza'!S16=\"\",\"\",'Ciencias de la Naturaleza'!S16)","v":""},{"$f":"IF('Ciencias de la Naturaleza'!T16=\"\",\"\",'Ciencias de la Naturaleza'!T16)","v":""},{"$f":"IF('Ciencias de la Naturaleza'!U16=\"\",\"\",'Ciencias de la Naturaleza'!U16)","v":""},{"$f":"IF('Ciencias de la Naturaleza'!V16=\"\",\"\",'Ciencias de la Naturaleza'!V16)","v":""},{"$f":"IF('Ciencias de la Naturaleza'!W16=\"\",\"\",'Ciencias de la Naturaleza'!W16)","v":""},{"$f":"IF('Ciencias de la Naturaleza'!X16=\"\",\"\",'Ciencias de la Naturaleza'!X16)","v":""},{"$f":"IF('Ciencias de la Naturaleza'!Y16=\"\",\"\",'Ciencias de la Naturaleza'!Y16)","v":""},{"$f":"IF('Ciencias de la Naturaleza'!Z16=\"\",\"\",'Ciencias de la Naturaleza'!Z16)","v":""},{"$f":"IF('Ciencias de la Naturaleza'!AA16=\"\",\"\",'Ciencias de la Naturaleza'!AA16)","v":""},{"$f":"IF('Ciencias de la Naturaleza'!AB16=\"\",\"\",'Ciencias de la Naturaleza'!AB16)","v":""},{"$f":"IF('Ciencias de la Naturaleza'!AC16=\"\",\"\",'Ciencias de la Naturaleza'!AC16)","v":""},{"$f":"IF('Ciencias de la Naturaleza'!AD16=\"\",\"\",'Ciencias de la Naturaleza'!AD16)","v":""},{"$f":"IF('Ciencias de la Naturaleza'!AE16=\"\",\"\",'Ciencias de la Naturaleza'!AE16)","v":""},{"$f":"IF('Ciencias de la Naturaleza'!AF16=\"\",\"\",'Ciencias de la Naturaleza'!AF16)","v":""},{"$f":"IF('Ciencias de la Naturaleza'!AG16=\"\",\"\",'Ciencias de la Naturaleza'!AG16)","v":""},{"$f":"IF('Ciencias de la Naturaleza'!AH16=\"\",\"\",'Ciencias de la Naturaleza'!AH16)","v":""},{"$f":"IF('Ciencias de la Naturaleza'!AI16=\"\",\"\",'Ciencias de la Naturaleza'!AI16)","v":""},{"$f":"IF('Ciencias de la Naturaleza'!AJ16=\"\",\"\",'Ciencias de la Naturaleza'!AJ16)","v":""},{"$f":"IF('Ciencias de la Naturaleza'!AK16=\"\",\"\",'Ciencias de la Naturaleza'!AK16)","v":""},{"$f":"IF('Ciencias de la Naturaleza'!AL16=\"\",\"\",'Ciencias de la Naturaleza'!AL16)","v":""},{"$f":"IF('Ciencias de la Naturaleza'!AM16=\"\",\"\",'Ciencias de la Naturaleza'!AM16)","v":""},{"$f":"IF('Ciencias de la Naturaleza'!AN16=\"\",\"\",'Ciencias de la Naturaleza'!AN16)","v":""},{"$f":"IF('Ciencias de la Naturaleza'!AO16=\"\",\"\",'Ciencias de la Naturaleza'!AO16)","v":""},{"$f":"IF('Ciencias de la Naturaleza'!AP16=\"\",\"\",'Ciencias de la Naturaleza'!AP16)","v":""}]
[null,null,"Comp. Esp. 5","Criterio Evaluación 5.1",{"$f":"IF('Ciencias de la Naturaleza'!H17=\"\",\"\",'Ciencias de la Naturaleza'!H17)","v":""},{"$f":"IF('Ciencias de la Naturaleza'!I17=\"\",\"\",'Ciencias de la Naturaleza'!I17)","v":""},{"$f":"IF('Ciencias de la Naturaleza'!J17=\"\",\"\",'Ciencias de la Naturaleza'!J17)","v":""},{"$f":"IF('Ciencias de la Naturaleza'!K17=\"\",\"\",'Ciencias de la Naturaleza'!K17)","v":""},{"$f":"IF('Ciencias de la Naturaleza'!L17=\"\",\"\",'Ciencias de la Naturaleza'!L17)","v":""},{"$f":"IF('Ciencias de la Naturaleza'!M17=\"\",\"\",'Ciencias de la Naturaleza'!M17)","v":""},{"$f":"IF('Ciencias de la Naturaleza'!N17=\"\",\"\",'Ciencias de la Naturaleza'!N17)","v":""},{"$f":"IF('Ciencias de la Naturaleza'!O17=\"\",\"\",'Ciencias de la Naturaleza'!O17)","v":""},{"$f":"IF('Ciencias de la Naturaleza'!P17=\"\",\"\",'Ciencias de la Naturaleza'!P17)","v":""},{"$f":"IF('Ciencias de la Naturaleza'!Q17=\"\",\"\",'Ciencias de la Naturaleza'!Q17)","v":""},{"$f":"IF('Ciencias de la Naturaleza'!R17=\"\",\"\",'Ciencias de la Naturaleza'!R17)","v":""},{"$f":"IF('Ciencias de la Naturaleza'!S17=\"\",\"\",'Ciencias de la Naturaleza'!S17)","v":""},{"$f":"IF('Ciencias de la Naturaleza'!T17=\"\",\"\",'Ciencias de la Naturaleza'!T17)","v":""},{"$f":"IF('Ciencias de la Naturaleza'!U17=\"\",\"\",'Ciencias de la Naturaleza'!U17)","v":""},{"$f":"IF('Ciencias de la Naturaleza'!V17=\"\",\"\",'Ciencias de la Naturaleza'!V17)","v":""},{"$f":"IF('Ciencias de la Naturaleza'!W17=\"\",\"\",'Ciencias de la Naturaleza'!W17)","v":""},{"$f":"IF('Ciencias de la Naturaleza'!X17=\"\",\"\",'Ciencias de la Naturaleza'!X17)","v":""},{"$f":"IF('Ciencias de la Naturaleza'!Y17=\"\",\"\",'Ciencias de la Naturaleza'!Y17)","v":""},{"$f":"IF('Ciencias de la Naturaleza'!Z17=\"\",\"\",'Ciencias de la Naturaleza'!Z17)","v":""},{"$f":"IF('Ciencias de la Naturaleza'!AA17=\"\",\"\",'Ciencias de la Naturaleza'!AA17)","v":""},{"$f":"IF('Ciencias de la Naturaleza'!AB17=\"\",\"\",'Ciencias de la Naturaleza'!AB17)","v":""},{"$f":"IF('Ciencias de la Naturaleza'!AC17=\"\",\"\",'Ciencias de la Naturaleza'!AC17)","v":""},{"$f":"IF('Ciencias de la Naturaleza'!AD17=\"\",\"\",'Ciencias de la Naturaleza'!AD17)","v":""},{"$f":"IF('Ciencias de la Naturaleza'!AE17=\"\",\"\",'Ciencias de la Naturaleza'!AE17)","v":""},{"$f":"IF('Ciencias de la Naturaleza'!AF17=\"\",\"\",'Ciencias de la Naturaleza'!AF17)","v":""},{"$f":"IF('Ciencias de la Naturaleza'!AG17=\"\",\"\",'Ciencias de la Naturaleza'!AG17)","v":""},{"$f":"IF('Ciencias de la Naturaleza'!AH17=\"\",\"\",'Ciencias de la Naturaleza'!AH17)","v":""},{"$f":"IF('Ciencias de la Naturaleza'!AI17=\"\",\"\",'Ciencias de la Naturaleza'!AI17)","v":""},{"$f":"IF('Ciencias de la Naturaleza'!AJ17=\"\",\"\",'Ciencias de la Naturaleza'!AJ17)","v":""},{"$f":"IF('Ciencias de la Naturaleza'!AK17=\"\",\"\",'Ciencias de la Naturaleza'!AK17)","v":""},{"$f":"IF('Ciencias de la Naturaleza'!AL17=\"\",\"\",'Ciencias de la Naturaleza'!AL17)","v":""},{"$f":"IF('Ciencias de la Naturaleza'!AM17=\"\",\"\",'Ciencias de la Naturaleza'!AM17)","v":""},{"$f":"IF('Ciencias de la Naturaleza'!AN17=\"\",\"\",'Ciencias de la Naturaleza'!AN17)","v":""},{"$f":"IF('Ciencias de la Naturaleza'!AO17=\"\",\"\",'Ciencias de la Naturaleza'!AO17)","v":""},{"$f":"IF('Ciencias de la Naturaleza'!AP17=\"\",\"\",'Ciencias de la Naturaleza'!AP17)","v":""}]
[null,null,null,"Criterio Evaluación 5.2",{"$f":"IF('Ciencias de la Naturaleza'!H18=\"\",\"\",'Ciencias de la Naturaleza'!H18)","v":""},{"$f":"IF('Ciencias de la Naturaleza'!I18=\"\",\"\",'Ciencias de la Naturaleza'!I18)","v":""},{"$f":"IF('Ciencias de la Naturaleza'!J18=\"\",\"\",'Ciencias de la Naturaleza'!J18)","v":""},{"$f":"IF('Ciencias de la Naturaleza'!K18=\"\",\"\",'Ciencias de la Naturaleza'!K18)","v":""},{"$f":"IF('Ciencias de la Naturaleza'!L18=\"\",\"\",'Ciencias de la Naturaleza'!L18)","v":""},{"$f":"IF('Ciencias de la Naturaleza'!M18=\"\",\"\",'Ciencias de la Naturaleza'!M18)","v":""},{"$f":"IF('Ciencias de la Naturaleza'!N18=\"\",\"\",'Ciencias de la Naturaleza'!N18)","v":""},{"$f":"IF('Ciencias de la Naturaleza'!O18=\"\",\"\",'Ciencias de la Naturaleza'!O18)","v":""},{"$f":"IF('Ciencias de la Naturaleza'!P18=\"\",\"\",'Ciencias de la Naturaleza'!P18)","v":""},{"$f":"IF('Ciencias de la Naturaleza'!Q18=\"\",\"\",'Ciencias de la Naturaleza'!Q18)","v":""},{"$f":"IF('Ciencias de la Naturaleza'!R18=\"\",\"\",'Ciencias de la Naturaleza'!R18)","v":""},{"$f":"IF('Ciencias de la Naturaleza'!S18=\"\",\"\",'Ciencias de la Naturaleza'!S18)","v":""},{"$f":"IF('Ciencias de la Naturaleza'!T18=\"\",\"\",'Ciencias de la Naturaleza'!T18)","v":""},{"$f":"IF('Ciencias de la Naturaleza'!U18=\"\",\"\",'Ciencias de la Naturaleza'!U18)","v":""},{"$f":"IF('Ciencias de la Naturaleza'!V18=\"\",\"\",'Ciencias de la Naturaleza'!V18)","v":""},{"$f":"IF('Ciencias de la Naturaleza'!W18=\"\",\"\",'Ciencias de la Naturaleza'!W18)","v":""},{"$f":"IF('Ciencias de la Naturaleza'!X18=\"\",\"\",'Ciencias de la Naturaleza'!X18)","v":""},{"$f":"IF('Ciencias de la Naturaleza'!Y18=\"\",\"\",'Ciencias de la Naturaleza'!Y18)","v":""},{"$f":"IF('Ciencias de la Naturaleza'!Z18=\"\",\"\",'Ciencias de la Naturaleza'!Z18)","v":""},{"$f":"IF('Ciencias de la Naturaleza'!AA18=\"\",\"\",'Ciencias de la Naturaleza'!AA18)","v":""},{"$f":"IF('Ciencias de la Naturaleza'!AB18=\"\",\"\",'Ciencias de la Naturaleza'!AB18)","v":""},{"$f":"IF('Ciencias de la Naturaleza'!AC18=\"\",\"\",'Ciencias de la Naturaleza'!AC18)","v":""},{"$f":"IF('Ciencias de la Naturaleza'!AD18=\"\",\"\",'Ciencias de la Naturaleza'!AD18)","v":""},{"$f":"IF('Ciencias de la Naturaleza'!AE18=\"\",\"\",'Ciencias de la Naturaleza'!AE18)","v":""},{"$f":"IF('Ciencias de la Naturaleza'!AF18=\"\",\"\",'Ciencias de la Naturaleza'!AF18)","v":""},{"$f":"IF('Ciencias de la Naturaleza'!AG18=\"\",\"\",'Ciencias de la Naturaleza'!AG18)","v":""},{"$f":"IF('Ciencias de la Naturaleza'!AH18=\"\",\"\",'Ciencias de la Naturaleza'!AH18)","v":""},{"$f":"IF('Ciencias de la Naturaleza'!AI18=\"\",\"\",'Ciencias de la Naturaleza'!AI18)","v":""},{"$f":"IF('Ciencias de la Naturaleza'!AJ18=\"\",\"\",'Ciencias de la Naturaleza'!AJ18)","v":""},{"$f":"IF('Ciencias de la Naturaleza'!AK18=\"\",\"\",'Ciencias de la Naturaleza'!AK18)","v":""},{"$f":"IF('Ciencias de la Naturaleza'!AL18=\"\",\"\",'Ciencias de la Naturaleza'!AL18)","v":""},{"$f":"IF('Ciencias de la Naturaleza'!AM18=\"\",\"\",'Ciencias de la Naturaleza'!AM18)","v":""},{"$f":"IF('Ciencias de la Naturaleza'!AN18=\"\",\"\",'Ciencias de la Naturaleza'!AN18)","v":""},{"$f":"IF('Ciencias de la Naturaleza'!AO18=\"\",\"\",'Ciencias de la Naturaleza'!AO18)","v":""},{"$f":"IF('Ciencias de la Naturaleza'!AP18=\"\",\"\",'Ciencias de la Naturaleza'!AP18)","v":""}]
[null,null,null,"Criterio Evaluación 5.3",{"$f":"IF('Ciencias de la Naturaleza'!H19=\"\",\"\",'Ciencias de la Naturaleza'!H19)","v":""},{"$f":"IF('Ciencias de la Naturaleza'!I19=\"\",\"\",'Ciencias de la Naturaleza'!I19)","v":""},{"$f":"IF('Ciencias de la Naturaleza'!J19=\"\",\"\",'Ciencias de la Naturaleza'!J19)","v":""},{"$f":"IF('Ciencias de la Naturaleza'!K19=\"\",\"\",'Ciencias de la Naturaleza'!K19)","v":""},{"$f":"IF('Ciencias de la Naturaleza'!L19=\"\",\"\",'Ciencias de la Naturaleza'!L19)","v":""},{"$f":"IF('Ciencias de la Naturaleza'!M19=\"\",\"\",'Ciencias de la Naturaleza'!M19)","v":""},{"$f":"IF('Ciencias de la Naturaleza'!N19=\"\",\"\",'Ciencias de la Naturaleza'!N19)","v":""},{"$f":"IF('Ciencias de la Naturaleza'!O19=\"\",\"\",'Ciencias de la Naturaleza'!O19)","v":""},{"$f":"IF('Ciencias de la Naturaleza'!P19=\"\",\"\",'Ciencias de la Naturaleza'!P19)","v":""},{"$f":"IF('Ciencias de la Naturaleza'!Q19=\"\",\"\",'Ciencias de la Naturaleza'!Q19)","v":""},{"$f":"IF('Ciencias de la Naturaleza'!R19=\"\",\"\",'Ciencias de la Naturaleza'!R19)","v":""},{"$f":"IF('Ciencias de la Naturaleza'!S19=\"\",\"\",'Ciencias de la Naturaleza'!S19)","v":""},{"$f":"IF('Ciencias de la Naturaleza'!T19=\"\",\"\",'Ciencias de la Naturaleza'!T19)","v":""},{"$f":"IF('Ciencias de la Naturaleza'!U19=\"\",\"\",'Ciencias de la Naturaleza'!U19)","v":""},{"$f":"IF('Ciencias de la Naturaleza'!V19=\"\",\"\",'Ciencias de la Naturaleza'!V19)","v":""},{"$f":"IF('Ciencias de la Naturaleza'!W19=\"\",\"\",'Ciencias de la Naturaleza'!W19)","v":""},{"$f":"IF('Ciencias de la Naturaleza'!X19=\"\",\"\",'Ciencias de la Naturaleza'!X19)","v":""},{"$f":"IF('Ciencias de la Naturaleza'!Y19=\"\",\"\",'Ciencias de la Naturaleza'!Y19)","v":""},{"$f":"IF('Ciencias de la Naturaleza'!Z19=\"\",\"\",'Ciencias de la Naturaleza'!Z19)","v":""},{"$f":"IF('Ciencias de la Naturaleza'!AA19=\"\",\"\",'Ciencias de la Naturaleza'!AA19)","v":""},{"$f":"IF('Ciencias de la Naturaleza'!AB19=\"\",\"\",'Ciencias de la Naturaleza'!AB19)","v":""},{"$f":"IF('Ciencias de la Naturaleza'!AC19=\"\",\"\",'Ciencias de la Naturaleza'!AC19)","v":""},{"$f":"IF('Ciencias de la Naturaleza'!AD19=\"\",\"\",'Ciencias de la Naturaleza'!AD19)","v":""},{"$f":"IF('Ciencias de la Naturaleza'!AE19=\"\",\"\",'Ciencias de la Naturaleza'!AE19)","v":""},{"$f":"IF('Ciencias de la Naturaleza'!AF19=\"\",\"\",'Ciencias de la Naturaleza'!AF19)","v":""},{"$f":"IF('Ciencias de la Naturaleza'!AG19=\"\",\"\",'Ciencias de la Naturaleza'!AG19)","v":""},{"$f":"IF('Ciencias de la Naturaleza'!AH19=\"\",\"\",'Ciencias de la Naturaleza'!AH19)","v":""},{"$f":"IF('Ciencias de la Naturaleza'!AI19=\"\",\"\",'Ciencias de la Naturaleza'!AI19)","v":""},{"$f":"IF('Ciencias de la Naturaleza'!AJ19=\"\",\"\",'Ciencias de la Naturaleza'!AJ19)","v":""},{"$f":"IF('Ciencias de la Naturaleza'!AK19=\"\",\"\",'Ciencias de la Naturaleza'!AK19)","v":""},{"$f":"IF('Ciencias de la Naturaleza'!AL19=\"\",\"\",'Ciencias de la Naturaleza'!AL19)","v":""},{"$f":"IF('Ciencias de la Naturaleza'!AM19=\"\",\"\",'Ciencias de la Naturaleza'!AM19)","v":""},{"$f":"IF('Ciencias de la Naturaleza'!AN19=\"\",\"\",'Ciencias de la Naturaleza'!AN19)","v":""},{"$f":"IF('Ciencias de la Naturaleza'!AO19=\"\",\"\",'Ciencias de la Naturaleza'!AO19)","v":""},{"$f":"IF('Ciencias de la Naturaleza'!AP19=\"\",\"\",'Ciencias de la Naturaleza'!AP19)","v":""}]
[null,null,"Comp. Esp. 6","Criterio Evaluación 6.1",{"$f":"IF('Ciencias de la Naturaleza'!H20=\"\",\"\",'Ciencias de la Naturaleza'!H20)","v":""},{"$f":"IF('Ciencias de la Naturaleza'!I20=\"\",\"\",'Ciencias de la Naturaleza'!I20)","v":""},{"$f":"IF('Ciencias de la Naturaleza'!J20=\"\",\"\",'Ciencias de la Naturaleza'!J20)","v":""},{"$f":"IF('Ciencias de la Naturaleza'!K20=\"\",\"\",'Ciencias de la Naturaleza'!K20)","v":""},{"$f":"IF('Ciencias de la Naturaleza'!L20=\"\",\"\",'Ciencias de la Naturaleza'!L20)","v":""},{"$f":"IF('Ciencias de la Naturaleza'!M20=\"\",\"\",'Ciencias de la Naturaleza'!M20)","v":""},{"$f":"IF('Ciencias de la Naturaleza'!N20=\"\",\"\",'Ciencias de la Naturaleza'!N20)","v":""},{"$f":"IF('Ciencias de la Naturaleza'!O20=\"\",\"\",'Ciencias de la Naturaleza'!O20)","v":""},{"$f":"IF('Ciencias de la Naturaleza'!P20=\"\",\"\",'Ciencias de la Naturaleza'!P20)","v":""},{"$f":"IF('Ciencias de la Naturaleza'!Q20=\"\",\"\",'Ciencias de la Naturaleza'!Q20)","v":""},{"$f":"IF('Ciencias de la Naturaleza'!R20=\"\",\"\",'Ciencias de la Naturaleza'!R20)","v":""},{"$f":"IF('Ciencias de la Naturaleza'!S20=\"\",\"\",'Ciencias de la Naturaleza'!S20)","v":""},{"$f":"IF('Ciencias de la Naturaleza'!T20=\"\",\"\",'Ciencias de la Naturaleza'!T20)","v":""},{"$f":"IF('Ciencias de la Naturaleza'!U20=\"\",\"\",'Ciencias de la Naturaleza'!U20)","v":""},{"$f":"IF('Ciencias de la Naturaleza'!V20=\"\",\"\",'Ciencias de la Naturaleza'!V20)","v":""},{"$f":"IF('Ciencias de la Naturaleza'!W20=\"\",\"\",'Ciencias de la Naturaleza'!W20)","v":""},{"$f":"IF('Ciencias de la Naturaleza'!X20=\"\",\"\",'Ciencias de la Naturaleza'!X20)","v":""},{"$f":"IF('Ciencias de la Naturaleza'!Y20=\"\",\"\",'Ciencias de la Naturaleza'!Y20)","v":""},{"$f":"IF('Ciencias de la Naturaleza'!Z20=\"\",\"\",'Ciencias de la Naturaleza'!Z20)","v":""},{"$f":"IF('Ciencias de la Naturaleza'!AA20=\"\",\"\",'Ciencias de la Naturaleza'!AA20)","v":""},{"$f":"IF('Ciencias de la Naturaleza'!AB20=\"\",\"\",'Ciencias de la Naturaleza'!AB20)","v":""},{"$f":"IF('Ciencias de la Naturaleza'!AC20=\"\",\"\",'Ciencias de la Naturaleza'!AC20)","v":""},{"$f":"IF('Ciencias de la Naturaleza'!AD20=\"\",\"\",'Ciencias de la Naturaleza'!AD20)","v":""},{"$f":"IF('Ciencias de la Naturaleza'!AE20=\"\",\"\",'Ciencias de la Naturaleza'!AE20)","v":""},{"$f":"IF('Ciencias de la Naturaleza'!AF20=\"\",\"\",'Ciencias de la Naturaleza'!AF20)","v":""},{"$f":"IF('Ciencias de la Naturaleza'!AG20=\"\",\"\",'Ciencias de la Naturaleza'!AG20)","v":""},{"$f":"IF('Ciencias de la Naturaleza'!AH20=\"\",\"\",'Ciencias de la Naturaleza'!AH20)","v":""},{"$f":"IF('Ciencias de la Naturaleza'!AI20=\"\",\"\",'Ciencias de la Naturaleza'!AI20)","v":""},{"$f":"IF('Ciencias de la Naturaleza'!AJ20=\"\",\"\",'Ciencias de la Naturaleza'!AJ20)","v":""},{"$f":"IF('Ciencias de la Naturaleza'!AK20=\"\",\"\",'Ciencias de la Naturaleza'!AK20)","v":""},{"$f":"IF('Ciencias de la Naturaleza'!AL20=\"\",\"\",'Ciencias de la Naturaleza'!AL20)","v":""},{"$f":"IF('Ciencias de la Naturaleza'!AM20=\"\",\"\",'Ciencias de la Naturaleza'!AM20)","v":""},{"$f":"IF('Ciencias de la Naturaleza'!AN20=\"\",\"\",'Ciencias de la Naturaleza'!AN20)","v":""},{"$f":"IF('Ciencias de la Naturaleza'!AO20=\"\",\"\",'Ciencias de la Naturaleza'!AO20)","v":""},{"$f":"IF('Ciencias de la Naturaleza'!AP20=\"\",\"\",'Ciencias de la Naturaleza'!AP20)","v":""}]
[null,null,null,"Criterio Evaluación 6.2",{"$f":"IF('Ciencias de la Naturaleza'!H21=\"\",\"\",'Ciencias de la Naturaleza'!H21)","v":""},{"$f":"IF('Ciencias de la Naturaleza'!I21=\"\",\"\",'Ciencias de la Naturaleza'!I21)","v":""},{"$f":"IF('Ciencias de la Naturaleza'!J21=\"\",\"\",'Ciencias de la Naturaleza'!J21)","v":""},{"$f":"IF('Ciencias de la Naturaleza'!K21=\"\",\"\",'Ciencias de la Naturaleza'!K21)","v":""},{"$f":"IF('Ciencias de la Naturaleza'!L21=\"\",\"\",'Ciencias de la Naturaleza'!L21)","v":""},{"$f":"IF('Ciencias de la Naturaleza'!M21=\"\",\"\",'Ciencias de la Naturaleza'!M21)","v":""},{"$f":"IF('Ciencias de la Naturaleza'!N21=\"\",\"\",'Ciencias de la Naturaleza'!N21)","v":""},{"$f":"IF('Ciencias de la Naturaleza'!O21=\"\",\"\",'Ciencias de la Naturaleza'!O21)","v":""},{"$f":"IF('Ciencias de la Naturaleza'!P21=\"\",\"\",'Ciencias de la Naturaleza'!P21)","v":""},{"$f":"IF('Ciencias de la Naturaleza'!Q21=\"\",\"\",'Ciencias de la Naturaleza'!Q21)","v":""},{"$f":"IF('Ciencias de la Naturaleza'!R21=\"\",\"\",'Ciencias de la Naturaleza'!R21)","v":""},{"$f":"IF('Ciencias de la Naturaleza'!S21=\"\",\"\",'Ciencias de la Naturaleza'!S21)","v":""},{"$f":"IF('Ciencias de la Naturaleza'!T21=\"\",\"\",'Ciencias de la Naturaleza'!T21)","v":""},{"$f":"IF('Ciencias de la Naturaleza'!U21=\"\",\"\",'Ciencias de la Naturaleza'!U21)","v":""},{"$f":"IF('Ciencias de la Naturaleza'!V21=\"\",\"\",'Ciencias de la Naturaleza'!V21)","v":""},{"$f":"IF('Ciencias de la Naturaleza'!W21=\"\",\"\",'Ciencias de la Naturaleza'!W21)","v":""},{"$f":"IF('Ciencias de la Naturaleza'!X21=\"\",\"\",'Ciencias de la Naturaleza'!X21)","v":""},{"$f":"IF('Ciencias de la Naturaleza'!Y21=\"\",\"\",'Ciencias de la Naturaleza'!Y21)","v":""},{"$f":"IF('Ciencias de la Naturaleza'!Z21=\"\",\"\",'Ciencias de la Naturaleza'!Z21)","v":""},{"$f":"IF('Ciencias de la Naturaleza'!AA21=\"\",\"\",'Ciencias de la Naturaleza'!AA21)","v":""},{"$f":"IF('Ciencias de la Naturaleza'!AB21=\"\",\"\",'Ciencias de la Naturaleza'!AB21)","v":""},{"$f":"IF('Ciencias de la Naturaleza'!AC21=\"\",\"\",'Ciencias de la Naturaleza'!AC21)","v":""},{"$f":"IF('Ciencias de la Naturaleza'!AD21=\"\",\"\",'Ciencias de la Naturaleza'!AD21)","v":""},{"$f":"IF('Ciencias de la Naturaleza'!AE21=\"\",\"\",'Ciencias de la Naturaleza'!AE21)","v":""},{"$f":"IF('Ciencias de la Naturaleza'!AF21=\"\",\"\",'Ciencias de la Naturaleza'!AF21)","v":""},{"$f":"IF('Ciencias de la Naturaleza'!AG21=\"\",\"\",'Ciencias de la Naturaleza'!AG21)","v":""},{"$f":"IF('Ciencias de la Naturaleza'!AH21=\"\",\"\",'Ciencias de la Naturaleza'!AH21)","v":""},{"$f":"IF('Ciencias de la Naturaleza'!AI21=\"\",\"\",'Ciencias de la Naturaleza'!AI21)","v":""},{"$f":"IF('Ciencias de la Naturaleza'!AJ21=\"\",\"\",'Ciencias de la Naturaleza'!AJ21)","v":""},{"$f":"IF('Ciencias de la Naturaleza'!AK21=\"\",\"\",'Ciencias de la Naturaleza'!AK21)","v":""},{"$f":"IF('Ciencias de la Naturaleza'!AL21=\"\",\"\",'Ciencias de la Naturaleza'!AL21)","v":""},{"$f":"IF('Ciencias de la Naturaleza'!AM21=\"\",\"\",'Ciencias de la Naturaleza'!AM21)","v":""},{"$f":"IF('Ciencias de la Naturaleza'!AN21=\"\",\"\",'Ciencias de la Naturaleza'!AN21)","v":""},{"$f":"IF('Ciencias de la Naturaleza'!AO21=\"\",\"\",'Ciencias de la Naturaleza'!AO21)","v":""},{"$f":"IF('Ciencias de la Naturaleza'!AP21=\"\",\"\",'Ciencias de la Naturaleza'!AP21)","v":""}]
[null,"Ciencias Sociales","Comp. Esp. 1","Criterio Evaluación 1.1",{"$f":"IF('Ciencias Sociales'!H4=\"\",\"\",'Ciencias Sociales'!H4)","v":""},{"$f":"IF('Ciencias Sociales'!I4=\"\",\"\",'Ciencias Sociales'!I4)","v":""},{"$f":"IF('Ciencias Sociales'!J4=\"\",\"\",'Ciencias Sociales'!J4)","v":""},{"$f":"IF('Ciencias Sociales'!K4=\"\",\"\",'Ciencias Sociales'!K4)","v":""},{"$f":"IF('Ciencias Sociales'!L4=\"\",\"\",'Ciencias Sociales'!L4)","v":""},{"$f":"IF('Ciencias Sociales'!M4=\"\",\"\",'Ciencias Sociales'!M4)","v":""},{"$f":"IF('Ciencias Sociales'!N4=\"\",\"\",'Ciencias Sociales'!N4)","v":""},{"$f":"IF('Ciencias Sociales'!O4=\"\",\"\",'Ciencias Sociales'!O4)","v":""},{"$f":"IF('Ciencias Sociales'!P4=\"\",\"\",'Ciencias Sociales'!P4)","v":""},{"$f":"IF('Ciencias Sociales'!Q4=\"\",\"\",'Ciencias Sociales'!Q4)","v":""},{"$f":"IF('Ciencias Sociales'!R4=\"\",\"\",'Ciencias Sociales'!R4)","v":""},{"$f":"IF('Ciencias Sociales'!S4=\"\",\"\",'Ciencias Sociales'!S4)","v":""},{"$f":"IF('Ciencias Sociales'!T4=\"\",\"\",'Ciencias Sociales'!T4)","v":""},{"$f":"IF('Ciencias Sociales'!U4=\"\",\"\",'Ciencias Sociales'!U4)","v":""},{"$f":"IF('Ciencias Sociales'!V4=\"\",\"\",'Ciencias Sociales'!V4)","v":""},{"$f":"IF('Ciencias Sociales'!W4=\"\",\"\",'Ciencias Sociales'!W4)","v":""},{"$f":"IF('Ciencias Sociales'!X4=\"\",\"\",'Ciencias Sociales'!X4)","v":""},{"$f":"IF('Ciencias Sociales'!Y4=\"\",\"\",'Ciencias Sociales'!Y4)","v":""},{"$f":"IF('Ciencias Sociales'!Z4=\"\",\"\",'Ciencias Sociales'!Z4)","v":""},{"$f":"IF('Ciencias Sociales'!AA4=\"\",\"\",'Ciencias Sociales'!AA4)","v":""},{"$f":"IF('Ciencias Sociales'!AB4=\"\",\"\",'Ciencias Sociales'!AB4)","v":""},{"$f":"IF('Ciencias Sociales'!AC4=\"\",\"\",'Ciencias Sociales'!AC4)","v":""},{"$f":"IF('Ciencias Sociales'!AD4=\"\",\"\",'Ciencias Sociales'!AD4)","v":""},{"$f":"IF('Ciencias Sociales'!AE4=\"\",\"\",'Ciencias Sociales'!AE4)","v":""},{"$f":"IF('Ciencias Sociales'!AF4=\"\",\"\",'Ciencias Sociales'!AF4)","v":""},{"$f":"IF('Ciencias Sociales'!AG4=\"\",\"\",'Ciencias Sociales'!AG4)","v":""},{"$f":"IF('Ciencias Sociales'!AH4=\"\",\"\",'Ciencias Sociales'!AH4)","v":""},{"$f":"IF('Ciencias Sociales'!AI4=\"\",\"\",'Ciencias Sociales'!AI4)","v":""},{"$f":"IF('Ciencias Sociales'!AJ4=\"\",\"\",'Ciencias Sociales'!AJ4)","v":""},{"$f":"IF('Ciencias Sociales'!AK4=\"\",\"\",'Ciencias Sociales'!AK4)","v":""},{"$f":"IF('Ciencias Sociales'!AL4=\"\",\"\",'Ciencias Sociales'!AL4)","v":""},{"$f":"IF('Ciencias Sociales'!AM4=\"\",\"\",'Ciencias Sociales'!AM4)","v":""},{"$f":"IF('Ciencias Sociales'!AN4=\"\",\"\",'Ciencias Sociales'!AN4)","v":""},{"$f":"IF('Ciencias Sociales'!AO4=\"\",\"\",'Ciencias Sociales'!AO4)","v":""},{"$f":"IF('Ciencias Sociales'!AP4=\"\",\"\",'Ciencias Sociales'!AP4)","v":""}]
[null,null,null,"Criterio Evaluación 1.2",{"$f":"IF('Ciencias Sociales'!H5=\"\",\"\",'Ciencias Sociales'!H5)","v":""},{"$f":"IF('Ciencias Sociales'!I5=\"\",\"\",'Ciencias Sociales'!I5)","v":""},{"$f":"IF('Ciencias Sociales'!J5=\"\",\"\",'Ciencias Sociales'!J5)","v":""},{"$f":"IF('Ciencias Sociales'!K5=\"\",\"\",'Ciencias Sociales'!K5)","v":""},{"$f":"IF('Ciencias Sociales'!L5=\"\",\"\",'Ciencias Sociales'!L5)","v":""},{"$f":"IF('Ciencias Sociales'!M5=\"\",\"\",'Ciencias Sociales'!M5)","v":""},{"$f":"IF('Ciencias Sociales'!N5=\"\",\"\",'Ciencias Sociales'!N5)","v":""},{"$f":"IF('Ciencias Sociales'!O5=\"\",\"\",'Ciencias Sociales'!O5)","v":""},{"$f":"IF('Ciencias Sociales'!P5=\"\",\"\",'Ciencias Sociales'!P5)","v":""},{"$f":"IF('Ciencias Sociales'!Q5=\"\",\"\",'Ciencias Sociales'!Q5)","v":""},{"$f":"IF('Ciencias Sociales'!R5=\"\",\"\",'Ciencias Sociales'!R5)","v":""},{"$f":"IF('Ciencias Sociales'!S5=\"\",\"\",'Ciencias Sociales'!S5)","v":""},{"$f":"IF('Ciencias Sociales'!T5=\"\",\"\",'Ciencias Sociales'!T5)","v":""},{"$f":"IF('Ciencias Sociales'!U5=\"\",\"\",'Ciencias Sociales'!U5)","v":""},{"$f":"IF('Ciencias Sociales'!V5=\"\",\"\",'Ciencias Sociales'!V5)","v":""},{"$f":"IF('Ciencias Sociales'!W5=\"\",\"\",'Ciencias Sociales'!W5)","v":""},{"$f":"IF('Ciencias Sociales'!X5=\"\",\"\",'Ciencias Sociales'!X5)","v":""},{"$f":"IF('Ciencias Sociales'!Y5=\"\",\"\",'Ciencias Sociales'!Y5)","v":""},{"$f":"IF('Ciencias Sociales'!Z5=\"\",\"\",'Ciencias Sociales'!Z5)","v":""},{"$f":"IF('Ciencias Sociales'!AA5=\"\",\"\",'Ciencias Sociales'!AA5)","v":""},{"$f":"IF('Ciencias Sociales'!AB5=\"\",\"\",'Ciencias Sociales'!AB5)","v":""},{"$f":"IF('Ciencias Sociales'!AC5=\"\",\"\",'Ciencias Sociales'!AC5)","v":""},{"$f":"IF('Ciencias Sociales'!AD5=\"\",\"\",'Ciencias Sociales'!AD5)","v":""},{"$f":"IF('Ciencias Sociales'!AE5=\"\",\"\",'Ciencias Sociales'!AE5)","v":""},{"$f":"IF('Ciencias Sociales'!AF5=\"\",\"\",'Ciencias Sociales'!AF5)","v":""},{"$f":"IF('Ciencias Sociales'!AG5=\"\",\"\",'Ciencias Sociales'!AG5)","v":""},{"$f":"IF('Ciencias Sociales'!AH5=\"\",\"\",'Ciencias Sociales'!AH5)","v":""},{"$f":"IF('Ciencias Sociales'!AI5=\"\",\"\",'Ciencias Sociales'!AI5)","v":""},{"$f":"IF('Ciencias Sociales'!AJ5=\"\",\"\",'Ciencias Sociales'!AJ5)","v":""},{"$f":"IF('Ciencias Sociales'!AK5=\"\",\"\",'Ciencias Sociales'!AK5)","v":""},{"$f":"IF('Ciencias Sociales'!AL5=\"\",\"\",'Ciencias Sociales'!AL5)","v":""},{"$f":"IF('Ciencias Sociales'!AM5=\"\",\"\",'Ciencias Sociales'!AM5)","v":""},{"$f":"IF('Ciencias Sociales'!AN5=\"\",\"\",'Ciencias Sociales'!AN5)","v":""},{"$f":"IF('Ciencias Sociales'!AO5=\"\",\"\",'Ciencias Sociales'!AO5)","v":""},{"$f":"IF('Ciencias Sociales'!AP5=\"\",\"\",'Ciencias Sociales'!AP5)","v":""}]
[null,null,null,"Criterio Evaluación 1.3",{"$f":"IF('Ciencias Sociales'!H6=\"\",\"\",'Ciencias Sociales'!H6)","v":""},{"$f":"IF('Ciencias Sociales'!I6=\"\",\"\",'Ciencias Sociales'!I6)","v":""},{"$f":"IF('Ciencias Sociales'!J6=\"\",\"\",'Ciencias Sociales'!J6)","v":""},{"$f":"IF('Ciencias Sociales'!K6=\"\",\"\",'Ciencias Sociales'!K6)","v":""},{"$f":"IF('Ciencias Sociales'!L6=\"\",\"\",'Ciencias Sociales'!L6)","v":""},{"$f":"IF('Ciencias Sociales'!M6=\"\",\"\",'Ciencias Sociales'!M6)","v":""},{"$f":"IF('Ciencias Sociales'!N6=\"\",\"\",'Ciencias Sociales'!N6)","v":""},{"$f":"IF('Ciencias Sociales'!O6=\"\",\"\",'Ciencias Sociales'!O6)","v":""},{"$f":"IF('Ciencias Sociales'!P6=\"\",\"\",'Ciencias Sociales'!P6)","v":""},{"$f":"IF('Ciencias Sociales'!Q6=\"\",\"\",'Ciencias Sociales'!Q6)","v":""},{"$f":"IF('Ciencias Sociales'!R6=\"\",\"\",'Ciencias Sociales'!R6)","v":""},{"$f":"IF('Ciencias Sociales'!S6=\"\",\"\",'Ciencias Sociales'!S6)","v":""},{"$f":"IF('Ciencias Sociales'!T6=\"\",\"\",'Ciencias Sociales'!T6)","v":""},{"$f":"IF('Ciencias Sociales'!U6=\"\",\"\",'Ciencias Sociales'!U6)","v":""},{"$f":"IF('Ciencias Sociales'!V6=\"\",\"\",'Ciencias Sociales'!V6)","v":""},{"$f":"IF('Ciencias Sociales'!W6=\"\",\"\",'Ciencias Sociales'!W6)","v":""},{"$f":"IF('Ciencias Sociales'!X6=\"\",\"\",'Ciencias Sociales'!X6)","v":""},{"$f":"IF('Ciencias Sociales'!Y6=\"\",\"\",'Ciencias Sociales'!Y6)","v":""},{"$f":"IF('Ciencias Sociales'!Z6=\"\",\"\",'Ciencias Sociales'!Z6)","v":""},{"$f":"IF('Ciencias Sociales'!AA6=\"\",\"\",'Ciencias Sociales'!AA6)","v":""},{"$f":"IF('Ciencias Sociales'!AB6=\"\",\"\",'Ciencias Sociales'!AB6)","v":""},{"$f":"IF('Ciencias Sociales'!AC6=\"\",\"\",'Ciencias Sociales'!AC6)","v":""},{"$f":"IF('Ciencias Sociales'!AD6=\"\",\"\",'Ciencias Sociales'!AD6)","v":""},{"$f":"IF('Ciencias Sociales'!AE6=\"\",\"\",'Ciencias Sociales'!AE6)","v":""},{"$f":"IF('Ciencias Sociales'!AF6=\"\",\"\",'Ciencias Sociales'!AF6)","v":""},{"$f":"IF('Ciencias Sociales'!AG6=\"\",\"\",'Ciencias Sociales'!AG6)","v":""},{"$f":"IF('Ciencias Sociales'!AH6=\"\",\"\",'Ciencias Sociales'!AH6)","v":""},{"$f":"IF('Ciencias Sociales'!AI6=\"\",\"\",'Ciencias Sociales'!AI6)","v":""},{"$f":"IF('Ciencias Sociales'!AJ6=\"\",\"\",'Ciencias Sociales'!AJ6)","v":""},{"$f":"IF('Ciencias Sociales'!AK6=\"\",\"\",'Ciencias Sociales'!AK6)","v":""},{"$f":"IF('Ciencias Sociales'!AL6=\"\",\"\",'Ciencias Sociales'!AL6)","v":""},{"$f":"IF('Ciencias Sociales'!AM6=\"\",\"\",'Ciencias Sociales'!AM6)","v":""},{"$f":"IF('Ciencias Sociales'!AN6=\"\",\"\",'Ciencias Sociales'!AN6)","v":""},{"$f":"IF('Ciencias Sociales'!AO6=\"\",\"\",'Ciencias Sociales'!AO6)","v":""},{"$f":"IF('Ciencias Sociales'!AP6=\"\",\"\",'Ciencias Sociales'!AP6)","v":""}]
[null,null,"Comp. Esp. 2","Criterio Evaluación 2.1",{"$f":"IF('Ciencias Sociales'!H7=\"\",\"\",'Ciencias Sociales'!H7)","v":""},{"$f":"IF('Ciencias Sociales'!I7=\"\",\"\",'Ciencias Sociales'!I7)","v":""},{"$f":"IF('Ciencias Sociales'!J7=\"\",\"\",'Ciencias Sociales'!J7)","v":""},{"$f":"IF('Ciencias Sociales'!K7=\"\",\"\",'Ciencias Sociales'!K7)","v":""},{"$f":"IF('Ciencias Sociales'!L7=\"\",\"\",'Ciencias Sociales'!L7)","v":""},{"$f":"IF('Ciencias Sociales'!M7=\"\",\"\",'Ciencias Sociales'!M7)","v":""},{"$f":"IF('Ciencias Sociales'!N7=\"\",\"\",'Ciencias Sociales'!N7)","v":""},{"$f":"IF('Ciencias Sociales'!O7=\"\",\"\",'Ciencias Sociales'!O7)","v":""},{"$f":"IF('Ciencias Sociales'!P7=\"\",\"\",'Ciencias Sociales'!P7)","v":""},{"$f":"IF('Ciencias Sociales'!Q7=\"\",\"\",'Ciencias Sociales'!Q7)","v":""},{"$f":"IF('Ciencias Sociales'!R7=\"\",\"\",'Ciencias Sociales'!R7)","v":""},{"$f":"IF('Ciencias Sociales'!S7=\"\",\"\",'Ciencias Sociales'!S7)","v":""},{"$f":"IF('Ciencias Sociales'!T7=\"\",\"\",'Ciencias Sociales'!T7)","v":""},{"$f":"IF('Ciencias Sociales'!U7=\"\",\"\",'Ciencias Sociales'!U7)","v":""},{"$f":"IF('Ciencias Sociales'!V7=\"\",\"\",'Ciencias Sociales'!V7)","v":""},{"$f":"IF('Ciencias Sociales'!W7=\"\",\"\",'Ciencias Sociales'!W7)","v":""},{"$f":"IF('Ciencias Sociales'!X7=\"\",\"\",'Ciencias Sociales'!X7)","v":""},{"$f":"IF('Ciencias Sociales'!Y7=\"\",\"\",'Ciencias Sociales'!Y7)","v":""},{"$f":"IF('Ciencias Sociales'!Z7=\"\",\"\",'Ciencias Sociales'!Z7)","v":""},{"$f":"IF('Ciencias Sociales'!AA7=\"\",\"\",'Ciencias Sociales'!AA7)","v":""},{"$f":"IF('Ciencias Sociales'!AB7=\"\",\"\",'Ciencias Sociales'!AB7)","v":""},{"$f":"IF('Ciencias Sociales'!AC7=\"\",\"\",'Ciencias Sociales'!AC7)","v":""},{"$f":"IF('Ciencias Sociales'!AD7=\"\",\"\",'Ciencias Sociales'!AD7)","v":""},{"$f":"IF('Ciencias Sociales'!AE7=\"\",\"\",'Ciencias Sociales'!AE7)","v":""},{"$f":"IF('Ciencias Sociales'!AF7=\"\",\"\",'Ciencias Sociales'!AF7)","v":""},{"$f":"IF('Ciencias Sociales'!AG7=\"\",\"\",'Ciencias Sociales'!AG7)","v":""},{"$f":"IF('Ciencias Sociales'!AH7=\"\",\"\",'Ciencias Sociales'!AH7)","v":""},{"$f":"IF('Ciencias Sociales'!AI7=\"\",\"\",'Ciencias Sociales'!AI7)","v":""},{"$f":"IF('Ciencias Sociales'!AJ7=\"\",\"\",'Ciencias Sociales'!AJ7)","v":""},{"$f":"IF('Ciencias Sociales'!AK7=\"\",\"\",'Ciencias Sociales'!AK7)","v":""},{"$f":"IF('Ciencias Sociales'!AL7=\"\",\"\",'Ciencias Sociales'!AL7)","v":""},{"$f":"IF('Ciencias Sociales'!AM7=\"\",\"\",'Ciencias Sociales'!AM7)","v":""},{"$f":"IF('Ciencias Sociales'!AN7=\"\",\"\",'Ciencias Sociales'!AN7)","v":""},{"$f":"IF('Ciencias Sociales'!AO7=\"\",\"\",'Ciencias Sociales'!AO7)","v":""},{"$f":"IF('Ciencias Sociales'!AP7=\"\",\"\",'Ciencias Sociales'!AP7)","v":""}]
[null,null,null,"Criterio Evaluación 2.2",{"$f":"IF('Ciencias Sociales'!H8=\"\",\"\",'Ciencias Sociales'!H8)","v":""},{"$f":"IF('Ciencias Sociales'!I8=\"\",\"\",'Ciencias Sociales'!I8)","v":""},{"$f":"IF('Ciencias Sociales'!J8=\"\",\"\",'Ciencias Sociales'!J8)","v":""},{"$f":"IF('Ciencias Sociales'!K8=\"\",\"\",'Ciencias Sociales'!K8)","v":""},{"$f":"IF('Ciencias Sociales'!L8=\"\",\"\",'Ciencias Sociales'!L8)","v":""},{"$f":"IF('Ciencias Sociales'!M8=\"\",\"\",'Ciencias Sociales'!M8)","v":""},{"$f":"IF('Ciencias Sociales'!N8=\"\",\"\",'Ciencias Sociales'!N8)","v":""},{"$f":"IF('Ciencias Sociales'!O8=\"\",\"\",'Ciencias Sociales'!O8)","v":""},{"$f":"IF('Ciencias Sociales'!P8=\"\",\"\",'Ciencias Sociales'!P8)","v":""},{"$f":"IF('Ciencias Sociales'!Q8=\"\",\"\",'Ciencias Sociales'!Q8)","v":""},{"$f":"IF('Ciencias Sociales'!R8=\"\",\"\",'Ciencias Sociales'!R8)","v":""},{"$f":"IF('Ciencias Sociales'!S8=\"\",\"\",'Ciencias Sociales'!S8)","v":""},{"$f":"IF('Ciencias Sociales'!T8=\"\",\"\",'Ciencias Sociales'!T8)","v":""},{"$f":"IF('Ciencias Sociales'!U8=\"\",\"\",'Ciencias Sociales'!U8)","v":""},{"$f":"IF('Ciencias Sociales'!V8=\"\",\"\",'Ciencias Sociales'!V8)","v":""},{"$f":"IF('Ciencias Sociales'!W8=\"\",\"\",'Ciencias Sociales'!W8)","v":""},{"$f":"IF('Ciencias Sociales'!X8=\"\",\"\",'Ciencias Sociales'!X8)","v":""},{"$f":"IF('Ciencias Sociales'!Y8=\"\",\"\",'Ciencias Sociales'!Y8)","v":""},{"$f":"IF('Ciencias Sociales'!Z8=\"\",\"\",'Ciencias Sociales'!Z8)","v":""},{"$f":"IF('Ciencias Sociales'!AA8=\"\",\"\",'Ciencias Sociales'!AA8)","v":""},{"$f":"IF('Ciencias Sociales'!AB8=\"\",\"\",'Ciencias Sociales'!AB8)","v":""},{"$f":"IF('Ciencias Sociales'!AC8=\"\",\"\",'Ciencias Sociales'!AC8)","v":""},{"$f":"IF('Ciencias Sociales'!AD8=\"\",\"\",'Ciencias Sociales'!AD8)","v":""},{"$f":"IF('Ciencias Sociales'!AE8=\"\",\"\",'Ciencias Sociales'!AE8)","v":""},{"$f":"IF('Ciencias Sociales'!AF8=\"\",\"\",'Ciencias Sociales'!AF8)","v":""},{"$f":"IF('Ciencias Sociales'!AG8=\"\",\"\",'Ciencias Sociales'!AG8)","v":""},{"$f":"IF('Ciencias Sociales'!AH8=\"\",\"\",'Ciencias Sociales'!AH8)","v":""},{"$f":"IF('Ciencias Sociales'!AI8=\"\",\"\",'Ciencias Sociales'!AI8)","v":""},{"$f":"IF('Ciencias Sociales'!AJ8=\"\",\"\",'Ciencias Sociales'!AJ8)","v":""},{"$f":"IF('Ciencias Sociales'!AK8=\"\",\"\",'Ciencias Sociales'!AK8)","v":""},{"$f":"IF('Ciencias Sociales'!AL8=\"\",\"\",'Ciencias Sociales'!AL8)","v":""},{"$f":"IF('Ciencias Sociales'!AM8=\"\",\"\",'Ciencias Sociales'!AM8)","v":""},{"$f":"IF('Ciencias Sociales'!AN8=\"\",\"\",'Ciencias Sociales'!AN8)","v":""},{"$f":"IF('Ciencias Sociales'!AO8=\"\",\"\",'Ciencias Sociales'!AO8)","v":""},{"$f":"IF('Ciencias Sociales'!AP8=\"\",\"\",'Ciencias Sociales'!AP8)","v":""}]
[null,null,null,"Criterio Evaluación 2.3",{"$f":"IF('Ciencias Sociales'!H9=\"\",\"\",'Ciencias Sociales'!H9)","v":""},{"$f":"IF('Ciencias Sociales'!I9=\"\",\"\",'Ciencias Sociales'!I9)","v":""},{"$f":"IF('Ciencias Sociales'!J9=\"\",\"\",'Ciencias Sociales'!J9)","v":""},{"$f":"IF('Ciencias Sociales'!K9=\"\",\"\",'Ciencias Sociales'!K9)","v":""},{"$f":"IF('Ciencias Sociales'!L9=\"\",\"\",'Ciencias Sociales'!L9)","v":""},{"$f":"IF('Ciencias Sociales'!M9=\"\",\"\",'Ciencias Sociales'!M9)","v":""},{"$f":"IF('Ciencias Sociales'!N9=\"\",\"\",'Ciencias Sociales'!N9)","v":""},{"$f":"IF('Ciencias Sociales'!O9=\"\",\"\",'Ciencias Sociales'!O9)","v":""},{"$f":"IF('Ciencias Sociales'!P9=\"\",\"\",'Ciencias Sociales'!P9)","v":""},{"$f":"IF('Ciencias Sociales'!Q9=\"\",\"\",'Ciencias Sociales'!Q9)","v":""},{"$f":"IF('Ciencias Sociales'!R9=\"\",\"\",'Ciencias Sociales'!R9)","v":""},{"$f":"IF('Ciencias Sociales'!S9=\"\",\"\",'Ciencias Sociales'!S9)","v":""},{"$f":"IF('Ciencias Sociales'!T9=\"\",\"\",'Ciencias Sociales'!T9)","v":""},{"$f":"IF('Ciencias Sociales'!U9=\"\",\"\",'Ciencias Sociales'!U9)","v":""},{"$f":"IF('Ciencias Sociales'!V9=\"\",\"\",'Ciencias Sociales'!V9)","v":""},{"$f":"IF('Ciencias Sociales'!W9=\"\",\"\",'Ciencias Sociales'!W9)","v":""},{"$f":"IF('Ciencias Sociales'!X9=\"\",\"\",'Ciencias Sociales'!X9)","v":""},{"$f":"IF('Ciencias Sociales'!Y9=\"\",\"\",'Ciencias Sociales'!Y9)","v":""},{"$f":"IF('Ciencias Sociales'!Z9=\"\",\"\",'Ciencias Sociales'!Z9)","v":""},{"$f":"IF('Ciencias Sociales'!AA9=\"\",\"\",'Ciencias Sociales'!AA9)","v":""},{"$f":"IF('Ciencias Sociales'!AB9=\"\",\"\",'Ciencias Sociales'!AB9)","v":""},{"$f":"IF('Ciencias Sociales'!AC9=\"\",\"\",'Ciencias Sociales'!AC9)","v":""},{"$f":"IF('Ciencias Sociales'!AD9=\"\",\"\",'Ciencias Sociales'!AD9)","v":""},{"$f":"IF('Ciencias Sociales'!AE9=\"\",\"\",'Ciencias Sociales'!AE9)","v":""},{"$f":"IF('Ciencias Sociales'!AF9=\"\",\"\",'Ciencias Sociales'!AF9)","v":""},{"$f":"IF('Ciencias Sociales'!AG9=\"\",\"\",'Ciencias Sociales'!AG9)","v":""},{"$f":"IF('Ciencias Sociales'!AH9=\"\",\"\",'Ciencias Sociales'!AH9)","v":""},{"$f":"IF('Ciencias Sociales'!AI9=\"\",\"\",'Ciencias Sociales'!AI9)","v":""},{"$f":"IF('Ciencias Sociales'!AJ9=\"\",\"\",'Ciencias Sociales'!AJ9)","v":""},{"$f":"IF('Ciencias Sociales'!AK9=\"\",\"\",'Ciencias Sociales'!AK9)","v":""},{"$f":"IF('Ciencias Sociales'!AL9=\"\",\"\",'Ciencias Sociales'!AL9)","v":""},{"$f":"IF('Ciencias Sociales'!AM9=\"\",\"\",'Ciencias Sociales'!AM9)","v":""},{"$f":"IF('Ciencias Sociales'!AN9=\"\",\"\",'Ciencias Sociales'!AN9)","v":""},{"$f":"IF('Ciencias Sociales'!AO9=\"\",\"\",'Ciencias Sociales'!AO9)","v":""},{"$f":"IF('Ciencias Sociales'!AP9=\"\",\"\",'Ciencias Sociales'!AP9)","v":""}]
[null,null,null,"Criterio Evaluación 2.4",{"$f":"IF('Ciencias Sociales'!H10=\"\",\"\",'Ciencias Sociales'!H10)","v":""},{"$f":"IF('Ciencias Sociales'!I10=\"\",\"\",'Ciencias Sociales'!I10)","v":""},{"$f":"IF('Ciencias Sociales'!J10=\"\",\"\",'Ciencias Sociales'!J10)","v":""},{"$f":"IF('Ciencias Sociales'!K10=\"\",\"\",'Ciencias Sociales'!K10)","v":""},{"$f":"IF('Ciencias Sociales'!L10=\"\",\"\",'Ciencias Sociales'!L10)","v":""},{"$f":"IF('Ciencias Sociales'!M10=\"\",\"\",'Ciencias Sociales'!M10)","v":""},{"$f":"IF('Ciencias Sociales'!N10=\"\",\"\",'Ciencias Sociales'!N10)","v":""},{"$f":"IF('Ciencias Sociales'!O10=\"\",\"\",'Ciencias Sociales'!O10)","v":""},{"$f":"IF('Ciencias Sociales'!P10=\"\",\"\",'Ciencias Sociales'!P10)","v":""},{"$f":"IF('Ciencias Sociales'!Q10=\"\",\"\",'Ciencias Sociales'!Q10)","v":""},{"$f":"IF('Ciencias Sociales'!R10=\"\",\"\",'Ciencias Sociales'!R10)","v":""},{"$f":"IF('Ciencias Sociales'!S10=\"\",\"\",'Ciencias Sociales'!S10)","v":""},{"$f":"IF('Ciencias Sociales'!T10=\"\",\"\",'Ciencias Sociales'!T10)","v":""},{"$f":"IF('Ciencias Sociales'!U10=\"\",\"\",'Ciencias Sociales'!U10)","v":""},{"$f":"IF('Ciencias Sociales'!V10=\"\",\"\",'Ciencias Sociales'!V10)","v":""},{"$f":"IF('Ciencias Sociales'!W10=\"\",\"\",'Ciencias Sociales'!W10)","v":""},{"$f":"IF('Ciencias Sociales'!X10=\"\",\"\",'Ciencias Sociales'!X10)","v":""},{"$f":"IF('Ciencias Sociales'!Y10=\"\",\"\",'Ciencias Sociales'!Y10)","v":""},{"$f":"IF('Ciencias Sociales'!Z10=\"\",\"\",'Ciencias Sociales'!Z10)","v":""},{"$f":"IF('Ciencias Sociales'!AA10=\"\",\"\",'Ciencias Sociales'!AA10)","v":""},{"$f":"IF('Ciencias Sociales'!AB10=\"\",\"\",'Ciencias Sociales'!AB10)","v":""},{"$f":"IF('Ciencias Sociales'!AC10=\"\",\"\",'Ciencias Sociales'!AC10)","v":""},{"$f":"IF('Ciencias Sociales'!AD10=\"\",\"\",'Ciencias Sociales'!AD10)","v":""},{"$f":"IF('Ciencias Sociales'!AE10=\"\",\"\",'Ciencias Sociales'!AE10)","v":""},{"$f":"IF('Ciencias Sociales'!AF10=\"\",\"\",'Ciencias Sociales'!AF10)","v":""},{"$f":"IF('Ciencias Sociales'!AG10=\"\",\"\",'Ciencias Sociales'!AG10)","v":""},{"$f":"IF('Ciencias Sociales'!AH10=\"\",\"\",'Ciencias Sociales'!AH10)","v":""},{"$f":"IF('Ciencias Sociales'!AI10=\"\",\"\",'Ciencias Sociales'!AI10)","v":""},{"$f":"IF('Ciencias Sociales'!AJ10=\"\",\"\",'Ciencias Sociales'!AJ10)","v":""},{"$f":"IF('Ciencias Sociales'!AK10=\"\",\"\",'Ciencias Sociales'!AK10)","v":""},{"$f":"IF('Ciencias Sociales'!AL10=\"\",\"\",'Ciencias Sociales'!AL10)","v":""},{"$f":"IF('Ciencias Sociales'!AM10=\"\",\"\",'Ciencias Sociales'!AM10)","v":""},{"$f":"IF('Ciencias Sociales'!AN10=\"\",\"\",'Ciencias Sociales'!AN10)","v":""},{"$f":"IF('Ciencias Sociales'!AO10=\"\",\"\",'Ciencias Sociales'!AO10)","v":""},{"$f":"IF('Ciencias Sociales'!AP10=\"\",\"\",'Ciencias Sociales'!AP10)","v":""}]
[null,null,"Comp. Esp. 3","Criterio Evaluación 3.1",{"$f":"IF('Ciencias Sociales'!H11=\"\",\"\",'Ciencias Sociales'!H11)","v":""},{"$f":"IF('Ciencias Sociales'!I11=\"\",\"\",'Ciencias Sociales'!I11)","v":""},{"$f":"IF('Ciencias Sociales'!J11=\"\",\"\",'Ciencias Sociales'!J11)","v":""},{"$f":"IF('Ciencias Sociales'!K11=\"\",\"\",'Ciencias Sociales'!K11)","v":""},{"$f":"IF('Ciencias Sociales'!L11=\"\",\"\",'Ciencias Sociales'!L11)","v":""},{"$f":"IF('Ciencias Sociales'!M11=\"\",\"\",'Ciencias Sociales'!M11)","v":""},{"$f":"IF('Ciencias Sociales'!N11=\"\",\"\",'Ciencias Sociales'!N11)","v":""},{"$f":"IF('Ciencias Sociales'!O11=\"\",\"\",'Ciencias Sociales'!O11)","v":""},{"$f":"IF('Ciencias Sociales'!P11=\"\",\"\",'Ciencias Sociales'!P11)","v":""},{"$f":"IF('Ciencias Sociales'!Q11=\"\",\"\",'Ciencias Sociales'!Q11)","v":""},{"$f":"IF('Ciencias Sociales'!R11=\"\",\"\",'Ciencias Sociales'!R11)","v":""},{"$f":"IF('Ciencias Sociales'!S11=\"\",\"\",'Ciencias Sociales'!S11)","v":""},{"$f":"IF('Ciencias Sociales'!T11=\"\",\"\",'Ciencias Sociales'!T11)","v":""},{"$f":"IF('Ciencias Sociales'!U11=\"\",\"\",'Ciencias Sociales'!U11)","v":""},{"$f":"IF('Ciencias Sociales'!V11=\"\",\"\",'Ciencias Sociales'!V11)","v":""},{"$f":"IF('Ciencias Sociales'!W11=\"\",\"\",'Ciencias Sociales'!W11)","v":""},{"$f":"IF('Ciencias Sociales'!X11=\"\",\"\",'Ciencias Sociales'!X11)","v":""},{"$f":"IF('Ciencias Sociales'!Y11=\"\",\"\",'Ciencias Sociales'!Y11)","v":""},{"$f":"IF('Ciencias Sociales'!Z11=\"\",\"\",'Ciencias Sociales'!Z11)","v":""},{"$f":"IF('Ciencias Sociales'!AA11=\"\",\"\",'Ciencias Sociales'!AA11)","v":""},{"$f":"IF('Ciencias Sociales'!AB11=\"\",\"\",'Ciencias Sociales'!AB11)","v":""},{"$f":"IF('Ciencias Sociales'!AC11=\"\",\"\",'Ciencias Sociales'!AC11)","v":""},{"$f":"IF('Ciencias Sociales'!AD11=\"\",\"\",'Ciencias Sociales'!AD11)","v":""},{"$f":"IF('Ciencias Sociales'!AE11=\"\",\"\",'Ciencias Sociales'!AE11)","v":""},{"$f":"IF('Ciencias Sociales'!AF11=\"\",\"\",'Ciencias Sociales'!AF11)","v":""},{"$f":"IF('Ciencias Sociales'!AG11=\"\",\"\",'Ciencias Sociales'!AG11)","v":""},{"$f":"IF('Ciencias Sociales'!AH11=\"\",\"\",'Ciencias Sociales'!AH11)","v":""},{"$f":"IF('Ciencias Sociales'!AI11=\"\",\"\",'Ciencias Sociales'!AI11)","v":""},{"$f":"IF('Ciencias Sociales'!AJ11=\"\",\"\",'Ciencias Sociales'!AJ11)","v":""},{"$f":"IF('Ciencias Sociales'!AK11=\"\",\"\",'Ciencias Sociales'!AK11)","v":""},{"$f":"IF('Ciencias Sociales'!AL11=\"\",\"\",'Ciencias Sociales'!AL11)","v":""},{"$f":"IF('Ciencias Sociales'!AM11=\"\",\"\",'Ciencias Sociales'!AM11)","v":""},{"$f":"IF('Ciencias Sociales'!AN11=\"\",\"\",'Ciencias Sociales'!AN11)","v":""},{"$f":"IF('Ciencias Sociales'!AO11=\"\",\"\",'Ciencias Sociales'!AO11)","v":""},{"$f":"IF('Ciencias Sociales'!AP11=\"\",\"\",'Ciencias Sociales'!AP11)","v":""}]
[null,null,null,"Criterio Evaluación 3.2",{"$f":"IF('Ciencias Sociales'!H12=\"\",\"\",'Ciencias Sociales'!H12)","v":""},{"$f":"IF('Ciencias Sociales'!I12=\"\",\"\",'Ciencias Sociales'!I12)","v":""},{"$f":"IF('Ciencias Sociales'!J12=\"\",\"\",'Ciencias Sociales'!J12)","v":""},{"$f":"IF('Ciencias Sociales'!K12=\"\",\"\",'Ciencias Sociales'!K12)","v":""},{"$f":"IF('Ciencias Sociales'!L12=\"\",\"\",'Ciencias Sociales'!L12)","v":""},{"$f":"IF('Ciencias Sociales'!M12=\"\",\"\",'Ciencias Sociales'!M12)","v":""},{"$f":"IF('Ciencias Sociales'!N12=\"\",\"\",'Ciencias Sociales'!N12)","v":""},{"$f":"IF('Ciencias Sociales'!O12=\"\",\"\",'Ciencias Sociales'!O12)","v":""},{"$f":"IF('Ciencias Sociales'!P12=\"\",\"\",'Ciencias Sociales'!P12)","v":""},{"$f":"IF('Ciencias Sociales'!Q12=\"\",\"\",'Ciencias Sociales'!Q12)","v":""},{"$f":"IF('Ciencias Sociales'!R12=\"\",\"\",'Ciencias Sociales'!R12)","v":""},{"$f":"IF('Ciencias Sociales'!S12=\"\",\"\",'Ciencias Sociales'!S12)","v":""},{"$f":"IF('Ciencias Sociales'!T12=\"\",\"\",'Ciencias Sociales'!T12)","v":""},{"$f":"IF('Ciencias Sociales'!U12=\"\",\"\",'Ciencias Sociales'!U12)","v":""},{"$f":"IF('Ciencias Sociales'!V12=\"\",\"\",'Ciencias Sociales'!V12)","v":""},{"$f":"IF('Ciencias Sociales'!W12=\"\",\"\",'Ciencias Sociales'!W12)","v":""},{"$f":"IF('Ciencias Sociales'!X12=\"\",\"\",'Ciencias Sociales'!X12)","v":""},{"$f":"IF('Ciencias Sociales'!Y12=\"\",\"\",'Ciencias Sociales'!Y12)","v":""},{"$f":"IF('Ciencias Sociales'!Z12=\"\",\"\",'Ciencias Sociales'!Z12)","v":""},{"$f":"IF('Ciencias Sociales'!AA12=\"\",\"\",'Ciencias Sociales'!AA12)","v":""},{"$f":"IF('Ciencias Sociales'!AB12=\"\",\"\",'Ciencias Sociales'!AB12)","v":""},{"$f":"IF('Ciencias Sociales'!AC12=\"\",\"\",'Ciencias Sociales'!AC12)","v":""},{"$f":"IF('Ciencias Sociales'!AD12=\"\",\"\",'Ciencias Sociales'!AD12)","v":""},{"$f":"IF('Ciencias Sociales'!AE12=\"\",\"\",'Ciencias Sociales'!AE12)","v":""},{"$f":"IF('Ciencias Sociales'!AF12=\"\",\"\",'Ciencias Sociales'!AF12)","v":""},{"$f":"IF('Ciencias Sociales'!AG12=\"\",\"\",'Ciencias Sociales'!AG12)","v":""},{"$f":"IF('Ciencias Sociales'!AH12=\"\",\"\",'Ciencias Sociales'!AH12)","v":""},{"$f":"IF('Ciencias Sociales'!AI12=\"\",\"\",'Ciencias Sociales'!AI12)","v":""},{"$f":"IF('Ciencias Sociales'!AJ12=\"\",\"\",'Ciencias Sociales'!AJ12)","v":""},{"$f":"IF('Ciencias Sociales'!AK12=\"\",\"\",'Ciencias Sociales'!AK12)","v":""},{"$f":"IF('Ciencias Sociales'!AL12=\"\",\"\",'Ciencias Sociales'!AL12)","v":""},{"$f":"IF('Ciencias Sociales'!AM12=\"\",\"\",'Ciencias Sociales'!AM12)","v":""},{"$f":"IF('Ciencias Sociales'!AN12=\"\",\"\",'Ciencias Sociales'!AN12)","v":""},{"$f":"IF('Ciencias Sociales'!AO12=\"\",\"\",'Ciencias Sociales'!AO12)","v":""},{"$f":"IF('Ciencias Sociales'!AP12=\"\",\"\",'Ciencias Sociales'!AP12)","v":""}]
[null,null,null,"Criterio Evaluación 3.3",{"$f":"IF('Ciencias Sociales'!H13=\"\",\"\",'Ciencias Sociales'!H13)","v":""},{"$f":"IF('Ciencias Sociales'!I13=\"\",\"\",'Ciencias Sociales'!I13)","v":""},{"$f":"IF('Ciencias Sociales'!J13=\"\",\"\",'Ciencias Sociales'!J13)","v":""},{"$f":"IF('Ciencias Sociales'!K13=\"\",\"\",'Ciencias Sociales'!K13)","v":""},{"$f":"IF('Ciencias Sociales'!L13=\"\",\"\",'Ciencias Sociales'!L13)","v":""},{"$f":"IF('Ciencias Sociales'!M13=\"\",\"\",'Ciencias Sociales'!M13)","v":""},{"$f":"IF('Ciencias Sociales'!N13=\"\",\"\",'Ciencias Sociales'!N13)","v":""},{"$f":"IF('Ciencias Sociales'!O13=\"\",\"\",'Ciencias Sociales'!O13)","v":""},{"$f":"IF('Ciencias Sociales'!P13=\"\",\"\",'Ciencias Sociales'!P13)","v":""},{"$f":"IF('Ciencias Sociales'!Q13=\"\",\"\",'Ciencias Sociales'!Q13)","v":""},{"$f":"IF('Ciencias Sociales'!R13=\"\",\"\",'Ciencias Sociales'!R13)","v":""},{"$f":"IF('Ciencias Sociales'!S13=\"\",\"\",'Ciencias Sociales'!S13)","v":""},{"$f":"IF('Ciencias Sociales'!T13=\"\",\"\",'Ciencias Sociales'!T13)","v":""},{"$f":"IF('Ciencias Sociales'!U13=\"\",\"\",'Ciencias Sociales'!U13)","v":""},{"$f":"IF('Ciencias Sociales'!V13=\"\",\"\",'Ciencias Sociales'!V13)","v":""},{"$f":"IF('Ciencias Sociales'!W13=\"\",\"\",'Ciencias Sociales'!W13)","v":""},{"$f":"IF('Ciencias Sociales'!X13=\"\",\"\",'Ciencias Sociales'!X13)","v":""},{"$f":"IF('Ciencias Sociales'!Y13=\"\",\"\",'Ciencias Sociales'!Y13)","v":""},{"$f":"IF('Ciencias Sociales'!Z13=\"\",\"\",'Ciencias Sociales'!Z13)","v":""},{"$f":"IF('Ciencias Sociales'!AA13=\"\",\"\",'Ciencias Sociales'!AA13)","v":""},{"$f":"IF('Ciencias Sociales'!AB13=\"\",\"\",'Ciencias Sociales'!AB13)","v":""},{"$f":"IF('Ciencias Sociales'!AC13=\"\",\"\",'Ciencias Sociales'!AC13)","v":""},{"$f":"IF('Ciencias Sociales'!AD13=\"\",\"\",'Ciencias Sociales'!AD13)","v":""},{"$f":"IF('Ciencias Sociales'!AE13=\"\",\"\",'Ciencias Sociales'!AE13)","v":""},{"$f":"IF('Ciencias Sociales'!AF13=\"\",\"\",'Ciencias Sociales'!AF13)","v":""},{"$f":"IF('Ciencias Sociales'!AG13=\"\",\"\",'Ciencias Sociales'!AG13)","v":""},{"$f":"IF('Ciencias Sociales'!AH13=\"\",\"\",'Ciencias Sociales'!AH13)","v":""},{"$f":"IF('Ciencias Sociales'!AI13=\"\",\"\",'Ciencias Sociales'!AI13)","v":""},{"$f":"IF('Ciencias Sociales'!AJ13=\"\",\"\",'Ciencias Sociales'!AJ13)","v":""},{"$f":"IF('Ciencias Sociales'!AK13=\"\",\"\",'Ciencias Sociales'!AK13)","v":""},{"$f":"IF('Ciencias Sociales'!AL13=\"\",\"\",'Ciencias Sociales'!AL13)","v":""},{"$f":"IF('Ciencias Sociales'!AM13=\"\",\"\",'Ciencias Sociales'!AM13)","v":""},{"$f":"IF('Ciencias Sociales'!AN13=\"\",\"\",'Ciencias Sociales'!AN13)","v":""},{"$f":"IF('Ciencias Sociales'!AO13=\"\",\"\",'Ciencias Sociales'!AO13)","v":""},{"$f":"IF('Ciencias Sociales'!AP13=\"\",\"\",'Ciencias Sociales'!AP13)","v":""}]
[null,null,"Comp. Esp. 4","Criterio Evaluación 4.1",{"$f":"IF('Ciencias Sociales'!H14=\"\",\"\",'Ciencias Sociales'!H14)","v":""},{"$f":"IF('Ciencias Sociales'!I14=\"\",\"\",'Ciencias Sociales'!I14)","v":""},{"$f":"IF('Ciencias Sociales'!J14=\"\",\"\",'Ciencias Sociales'!J14)","v":""},{"$f":"IF('Ciencias Sociales'!K14=\"\",\"\",'Ciencias Sociales'!K14)","v":""},{"$f":"IF('Ciencias Sociales'!L14=\"\",\"\",'Ciencias Sociales'!L14)","v":""},{"$f":"IF('Ciencias Sociales'!M14=\"\",\"\",'Ciencias Sociales'!M14)","v":""},{"$f":"IF('Ciencias Sociales'!N14=\"\",\"\",'Ciencias Sociales'!N14)","v":""},{"$f":"IF('Ciencias Sociales'!O14=\"\",\"\",'Ciencias Sociales'!O14)","v":""},{"$f":"IF('Ciencias Sociales'!P14=\"\",\"\",'Ciencias Sociales'!P14)","v":""},{"$f":"IF('Ciencias Sociales'!Q14=\"\",\"\",'Ciencias Sociales'!Q14)","v":""},{"$f":"IF('Ciencias Sociales'!R14=\"\",\"\",'Ciencias Sociales'!R14)","v":""},{"$f":"IF('Ciencias Sociales'!S14=\"\",\"\",'Ciencias Sociales'!S14)","v":""},{"$f":"IF('Ciencias Sociales'!T14=\"\",\"\",'Ciencias Sociales'!T14)","v":""},{"$f":"IF('Ciencias Sociales'!U14=\"\",\"\",'Ciencias Sociales'!U14)","v":""},{"$f":"IF('Ciencias Sociales'!V14=\"\",\"\",'Ciencias Sociales'!V14)","v":""},{"$f":"IF('Ciencias Sociales'!W14=\"\",\"\",'Ciencias Sociales'!W14)","v":""},{"$f":"IF('Ciencias Sociales'!X14=\"\",\"\",'Ciencias Sociales'!X14)","v":""},{"$f":"IF('Ciencias Sociales'!Y14=\"\",\"\",'Ciencias Sociales'!Y14)","v":""},{"$f":"IF('Ciencias Sociales'!Z14=\"\",\"\",'Ciencias Sociales'!Z14)","v":""},{"$f":"IF('Ciencias Sociales'!AA14=\"\",\"\",'Ciencias Sociales'!AA14)","v":""},{"$f":"IF('Ciencias Sociales'!AB14=\"\",\"\",'Ciencias Sociales'!AB14)","v":""},{"$f":"IF('Ciencias Sociales'!AC14=\"\",\"\",'Ciencias Sociales'!AC14)","v":""},{"$f":"IF('Ciencias Sociales'!AD14=\"\",\"\",'Ciencias Sociales'!AD14)","v":""},{"$f":"IF('Ciencias Sociales'!AE14=\"\",\"\",'Ciencias Sociales'!AE14)","v":""},{"$f":"IF('Ciencias Sociales'!AF14=\"\",\"\",'Ciencias Sociales'!AF14)","v":""},{"$f":"IF('Ciencias Sociales'!AG14=\"\",\"\",'Ciencias Sociales'!AG14)","v":""},{"$f":"IF('Ciencias Sociales'!AH14=\"\",\"\",'Ciencias Sociales'!AH14)","v":""},{"$f":"IF('Ciencias Sociales'!AI14=\"\",\"\",'Ciencias Sociales'!AI14)","v":""},{"$f":"IF('Ciencias Sociales'!AJ14=\"\",\"\",'Ciencias Sociales'!AJ14)","v":""},{"$f":"IF('Ciencias Sociales'!AK14=\"\",\"\",'Ciencias Sociales'!AK14)","v":""},{"$f":"IF('Ciencias Sociales'!AL14=\"\",\"\",'Ciencias Sociales'!AL14)","v":""},{"$f":"IF('Ciencias Sociales'!AM14=\"\",\"\",'Ciencias Sociales'!AM14)","v":""},{"$f":"IF('Ciencias Sociales'!AN14=\"\",\"\",'Ciencias Sociales'!AN14)","v":""},{"$f":"IF('Ciencias Sociales'!AO14=\"\",\"\",'Ciencias Sociales'!AO14)","v":""},{"$f":"IF('Ciencias Sociales'!AP14=\"\",\"\",'Ciencias Sociales'!AP14)","v":""}]
[null,null,null,"Criterio Evaluación 4.2",{"$f":"IF('Ciencias Sociales'!H15=\"\",\"\",'Ciencias Sociales'!H15)","v":""},{"$f":"IF('Ciencias Sociales'!I15=\"\",\"\",'Ciencias Sociales'!I15)","v":""},{"$f":"IF('Ciencias Sociales'!J15=\"\",\"\",'Ciencias Sociales'!J15)","v":""},{"$f":"IF('Ciencias Sociales'!K15=\"\",\"\",'Ciencias Sociales'!K15)","v":""},{"$f":"IF('Ciencias Sociales'!L15=\"\",\"\",'Ciencias Sociales'!L15)","v":""},{"$f":"IF('Ciencias Sociales'!M15=\"\",\"\",'Ciencias Sociales'!M15)","v":""},{"$f":"IF('Ciencias Sociales'!N15=\"\",\"\",'Ciencias Sociales'!N15)","v":""},{"$f":"IF('Ciencias Sociales'!O15=\"\",\"\",'Ciencias Sociales'!O15)","v":""},{"$f":"IF('Ciencias Sociales'!P15=\"\",\"\",'Ciencias Sociales'!P15)","v":""},{"$f":"IF('Ciencias Sociales'!Q15=\"\",\"\",'Ciencias Sociales'!Q15)","v":""},{"$f":"IF('Ciencias Sociales'!R15=\"\",\"\",'Ciencias Sociales'!R15)","v":""},{"$f":"IF('Ciencias Sociales'!S15=\"\",\"\",'Ciencias Sociales'!S15)","v":""},{"$f":"IF('Ciencias Sociales'!T15=\"\",\"\",'Ciencias Sociales'!T15)","v":""},{"$f":"IF('Ciencias Sociales'!U15=\"\",\"\",'Ciencias Sociales'!U15)","v":""},{"$f":"IF('Ciencias Sociales'!V15=\"\",\"\",'Ciencias Sociales'!V15)","v":""},{"$f":"IF('Ciencias Sociales'!W15=\"\",\"\",'Ciencias Sociales'!W15)","v":""},{"$f":"IF('Ciencias Sociales'!X15=\"\",\"\",'Ciencias Sociales'!X15)","v":""},{"$f":"IF('Ciencias Sociales'!Y15=\"\",\"\",'Ciencias Sociales'!Y15)","v":""},{"$f":"IF('Ciencias Sociales'!Z15=\"\",\"\",'Ciencias Sociales'!Z15)","v":""},{"$f":"IF('Ciencias Sociales'!AA15=\"\",\"\",'Ciencias Sociales'!AA15)","v":""},{"$f":"IF('Ciencias Sociales'!AB15=\"\",\"\",'Ciencias Sociales'!AB15)","v":""},{"$f":"IF('Ciencias Sociales'!AC15=\"\",\"\",'Ciencias Sociales'!AC15)","v":""},{"$f":"IF('Ciencias Sociales'!AD15=\"\",\"\",'Ciencias Sociales'!AD15)","v":""},{"$f":"IF('Ciencias Sociales'!AE15=\"\",\"\",'Ciencias Sociales'!AE15)","v":""},{"$f":"IF('Ciencias Sociales'!AF15=\"\",\"\",'Ciencias Sociales'!AF15)","v":""},{"$f":"IF('Ciencias Sociales'!AG15=\"\",\"\",'Ciencias Sociales'!AG15)","v":""},{"$f":"IF('Ciencias Sociales'!AH15=\"\",\"\",'Ciencias Sociales'!AH15)","v":""},{"$f":"IF('Ciencias Sociales'!AI15=\"\",\"\",'Ciencias Sociales'!AI15)","v":""},{"$f":"IF('Ciencias Sociales'!AJ15=\"\",\"\",'Ciencias Sociales'!AJ15)","v":""},{"$f":"IF('Ciencias Sociales'!AK15=\"\",\"\",'Ciencias Sociales'!AK15)","v":""},{"$f":"IF('Ciencias Sociales'!AL15=\"\",\"\",'Ciencias Sociales'!AL15)","v":""},{"$f":"IF('Ciencias Sociales'!AM15=\"\",\"\",'Ciencias Sociales'!AM15)","v":""},{"$f":"IF('Ciencias Sociales'!AN15=\"\",\"\",'Ciencias Sociales'!AN15)","v":""},{"$f":"IF('Ciencias Sociales'!AO15=\"\",\"\",'Ciencias Sociales'!AO15)","v":""},{"$f":"IF('Ciencias Sociales'!AP15=\"\",\"\",'Ciencias Sociales'!AP15)","v":""}]
[null,null,"Comp. Esp. 5","Criterio Evaluación 5.1",{"$f":"IF('Ciencias Sociales'!H16=\"\",\"\",'Ciencias Sociales'!H16)","v":""},{"$f":"IF('Ciencias Sociales'!I16=\"\",\"\",'Ciencias Sociales'!I16)","v":""},{"$f":"IF('Ciencias Sociales'!J16=\"\",\"\",'Ciencias Sociales'!J16)","v":""},{"$f":"IF('Ciencias Sociales'!K16=\"\",\"\",'Ciencias Sociales'!K16)","v":""},{"$f":"IF('Ciencias Sociales'!L16=\"\",\"\",'Ciencias Sociales'!L16)","v":""},{"$f":"IF('Ciencias Sociales'!M16=\"\",\"\",'Ciencias Sociales'!M16)","v":""},{"$f":"IF('Ciencias Sociales'!N16=\"\",\"\",'Ciencias Sociales'!N16)","v":""},{"$f":"IF('Ciencias Sociales'!O16=\"\",\"\",'Ciencias Sociales'!O16)","v":""},{"$f":"IF('Ciencias Sociales'!P16=\"\",\"\",'Ciencias Sociales'!P16)","v":""},{"$f":"IF('Ciencias Sociales'!Q16=\"\",\"\",'Ciencias Sociales'!Q16)","v":""},{"$f":"IF('Ciencias Sociales'!R16=\"\",\"\",'Ciencias Sociales'!R16)","v":""},{"$f":"IF('Ciencias Sociales'!S16=\"\",\"\",'Ciencias Sociales'!S16)","v":""},{"$f":"IF('Ciencias Sociales'!T16=\"\",\"\",'Ciencias Sociales'!T16)","v":""},{"$f":"IF('Ciencias Sociales'!U16=\"\",\"\",'Ciencias Sociales'!U16)","v":""},{"$f":"IF('Ciencias Sociales'!V16=\"\",\"\",'Ciencias Sociales'!V16)","v":""},{"$f":"IF('Ciencias Sociales'!W16=\"\",\"\",'Ciencias Sociales'!W16)","v":""},{"$f":"IF('Ciencias Sociales'!X16=\"\",\"\",'Ciencias Sociales'!X16)","v":""},{"$f":"IF('Ciencias Sociales'!Y16=\"\",\"\",'Ciencias Sociales'!Y16)","v":""},{"$f":"IF('Ciencias Sociales'!Z16=\"\",\"\",'Ciencias Sociales'!Z16)","v":""},{"$f":"IF('Ciencias Sociales'!AA16=\"\",\"\",'Ciencias Sociales'!AA16)","v":""},{"$f":"IF('Ciencias Sociales'!AB16=\"\",\"\",'Ciencias Sociales'!AB16)","v":""},{"$f":"IF('Ciencias Sociales'!AC16=\"\",\"\",'Ciencias Sociales'!AC16)","v":""},{"$f":"IF('Ciencias Sociales'!AD16=\"\",\"\",'Ciencias Sociales'!AD16)","v":""},{"$f":"IF('Ciencias Sociales'!AE16=\"\",\"\",'Ciencias Sociales'!AE16)","v":""},{"$f":"IF('Ciencias Sociales'!AF16=\"\",\"\",'Ciencias Sociales'!AF16)","v":""},{"$f":"IF('Ciencias Sociales'!AG16=\"\",\"\",'Ciencias Sociales'!AG16)","v":""},{"$f":"IF('Ciencias Sociales'!AH16=\"\",\"\",'Ciencias Sociales'!AH16)","v":""},{"$f":"IF('Ciencias Sociales'!AI16=\"\",\"\",'Ciencias Sociales'!AI16)","v":""},{"$f":"IF('Ciencias Sociales'!AJ16=\"\",\"\",'Ciencias Sociales'!AJ16)","v":""},{"$f":"IF('Ciencias Sociales'!AK16=\"\",\"\",'Ciencias Sociales'!AK16)","v":""},{"$f":"IF('Ciencias Sociales'!AL16=\"\",\"\",'Ciencias Sociales'!AL16)","v":""},{"$f":"IF('Ciencias Sociales'!AM16=\"\",\"\",'Ciencias Sociales'!AM16)","v":""},{"$f":"IF('Ciencias Sociales'!AN16=\"\",\"\",'Ciencias Sociales'!AN16)","v":""},{"$f":"IF('Ciencias Sociales'!AO16=\"\",\"\",'Ciencias Sociales'!AO16)","v":""},{"$f":"IF('Ciencias Sociales'!AP16=\"\",\"\",'Ciencias Sociales'!AP16)","v":""}]
[null,null,null,"Criterio Evaluación 5.2",{"$f":"IF('Ciencias Sociales'!H17=\"\",\"\",'Ciencias Sociales'!H17)","v":""},{"$f":"IF('Ciencias Sociales'!I17=\"\",\"\",'Ciencias Sociales'!I17)","v":""},{"$f":"IF('Ciencias Sociales'!J17=\"\",\"\",'Ciencias Sociales'!J17)","v":""},{"$f":"IF('Ciencias Sociales'!K17=\"\",\"\",'Ciencias Sociales'!K17)","v":""},{"$f":"IF('Ciencias Sociales'!L17=\"\",\"\",'Ciencias Sociales'!L17)","v":""},{"$f":"IF('Ciencias Sociales'!M17=\"\",\"\",'Ciencias Sociales'!M17)","v":""},{"$f":"IF('Ciencias Sociales'!N17=\"\",\"\",'Ciencias Sociales'!N17)","v":""},{"$f":"IF('Ciencias Sociales'!O17=\"\",\"\",'Ciencias Sociales'!O17)","v":""},{"$f":"IF('Ciencias Sociales'!P17=\"\",\"\",'Ciencias Sociales'!P17)","v":""},{"$f":"IF('Ciencias Sociales'!Q17=\"\",\"\",'Ciencias Sociales'!Q17)","v":""},{"$f":"IF('Ciencias Sociales'!R17=\"\",\"\",'Ciencias Sociales'!R17)","v":""},{"$f":"IF('Ciencias Sociales'!S17=\"\",\"\",'Ciencias Sociales'!S17)","v":""},{"$f":"IF('Ciencias Sociales'!T17=\"\",\"\",'Ciencias Sociales'!T17)","v":""},{"$f":"IF('Ciencias Sociales'!U17=\"\",\"\",'Ciencias Sociales'!U17)","v":""},{"$f":"IF('Ciencias Sociales'!V17=\"\",\"\",'Ciencias Sociales'!V17)","v":""},{"$f":"IF('Ciencias Sociales'!W17=\"\",\"\",'Ciencias Sociales'!W17)","v":""},{"$f":"IF('Ciencias Sociales'!X17=\"\",\"\",'Ciencias Sociales'!X17)","v":""},{"$f":"IF('Ciencias Sociales'!Y17=\"\",\"\",'Ciencias Sociales'!Y17)","v":""},{"$f":"IF('Ciencias Sociales'!Z17=\"\",\"\",'Ciencias Sociales'!Z17)","v":""},{"$f":"IF('Ciencias Sociales'!AA17=\"\",\"\",'Ciencias Sociales'!AA17)","v":""},{"$f":"IF('Ciencias Sociales'!AB17=\"\",\"\",'Ciencias Sociales'!AB17)","v":""},{"$f":"IF('Ciencias Sociales'!AC17=\"\",\"\",'Ciencias Sociales'!AC17)","v":""},{"$f":"IF('Ciencias Sociales'!AD17=\"\",\"\",'Ciencias Sociales'!AD17)","v":""},{"$f":"IF('Ciencias Sociales'!AE17=\"\",\"\",'Ciencias Sociales'!AE17)","v":""},{"$f":"IF('Ciencias Sociales'!AF17=\"\",\"\",'Ciencias Sociales'!AF17)","v":""},{"$f":"IF('Ciencias Sociales'!AG17=\"\",\"\",'Ciencias Sociales'!AG17)","v":""},{"$f":"IF('Ciencias Sociales'!AH17=\"\",\"\",'Ciencias Sociales'!AH17)","v":""},{"$f":"IF('Ciencias Sociales'!AI17=\"\",\"\",'Ciencias Sociales'!AI17)","v":""},{"$f":"IF('Ciencias Sociales'!AJ17=\"\",\"\",'Ciencias Sociales'!AJ17)","v":""},{"$f":"IF('Ciencias Sociales'!AK17=\"\",\"\",'Ciencias Sociales'!AK17)","v":""},{"$f":"IF('Ciencias Sociales'!AL17=\"\",\"\",'Ciencias Sociales'!AL17)","v":""},{"$f":"IF('Ciencias Sociales'!AM17=\"\",\"\",'Ciencias Sociales'!AM17)","v":""},{"$f":"IF('Ciencias Sociales'!AN17=\"\",\"\",'Ciencias Sociales'!AN17)","v":""},{"$f":"IF('Ciencias Sociales'!AO17=\"\",\"\",'Ciencias Sociales'!AO17)","v":""},{"$f":"IF('Ciencias Sociales'!AP17=\"\",\"\",'Ciencias Sociales'!AP17)","v":""}]
[null,null,null,"Criterio Evaluación 5.3",{"$f":"IF('Ciencias Sociales'!H18=\"\",\"\",'Ciencias Sociales'!H18)","v":""},{"$f":"IF('Ciencias Sociales'!I18=\"\",\"\",'Ciencias Sociales'!I18)","v":""},{"$f":"IF('Ciencias Sociales'!J18=\"\",\"\",'Ciencias Sociales'!J18)","v":""},{"$f":"IF('Ciencias Sociales'!K18=\"\",\"\",'Ciencias Sociales'!K18)","v":""},{"$f":"IF('Ciencias Sociales'!L18=\"\",\"\",'Ciencias Sociales'!L18)","v":""},{"$f":"IF('Ciencias Sociales'!M18=\"\",\"\",'Ciencias Sociales'!M18)","v":""},{"$f":"IF('Ciencias Sociales'!N18=\"\",\"\",'Ciencias Sociales'!N18)","v":""},{"$f":"IF('Ciencias Sociales'!O18=\"\",\"\",'Ciencias Sociales'!O18)","v":""},{"$f":"IF('Ciencias Sociales'!P18=\"\",\"\",'Ciencias Sociales'!P18)","v":""},{"$f":"IF('Ciencias Sociales'!Q18=\"\",\"\",'Ciencias Sociales'!Q18)","v":""},{"$f":"IF('Ciencias Sociales'!R18=\"\",\"\",'Ciencias Sociales'!R18)","v":""},{"$f":"IF('Ciencias Sociales'!S18=\"\",\"\",'Ciencias Sociales'!S18)","v":""},{"$f":"IF('Ciencias Sociales'!T18=\"\",\"\",'Ciencias Sociales'!T18)","v":""},{"$f":"IF('Ciencias Sociales'!U18=\"\",\"\",'Ciencias Sociales'!U18)","v":""},{"$f":"IF('Ciencias Sociales'!V18=\"\",\"\",'Ciencias Sociales'!V18)","v":""},{"$f":"IF('Ciencias Sociales'!W18=\"\",\"\",'Ciencias Sociales'!W18)","v":""},{"$f":"IF('Ciencias Sociales'!X18=\"\",\"\",'Ciencias Sociales'!X18)","v":""},{"$f":"IF('Ciencias Sociales'!Y18=\"\",\"\",'Ciencias Sociales'!Y18)","v":""},{"$f":"IF('Ciencias Sociales'!Z18=\"\",\"\",'Ciencias Sociales'!Z18)","v":""},{"$f":"IF('Ciencias Sociales'!AA18=\"\",\"\",'Ciencias Sociales'!AA18)","v":""},{"$f":"IF('Ciencias Sociales'!AB18=\"\",\"\",'Ciencias Sociales'!AB18)","v":""},{"$f":"IF('Ciencias Sociales'!AC18=\"\",\"\",'Ciencias Sociales'!AC18)","v":""},{"$f":"IF('Ciencias Sociales'!AD18=\"\",\"\",'Ciencias Sociales'!AD18)","v":""},{"$f":"IF('Ciencias Sociales'!AE18=\"\",\"\",'Ciencias Sociales'!AE18)","v":""},{"$f":"IF('Ciencias Sociales'!AF18=\"\",\"\",'Ciencias Sociales'!AF18)","v":""},{"$f":"IF('Ciencias Sociales'!AG18=\"\",\"\",'Ciencias Sociales'!AG18)","v":""},{"$f":"IF('Ciencias Sociales'!AH18=\"\",\"\",'Ciencias Sociales'!AH18)","v":""},{"$f":"IF('Ciencias Sociales'!AI18=\"\",\"\",'Ciencias Sociales'!AI18)","v":""},{"$f":"IF('Ciencias Sociales'!AJ18=\"\",\"\",'Ciencias Sociales'!AJ18)","v":""},{"$f":"IF('Ciencias Sociales'!AK18=\"\",\"\",'Ciencias Sociales'!AK18)","v":""},{"$f":"IF('Ciencias Sociales'!AL18=\"\",\"\",'Ciencias Sociales'!AL18)","v":""},{"$f":"IF('Ciencias Sociales'!AM18=\"\",\"\",'Ciencias Sociales'!AM18)","v":""},{"$f":"IF('Ciencias Sociales'!AN18=\"\",\"\",'Ciencias Sociales'!AN18)","v":""},{"$f":"IF('Ciencias Sociales'!AO18=\"\",\"\",'Ciencias Sociales'!AO18)","v":""},{"$f":"IF('Ciencias Sociales'!AP18=\"\",\"\",'Ciencias Sociales'!AP18)","v":""}]
[null,null,null,"Criterio Evaluación 5.4",{"$f":"IF('Ciencias Sociales'!H19=\"\",\"\",'Ciencias Sociales'!H19)","v":""},{"$f":"IF('Ciencias Sociales'!I19=\"\",\"\",'Ciencias Sociales'!I19)","v":""},{"$f":"IF('Ciencias Sociales'!J19=\"\",\"\",'Ciencias Sociales'!J19)","v":""},{"$f":"IF('Ciencias Sociales'!K19=\"\",\"\",'Ciencias Sociales'!K19)","v":""},{"$f":"IF('Ciencias Sociales'!L19=\"\",\"\",'Ciencias Sociales'!L19)","v":""},{"$f":"IF('Ciencias Sociales'!M19=\"\",\"\",'Ciencias Sociales'!M19)","v":""},{"$f":"IF('Ciencias Sociales'!N19=\"\",\"\",'Ciencias Sociales'!N19)","v":""},{"$f":"IF('Ciencias Sociales'!O19=\"\",\"\",'Ciencias Sociales'!O19)","v":""},{"$f":"IF('Ciencias Sociales'!P19=\"\",\"\",'Ciencias Sociales'!P19)","v":""},{"$f":"IF('Ciencias Sociales'!Q19=\"\",\"\",'Ciencias Sociales'!Q19)","v":""},{"$f":"IF('Ciencias Sociales'!R19=\"\",\"\",'Ciencias Sociales'!R19)","v":""},{"$f":"IF('Ciencias Sociales'!S19=\"\",\"\",'Ciencias Sociales'!S19)","v":""},{"$f":"IF('Ciencias Sociales'!T19=\"\",\"\",'Ciencias Sociales'!T19)","v":""},{"$f":"IF('Ciencias Sociales'!U19=\"\",\"\",'Ciencias Sociales'!U19)","v":""},{"$f":"IF('Ciencias Sociales'!V19=\"\",\"\",'Ciencias Sociales'!V19)","v":""},{"$f":"IF('Ciencias Sociales'!W19=\"\",\"\",'Ciencias Sociales'!W19)","v":""},{"$f":"IF('Ciencias Sociales'!X19=\"\",\"\",'Ciencias Sociales'!X19)","v":""},{"$f":"IF('Ciencias Sociales'!Y19=\"\",\"\",'Ciencias Sociales'!Y19)","v":""},{"$f":"IF('Ciencias Sociales'!Z19=\"\",\"\",'Ciencias Sociales'!Z19)","v":""},{"$f":"IF('Ciencias Sociales'!AA19=\"\",\"\",'Ciencias Sociales'!AA19)","v":""},{"$f":"IF('Ciencias Sociales'!AB19=\"\",\"\",'Ciencias Sociales'!AB19)","v":""},{"$f":"IF('Ciencias Sociales'!AC19=\"\",\"\",'Ciencias Sociales'!AC19)","v":""},{"$f":"IF('Ciencias Sociales'!AD19=\"\",\"\",'Ciencias Sociales'!AD19)","v":""},{"$f":"IF('Ciencias Sociales'!AE19=\"\",\"\",'Ciencias Sociales'!AE19)","v":""},{"$f":"IF('Ciencias Sociales'!AF19=\"\",\"\",'Ciencias Sociales'!AF19)","v":""},{"$f":"IF('Ciencias Sociales'!AG19=\"\",\"\",'Ciencias Sociales'!AG19)","v":""},{"$f":"IF('Ciencias Sociales'!AH19=\"\",\"\",'Ciencias Sociales'!AH19)","v":""},{"$f":"IF('Ciencias Sociales'!AI19=\"\",\"\",'Ciencias Sociales'!AI19)","v":""},{"$f":"IF('Ciencias Sociales'!AJ19=\"\",\"\",'Ciencias Sociales'!AJ19)","v":""},{"$f":"IF('Ciencias Sociales'!AK19=\"\",\"\",'Ciencias Sociales'!AK19)","v":""},{"$f":"IF('Ciencias Sociales'!AL19=\"\",\"\",'Ciencias Sociales'!AL19)","v":""},{"$f":"IF('Ciencias Sociales'!AM19=\"\",\"\",'Ciencias Sociales'!AM19)","v":""},{"$f":"IF('Ciencias Sociales'!AN19=\"\",\"\",'Ciencias Sociales'!AN19)","v":""},{"$f":"IF('Ciencias Sociales'!AO19=\"\",\"\",'Ciencias Sociales'!AO19)","v":""},{"$f":"IF('Ciencias Sociales'!AP19=\"\",\"\",'Ciencias Sociales'!AP19)","v":""}]
[null,null,"Comp. Esp. 6","Criterio Evaluación 6.1",{"$f":"IF('Ciencias Sociales'!H20=\"\",\"\",'Ciencias Sociales'!H20)","v":""},{"$f":"IF('Ciencias Sociales'!I20=\"\",\"\",'Ciencias Sociales'!I20)","v":""},{"$f":"IF('Ciencias Sociales'!J20=\"\",\"\",'Ciencias Sociales'!J20)","v":""},{"$f":"IF('Ciencias Sociales'!K20=\"\",\"\",'Ciencias Sociales'!K20)","v":""},{"$f":"IF('Ciencias Sociales'!L20=\"\",\"\",'Ciencias Sociales'!L20)","v":""},{"$f":"IF('Ciencias Sociales'!M20=\"\",\"\",'Ciencias Sociales'!M20)","v":""},{"$f":"IF('Ciencias Sociales'!N20=\"\",\"\",'Ciencias Sociales'!N20)","v":""},{"$f":"IF('Ciencias Sociales'!O20=\"\",\"\",'Ciencias Sociales'!O20)","v":""},{"$f":"IF('Ciencias Sociales'!P20=\"\",\"\",'Ciencias Sociales'!P20)","v":""},{"$f":"IF('Ciencias Sociales'!Q20=\"\",\"\",'Ciencias Sociales'!Q20)","v":""},{"$f":"IF('Ciencias Sociales'!R20=\"\",\"\",'Ciencias Sociales'!R20)","v":""},{"$f":"IF('Ciencias Sociales'!S20=\"\",\"\",'Ciencias Sociales'!S20)","v":""},{"$f":"IF('Ciencias Sociales'!T20=\"\",\"\",'Ciencias Sociales'!T20)","v":""},{"$f":"IF('Ciencias Sociales'!U20=\"\",\"\",'Ciencias Sociales'!U20)","v":""},{"$f":"IF('Ciencias Sociales'!V20=\"\",\"\",'Ciencias Sociales'!V20)","v":""},{"$f":"IF('Ciencias Sociales'!W20=\"\",\"\",'Ciencias Sociales'!W20)","v":""},{"$f":"IF('Ciencias Sociales'!X20=\"\",\"\",'Ciencias Sociales'!X20)","v":""},{"$f":"IF('Ciencias Sociales'!Y20=\"\",\"\",'Ciencias Sociales'!Y20)","v":""},{"$f":"IF('Ciencias Sociales'!Z20=\"\",\"\",'Ciencias Sociales'!Z20)","v":""},{"$f":"IF('Ciencias Sociales'!AA20=\"\",\"\",'Ciencias Sociales'!AA20)","v":""},{"$f":"IF('Ciencias Sociales'!AB20=\"\",\"\",'Ciencias Sociales'!AB20)","v":""},{"$f":"IF('Ciencias Sociales'!AC20=\"\",\"\",'Ciencias Sociales'!AC20)","v":""},{"$f":"IF('Ciencias Sociales'!AD20=\"\",\"\",'Ciencias Sociales'!AD20)","v":""},{"$f":"IF('Ciencias Sociales'!AE20=\"\",\"\",'Ciencias Sociales'!AE20)","v":""},{"$f":"IF('Ciencias Sociales'!AF20=\"\",\"\",'Ciencias Sociales'!AF20)","v":""},{"$f":"IF('Ciencias Sociales'!AG20=\"\",\"\",'Ciencias Sociales'!AG20)","v":""},{"$f":"IF('Ciencias Sociales'!AH20=\"\",\"\",'Ciencias Sociales'!AH20)","v":""},{"$f":"IF('Ciencias Sociales'!AI20=\"\",\"\",'Ciencias Sociales'!AI20)","v":""},{"$f":"IF('Ciencias Sociales'!AJ20=\"\",\"\",'Ciencias Sociales'!AJ20)","v":""},{"$f":"IF('Ciencias Sociales'!AK20=\"\",\"\",'Ciencias Sociales'!AK20)","v":""},{"$f":"IF('Ciencias Sociales'!AL20=\"\",\"\",'Ciencias Sociales'!AL20)","v":""},{"$f":"IF('Ciencias Sociales'!AM20=\"\",\"\",'Ciencias Sociales'!AM20)","v":""},{"$f":"IF('Ciencias Sociales'!AN20=\"\",\"\",'Ciencias Sociales'!AN20)","v":""},{"$f":"IF('Ciencias Sociales'!AO20=\"\",\"\",'Ciencias Sociales'!AO20)","v":""},{"$f":"IF('Ciencias Sociales'!AP20=\"\",\"\",'Ciencias Sociales'!AP20)","v":""}]
[null,null,null,"Criterio Evaluación 6.2",{"$f":"IF('Ciencias Sociales'!H21=\"\",\"\",'Ciencias Sociales'!H21)","v":""},{"$f":"IF('Ciencias Sociales'!I21=\"\",\"\",'Ciencias Sociales'!I21)","v":""},{"$f":"IF('Ciencias Sociales'!J21=\"\",\"\",'Ciencias Sociales'!J21)","v":""},{"$f":"IF('Ciencias Sociales'!K21=\"\",\"\",'Ciencias Sociales'!K21)","v":""},{"$f":"IF('Ciencias Sociales'!L21=\"\",\"\",'Ciencias Sociales'!L21)","v":""},{"$f":"IF('Ciencias Sociales'!M21=\"\",\"\",'Ciencias Sociales'!M21)","v":""},{"$f":"IF('Ciencias Sociales'!N21=\"\",\"\",'Ciencias Sociales'!N21)","v":""},{"$f":"IF('Ciencias Sociales'!O21=\"\",\"\",'Ciencias Sociales'!O21)","v":""},{"$f":"IF('Ciencias Sociales'!P21=\"\",\"\",'Ciencias Sociales'!P21)","v":""},{"$f":"IF('Ciencias Sociales'!Q21=\"\",\"\",'Ciencias Sociales'!Q21)","v":""},{"$f":"IF('Ciencias Sociales'!R21=\"\",\"\",'Ciencias Sociales'!R21)","v":""},{"$f":"IF('Ciencias Sociales'!S21=\"\",\"\",'Ciencias Sociales'!S21)","v":""},{"$f":"IF('Ciencias Sociales'!T21=\"\",\"\",'Ciencias Sociales'!T21)","v":""},{"$f":"IF('Ciencias Sociales'!U21=\"\",\"\",'Ciencias Sociales'!U21)","v":""},{"$f":"IF('Ciencias Sociales'!V21=\"\",\"\",'Ciencias Sociales'!V21)","v":""},{"$f":"IF('Ciencias Sociales'!W21=\"\",\"\",'Ciencias Sociales'!W21)","v":""},{"$f":"IF('Ciencias Sociales'!X21=\"\",\"\",'Ciencias Sociales'!X21)","v":""},{"$f":"IF('Ciencias Sociales'!Y21=\"\",\"\",'Ciencias Sociales'!Y21)","v":""},{"$f":"IF('Ciencias Sociales'!Z21=\"\",\"\",'Ciencias Sociales'!Z21)","v":""},{"$f":"IF('Ciencias Sociales'!AA21=\"\",\"\",'Ciencias Sociales'!AA21)","v":""},{"$f":"IF('Ciencias Sociales'!AB21=\"\",\"\",'Ciencias Sociales'!AB21)","v":""},{"$f":"IF('Ciencias Sociales'!AC21=\"\",\"\",'Ciencias Sociales'!AC21)","v":""},{"$f":"IF('Ciencias Sociales'!AD21=\"\",\"\",'Ciencias Sociales'!AD21)","v":""},{"$f":"IF('Ciencias Sociales'!AE21=\"\",\"\",'Ciencias Sociales'!AE21)","v":""},{"$f":"IF('Ciencias Sociales'!AF21=\"\",\"\",'Ciencias Sociales'!AF21)","v":""},{"$f":"IF('Ciencias Sociales'!AG21=\"\",\"\",'Ciencias Sociales'!AG21)","v":""},{"$f":"IF('Ciencias Sociales'!AH21=\"\",\"\",'Ciencias Sociales'!AH21)","v":""},{"$f":"IF('Ciencias Sociales'!AI21=\"\",\"\",'Ciencias Sociales'!AI21)","v":""},{"$f":"IF('Ciencias Sociales'!AJ21=\"\",\"\",'Ciencias Sociales'!AJ21)","v":""},{"$f":"IF('Ciencias Sociales'!AK21=\"\",\"\",'Ciencias Sociales'!AK21)","v":""},{"$f":"IF('Ciencias Sociales'!AL21=\"\",\"\",'Ciencias Sociales'!AL21)","v":""},{"$f":"IF('Ciencias Sociales'!AM21=\"\",\"\",'Ciencias Sociales'!AM21)","v":""},{"$f":"IF('Ciencias Sociales'!AN21=\"\",\"\",'Ciencias Sociales'!AN21)","v":""},{"$f":"IF('Ciencias Sociales'!AO21=\"\",\"\",'Ciencias Sociales'!AO21)","v":""},{"$f":"IF('Ciencias Sociales'!AP21=\"\",\"\",'Ciencias Sociales'!AP21)","v":""}]
[null,null,"Comp. Esp. 7","Criterio Evaluación 7.1",{"$f":"IF('Ciencias Sociales'!H22=\"\",\"\",'Ciencias Sociales'!H22)","v":""},{"$f":"IF('Ciencias Sociales'!I22=\"\",\"\",'Ciencias Sociales'!I22)","v":""},{"$f":"IF('Ciencias Sociales'!J22=\"\",\"\",'Ciencias Sociales'!J22)","v":""},{"$f":"IF('Ciencias Sociales'!K22=\"\",\"\",'Ciencias Sociales'!K22)","v":""},{"$f":"IF('Ciencias Sociales'!L22=\"\",\"\",'Ciencias Sociales'!L22)","v":""},{"$f":"IF('Ciencias Sociales'!M22=\"\",\"\",'Ciencias Sociales'!M22)","v":""},{"$f":"IF('Ciencias Sociales'!N22=\"\",\"\",'Ciencias Sociales'!N22)","v":""},{"$f":"IF('Ciencias Sociales'!O22=\"\",\"\",'Ciencias Sociales'!O22)","v":""},{"$f":"IF('Ciencias Sociales'!P22=\"\",\"\",'Ciencias Sociales'!P22)","v":""},{"$f":"IF('Ciencias Sociales'!Q22=\"\",\"\",'Ciencias Sociales'!Q22)","v":""},{"$f":"IF('Ciencias Sociales'!R22=\"\",\"\",'Ciencias Sociales'!R22)","v":""},{"$f":"IF('Ciencias Sociales'!S22=\"\",\"\",'Ciencias Sociales'!S22)","v":""},{"$f":"IF('Ciencias Sociales'!T22=\"\",\"\",'Ciencias Sociales'!T22)","v":""},{"$f":"IF('Ciencias Sociales'!U22=\"\",\"\",'Ciencias Sociales'!U22)","v":""},{"$f":"IF('Ciencias Sociales'!V22=\"\",\"\",'Ciencias Sociales'!V22)","v":""},{"$f":"IF('Ciencias Sociales'!W22=\"\",\"\",'Ciencias Sociales'!W22)","v":""},{"$f":"IF('Ciencias Sociales'!X22=\"\",\"\",'Ciencias Sociales'!X22)","v":""},{"$f":"IF('Ciencias Sociales'!Y22=\"\",\"\",'Ciencias Sociales'!Y22)","v":""},{"$f":"IF('Ciencias Sociales'!Z22=\"\",\"\",'Ciencias Sociales'!Z22)","v":""},{"$f":"IF('Ciencias Sociales'!AA22=\"\",\"\",'Ciencias Sociales'!AA22)","v":""},{"$f":"IF('Ciencias Sociales'!AB22=\"\",\"\",'Ciencias Sociales'!AB22)","v":""},{"$f":"IF('Ciencias Sociales'!AC22=\"\",\"\",'Ciencias Sociales'!AC22)","v":""},{"$f":"IF('Ciencias Sociales'!AD22=\"\",\"\",'Ciencias Sociales'!AD22)","v":""},{"$f":"IF('Ciencias Sociales'!AE22=\"\",\"\",'Ciencias Sociales'!AE22)","v":""},{"$f":"IF('Ciencias Sociales'!AF22=\"\",\"\",'Ciencias Sociales'!AF22)","v":""},{"$f":"IF('Ciencias Sociales'!AG22=\"\",\"\",'Ciencias Sociales'!AG22)","v":""},{"$f":"IF('Ciencias Sociales'!AH22=\"\",\"\",'Ciencias Sociales'!AH22)","v":""},{"$f":"IF('Ciencias Sociales'!AI22=\"\",\"\",'Ciencias Sociales'!AI22)","v":""},{"$f":"IF('Ciencias Sociales'!AJ22=\"\",\"\",'Ciencias Sociales'!AJ22)","v":""},{"$f":"IF('Ciencias Sociales'!AK22=\"\",\"\",'Ciencias Sociales'!AK22)","v":""},{"$f":"IF('Ciencias Sociales'!AL22=\"\",\"\",'Ciencias Sociales'!AL22)","v":""},{"$f":"IF('Ciencias Sociales'!AM22=\"\",\"\",'Ciencias Sociales'!AM22)","v":""},{"$f":"IF('Ciencias Sociales'!AN22=\"\",\"\",'Ciencias Sociales'!AN22)","v":""},{"$f":"IF('Ciencias Sociales'!AO22=\"\",\"\",'Ciencias Sociales'!AO22)","v":""},{"$f":"IF('Ciencias Sociales'!AP22=\"\",\"\",'Ciencias Sociales'!AP22)","v":""}]
[null,null,null,"Criterio Evaluación 7.2",{"$f":"IF('Ciencias Sociales'!H23=\"\",\"\",'Ciencias Sociales'!H23)","v":""},{"$f":"IF('Ciencias Sociales'!I23=\"\",\"\",'Ciencias Sociales'!I23)","v":""},{"$f":"IF('Ciencias Sociales'!J23=\"\",\"\",'Ciencias Sociales'!J23)","v":""},{"$f":"IF('Ciencias Sociales'!K23=\"\",\"\",'Ciencias Sociales'!K23)","v":""},{"$f":"IF('Ciencias Sociales'!L23=\"\",\"\",'Ciencias Sociales'!L23)","v":""},{"$f":"IF('Ciencias Sociales'!M23=\"\",\"\",'Ciencias Sociales'!M23)","v":""},{"$f":"IF('Ciencias Sociales'!N23=\"\",\"\",'Ciencias Sociales'!N23)","v":""},{"$f":"IF('Ciencias Sociales'!O23=\"\",\"\",'Ciencias Sociales'!O23)","v":""},{"$f":"IF('Ciencias Sociales'!P23=\"\",\"\",'Ciencias Sociales'!P23)","v":""},{"$f":"IF('Ciencias Sociales'!Q23=\"\",\"\",'Ciencias Sociales'!Q23)","v":""},{"$f":"IF('Ciencias Sociales'!R23=\"\",\"\",'Ciencias Sociales'!R23)","v":""},{"$f":"IF('Ciencias Sociales'!S23=\"\",\"\",'Ciencias Sociales'!S23)","v":""},{"$f":"IF('Ciencias Sociales'!T23=\"\",\"\",'Ciencias Sociales'!T23)","v":""},{"$f":"IF('Ciencias Sociales'!U23=\"\",\"\",'Ciencias Sociales'!U23)","v":""},{"$f":"IF('Ciencias Sociales'!V23=\"\",\"\",'Ciencias Sociales'!V23)","v":""},{"$f":"IF('Ciencias Sociales'!W23=\"\",\"\",'Ciencias Sociales'!W23)","v":""},{"$f":"IF('Ciencias Sociales'!X23=\"\",\"\",'Ciencias Sociales'!X23)","v":""},{"$f":"IF('Ciencias Sociales'!Y23=\"\",\"\",'Ciencias Sociales'!Y23)","v":""},{"$f":"IF('Ciencias Sociales'!Z23=\"\",\"\",'Ciencias Sociales'!Z23)","v":""},{"$f":"IF('Ciencias Sociales'!AA23=\"\",\"\",'Ciencias Sociales'!AA23)","v":""},{"$f":"IF('Ciencias Sociales'!AB23=\"\",\"\",'Ciencias Sociales'!AB23)","v":""},{"$f":"IF('Ciencias Sociales'!AC23=\"\",\"\",'Ciencias Sociales'!AC23)","v":""},{"$f":"IF('Ciencias Sociales'!AD23=\"\",\"\",'Ciencias Sociales'!AD23)","v":""},{"$f":"IF('Ciencias Sociales'!AE23=\"\",\"\",'Ciencias Sociales'!AE23)","v":""},{"$f":"IF('Ciencias Sociales'!AF23=\"\",\"\",'Ciencias Sociales'!AF23)","v":""},{"$f":"IF('Ciencias Sociales'!AG23=\"\",\"\",'Ciencias Sociales'!AG23)","v":""},{"$f":"IF('Ciencias Sociales'!AH23=\"\",\"\",'Ciencias Sociales'!AH23)","v":""},{"$f":"IF('Ciencias Sociales'!AI23=\"\",\"\",'Ciencias Sociales'!AI23)","v":""},{"$f":"IF('Ciencias Sociales'!AJ23=\"\",\"\",'Ciencias Sociales'!AJ23)","v":""},{"$f":"IF('Ciencias Sociales'!AK23=\"\",\"\",'Ciencias Sociales'!AK23)","v":""},{"$f":"IF('Ciencias Sociales'!AL23=\"\",\"\",'Ciencias Sociales'!AL23)","v":""},{"$f":"IF('Ciencias Sociales'!AM23=\"\",\"\",'Ciencias Sociales'!AM23)","v":""},{"$f":"IF('Ciencias Sociales'!AN23=\"\",\"\",'Ciencias Sociales'!AN23)","v":""},{"$f":"IF('Ciencias Sociales'!AO23=\"\",\"\",'Ciencias Sociales'!AO23)","v":""},{"$f":"IF('Ciencias Sociales'!AP23=\"\",\"\",'Ciencias Sociales'!AP23)","v":""}]
[null,null,null,"Criterio Evaluación 7.3",{"$f":"IF('Ciencias Sociales'!H24=\"\",\"\",'Ciencias Sociales'!H24)","v":""},{"$f":"IF('Ciencias Sociales'!I24=\"\",\"\",'Ciencias Sociales'!I24)","v":""},{"$f":"IF('Ciencias Sociales'!J24=\"\",\"\",'Ciencias Sociales'!J24)","v":""},{"$f":"IF('Ciencias Sociales'!K24=\"\",\"\",'Ciencias Sociales'!K24)","v":""},{"$f":"IF('Ciencias Sociales'!L24=\"\",\"\",'Ciencias Sociales'!L24)","v":""},{"$f":"IF('Ciencias Sociales'!M24=\"\",\"\",'Ciencias Sociales'!M24)","v":""},{"$f":"IF('Ciencias Sociales'!N24=\"\",\"\",'Ciencias Sociales'!N24)","v":""},{"$f":"IF('Ciencias Sociales'!O24=\"\",\"\",'Ciencias Sociales'!O24)","v":""},{"$f":"IF('Ciencias Sociales'!P24=\"\",\"\",'Ciencias Sociales'!P24)","v":""},{"$f":"IF('Ciencias Sociales'!Q24=\"\",\"\",'Ciencias Sociales'!Q24)","v":""},{"$f":"IF('Ciencias Sociales'!R24=\"\",\"\",'Ciencias Sociales'!R24)","v":""},{"$f":"IF('Ciencias Sociales'!S24=\"\",\"\",'Ciencias Sociales'!S24)","v":""},{"$f":"IF('Ciencias Sociales'!T24=\"\",\"\",'Ciencias Sociales'!T24)","v":""},{"$f":"IF('Ciencias Sociales'!U24=\"\",\"\",'Ciencias Sociales'!U24)","v":""},{"$f":"IF('Ciencias Sociales'!V24=\"\",\"\",'Ciencias Sociales'!V24)","v":""},{"$f":"IF('Ciencias Sociales'!W24=\"\",\"\",'Ciencias Sociales'!W24)","v":""},{"$f":"IF('Ciencias Sociales'!X24=\"\",\"\",'Ciencias Sociales'!X24)","v":""},{"$f":"IF('Ciencias Sociales'!Y24=\"\",\"\",'Ciencias Sociales'!Y24)","v":""},{"$f":"IF('Ciencias Sociales'!Z24=\"\",\"\",'Ciencias Sociales'!Z24)","v":""},{"$f":"IF('Ciencias Sociales'!AA24=\"\",\"\",'Ciencias Sociales'!AA24)","v":""},{"$f":"IF('Ciencias Sociales'!AB24=\"\",\"\",'Ciencias Sociales'!AB24)","v":""},{"$f":"IF('Ciencias Sociales'!AC24=\"\",\"\",'Ciencias Sociales'!AC24)","v":""},{"$f":"IF('Ciencias Sociales'!AD24=\"\",\"\",'Ciencias Sociales'!AD24)","v":""},{"$f":"IF('Ciencias Sociales'!AE24=\"\",\"\",'Ciencias Sociales'!AE24)","v":""},{"$f":"IF('Ciencias Sociales'!AF24=\"\",\"\",'Ciencias Sociales'!AF24)","v":""},{"$f":"IF('Ciencias Sociales'!AG24=\"\",\"\",'Ciencias Sociales'!AG24)","v":""},{"$f":"IF('Ciencias Sociales'!AH24=\"\",\"\",'Ciencias Sociales'!AH24)","v":""},{"$f":"IF('Ciencias Sociales'!AI24=\"\",\"\",'Ciencias Sociales'!AI24)","v":""},{"$f":"IF('Ciencias Sociales'!AJ24=\"\",\"\",'Ciencias Sociales'!AJ24)","v":""},{"$f":"IF('Ciencias Sociales'!AK24=\"\",\"\",'Ciencias Sociales'!AK24)","v":""},{"$f":"IF('Ciencias Sociales'!AL24=\"\",\"\",'Ciencias Sociales'!AL24)","v":""},{"$f":"IF('Ciencias Sociales'!AM24=\"\",\"\",'Ciencias Sociales'!AM24)","v":""},{"$f":"IF('Ciencias Sociales'!AN24=\"\",\"\",'Ciencias Sociales'!AN24)","v":""},{"$f":"IF('Ciencias Sociales'!AO24=\"\",\"\",'Ciencias Sociales'!AO24)","v":""},{"$f":"IF('Ciencias Sociales'!AP24=\"\",\"\",'Ciencias Sociales'!AP24)","v":""}]
[null,"Educación Plástica y Visual","Comp. Esp. 1","Criterio Evaluación 1.1",{"$f":"IF(EPV!H4=\"\",\"\",EPV!H4)","v":""},{"$f":"IF(EPV!I4=\"\",\"\",EPV!I4)","v":""},{"$f":"IF(EPV!J4=\"\",\"\",EPV!J4)","v":""},{"$f":"IF(EPV!K4=\"\",\"\",EPV!K4)","v":""},{"$f":"IF(EPV!L4=\"\",\"\",EPV!L4)","v":""},{"$f":"IF(EPV!M4=\"\",\"\",EPV!M4)","v":""},{"$f":"IF(EPV!N4=\"\",\"\",EPV!N4)","v":""},{"$f":"IF(EPV!O4=\"\",\"\",EPV!O4)","v":""},{"$f":"IF(EPV!P4=\"\",\"\",EPV!P4)","v":""},{"$f":"IF(EPV!Q4=\"\",\"\",EPV!Q4)","v":""},{"$f":"IF(EPV!R4=\"\",\"\",EPV!R4)","v":""},{"$f":"IF(EPV!S4=\"\",\"\",EPV!S4)","v":""},{"$f":"IF(EPV!T4=\"\",\"\",EPV!T4)","v":""},{"$f":"IF(EPV!U4=\"\",\"\",EPV!U4)","v":""},{"$f":"IF(EPV!V4=\"\",\"\",EPV!V4)","v":""},{"$f":"IF(EPV!W4=\"\",\"\",EPV!W4)","v":""},{"$f":"IF(EPV!X4=\"\",\"\",EPV!X4)","v":""},{"$f":"IF(EPV!Y4=\"\",\"\",EPV!Y4)","v":""},{"$f":"IF(EPV!Z4=\"\",\"\",EPV!Z4)","v":""},{"$f":"IF(EPV!AA4=\"\",\"\",EPV!AA4)","v":""},{"$f":"IF(EPV!AB4=\"\",\"\",EPV!AB4)","v":""},{"$f":"IF(EPV!AC4=\"\",\"\",EPV!AC4)","v":""},{"$f":"IF(EPV!AD4=\"\",\"\",EPV!AD4)","v":""},{"$f":"IF(EPV!AE4=\"\",\"\",EPV!AE4)","v":""},{"$f":"IF(EPV!AF4=\"\",\"\",EPV!AF4)","v":""},{"$f":"IF(EPV!AG4=\"\",\"\",EPV!AG4)","v":""},{"$f":"IF(EPV!AH4=\"\",\"\",EPV!AH4)","v":""},{"$f":"IF(EPV!AI4=\"\",\"\",EPV!AI4)","v":""},{"$f":"IF(EPV!AJ4=\"\",\"\",EPV!AJ4)","v":""},{"$f":"IF(EPV!AK4=\"\",\"\",EPV!AK4)","v":""},{"$f":"IF(EPV!AL4=\"\",\"\",EPV!AL4)","v":""},{"$f":"IF(EPV!AM4=\"\",\"\",EPV!AM4)","v":""},{"$f":"IF(EPV!AN4=\"\",\"\",EPV!AN4)","v":""},{"$f":"IF(EPV!AO4=\"\",\"\",EPV!AO4)","v":""},{"$f":"IF(EPV!AP4=\"\",\"\",EPV!AP4)","v":""}]
[null,null,null,"Criterio Evaluación 1.2",{"$f":"IF(EPV!H5=\"\",\"\",EPV!H5)","v":""},{"$f":"IF(EPV!I5=\"\",\"\",EPV!I5)","v":""},{"$f":"IF(EPV!J5=\"\",\"\",EPV!J5)","v":""},{"$f":"IF(EPV!K5=\"\",\"\",EPV!K5)","v":""},{"$f":"IF(EPV!L5=\"\",\"\",EPV!L5)","v":""},{"$f":"IF(EPV!M5=\"\",\"\",EPV!M5)","v":""},{"$f":"IF(EPV!N5=\"\",\"\",EPV!N5)","v":""},{"$f":"IF(EPV!O5=\"\",\"\",EPV!O5)","v":""},{"$f":"IF(EPV!P5=\"\",\"\",EPV!P5)","v":""},{"$f":"IF(EPV!Q5=\"\",\"\",EPV!Q5)","v":""},{"$f":"IF(EPV!R5=\"\",\"\",EPV!R5)","v":""},{"$f":"IF(EPV!S5=\"\",\"\",EPV!S5)","v":""},{"$f":"IF(EPV!T5=\"\",\"\",EPV!T5)","v":""},{"$f":"IF(EPV!U5=\"\",\"\",EPV!U5)","v":""},{"$f":"IF(EPV!V5=\"\",\"\",EPV!V5)","v":""},{"$f":"IF(EPV!W5=\"\",\"\",EPV!W5)","v":""},{"$f":"IF(EPV!X5=\"\",\"\",EPV!X5)","v":""},{"$f":"IF(EPV!Y5=\"\",\"\",EPV!Y5)","v":""},{"$f":"IF(EPV!Z5=\"\",\"\",EPV!Z5)","v":""},{"$f":"IF(EPV!AA5=\"\",\"\",EPV!AA5)","v":""},{"$f":"IF(EPV!AB5=\"\",\"\",EPV!AB5)","v":""},{"$f":"IF(EPV!AC5=\"\",\"\",EPV!AC5)","v":""},{"$f":"IF(EPV!AD5=\"\",\"\",EPV!AD5)","v":""},{"$f":"IF(EPV!AE5=\"\",\"\",EPV!AE5)","v":""},{"$f":"IF(EPV!AF5=\"\",\"\",EPV!AF5)","v":""},{"$f":"IF(EPV!AG5=\"\",\"\",EPV!AG5)","v":""},{"$f":"IF(EPV!AH5=\"\",\"\",EPV!AH5)","v":""},{"$f":"IF(EPV!AI5=\"\",\"\",EPV!AI5)","v":""},{"$f":"IF(EPV!AJ5=\"\",\"\",EPV!AJ5)","v":""},{"$f":"IF(EPV!AK5=\"\",\"\",EPV!AK5)","v":""},{"$f":"IF(EPV!AL5=\"\",\"\",EPV!AL5)","v":""},{"$f":"IF(EPV!AM5=\"\",\"\",EPV!AM5)","v":""},{"$f":"IF(EPV!AN5=\"\",\"\",EPV!AN5)","v":""},{"$f":"IF(EPV!AO5=\"\",\"\",EPV!AO5)","v":""},{"$f":"IF(EPV!AP5=\"\",\"\",EPV!AP5)","v":""}]
[null,null,null,"Criterio Evaluación 1.3",{"$f":"IF(EPV!H6=\"\",\"\",EPV!H6)","v":""},{"$f":"IF(EPV!I6=\"\",\"\",EPV!I6)","v":""},{"$f":"IF(EPV!J6=\"\",\"\",EPV!J6)","v":""},{"$f":"IF(EPV!K6=\"\",\"\",EPV!K6)","v":""},{"$f":"IF(EPV!L6=\"\",\"\",EPV!L6)","v":""},{"$f":"IF(EPV!M6=\"\",\"\",EPV!M6)","v":""},{"$f":"IF(EPV!N6=\"\",\"\",EPV!N6)","v":""},{"$f":"IF(EPV!O6=\"\",\"\",EPV!O6)","v":""},{"$f":"IF(EPV!P6=\"\",\"\",EPV!P6)","v":""},{"$f":"IF(EPV!Q6=\"\",\"\",EPV!Q6)","v":""},{"$f":"IF(EPV!R6=\"\",\"\",EPV!R6)","v":""},{"$f":"IF(EPV!S6=\"\",\"\",EPV!S6)","v":""},{"$f":"IF(EPV!T6=\"\",\"\",EPV!T6)","v":""},{"$f":"IF(EPV!U6=\"\",\"\",EPV!U6)","v":""},{"$f":"IF(EPV!V6=\"\",\"\",EPV!V6)","v":""},{"$f":"IF(EPV!W6=\"\",\"\",EPV!W6)","v":""},{"$f":"IF(EPV!X6=\"\",\"\",EPV!X6)","v":""},{"$f":"IF(EPV!Y6=\"\",\"\",EPV!Y6)","v":""},{"$f":"IF(EPV!Z6=\"\",\"\",EPV!Z6)","v":""},{"$f":"IF(EPV!AA6=\"\",\"\",EPV!AA6)","v":""},{"$f":"IF(EPV!AB6=\"\",\"\",EPV!AB6)","v":""},{"$f":"IF(EPV!AC6=\"\",\"\",EPV!AC6)","v":""},{"$f":"IF(EPV!AD6=\"\",\"\",EPV!AD6)","v":""},{"$f":"IF(EPV!AE6=\"\",\"\",EPV!AE6)","v":""},{"$f":"IF(EPV!AF6=\"\",\"\",EPV!AF6)","v":""},{"$f":"IF(EPV!AG6=\"\",\"\",EPV!AG6)","v":""},{"$f":"IF(EPV!AH6=\"\",\"\",EPV!AH6)","v":""},{"$f":"IF(EPV!AI6=\"\",\"\",EPV!AI6)","v":""},{"$f":"IF(EPV!AJ6=\"\",\"\",EPV!AJ6)","v":""},{"$f":"IF(EPV!AK6=\"\",\"\",EPV!AK6)","v":""},{"$f":"IF(EPV!AL6=\"\",\"\",EPV!AL6)","v":""},{"$f":"IF(EPV!AM6=\"\",\"\",EPV!AM6)","v":""},{"$f":"IF(EPV!AN6=\"\",\"\",EPV!AN6)","v":""},{"$f":"IF(EPV!AO6=\"\",\"\",EPV!AO6)","v":""},{"$f":"IF(EPV!AP6=\"\",\"\",EPV!AP6)","v":""}]
[null,null,"Comp. Esp. 2","Criterio Evaluación 2.1",{"$f":"IF(EPV!H7=\"\",\"\",EPV!H7)","v":""},{"$f":"IF(EPV!I7=\"\",\"\",EPV!I7)","v":""},{"$f":"IF(EPV!J7=\"\",\"\",EPV!J7)","v":""},{"$f":"IF(EPV!K7=\"\",\"\",EPV!K7)","v":""},{"$f":"IF(EPV!L7=\"\",\"\",EPV!L7)","v":""},{"$f":"IF(EPV!M7=\"\",\"\",EPV!M7)","v":""},{"$f":"IF(EPV!N7=\"\",\"\",EPV!N7)","v":""},{"$f":"IF(EPV!O7=\"\",\"\",EPV!O7)","v":""},{"$f":"IF(EPV!P7=\"\",\"\",EPV!P7)","v":""},{"$f":"IF(EPV!Q7=\"\",\"\",EPV!Q7)","v":""},{"$f":"IF(EPV!R7=\"\",\"\",EPV!R7)","v":""},{"$f":"IF(EPV!S7=\"\",\"\",EPV!S7)","v":""},{"$f":"IF(EPV!T7=\"\",\"\",EPV!T7)","v":""},{"$f":"IF(EPV!U7=\"\",\"\",EPV!U7)","v":""},{"$f":"IF(EPV!V7=\"\",\"\",EPV!V7)","v":""},{"$f":"IF(EPV!W7=\"\",\"\",EPV!W7)","v":""},{"$f":"IF(EPV!X7=\"\",\"\",EPV!X7)","v":""},{"$f":"IF(EPV!Y7=\"\",\"\",EPV!Y7)","v":""},{"$f":"IF(EPV!Z7=\"\",\"\",EPV!Z7)","v":""},{"$f":"IF(EPV!AA7=\"\",\"\",EPV!AA7)","v":""},{"$f":"IF(EPV!AB7=\"\",\"\",EPV!AB7)","v":""},{"$f":"IF(EPV!AC7=\"\",\"\",EPV!AC7)","v":""},{"$f":"IF(EPV!AD7=\"\",\"\",EPV!AD7)","v":""},{"$f":"IF(EPV!AE7=\"\",\"\",EPV!AE7)","v":""},{"$f":"IF(EPV!AF7=\"\",\"\",EPV!AF7)","v":""},{"$f":"IF(EPV!AG7=\"\",\"\",EPV!AG7)","v":""},{"$f":"IF(EPV!AH7=\"\",\"\",EPV!AH7)","v":""},{"$f":"IF(EPV!AI7=\"\",\"\",EPV!AI7)","v":""},{"$f":"IF(EPV!AJ7=\"\",\"\",EPV!AJ7)","v":""},{"$f":"IF(EPV!AK7=\"\",\"\",EPV!AK7)","v":""},{"$f":"IF(EPV!AL7=\"\",\"\",EPV!AL7)","v":""},{"$f":"IF(EPV!AM7=\"\",\"\",EPV!AM7)","v":""},{"$f":"IF(EPV!AN7=\"\",\"\",EPV!AN7)","v":""},{"$f":"IF(EPV!AO7=\"\",\"\",EPV!AO7)","v":""},{"$f":"IF(EPV!AP7=\"\",\"\",EPV!AP7)","v":""}]
[null,null,null,"Criterio Evaluación 2.2",{"$f":"IF(EPV!H8=\"\",\"\",EPV!H8)","v":""},{"$f":"IF(EPV!I8=\"\",\"\",EPV!I8)","v":""},{"$f":"IF(EPV!J8=\"\",\"\",EPV!J8)","v":""},{"$f":"IF(EPV!K8=\"\",\"\",EPV!K8)","v":""},{"$f":"IF(EPV!L8=\"\",\"\",EPV!L8)","v":""},{"$f":"IF(EPV!M8=\"\",\"\",EPV!M8)","v":""},{"$f":"IF(EPV!N8=\"\",\"\",EPV!N8)","v":""},{"$f":"IF(EPV!O8=\"\",\"\",EPV!O8)","v":""},{"$f":"IF(EPV!P8=\"\",\"\",EPV!P8)","v":""},{"$f":"IF(EPV!Q8=\"\",\"\",EPV!Q8)","v":""},{"$f":"IF(EPV!R8=\"\",\"\",EPV!R8)","v":""},{"$f":"IF(EPV!S8=\"\",\"\",EPV!S8)","v":""},{"$f":"IF(EPV!T8=\"\",\"\",EPV!T8)","v":""},{"$f":"IF(EPV!U8=\"\",\"\",EPV!U8)","v":""},{"$f":"IF(EPV!V8=\"\",\"\",EPV!V8)","v":""},{"$f":"IF(EPV!W8=\"\",\"\",EPV!W8)","v":""},{"$f":"IF(EPV!X8=\"\",\"\",EPV!X8)","v":""},{"$f":"IF(EPV!Y8=\"\",\"\",EPV!Y8)","v":""},{"$f":"IF(EPV!Z8=\"\",\"\",EPV!Z8)","v":""},{"$f":"IF(EPV!AA8=\"\",\"\",EPV!AA8)","v":""},{"$f":"IF(EPV!AB8=\"\",\"\",EPV!AB8)","v":""},{"$f":"IF(EPV!AC8=\"\",\"\",EPV!AC8)","v":""},{"$f":"IF(EPV!AD8=\"\",\"\",EPV!AD8)","v":""},{"$f":"IF(EPV!AE8=\"\",\"\",EPV!AE8)","v":""},{"$f":"IF(EPV!AF8=\"\",\"\",EPV!AF8)","v":""},{"$f":"IF(EPV!AG8=\"\",\"\",EPV!AG8)","v":""},{"$f":"IF(EPV!AH8=\"\",\"\",EPV!AH8)","v":""},{"$f":"IF(EPV!AI8=\"\",\"\",EPV!AI8)","v":""},{"$f":"IF(EPV!AJ8=\"\",\"\",EPV!AJ8)","v":""},{"$f":"IF(EPV!AK8=\"\",\"\",EPV!AK8)","v":""},{"$f":"IF(EPV!AL8=\"\",\"\",EPV!AL8)","v":""},{"$f":"IF(EPV!AM8=\"\",\"\",EPV!AM8)","v":""},{"$f":"IF(EPV!AN8=\"\",\"\",EPV!AN8)","v":""},{"$f":"IF(EPV!AO8=\"\",\"\",EPV!AO8)","v":""},{"$f":"IF(EPV!AP8=\"\",\"\",EPV!AP8)","v":""}]
[null,null,null,"Criterio Evaluación 2.3",{"$f":"IF(EPV!H9=\"\",\"\",EPV!H9)","v":""},{"$f":"IF(EPV!I9=\"\",\"\",EPV!I9)","v":""},{"$f":"IF(EPV!J9=\"\",\"\",EPV!J9)","v":""},{"$f":"IF(EPV!K9=\"\",\"\",EPV!K9)","v":""},{"$f":"IF(EPV!L9=\"\",\"\",EPV!L9)","v":""},{"$f":"IF(EPV!M9=\"\",\"\",EPV!M9)","v":""},{"$f":"IF(EPV!N9=\"\",\"\",EPV!N9)","v":""},{"$f":"IF(EPV!O9=\"\",\"\",EPV!O9)","v":""},{"$f":"IF(EPV!P9=\"\",\"\",EPV!P9)","v":""},{"$f":"IF(EPV!Q9=\"\",\"\",EPV!Q9)","v":""},{"$f":"IF(EPV!R9=\"\",\"\",EPV!R9)","v":""},{"$f":"IF(EPV!S9=\"\",\"\",EPV!S9)","v":""},{"$f":"IF(EPV!T9=\"\",\"\",EPV!T9)","v":""},{"$f":"IF(EPV!U9=\"\",\"\",EPV!U9)","v":""},{"$f":"IF(EPV!V9=\"\",\"\",EPV!V9)","v":""},{"$f":"IF(EPV!W9=\"\",\"\",EPV!W9)","v":""},{"$f":"IF(EPV!X9=\"\",\"\",EPV!X9)","v":""},{"$f":"IF(EPV!Y9=\"\",\"\",EPV!Y9)","v":""},{"$f":"IF(EPV!Z9=\"\",\"\",EPV!Z9)","v":""},{"$f":"IF(EPV!AA9=\"\",\"\",EPV!AA9)","v":""},{"$f":"IF(EPV!AB9=\"\",\"\",EPV!AB9)","v":""},{"$f":"IF(EPV!AC9=\"\",\"\",EPV!AC9)","v":""},{"$f":"IF(EPV!AD9=\"\",\"\",EPV!AD9)","v":""},{"$f":"IF(EPV!AE9=\"\",\"\",EPV!AE9)","v":""},{"$f":"IF(EPV!AF9=\"\",\"\",EPV!AF9)","v":""},{"$f":"IF(EPV!AG9=\"\",\"\",EPV!AG9)","v":""},{"$f":"IF(EPV!AH9=\"\",\"\",EPV!AH9)","v":""},{"$f":"IF(EPV!AI9=\"\",\"\",EPV!AI9)","v":""},{"$f":"IF(EPV!AJ9=\"\",\"\",EPV!AJ9)","v":""},{"$f":"IF(EPV!AK9=\"\",\"\",EPV!AK9)","v":""},{"$f":"IF(EPV!AL9=\"\",\"\",EPV!AL9)","v":""},{"$f":"IF(EPV!AM9=\"\",\"\",EPV!AM9)","v":""},{"$f":"IF(EPV!AN9=\"\",\"\",EPV!AN9)","v":""},{"$f":"IF(EPV!AO9=\"\",\"\",EPV!AO9)","v":""},{"$f":"IF(EPV!AP9=\"\",\"\",EPV!AP9)","v":""}]
[null,null,"Comp. Esp. 3","Criterio Evaluación 3.1",{"$f":"IF(EPV!H10=\"\",\"\",EPV!H10)","v":""},{"$f":"IF(EPV!I10=\"\",\"\",EPV!I10)","v":""},{"$f":"IF(EPV!J10=\"\",\"\",EPV!J10)","v":""},{"$f":"IF(EPV!K10=\"\",\"\",EPV!K10)","v":""},{"$f":"IF(EPV!L10=\"\",\"\",EPV!L10)","v":""},{"$f":"IF(EPV!M10=\"\",\"\",EPV!M10)","v":""},{"$f":"IF(EPV!N10=\"\",\"\",EPV!N10)","v":""},{"$f":"IF(EPV!O10=\"\",\"\",EPV!O10)","v":""},{"$f":"IF(EPV!P10=\"\",\"\",EPV!P10)","v":""},{"$f":"IF(EPV!Q10=\"\",\"\",EPV!Q10)","v":""},{"$f":"IF(EPV!R10=\"\",\"\",EPV!R10)","v":""},{"$f":"IF(EPV!S10=\"\",\"\",EPV!S10)","v":""},{"$f":"IF(EPV!T10=\"\",\"\",EPV!T10)","v":""},{"$f":"IF(EPV!U10=\"\",\"\",EPV!U10)","v":""},{"$f":"IF(EPV!V10=\"\",\"\",EPV!V10)","v":""},{"$f":"IF(EPV!W10=\"\",\"\",EPV!W10)","v":""},{"$f":"IF(EPV!X10=\"\",\"\",EPV!X10)","v":""},{"$f":"IF(EPV!Y10=\"\",\"\",EPV!Y10)","v":""},{"$f":"IF(EPV!Z10=\"\",\"\",EPV!Z10)","v":""},{"$f":"IF(EPV!AA10=\"\",\"\",EPV!AA10)","v":""},{"$f":"IF(EPV!AB10=\"\",\"\",EPV!AB10)","v":""},{"$f":"IF(EPV!AC10=\"\",\"\",EPV!AC10)","v":""},{"$f":"IF(EPV!AD10=\"\",\"\",EPV!AD10)","v":""},{"$f":"IF(EPV!AE10=\"\",\"\",EPV!AE10)","v":""},{"$f":"IF(EPV!AF10=\"\",\"\",EPV!AF10)","v":""},{"$f":"IF(EPV!AG10=\"\",\"\",EPV!AG10)","v":""},{"$f":"IF(EPV!AH10=\"\",\"\",EPV!AH10)","v":""},{"$f":"IF(EPV!AI10=\"\",\"\",EPV!AI10)","v":""},{"$f":"IF(EPV!AJ10=\"\",\"\",EPV!AJ10)","v":""},{"$f":"IF(EPV!AK10=\"\",\"\",EPV!AK10)","v":""},{"$f":"IF(EPV!AL10=\"\",\"\",EPV!AL10)","v":""},{"$f":"IF(EPV!AM10=\"\",\"\",EPV!AM10)","v":""},{"$f":"IF(EPV!AN10=\"\",\"\",EPV!AN10)","v":""},{"$f":"IF(EPV!AO10=\"\",\"\",EPV!AO10)","v":""},{"$f":"IF(EPV!AP10=\"\",\"\",EPV!AP10)","v":""}]
[null,null,null,"Criterio Evaluación 3.2",{"$f":"IF(EPV!H11=\"\",\"\",EPV!H11)","v":""},{"$f":"IF(EPV!I11=\"\",\"\",EPV!I11)","v":""},{"$f":"IF(EPV!J11=\"\",\"\",EPV!J11)","v":""},{"$f":"IF(EPV!K11=\"\",\"\",EPV!K11)","v":""},{"$f":"IF(EPV!L11=\"\",\"\",EPV!L11)","v":""},{"$f":"IF(EPV!M11=\"\",\"\",EPV!M11)","v":""},{"$f":"IF(EPV!N11=\"\",\"\",EPV!N11)","v":""},{"$f":"IF(EPV!O11=\"\",\"\",EPV!O11)","v":""},{"$f":"IF(EPV!P11=\"\",\"\",EPV!P11)","v":""},{"$f":"IF(EPV!Q11=\"\",\"\",EPV!Q11)","v":""},{"$f":"IF(EPV!R11=\"\",\"\",EPV!R11)","v":""},{"$f":"IF(EPV!S11=\"\",\"\",EPV!S11)","v":""},{"$f":"IF(EPV!T11=\"\",\"\",EPV!T11)","v":""},{"$f":"IF(EPV!U11=\"\",\"\",EPV!U11)","v":""},{"$f":"IF(EPV!V11=\"\",\"\",EPV!V11)","v":""},{"$f":"IF(EPV!W11=\"\",\"\",EPV!W11)","v":""},{"$f":"IF(EPV!X11=\"\",\"\",EPV!X11)","v":""},{"$f":"IF(EPV!Y11=\"\",\"\",EPV!Y11)","v":""},{"$f":"IF(EPV!Z11=\"\",\"\",EPV!Z11)","v":""},{"$f":"IF(EPV!AA11=\"\",\"\",EPV!AA11)","v":""},{"$f":"IF(EPV!AB11=\"\",\"\",EPV!AB11)","v":""},{"$f":"IF(EPV!AC11=\"\",\"\",EPV!AC11)","v":""},{"$f":"IF(EPV!AD11=\"\",\"\",EPV!AD11)","v":""},{"$f":"IF(EPV!AE11=\"\",\"\",EPV!AE11)","v":""},{"$f":"IF(EPV!AF11=\"\",\"\",EPV!AF11)","v":""},{"$f":"IF(EPV!AG11=\"\",\"\",EPV!AG11)","v":""},{"$f":"IF(EPV!AH11=\"\",\"\",EPV!AH11)","v":""},{"$f":"IF(EPV!AI11=\"\",\"\",EPV!AI11)","v":""},{"$f":"IF(EPV!AJ11=\"\",\"\",EPV!AJ11)","v":""},{"$f":"IF(EPV!AK11=\"\",\"\",EPV!AK11)","v":""},{"$f":"IF(EPV!AL11=\"\",\"\",EPV!AL11)","v":""},{"$f":"IF(EPV!AM11=\"\",\"\",EPV!AM11)","v":""},{"$f":"IF(EPV!AN11=\"\",\"\",EPV!AN11)","v":""},{"$f":"IF(EPV!AO11=\"\",\"\",EPV!AO11)","v":""},{"$f":"IF(EPV!AP11=\"\",\"\",EPV!AP11)","v":""}]
[null,null,null,"Criterio Evaluación 3.3",{"$f":"IF(EPV!H12=\"\",\"\",EPV!H12)","v":""},{"$f":"IF(EPV!I12=\"\",\"\",EPV!I12)","v":""},{"$f":"IF(EPV!J12=\"\",\"\",EPV!J12)","v":""},{"$f":"IF(EPV!K12=\"\",\"\",EPV!K12)","v":""},{"$f":"IF(EPV!L12=\"\",\"\",EPV!L12)","v":""},{"$f":"IF(EPV!M12=\"\",\"\",EPV!M12)","v":""},{"$f":"IF(EPV!N12=\"\",\"\",EPV!N12)","v":""},{"$f":"IF(EPV!O12=\"\",\"\",EPV!O12)","v":""},{"$f":"IF(EPV!P12=\"\",\"\",EPV!P12)","v":""},{"$f":"IF(EPV!Q12=\"\",\"\",EPV!Q12)","v":""},{"$f":"IF(EPV!R12=\"\",\"\",EPV!R12)","v":""},{"$f":"IF(EPV!S12=\"\",\"\",EPV!S12)","v":""},{"$f":"IF(EPV!T12=\"\",\"\",EPV!T12)","v":""},{"$f":"IF(EPV!U12=\"\",\"\",EPV!U12)","v":""},{"$f":"IF(EPV!V12=\"\",\"\",EPV!V12)","v":""},{"$f":"IF(EPV!W12=\"\",\"\",EPV!W12)","v":""},{"$f":"IF(EPV!X12=\"\",\"\",EPV!X12)","v":""},{"$f":"IF(EPV!Y12=\"\",\"\",EPV!Y12)","v":""},{"$f":"IF(EPV!Z12=\"\",\"\",EPV!Z12)","v":""},{"$f":"IF(EPV!AA12=\"\",\"\",EPV!AA12)","v":""},{"$f":"IF(EPV!AB12=\"\",\"\",EPV!AB12)","v":""},{"$f":"IF(EPV!AC12=\"\",\"\",EPV!AC12)","v":""},{"$f":"IF(EPV!AD12=\"\",\"\",EPV!AD12)","v":""},{"$f":"IF(EPV!AE12=\"\",\"\",EPV!AE12)","v":""},{"$f":"IF(EPV!AF12=\"\",\"\",EPV!AF12)","v":""},{"$f":"IF(EPV!AG12=\"\",\"\",EPV!AG12)","v":""},{"$f":"IF(EPV!AH12=\"\",\"\",EPV!AH12)","v":""},{"$f":"IF(EPV!AI12=\"\",\"\",EPV!AI12)","v":""},{"$f":"IF(EPV!AJ12=\"\",\"\",EPV!AJ12)","v":""},{"$f":"IF(EPV!AK12=\"\",\"\",EPV!AK12)","v":""},{"$f":"IF(EPV!AL12=\"\",\"\",EPV!AL12)","v":""},{"$f":"IF(EPV!AM12=\"\",\"\",EPV!AM12)","v":""},{"$f":"IF(EPV!AN12=\"\",\"\",EPV!AN12)","v":""},{"$f":"IF(EPV!AO12=\"\",\"\",EPV!AO12)","v":""},{"$f":"IF(EPV!AP12=\"\",\"\",EPV!AP12)","v":""}]
[null,null,"Comp. Esp. 4","Criterio Evaluación 4.1",{"$f":"IF(EPV!H13=\"\",\"\",EPV!H13)","v":""},{"$f":"IF(EPV!I13=\"\",\"\",EPV!I13)","v":""},{"$f":"IF(EPV!J13=\"\",\"\",EPV!J13)","v":""},{"$f":"IF(EPV!K13=\"\",\"\",EPV!K13)","v":""},{"$f":"IF(EPV!L13=\"\",\"\",EPV!L13)","v":""},{"$f":"IF(EPV!M13=\"\",\"\",EPV!M13)","v":""},{"$f":"IF(EPV!N13=\"\",\"\",EPV!N13)","v":""},{"$f":"IF(EPV!O13=\"\",\"\",EPV!O13)","v":""},{"$f":"IF(EPV!P13=\"\",\"\",EPV!P13)","v":""},{"$f":"IF(EPV!Q13=\"\",\"\",EPV!Q13)","v":""},{"$f":"IF(EPV!R13=\"\",\"\",EPV!R13)","v":""},{"$f":"IF(EPV!S13=\"\",\"\",EPV!S13)","v":""},{"$f":"IF(EPV!T13=\"\",\"\",EPV!T13)","v":""},{"$f":"IF(EPV!U13=\"\",\"\",EPV!U13)","v":""},{"$f":"IF(EPV!V13=\"\",\"\",EPV!V13)","v":""},{"$f":"IF(EPV!W13=\"\",\"\",EPV!W13)","v":""},{"$f":"IF(EPV!X13=\"\",\"\",EPV!X13)","v":""},{"$f":"IF(EPV!Y13=\"\",\"\",EPV!Y13)","v":""},{"$f":"IF(EPV!Z13=\"\",\"\",EPV!Z13)","v":""},{"$f":"IF(EPV!AA13=\"\",\"\",EPV!AA13)","v":""},{"$f":"IF(EPV!AB13=\"\",\"\",EPV!AB13)","v":""},{"$f":"IF(EPV!AC13=\"\",\"\",EPV!AC13)","v":""},{"$f":"IF(EPV!AD13=\"\",\"\",EPV!AD13)","v":""},{"$f":"IF(EPV!AE13=\"\",\"\",EPV!AE13)","v":""},{"$f":"IF(EPV!AF13=\"\",\"\",EPV!AF13)","v":""},{"$f":"IF(EPV!AG13=\"\",\"\",EPV!AG13)","v":""},{"$f":"IF(EPV!AH13=\"\",\"\",EPV!AH13)","v":""},{"$f":"IF(EPV!AI13=\"\",\"\",EPV!AI13)","v":""},{"$f":"IF(EPV!AJ13=\"\",\"\",EPV!AJ13)","v":""},{"$f":"IF(EPV!AK13=\"\",\"\",EPV!AK13)","v":""},{"$f":"IF(EPV!AL13=\"\",\"\",EPV!AL13)","v":""},{"$f":"IF(EPV!AM13=\"\",\"\",EPV!AM13)","v":""},{"$f":"IF(EPV!AN13=\"\",\"\",EPV!AN13)","v":""},{"$f":"IF(EPV!AO13=\"\",\"\",EPV!AO13)","v":""},{"$f":"IF(EPV!AP13=\"\",\"\",EPV!AP13)","v":""}]
[null,null,null,"Criterio Evaluación 4.2",{"$f":"IF(EPV!H14=\"\",\"\",EPV!H14)","v":""},{"$f":"IF(EPV!I14=\"\",\"\",EPV!I14)","v":""},{"$f":"IF(EPV!J14=\"\",\"\",EPV!J14)","v":""},{"$f":"IF(EPV!K14=\"\",\"\",EPV!K14)","v":""},{"$f":"IF(EPV!L14=\"\",\"\",EPV!L14)","v":""},{"$f":"IF(EPV!M14=\"\",\"\",EPV!M14)","v":""},{"$f":"IF(EPV!N14=\"\",\"\",EPV!N14)","v":""},{"$f":"IF(EPV!O14=\"\",\"\",EPV!O14)","v":""},{"$f":"IF(EPV!P14=\"\",\"\",EPV!P14)","v":""},{"$f":"IF(EPV!Q14=\"\",\"\",EPV!Q14)","v":""},{"$f":"IF(EPV!R14=\"\",\"\",EPV!R14)","v":""},{"$f":"IF(EPV!S14=\"\",\"\",EPV!S14)","v":""},{"$f":"IF(EPV!T14=\"\",\"\",EPV!T14)","v":""},{"$f":"IF(EPV!U14=\"\",\"\",EPV!U14)","v":""},{"$f":"IF(EPV!V14=\"\",\"\",EPV!V14)","v":""},{"$f":"IF(EPV!W14=\"\",\"\",EPV!W14)","v":""},{"$f":"IF(EPV!X14=\"\",\"\",EPV!X14)","v":""},{"$f":"IF(EPV!Y14=\"\",\"\",EPV!Y14)","v":""},{"$f":"IF(EPV!Z14=\"\",\"\",EPV!Z14)","v":""},{"$f":"IF(EPV!AA14=\"\",\"\",EPV!AA14)","v":""},{"$f":"IF(EPV!AB14=\"\",\"\",EPV!AB14)","v":""},{"$f":"IF(EPV!AC14=\"\",\"\",EPV!AC14)","v":""},{"$f":"IF(EPV!AD14=\"\",\"\",EPV!AD14)","v":""},{"$f":"IF(EPV!AE14=\"\",\"\",EPV!AE14)","v":""},{"$f":"IF(EPV!AF14=\"\",\"\",EPV!AF14)","v":""},{"$f":"IF(EPV!AG14=\"\",\"\",EPV!AG14)","v":""},{"$f":"IF(EPV!AH14=\"\",\"\",EPV!AH14)","v":""},{"$f":"IF(EPV!AI14=\"\",\"\",EPV!AI14)","v":""},{"$f":"IF(EPV!AJ14=\"\",\"\",EPV!AJ14)","v":""},{"$f":"IF(EPV!AK14=\"\",\"\",EPV!AK14)","v":""},{"$f":"IF(EPV!AL14=\"\",\"\",EPV!AL14)","v":""},{"$f":"IF(EPV!AM14=\"\",\"\",EPV!AM14)","v":""},{"$f":"IF(EPV!AN14=\"\",\"\",EPV!AN14)","v":""},{"$f":"IF(EPV!AO14=\"\",\"\",EPV!AO14)","v":""},{"$f":"IF(EPV!AP14=\"\",\"\",EPV!AP14)","v":""}]
[null,null,null,"Criterio Evaluación 4.3",{"$f":"IF(EPV!H15=\"\",\"\",EPV!H15)","v":""},{"$f":"IF(EPV!I15=\"\",\"\",EPV!I15)","v":""},{"$f":"IF(EPV!J15=\"\",\"\",EPV!J15)","v":""},{"$f":"IF(EPV!K15=\"\",\"\",EPV!K15)","v":""},{"$f":"IF(EPV!L15=\"\",\"\",EPV!L15)","v":""},{"$f":"IF(EPV!M15=\"\",\"\",EPV!M15)","v":""},{"$f":"IF(EPV!N15=\"\",\"\",EPV!N15)","v":""},{"$f":"IF(EPV!O15=\"\",\"\",EPV!O15)","v":""},{"$f":"IF(EPV!P15=\"\",\"\",EPV!P15)","v":""},{"$f":"IF(EPV!Q15=\"\",\"\",EPV!Q15)","v":""},{"$f":"IF(EPV!R15=\"\",\"\",EPV!R15)","v":""},{"$f":"IF(EPV!S15=\"\",\"\",EPV!S15)","v":""},{"$f":"IF(EPV!T15=\"\",\"\",EPV!T15)","v":""},{"$f":"IF(EPV!U15=\"\",\"\",EPV!U15)","v":""},{"$f":"IF(EPV!V15=\"\",\"\",EPV!V15)","v":""},{"$f":"IF(EPV!W15=\"\",\"\",EPV!W15)","v":""},{"$f":"IF(EPV!X15=\"\",\"\",EPV!X15)","v":""},{"$f":"IF(EPV!Y15=\"\",\"\",EPV!Y15)","v":""},{"$f":"IF(EPV!Z15=\"\",\"\",EPV!Z15)","v":""},{"$f":"IF(EPV!AA15=\"\",\"\",EPV!AA15)","v":""},{"$f":"IF(EPV!AB15=\"\",\"\",EPV!AB15)","v":""},{"$f":"IF(EPV!AC15=\"\",\"\",EPV!AC15)","v":""},{"$f":"IF(EPV!AD15=\"\",\"\",EPV!AD15)","v":""},{"$f":"IF(EPV!AE15=\"\",\"\",EPV!AE15)","v":""},{"$f":"IF(EPV!AF15=\"\",\"\",EPV!AF15)","v":""},{"$f":"IF(EPV!AG15=\"\",\"\",EPV!AG15)","v":""},{"$f":"IF(EPV!AH15=\"\",\"\",EPV!AH15)","v":""},{"$f":"IF(EPV!AI15=\"\",\"\",EPV!AI15)","v":""},{"$f":"IF(EPV!AJ15=\"\",\"\",EPV!AJ15)","v":""},{"$f":"IF(EPV!AK15=\"\",\"\",EPV!AK15)","v":""},{"$f":"IF(EPV!AL15=\"\",\"\",EPV!AL15)","v":""},{"$f":"IF(EPV!AM15=\"\",\"\",EPV!AM15)","v":""},{"$f":"IF(EPV!AN15=\"\",\"\",EPV!AN15)","v":""},{"$f":"IF(EPV!AO15=\"\",\"\",EPV!AO15)","v":""},{"$f":"IF(EPV!AP15=\"\",\"\",EPV!AP15)","v":""}]
[null,"Música y Danza  ","Comp. Esp. 1","Criterio Evaluación 1.1",{"$f":"IF('Musica y Danza'!H4=\"\",\"\",'Musica y Danza'!H4)","v":""},{"$f":"IF('Musica y Danza'!I4=\"\",\"\",'Musica y Danza'!I4)","v":""},{"$f":"IF('Musica y Danza'!J4=\"\",\"\",'Musica y Danza'!J4)","v":""},{"$f":"IF('Musica y Danza'!K4=\"\",\"\",'Musica y Danza'!K4)","v":""},{"$f":"IF('Musica y Danza'!L4=\"\",\"\",'Musica y Danza'!L4)","v":""},{"$f":"IF('Musica y Danza'!M4=\"\",\"\",'Musica y Danza'!M4)","v":""},{"$f":"IF('Musica y Danza'!N4=\"\",\"\",'Musica y Danza'!N4)","v":""},{"$f":"IF('Musica y Danza'!O4=\"\",\"\",'Musica y Danza'!O4)","v":""},{"$f":"IF('Musica y Danza'!P4=\"\",\"\",'Musica y Danza'!P4)","v":""},{"$f":"IF('Musica y Danza'!Q4=\"\",\"\",'Musica y Danza'!Q4)","v":""},{"$f":"IF('Musica y Danza'!R4=\"\",\"\",'Musica y Danza'!R4)","v":""},{"$f":"IF('Musica y Danza'!S4=\"\",\"\",'Musica y Danza'!S4)","v":""},{"$f":"IF('Musica y Danza'!T4=\"\",\"\",'Musica y Danza'!T4)","v":""},{"$f":"IF('Musica y Danza'!U4=\"\",\"\",'Musica y Danza'!U4)","v":""},{"$f":"IF('Musica y Danza'!V4=\"\",\"\",'Musica y Danza'!V4)","v":""},{"$f":"IF('Musica y Danza'!W4=\"\",\"\",'Musica y Danza'!W4)","v":""},{"$f":"IF('Musica y Danza'!X4=\"\",\"\",'Musica y Danza'!X4)","v":""},{"$f":"IF('Musica y Danza'!Y4=\"\",\"\",'Musica y Danza'!Y4)","v":""},{"$f":"IF('Musica y Danza'!Z4=\"\",\"\",'Musica y Danza'!Z4)","v":""},{"$f":"IF('Musica y Danza'!AA4=\"\",\"\",'Musica y Danza'!AA4)","v":""},{"$f":"IF('Musica y Danza'!AB4=\"\",\"\",'Musica y Danza'!AB4)","v":""},{"$f":"IF('Musica y Danza'!AC4=\"\",\"\",'Musica y Danza'!AC4)","v":""},{"$f":"IF('Musica y Danza'!AD4=\"\",\"\",'Musica y Danza'!AD4)","v":""},{"$f":"IF('Musica y Danza'!AE4=\"\",\"\",'Musica y Danza'!AE4)","v":""},{"$f":"IF('Musica y Danza'!AF4=\"\",\"\",'Musica y Danza'!AF4)","v":""},{"$f":"IF('Musica y Danza'!AG4=\"\",\"\",'Musica y Danza'!AG4)","v":""},{"$f":"IF('Musica y Danza'!AH4=\"\",\"\",'Musica y Danza'!AH4)","v":""},{"$f":"IF('Musica y Danza'!AI4=\"\",\"\",'Musica y Danza'!AI4)","v":""},{"$f":"IF('Musica y Danza'!AJ4=\"\",\"\",'Musica y Danza'!AJ4)","v":""},{"$f":"IF('Musica y Danza'!AK4=\"\",\"\",'Musica y Danza'!AK4)","v":""},{"$f":"IF('Musica y Danza'!AL4=\"\",\"\",'Musica y Danza'!AL4)","v":""},{"$f":"IF('Musica y Danza'!AM4=\"\",\"\",'Musica y Danza'!AM4)","v":""},{"$f":"IF('Musica y Danza'!AN4=\"\",\"\",'Musica y Danza'!AN4)","v":""},{"$f":"IF('Musica y Danza'!AO4=\"\",\"\",'Musica y Danza'!AO4)","v":""},{"$f":"IF('Musica y Danza'!AP4=\"\",\"\",'Musica y Danza'!AP4)","v":""}]
[null,null,null,"Criterio Evaluación 1.2",{"$f":"IF('Musica y Danza'!H5=\"\",\"\",'Musica y Danza'!H5)","v":""},{"$f":"IF('Musica y Danza'!I5=\"\",\"\",'Musica y Danza'!I5)","v":""},{"$f":"IF('Musica y Danza'!J5=\"\",\"\",'Musica y Danza'!J5)","v":""},{"$f":"IF('Musica y Danza'!K5=\"\",\"\",'Musica y Danza'!K5)","v":""},{"$f":"IF('Musica y Danza'!L5=\"\",\"\",'Musica y Danza'!L5)","v":""},{"$f":"IF('Musica y Danza'!M5=\"\",\"\",'Musica y Danza'!M5)","v":""},{"$f":"IF('Musica y Danza'!N5=\"\",\"\",'Musica y Danza'!N5)","v":""},{"$f":"IF('Musica y Danza'!O5=\"\",\"\",'Musica y Danza'!O5)","v":""},{"$f":"IF('Musica y Danza'!P5=\"\",\"\",'Musica y Danza'!P5)","v":""},{"$f":"IF('Musica y Danza'!Q5=\"\",\"\",'Musica y Danza'!Q5)","v":""},{"$f":"IF('Musica y Danza'!R5=\"\",\"\",'Musica y Danza'!R5)","v":""},{"$f":"IF('Musica y Danza'!S5=\"\",\"\",'Musica y Danza'!S5)","v":""},{"$f":"IF('Musica y Danza'!T5=\"\",\"\",'Musica y Danza'!T5)","v":""},{"$f":"IF('Musica y Danza'!U5=\"\",\"\",'Musica y Danza'!U5)","v":""},{"$f":"IF('Musica y Danza'!V5=\"\",\"\",'Musica y Danza'!V5)","v":""},{"$f":"IF('Musica y Danza'!W5=\"\",\"\",'Musica y Danza'!W5)","v":""},{"$f":"IF('Musica y Danza'!X5=\"\",\"\",'Musica y Danza'!X5)","v":""},{"$f":"IF('Musica y Danza'!Y5=\"\",\"\",'Musica y Danza'!Y5)","v":""},{"$f":"IF('Musica y Danza'!Z5=\"\",\"\",'Musica y Danza'!Z5)","v":""},{"$f":"IF('Musica y Danza'!AA5=\"\",\"\",'Musica y Danza'!AA5)","v":""},{"$f":"IF('Musica y Danza'!AB5=\"\",\"\",'Musica y Danza'!AB5)","v":""},{"$f":"IF('Musica y Danza'!AC5=\"\",\"\",'Musica y Danza'!AC5)","v":""},{"$f":"IF('Musica y Danza'!AD5=\"\",\"\",'Musica y Danza'!AD5)","v":""},{"$f":"IF('Musica y Danza'!AE5=\"\",\"\",'Musica y Danza'!AE5)","v":""},{"$f":"IF('Musica y Danza'!AF5=\"\",\"\",'Musica y Danza'!AF5)","v":""},{"$f":"IF('Musica y Danza'!AG5=\"\",\"\",'Musica y Danza'!AG5)","v":""},{"$f":"IF('Musica y Danza'!AH5=\"\",\"\",'Musica y Danza'!AH5)","v":""},{"$f":"IF('Musica y Danza'!AI5=\"\",\"\",'Musica y Danza'!AI5)","v":""},{"$f":"IF('Musica y Danza'!AJ5=\"\",\"\",'Musica y Danza'!AJ5)","v":""},{"$f":"IF('Musica y Danza'!AK5=\"\",\"\",'Musica y Danza'!AK5)","v":""},{"$f":"IF('Musica y Danza'!AL5=\"\",\"\",'Musica y Danza'!AL5)","v":""},{"$f":"IF('Musica y Danza'!AM5=\"\",\"\",'Musica y Danza'!AM5)","v":""},{"$f":"IF('Musica y Danza'!AN5=\"\",\"\",'Musica y Danza'!AN5)","v":""},{"$f":"IF('Musica y Danza'!AO5=\"\",\"\",'Musica y Danza'!AO5)","v":""},{"$f":"IF('Musica y Danza'!AP5=\"\",\"\",'Musica y Danza'!AP5)","v":""}]
[null,null,null,"Criterio Evaluación 1.3",{"$f":"IF('Musica y Danza'!H6=\"\",\"\",'Musica y Danza'!H6)","v":""},{"$f":"IF('Musica y Danza'!I6=\"\",\"\",'Musica y Danza'!I6)","v":""},{"$f":"IF('Musica y Danza'!J6=\"\",\"\",'Musica y Danza'!J6)","v":""},{"$f":"IF('Musica y Danza'!K6=\"\",\"\",'Musica y Danza'!K6)","v":""},{"$f":"IF('Musica y Danza'!L6=\"\",\"\",'Musica y Danza'!L6)","v":""},{"$f":"IF('Musica y Danza'!M6=\"\",\"\",'Musica y Danza'!M6)","v":""},{"$f":"IF('Musica y Danza'!N6=\"\",\"\",'Musica y Danza'!N6)","v":""},{"$f":"IF('Musica y Danza'!O6=\"\",\"\",'Musica y Danza'!O6)","v":""},{"$f":"IF('Musica y Danza'!P6=\"\",\"\",'Musica y Danza'!P6)","v":""},{"$f":"IF('Musica y Danza'!Q6=\"\",\"\",'Musica y Danza'!Q6)","v":""},{"$f":"IF('Musica y Danza'!R6=\"\",\"\",'Musica y Danza'!R6)","v":""},{"$f":"IF('Musica y Danza'!S6=\"\",\"\",'Musica y Danza'!S6)","v":""},{"$f":"IF('Musica y Danza'!T6=\"\",\"\",'Musica y Danza'!T6)","v":""},{"$f":"IF('Musica y Danza'!U6=\"\",\"\",'Musica y Danza'!U6)","v":""},{"$f":"IF('Musica y Danza'!V6=\"\",\"\",'Musica y Danza'!V6)","v":""},{"$f":"IF('Musica y Danza'!W6=\"\",\"\",'Musica y Danza'!W6)","v":""},{"$f":"IF('Musica y Danza'!X6=\"\",\"\",'Musica y Danza'!X6)","v":""},{"$f":"IF('Musica y Danza'!Y6=\"\",\"\",'Musica y Danza'!Y6)","v":""},{"$f":"IF('Musica y Danza'!Z6=\"\",\"\",'Musica y Danza'!Z6)","v":""},{"$f":"IF('Musica y Danza'!AA6=\"\",\"\",'Musica y Danza'!AA6)","v":""},{"$f":"IF('Musica y Danza'!AB6=\"\",\"\",'Musica y Danza'!AB6)","v":""},{"$f":"IF('Musica y Danza'!AC6=\"\",\"\",'Musica y Danza'!AC6)","v":""},{"$f":"IF('Musica y Danza'!AD6=\"\",\"\",'Musica y Danza'!AD6)","v":""},{"$f":"IF('Musica y Danza'!AE6=\"\",\"\",'Musica y Danza'!AE6)","v":""},{"$f":"IF('Musica y Danza'!AF6=\"\",\"\",'Musica y Danza'!AF6)","v":""},{"$f":"IF('Musica y Danza'!AG6=\"\",\"\",'Musica y Danza'!AG6)","v":""},{"$f":"IF('Musica y Danza'!AH6=\"\",\"\",'Musica y Danza'!AH6)","v":""},{"$f":"IF('Musica y Danza'!AI6=\"\",\"\",'Musica y Danza'!AI6)","v":""},{"$f":"IF('Musica y Danza'!AJ6=\"\",\"\",'Musica y Danza'!AJ6)","v":""},{"$f":"IF('Musica y Danza'!AK6=\"\",\"\",'Musica y Danza'!AK6)","v":""},{"$f":"IF('Musica y Danza'!AL6=\"\",\"\",'Musica y Danza'!AL6)","v":""},{"$f":"IF('Musica y Danza'!AM6=\"\",\"\",'Musica y Danza'!AM6)","v":""},{"$f":"IF('Musica y Danza'!AN6=\"\",\"\",'Musica y Danza'!AN6)","v":""},{"$f":"IF('Musica y Danza'!AO6=\"\",\"\",'Musica y Danza'!AO6)","v":""},{"$f":"IF('Musica y Danza'!AP6=\"\",\"\",'Musica y Danza'!AP6)","v":""}]
[null,null,"Comp. Esp. 2","Criterio Evaluación 2.1",{"$f":"IF('Musica y Danza'!H7=\"\",\"\",'Musica y Danza'!H7)","v":""},{"$f":"IF('Musica y Danza'!I7=\"\",\"\",'Musica y Danza'!I7)","v":""},{"$f":"IF('Musica y Danza'!J7=\"\",\"\",'Musica y Danza'!J7)","v":""},{"$f":"IF('Musica y Danza'!K7=\"\",\"\",'Musica y Danza'!K7)","v":""},{"$f":"IF('Musica y Danza'!L7=\"\",\"\",'Musica y Danza'!L7)","v":""},{"$f":"IF('Musica y Danza'!M7=\"\",\"\",'Musica y Danza'!M7)","v":""},{"$f":"IF('Musica y Danza'!N7=\"\",\"\",'Musica y Danza'!N7)","v":""},{"$f":"IF('Musica y Danza'!O7=\"\",\"\",'Musica y Danza'!O7)","v":""},{"$f":"IF('Musica y Danza'!P7=\"\",\"\",'Musica y Danza'!P7)","v":""},{"$f":"IF('Musica y Danza'!Q7=\"\",\"\",'Musica y Danza'!Q7)","v":""},{"$f":"IF('Musica y Danza'!R7=\"\",\"\",'Musica y Danza'!R7)","v":""},{"$f":"IF('Musica y Danza'!S7=\"\",\"\",'Musica y Danza'!S7)","v":""},{"$f":"IF('Musica y Danza'!T7=\"\",\"\",'Musica y Danza'!T7)","v":""},{"$f":"IF('Musica y Danza'!U7=\"\",\"\",'Musica y Danza'!U7)","v":""},{"$f":"IF('Musica y Danza'!V7=\"\",\"\",'Musica y Danza'!V7)","v":""},{"$f":"IF('Musica y Danza'!W7=\"\",\"\",'Musica y Danza'!W7)","v":""},{"$f":"IF('Musica y Danza'!X7=\"\",\"\",'Musica y Danza'!X7)","v":""},{"$f":"IF('Musica y Danza'!Y7=\"\",\"\",'Musica y Danza'!Y7)","v":""},{"$f":"IF('Musica y Danza'!Z7=\"\",\"\",'Musica y Danza'!Z7)","v":""},{"$f":"IF('Musica y Danza'!AA7=\"\",\"\",'Musica y Danza'!AA7)","v":""},{"$f":"IF('Musica y Danza'!AB7=\"\",\"\",'Musica y Danza'!AB7)","v":""},{"$f":"IF('Musica y Danza'!AC7=\"\",\"\",'Musica y Danza'!AC7)","v":""},{"$f":"IF('Musica y Danza'!AD7=\"\",\"\",'Musica y Danza'!AD7)","v":""},{"$f":"IF('Musica y Danza'!AE7=\"\",\"\",'Musica y Danza'!AE7)","v":""},{"$f":"IF('Musica y Danza'!AF7=\"\",\"\",'Musica y Danza'!AF7)","v":""},{"$f":"IF('Musica y Danza'!AG7=\"\",\"\",'Musica y Danza'!AG7)","v":""},{"$f":"IF('Musica y Danza'!AH7=\"\",\"\",'Musica y Danza'!AH7)","v":""},{"$f":"IF('Musica y Danza'!AI7=\"\",\"\",'Musica y Danza'!AI7)","v":""},{"$f":"IF('Musica y Danza'!AJ7=\"\",\"\",'Musica y Danza'!AJ7)","v":""},{"$f":"IF('Musica y Danza'!AK7=\"\",\"\",'Musica y Danza'!AK7)","v":""},{"$f":"IF('Musica y Danza'!AL7=\"\",\"\",'Musica y Danza'!AL7)","v":""},{"$f":"IF('Musica y Danza'!AM7=\"\",\"\",'Musica y Danza'!AM7)","v":""},{"$f":"IF('Musica y Danza'!AN7=\"\",\"\",'Musica y Danza'!AN7)","v":""},{"$f":"IF('Musica y Danza'!AO7=\"\",\"\",'Musica y Danza'!AO7)","v":""},{"$f":"IF('Musica y Danza'!AP7=\"\",\"\",'Musica y Danza'!AP7)","v":""}]
[null,null,null,"Criterio Evaluación 2.2",{"$f":"IF('Musica y Danza'!H8=\"\",\"\",'Musica y Danza'!H8)","v":""},{"$f":"IF('Musica y Danza'!I8=\"\",\"\",'Musica y Danza'!I8)","v":""},{"$f":"IF('Musica y Danza'!J8=\"\",\"\",'Musica y Danza'!J8)","v":""},{"$f":"IF('Musica y Danza'!K8=\"\",\"\",'Musica y Danza'!K8)","v":""},{"$f":"IF('Musica y Danza'!L8=\"\",\"\",'Musica y Danza'!L8)","v":""},{"$f":"IF('Musica y Danza'!M8=\"\",\"\",'Musica y Danza'!M8)","v":""},{"$f":"IF('Musica y Danza'!N8=\"\",\"\",'Musica y Danza'!N8)","v":""},{"$f":"IF('Musica y Danza'!O8=\"\",\"\",'Musica y Danza'!O8)","v":""},{"$f":"IF('Musica y Danza'!P8=\"\",\"\",'Musica y Danza'!P8)","v":""},{"$f":"IF('Musica y Danza'!Q8=\"\",\"\",'Musica y Danza'!Q8)","v":""},{"$f":"IF('Musica y Danza'!R8=\"\",\"\",'Musica y Danza'!R8)","v":""},{"$f":"IF('Musica y Danza'!S8=\"\",\"\",'Musica y Danza'!S8)","v":""},{"$f":"IF('Musica y Danza'!T8=\"\",\"\",'Musica y Danza'!T8)","v":""},{"$f":"IF('Musica y Danza'!U8=\"\",\"\",'Musica y Danza'!U8)","v":""},{"$f":"IF('Musica y Danza'!V8=\"\",\"\",'Musica y Danza'!V8)","v":""},{"$f":"IF('Musica y Danza'!W8=\"\",\"\",'Musica y Danza'!W8)","v":""},{"$f":"IF('Musica y Danza'!X8=\"\",\"\",'Musica y Danza'!X8)","v":""},{"$f":"IF('Musica y Danza'!Y8=\"\",\"\",'Musica y Danza'!Y8)","v":""},{"$f":"IF('Musica y Danza'!Z8=\"\",\"\",'Musica y Danza'!Z8)","v":""},{"$f":"IF('Musica y Danza'!AA8=\"\",\"\",'Musica y Danza'!AA8)","v":""},{"$f":"IF('Musica y Danza'!AB8=\"\",\"\",'Musica y Danza'!AB8)","v":""},{"$f":"IF('Musica y Danza'!AC8=\"\",\"\",'Musica y Danza'!AC8)","v":""},{"$f":"IF('Musica y Danza'!AD8=\"\",\"\",'Musica y Danza'!AD8)","v":""},{"$f":"IF('Musica y Danza'!AE8=\"\",\"\",'Musica y Danza'!AE8)","v":""},{"$f":"IF('Musica y Danza'!AF8=\"\",\"\",'Musica y Danza'!AF8)","v":""},{"$f":"IF('Musica y Danza'!AG8=\"\",\"\",'Musica y Danza'!AG8)","v":""},{"$f":"IF('Musica y Danza'!AH8=\"\",\"\",'Musica y Danza'!AH8)","v":""},{"$f":"IF('Musica y Danza'!AI8=\"\",\"\",'Musica y Danza'!AI8)","v":""},{"$f":"IF('Musica y Danza'!AJ8=\"\",\"\",'Musica y Danza'!AJ8)","v":""},{"$f":"IF('Musica y Danza'!AK8=\"\",\"\",'Musica y Danza'!AK8)","v":""},{"$f":"IF('Musica y Danza'!AL8=\"\",\"\",'Musica y Danza'!AL8)","v":""},{"$f":"IF('Musica y Danza'!AM8=\"\",\"\",'Musica y Danza'!AM8)","v":""},{"$f":"IF('Musica y Danza'!AN8=\"\",\"\",'Musica y Danza'!AN8)","v":""},{"$f":"IF('Musica y Danza'!AO8=\"\",\"\",'Musica y Danza'!AO8)","v":""},{"$f":"IF('Musica y Danza'!AP8=\"\",\"\",'Musica y Danza'!AP8)","v":""}]
[null,null,null,"Criterio Evaluación 2.3",{"$f":"IF('Musica y Danza'!H9=\"\",\"\",'Musica y Danza'!H9)","v":""},{"$f":"IF('Musica y Danza'!I9=\"\",\"\",'Musica y Danza'!I9)","v":""},{"$f":"IF('Musica y Danza'!J9=\"\",\"\",'Musica y Danza'!J9)","v":""},{"$f":"IF('Musica y Danza'!K9=\"\",\"\",'Musica y Danza'!K9)","v":""},{"$f":"IF('Musica y Danza'!L9=\"\",\"\",'Musica y Danza'!L9)","v":""},{"$f":"IF('Musica y Danza'!M9=\"\",\"\",'Musica y Danza'!M9)","v":""},{"$f":"IF('Musica y Danza'!N9=\"\",\"\",'Musica y Danza'!N9)","v":""},{"$f":"IF('Musica y Danza'!O9=\"\",\"\",'Musica y Danza'!O9)","v":""},{"$f":"IF('Musica y Danza'!P9=\"\",\"\",'Musica y Danza'!P9)","v":""},{"$f":"IF('Musica y Danza'!Q9=\"\",\"\",'Musica y Danza'!Q9)","v":""},{"$f":"IF('Musica y Danza'!R9=\"\",\"\",'Musica y Danza'!R9)","v":""},{"$f":"IF('Musica y Danza'!S9=\"\",\"\",'Musica y Danza'!S9)","v":""},{"$f":"IF('Musica y Danza'!T9=\"\",\"\",'Musica y Danza'!T9)","v":""},{"$f":"IF('Musica y Danza'!U9=\"\",\"\",'Musica y Danza'!U9)","v":""},{"$f":"IF('Musica y Danza'!V9=\"\",\"\",'Musica y Danza'!V9)","v":""},{"$f":"IF('Musica y Danza'!W9=\"\",\"\",'Musica y Danza'!W9)","v":""},{"$f":"IF('Musica y Danza'!X9=\"\",\"\",'Musica y Danza'!X9)","v":""},{"$f":"IF('Musica y Danza'!Y9=\"\",\"\",'Musica y Danza'!Y9)","v":""},{"$f":"IF('Musica y Danza'!Z9=\"\",\"\",'Musica y Danza'!Z9)","v":""},{"$f":"IF('Musica y Danza'!AA9=\"\",\"\",'Musica y Danza'!AA9)","v":""},{"$f":"IF('Musica y Danza'!AB9=\"\",\"\",'Musica y Danza'!AB9)","v":""},{"$f":"IF('Musica y Danza'!AC9=\"\",\"\",'Musica y Danza'!AC9)","v":""},{"$f":"IF('Musica y Danza'!AD9=\"\",\"\",'Musica y Danza'!AD9)","v":""},{"$f":"IF('Musica y Danza'!AE9=\"\",\"\",'Musica y Danza'!AE9)","v":""},{"$f":"IF('Musica y Danza'!AF9=\"\",\"\",'Musica y Danza'!AF9)","v":""},{"$f":"IF('Musica y Danza'!AG9=\"\",\"\",'Musica y Danza'!AG9)","v":""},{"$f":"IF('Musica y Danza'!AH9=\"\",\"\",'Musica y Danza'!AH9)","v":""},{"$f":"IF('Musica y Danza'!AI9=\"\",\"\",'Musica y Danza'!AI9)","v":""},{"$f":"IF('Musica y Danza'!AJ9=\"\",\"\",'Musica y Danza'!AJ9)","v":""},{"$f":"IF('Musica y Danza'!AK9=\"\",\"\",'Musica y Danza'!AK9)","v":""},{"$f":"IF('Musica y Danza'!AL9=\"\",\"\",'Musica y Danza'!AL9)","v":""},{"$f":"IF('Musica y Danza'!AM9=\"\",\"\",'Musica y Danza'!AM9)","v":""},{"$f":"IF('Musica y Danza'!AN9=\"\",\"\",'Musica y Danza'!AN9)","v":""},{"$f":"IF('Musica y Danza'!AO9=\"\",\"\",'Musica y Danza'!AO9)","v":""},{"$f":"IF('Musica y Danza'!AP9=\"\",\"\",'Musica y Danza'!AP9)","v":""}]
[null,null,"Comp. Esp. 3","Criterio Evaluación 3.1",{"$f":"IF('Musica y Danza'!H10=\"\",\"\",'Musica y Danza'!H10)","v":""},{"$f":"IF('Musica y Danza'!I10=\"\",\"\",'Musica y Danza'!I10)","v":""},{"$f":"IF('Musica y Danza'!J10=\"\",\"\",'Musica y Danza'!J10)","v":""},{"$f":"IF('Musica y Danza'!K10=\"\",\"\",'Musica y Danza'!K10)","v":""},{"$f":"IF('Musica y Danza'!L10=\"\",\"\",'Musica y Danza'!L10)","v":""},{"$f":"IF('Musica y Danza'!M10=\"\",\"\",'Musica y Danza'!M10)","v":""},{"$f":"IF('Musica y Danza'!N10=\"\",\"\",'Musica y Danza'!N10)","v":""},{"$f":"IF('Musica y Danza'!O10=\"\",\"\",'Musica y Danza'!O10)","v":""},{"$f":"IF('Musica y Danza'!P10=\"\",\"\",'Musica y Danza'!P10)","v":""},{"$f":"IF('Musica y Danza'!Q10=\"\",\"\",'Musica y Danza'!Q10)","v":""},{"$f":"IF('Musica y Danza'!R10=\"\",\"\",'Musica y Danza'!R10)","v":""},{"$f":"IF('Musica y Danza'!S10=\"\",\"\",'Musica y Danza'!S10)","v":""},{"$f":"IF('Musica y Danza'!T10=\"\",\"\",'Musica y Danza'!T10)","v":""},{"$f":"IF('Musica y Danza'!U10=\"\",\"\",'Musica y Danza'!U10)","v":""},{"$f":"IF('Musica y Danza'!V10=\"\",\"\",'Musica y Danza'!V10)","v":""},{"$f":"IF('Musica y Danza'!W10=\"\",\"\",'Musica y Danza'!W10)","v":""},{"$f":"IF('Musica y Danza'!X10=\"\",\"\",'Musica y Danza'!X10)","v":""},{"$f":"IF('Musica y Danza'!Y10=\"\",\"\",'Musica y Danza'!Y10)","v":""},{"$f":"IF('Musica y Danza'!Z10=\"\",\"\",'Musica y Danza'!Z10)","v":""},{"$f":"IF('Musica y Danza'!AA10=\"\",\"\",'Musica y Danza'!AA10)","v":""},{"$f":"IF('Musica y Danza'!AB10=\"\",\"\",'Musica y Danza'!AB10)","v":""},{"$f":"IF('Musica y Danza'!AC10=\"\",\"\",'Musica y Danza'!AC10)","v":""},{"$f":"IF('Musica y Danza'!AD10=\"\",\"\",'Musica y Danza'!AD10)","v":""},{"$f":"IF('Musica y Danza'!AE10=\"\",\"\",'Musica y Danza'!AE10)","v":""},{"$f":"IF('Musica y Danza'!AF10=\"\",\"\",'Musica y Danza'!AF10)","v":""},{"$f":"IF('Musica y Danza'!AG10=\"\",\"\",'Musica y Danza'!AG10)","v":""},{"$f":"IF('Musica y Danza'!AH10=\"\",\"\",'Musica y Danza'!AH10)","v":""},{"$f":"IF('Musica y Danza'!AI10=\"\",\"\",'Musica y Danza'!AI10)","v":""},{"$f":"IF('Musica y Danza'!AJ10=\"\",\"\",'Musica y Danza'!AJ10)","v":""},{"$f":"IF('Musica y Danza'!AK10=\"\",\"\",'Musica y Danza'!AK10)","v":""},{"$f":"IF('Musica y Danza'!AL10=\"\",\"\",'Musica y Danza'!AL10)","v":""},{"$f":"IF('Musica y Danza'!AM10=\"\",\"\",'Musica y Danza'!AM10)","v":""},{"$f":"IF('Musica y Danza'!AN10=\"\",\"\",'Musica y Danza'!AN10)","v":""},{"$f":"IF('Musica y Danza'!AO10=\"\",\"\",'Musica y Danza'!AO10)","v":""},{"$f":"IF('Musica y Danza'!AP10=\"\",\"\",'Musica y Danza'!AP10)","v":""}]
[null,null,null,"Criterio Evaluación 3.2",{"$f":"IF('Musica y Danza'!H11=\"\",\"\",'Musica y Danza'!H11)","v":""},{"$f":"IF('Musica y Danza'!I11=\"\",\"\",'Musica y Danza'!I11)","v":""},{"$f":"IF('Musica y Danza'!J11=\"\",\"\",'Musica y Danza'!J11)","v":""},{"$f":"IF('Musica y Danza'!K11=\"\",\"\",'Musica y Danza'!K11)","v":""},{"$f":"IF('Musica y Danza'!L11=\"\",\"\",'Musica y Danza'!L11)","v":""},{"$f":"IF('Musica y Danza'!M11=\"\",\"\",'Musica y Danza'!M11)","v":""},{"$f":"IF('Musica y Danza'!N11=\"\",\"\",'Musica y Danza'!N11)","v":""},{"$f":"IF('Musica y Danza'!O11=\"\",\"\",'Musica y Danza'!O11)","v":""},{"$f":"IF('Musica y Danza'!P11=\"\",\"\",'Musica y Danza'!P11)","v":""},{"$f":"IF('Musica y Danza'!Q11=\"\",\"\",'Musica y Danza'!Q11)","v":""},{"$f":"IF('Musica y Danza'!R11=\"\",\"\",'Musica y Danza'!R11)","v":""},{"$f":"IF('Musica y Danza'!S11=\"\",\"\",'Musica y Danza'!S11)","v":""},{"$f":"IF('Musica y Danza'!T11=\"\",\"\",'Musica y Danza'!T11)","v":""},{"$f":"IF('Musica y Danza'!U11=\"\",\"\",'Musica y Danza'!U11)","v":""},{"$f":"IF('Musica y Danza'!V11=\"\",\"\",'Musica y Danza'!V11)","v":""},{"$f":"IF('Musica y Danza'!W11=\"\",\"\",'Musica y Danza'!W11)","v":""},{"$f":"IF('Musica y Danza'!X11=\"\",\"\",'Musica y Danza'!X11)","v":""},{"$f":"IF('Musica y Danza'!Y11=\"\",\"\",'Musica y Danza'!Y11)","v":""},{"$f":"IF('Musica y Danza'!Z11=\"\",\"\",'Musica y Danza'!Z11)","v":""},{"$f":"IF('Musica y Danza'!AA11=\"\",\"\",'Musica y Danza'!AA11)","v":""},{"$f":"IF('Musica y Danza'!AB11=\"\",\"\",'Musica y Danza'!AB11)","v":""},{"$f":"IF('Musica y Danza'!AC11=\"\",\"\",'Musica y Danza'!AC11)","v":""},{"$f":"IF('Musica y Danza'!AD11=\"\",\"\",'Musica y Danza'!AD11)","v":""},{"$f":"IF('Musica y Danza'!AE11=\"\",\"\",'Musica y Danza'!AE11)","v":""},{"$f":"IF('Musica y Danza'!AF11=\"\",\"\",'Musica y Danza'!AF11)","v":""},{"$f":"IF('Musica y Danza'!AG11=\"\",\"\",'Musica y Danza'!AG11)","v":""},{"$f":"IF('Musica y Danza'!AH11=\"\",\"\",'Musica y Danza'!AH11)","v":""},{"$f":"IF('Musica y Danza'!AI11=\"\",\"\",'Musica y Danza'!AI11)","v":""},{"$f":"IF('Musica y Danza'!AJ11=\"\",\"\",'Musica y Danza'!AJ11)","v":""},{"$f":"IF('Musica y Danza'!AK11=\"\",\"\",'Musica y Danza'!AK11)","v":""},{"$f":"IF('Musica y Danza'!AL11=\"\",\"\",'Musica y Danza'!AL11)","v":""},{"$f":"IF('Musica y Danza'!AM11=\"\",\"\",'Musica y Danza'!AM11)","v":""},{"$f":"IF('Musica y Danza'!AN11=\"\",\"\",'Musica y Danza'!AN11)","v":""},{"$f":"IF('Musica y Danza'!AO11=\"\",\"\",'Musica y Danza'!AO11)","v":""},{"$f":"IF('Musica y Danza'!AP11=\"\",\"\",'Musica y Danza'!AP11)","v":""}]
[null,null,null,"Criterio Evaluación 3.3",{"$f":"IF('Musica y Danza'!H12=\"\",\"\",'Musica y Danza'!H12)","v":""},{"$f":"IF('Musica y Danza'!I12=\"\",\"\",'Musica y Danza'!I12)","v":""},{"$f":"IF('Musica y Danza'!J12=\"\",\"\",'Musica y Danza'!J12)","v":""},{"$f":"IF('Musica y Danza'!K12=\"\",\"\",'Musica y Danza'!K12)","v":""},{"$f":"IF('Musica y Danza'!L12=\"\",\"\",'Musica y Danza'!L12)","v":""},{"$f":"IF('Musica y Danza'!M12=\"\",\"\",'Musica y Danza'!M12)","v":""},{"$f":"IF('Musica y Danza'!N12=\"\",\"\",'Musica y Danza'!N12)","v":""},{"$f":"IF('Musica y Danza'!O12=\"\",\"\",'Musica y Danza'!O12)","v":""},{"$f":"IF('Musica y Danza'!P12=\"\",\"\",'Musica y Danza'!P12)","v":""},{"$f":"IF('Musica y Danza'!Q12=\"\",\"\",'Musica y Danza'!Q12)","v":""},{"$f":"IF('Musica y Danza'!R12=\"\",\"\",'Musica y Danza'!R12)","v":""},{"$f":"IF('Musica y Danza'!S12=\"\",\"\",'Musica y Danza'!S12)","v":""},{"$f":"IF('Musica y Danza'!T12=\"\",\"\",'Musica y Danza'!T12)","v":""},{"$f":"IF('Musica y Danza'!U12=\"\",\"\",'Musica y Danza'!U12)","v":""},{"$f":"IF('Musica y Danza'!V12=\"\",\"\",'Musica y Danza'!V12)","v":""},{"$f":"IF('Musica y Danza'!W12=\"\",\"\",'Musica y Danza'!W12)","v":""},{"$f":"IF('Musica y Danza'!X12=\"\",\"\",'Musica y Danza'!X12)","v":""},{"$f":"IF('Musica y Danza'!Y12=\"\",\"\",'Musica y Danza'!Y12)","v":""},{"$f":"IF('Musica y Danza'!Z12=\"\",\"\",'Musica y Danza'!Z12)","v":""},{"$f":"IF('Musica y Danza'!AA12=\"\",\"\",'Musica y Danza'!AA12)","v":""},{"$f":"IF('Musica y Danza'!AB12=\"\",\"\",'Musica y Danza'!AB12)","v":""},{"$f":"IF('Musica y Danza'!AC12=\"\",\"\",'Musica y Danza'!AC12)","v":""},{"$f":"IF('Musica y Danza'!AD12=\"\",\"\",'Musica y Danza'!AD12)","v":""},{"$f":"IF('Musica y Danza'!AE12=\"\",\"\",'Musica y Danza'!AE12)","v":""},{"$f":"IF('Musica y Danza'!AF12=\"\",\"\",'Musica y Danza'!AF12)","v":""},{"$f":"IF('Musica y Danza'!AG12=\"\",\"\",'Musica y Danza'!AG12)","v":""},{"$f":"IF('Musica y Danza'!AH12=\"\",\"\",'Musica y Danza'!AH12)","v":""},{"$f":"IF('Musica y Danza'!AI12=\"\",\"\",'Musica y Danza'!AI12)","v":""},{"$f":"IF('Musica y Danza'!AJ12=\"\",\"\",'Musica y Danza'!AJ12)","v":""},{"$f":"IF('Musica y Danza'!AK12=\"\",\"\",'Musica y Danza'!AK12)","v":""},{"$f":"IF('Musica y Danza'!AL12=\"\",\"\",'Musica y Danza'!AL12)","v":""},{"$f":"IF('Musica y Danza'!AM12=\"\",\"\",'Musica y Danza'!AM12)","v":""},{"$f":"IF('Musica y Danza'!AN12=\"\",\"\",'Musica y Danza'!AN12)","v":""},{"$f":"IF('Musica y Danza'!AO12=\"\",\"\",'Musica y Danza'!AO12)","v":""},{"$f":"IF('Musica y Danza'!AP12=\"\",\"\",'Musica y Danza'!AP12)","v":""}]
[null,null,"Comp. Esp. 4","Criterio Evaluación 4.1",{"$f":"IF('Musica y Danza'!H13=\"\",\"\",'Musica y Danza'!H13)","v":""},{"$f":"IF('Musica y Danza'!I13=\"\",\"\",'Musica y Danza'!I13)","v":""},{"$f":"IF('Musica y Danza'!J13=\"\",\"\",'Musica y Danza'!J13)","v":""},{"$f":"IF('Musica y Danza'!K13=\"\",\"\",'Musica y Danza'!K13)","v":""},{"$f":"IF('Musica y Danza'!L13=\"\",\"\",'Musica y Danza'!L13)","v":""},{"$f":"IF('Musica y Danza'!M13=\"\",\"\",'Musica y Danza'!M13)","v":""},{"$f":"IF('Musica y Danza'!N13=\"\",\"\",'Musica y Danza'!N13)","v":""},{"$f":"IF('Musica y Danza'!O13=\"\",\"\",'Musica y Danza'!O13)","v":""},{"$f":"IF('Musica y Danza'!P13=\"\",\"\",'Musica y Danza'!P13)","v":""},{"$f":"IF('Musica y Danza'!Q13=\"\",\"\",'Musica y Danza'!Q13)","v":""},{"$f":"IF('Musica y Danza'!R13=\"\",\"\",'Musica y Danza'!R13)","v":""},{"$f":"IF('Musica y Danza'!S13=\"\",\"\",'Musica y Danza'!S13)","v":""},{"$f":"IF('Musica y Danza'!T13=\"\",\"\",'Musica y Danza'!T13)","v":""},{"$f":"IF('Musica y Danza'!U13=\"\",\"\",'Musica y Danza'!U13)","v":""},{"$f":"IF('Musica y Danza'!V13=\"\",\"\",'Musica y Danza'!V13)","v":""},{"$f":"IF('Musica y Danza'!W13=\"\",\"\",'Musica y Danza'!W13)","v":""},{"$f":"IF('Musica y Danza'!X13=\"\",\"\",'Musica y Danza'!X13)","v":""},{"$f":"IF('Musica y Danza'!Y13=\"\",\"\",'Musica y Danza'!Y13)","v":""},{"$f":"IF('Musica y Danza'!Z13=\"\",\"\",'Musica y Danza'!Z13)","v":""},{"$f":"IF('Musica y Danza'!AA13=\"\",\"\",'Musica y Danza'!AA13)","v":""},{"$f":"IF('Musica y Danza'!AB13=\"\",\"\",'Musica y Danza'!AB13)","v":""},{"$f":"IF('Musica y Danza'!AC13=\"\",\"\",'Musica y Danza'!AC13)","v":""},{"$f":"IF('Musica y Danza'!AD13=\"\",\"\",'Musica y Danza'!AD13)","v":""},{"$f":"IF('Musica y Danza'!AE13=\"\",\"\",'Musica y Danza'!AE13)","v":""},{"$f":"IF('Musica y Danza'!AF13=\"\",\"\",'Musica y Danza'!AF13)","v":""},{"$f":"IF('Musica y Danza'!AG13=\"\",\"\",'Musica y Danza'!AG13)","v":""},{"$f":"IF('Musica y Danza'!AH13=\"\",\"\",'Musica y Danza'!AH13)","v":""},{"$f":"IF('Musica y Danza'!AI13=\"\",\"\",'Musica y Danza'!AI13)","v":""},{"$f":"IF('Musica y Danza'!AJ13=\"\",\"\",'Musica y Danza'!AJ13)","v":""},{"$f":"IF('Musica y Danza'!AK13=\"\",\"\",'Musica y Danza'!AK13)","v":""},{"$f":"IF('Musica y Danza'!AL13=\"\",\"\",'Musica y Danza'!AL13)","v":""},{"$f":"IF('Musica y Danza'!AM13=\"\",\"\",'Musica y Danza'!AM13)","v":""},{"$f":"IF('Musica y Danza'!AN13=\"\",\"\",'Musica y Danza'!AN13)","v":""},{"$f":"IF('Musica y Danza'!AO13=\"\",\"\",'Musica y Danza'!AO13)","v":""},{"$f":"IF('Musica y Danza'!AP13=\"\",\"\",'Musica y Danza'!AP13)","v":""}]
[null,null,null,"Criterio Evaluación 4.2",{"$f":"IF('Musica y Danza'!H14=\"\",\"\",'Musica y Danza'!H14)","v":""},{"$f":"IF('Musica y Danza'!I14=\"\",\"\",'Musica y Danza'!I14)","v":""},{"$f":"IF('Musica y Danza'!J14=\"\",\"\",'Musica y Danza'!J14)","v":""},{"$f":"IF('Musica y Danza'!K14=\"\",\"\",'Musica y Danza'!K14)","v":""},{"$f":"IF('Musica y Danza'!L14=\"\",\"\",'Musica y Danza'!L14)","v":""},{"$f":"IF('Musica y Danza'!M14=\"\",\"\",'Musica y Danza'!M14)","v":""},{"$f":"IF('Musica y Danza'!N14=\"\",\"\",'Musica y Danza'!N14)","v":""},{"$f":"IF('Musica y Danza'!O14=\"\",\"\",'Musica y Danza'!O14)","v":""},{"$f":"IF('Musica y Danza'!P14=\"\",\"\",'Musica y Danza'!P14)","v":""},{"$f":"IF('Musica y Danza'!Q14=\"\",\"\",'Musica y Danza'!Q14)","v":""},{"$f":"IF('Musica y Danza'!R14=\"\",\"\",'Musica y Danza'!R14)","v":""},{"$f":"IF('Musica y Danza'!S14=\"\",\"\",'Musica y Danza'!S14)","v":""},{"$f":"IF('Musica y Danza'!T14=\"\",\"\",'Musica y Danza'!T14)","v":""},{"$f":"IF('Musica y Danza'!U14=\"\",\"\",'Musica y Danza'!U14)","v":""},{"$f":"IF('Musica y Danza'!V14=\"\",\"\",'Musica y Danza'!V14)","v":""},{"$f":"IF('Musica y Danza'!W14=\"\",\"\",'Musica y Danza'!W14)","v":""},{"$f":"IF('Musica y Danza'!X14=\"\",\"\",'Musica y Danza'!X14)","v":""},{"$f":"IF('Musica y Danza'!Y14=\"\",\"\",'Musica y Danza'!Y14)","v":""},{"$f":"IF('Musica y Danza'!Z14=\"\",\"\",'Musica y Danza'!Z14)","v":""},{"$f":"IF('Musica y Danza'!AA14=\"\",\"\",'Musica y Danza'!AA14)","v":""},{"$f":"IF('Musica y Danza'!AB14=\"\",\"\",'Musica y Danza'!AB14)","v":""},{"$f":"IF('Musica y Danza'!AC14=\"\",\"\",'Musica y Danza'!AC14)","v":""},{"$f":"IF('Musica y Danza'!AD14=\"\",\"\",'Musica y Danza'!AD14)","v":""},{"$f":"IF('Musica y Danza'!AE14=\"\",\"\",'Musica y Danza'!AE14)","v":""},{"$f":"IF('Musica y Danza'!AF14=\"\",\"\",'Musica y Danza'!AF14)","v":""},{"$f":"IF('Musica y Danza'!AG14=\"\",\"\",'Musica y Danza'!AG14)","v":""},{"$f":"IF('Musica y Danza'!AH14=\"\",\"\",'Musica y Danza'!AH14)","v":""},{"$f":"IF('Musica y Danza'!AI14=\"\",\"\",'Musica y Danza'!AI14)","v":""},{"$f":"IF('Musica y Danza'!AJ14=\"\",\"\",'Musica y Danza'!AJ14)","v":""},{"$f":"IF('Musica y Danza'!AK14=\"\",\"\",'Musica y Danza'!AK14)","v":""},{"$f":"IF('Musica y Danza'!AL14=\"\",\"\",'Musica y Danza'!AL14)","v":""},{"$f":"IF('Musica y Danza'!AM14=\"\",\"\",'Musica y Danza'!AM14)","v":""},{"$f":"IF('Musica y Danza'!AN14=\"\",\"\",'Musica y Danza'!AN14)","v":""},{"$f":"IF('Musica y Danza'!AO14=\"\",\"\",'Musica y Danza'!AO14)","v":""},{"$f":"IF('Musica y Danza'!AP14=\"\",\"\",'Musica y Danza'!AP14)","v":""}]
[null,null,null,"Criterio Evaluación 4.3",{"$f":"IF('Musica y Danza'!H15=\"\",\"\",'Musica y Danza'!H15)","v":""},{"$f":"IF('Musica y Danza'!I15=\"\",\"\",'Musica y Danza'!I15)","v":""},{"$f":"IF('Musica y Danza'!J15=\"\",\"\",'Musica y Danza'!J15)","v":""},{"$f":"IF('Musica y Danza'!K15=\"\",\"\",'Musica y Danza'!K15)","v":""},{"$f":"IF('Musica y Danza'!L15=\"\",\"\",'Musica y Danza'!L15)","v":""},{"$f":"IF('Musica y Danza'!M15=\"\",\"\",'Musica y Danza'!M15)","v":""},{"$f":"IF('Musica y Danza'!N15=\"\",\"\",'Musica y Danza'!N15)","v":""},{"$f":"IF('Musica y Danza'!O15=\"\",\"\",'Musica y Danza'!O15)","v":""},{"$f":"IF('Musica y Danza'!P15=\"\",\"\",'Musica y Danza'!P15)","v":""},{"$f":"IF('Musica y Danza'!Q15=\"\",\"\",'Musica y Danza'!Q15)","v":""},{"$f":"IF('Musica y Danza'!R15=\"\",\"\",'Musica y Danza'!R15)","v":""},{"$f":"IF('Musica y Danza'!S15=\"\",\"\",'Musica y Danza'!S15)","v":""},{"$f":"IF('Musica y Danza'!T15=\"\",\"\",'Musica y Danza'!T15)","v":""},{"$f":"IF('Musica y Danza'!U15=\"\",\"\",'Musica y Danza'!U15)","v":""},{"$f":"IF('Musica y Danza'!V15=\"\",\"\",'Musica y Danza'!V15)","v":""},{"$f":"IF('Musica y Danza'!W15=\"\",\"\",'Musica y Danza'!W15)","v":""},{"$f":"IF('Musica y Danza'!X15=\"\",\"\",'Musica y Danza'!X15)","v":""},{"$f":"IF('Musica y Danza'!Y15=\"\",\"\",'Musica y Danza'!Y15)","v":""},{"$f":"IF('Musica y Danza'!Z15=\"\",\"\",'Musica y Danza'!Z15)","v":""},{"$f":"IF('Musica y Danza'!AA15=\"\",\"\",'Musica y Danza'!AA15)","v":""},{"$f":"IF('Musica y Danza'!AB15=\"\",\"\",'Musica y Danza'!AB15)","v":""},{"$f":"IF('Musica y Danza'!AC15=\"\",\"\",'Musica y Danza'!AC15)","v":""},{"$f":"IF('Musica y Danza'!AD15=\"\",\"\",'Musica y Danza'!AD15)","v":""},{"$f":"IF('Musica y Danza'!AE15=\"\",\"\",'Musica y Danza'!AE15)","v":""},{"$f":"IF('Musica y Danza'!AF15=\"\",\"\",'Musica y Danza'!AF15)","v":""},{"$f":"IF('Musica y Danza'!AG15=\"\",\"\",'Musica y Danza'!AG15)","v":""},{"$f":"IF('Musica y Danza'!AH15=\"\",\"\",'Musica y Danza'!AH15)","v":""},{"$f":"IF('Musica y Danza'!AI15=\"\",\"\",'Musica y Danza'!AI15)","v":""},{"$f":"IF('Musica y Danza'!AJ15=\"\",\"\",'Musica y Danza'!AJ15)","v":""},{"$f":"IF('Musica y Danza'!AK15=\"\",\"\",'Musica y Danza'!AK15)","v":""},{"$f":"IF('Musica y Danza'!AL15=\"\",\"\",'Musica y Danza'!AL15)","v":""},{"$f":"IF('Musica y Danza'!AM15=\"\",\"\",'Musica y Danza'!AM15)","v":""},{"$f":"IF('Musica y Danza'!AN15=\"\",\"\",'Musica y Danza'!AN15)","v":""},{"$f":"IF('Musica y Danza'!AO15=\"\",\"\",'Musica y Danza'!AO15)","v":""},{"$f":"IF('Musica y Danza'!AP15=\"\",\"\",'Musica y Danza'!AP15)","v":""}]
[null,null,"Comp. Esp. 5","Criterio Evaluación 5.1",{"$f":"IF('Musica y Danza'!H16=\"\",\"\",'Musica y Danza'!H16)","v":""},{"$f":"IF('Musica y Danza'!I16=\"\",\"\",'Musica y Danza'!I16)","v":""},{"$f":"IF('Musica y Danza'!J16=\"\",\"\",'Musica y Danza'!J16)","v":""},{"$f":"IF('Musica y Danza'!K16=\"\",\"\",'Musica y Danza'!K16)","v":""},{"$f":"IF('Musica y Danza'!L16=\"\",\"\",'Musica y Danza'!L16)","v":""},{"$f":"IF('Musica y Danza'!M16=\"\",\"\",'Musica y Danza'!M16)","v":""},{"$f":"IF('Musica y Danza'!N16=\"\",\"\",'Musica y Danza'!N16)","v":""},{"$f":"IF('Musica y Danza'!O16=\"\",\"\",'Musica y Danza'!O16)","v":""},{"$f":"IF('Musica y Danza'!P16=\"\",\"\",'Musica y Danza'!P16)","v":""},{"$f":"IF('Musica y Danza'!Q16=\"\",\"\",'Musica y Danza'!Q16)","v":""},{"$f":"IF('Musica y Danza'!R16=\"\",\"\",'Musica y Danza'!R16)","v":""},{"$f":"IF('Musica y Danza'!S16=\"\",\"\",'Musica y Danza'!S16)","v":""},{"$f":"IF('Musica y Danza'!T16=\"\",\"\",'Musica y Danza'!T16)","v":""},{"$f":"IF('Musica y Danza'!U16=\"\",\"\",'Musica y Danza'!U16)","v":""},{"$f":"IF('Musica y Danza'!V16=\"\",\"\",'Musica y Danza'!V16)","v":""},{"$f":"IF('Musica y Danza'!W16=\"\",\"\",'Musica y Danza'!W16)","v":""},{"$f":"IF('Musica y Danza'!X16=\"\",\"\",'Musica y Danza'!X16)","v":""},{"$f":"IF('Musica y Danza'!Y16=\"\",\"\",'Musica y Danza'!Y16)","v":""},{"$f":"IF('Musica y Danza'!Z16=\"\",\"\",'Musica y Danza'!Z16)","v":""},{"$f":"IF('Musica y Danza'!AA16=\"\",\"\",'Musica y Danza'!AA16)","v":""},{"$f":"IF('Musica y Danza'!AB16=\"\",\"\",'Musica y Danza'!AB16)","v":""},{"$f":"IF('Musica y Danza'!AC16=\"\",\"\",'Musica y Danza'!AC16)","v":""},{"$f":"IF('Musica y Danza'!AD16=\"\",\"\",'Musica y Danza'!AD16)","v":""},{"$f":"IF('Musica y Danza'!AE16=\"\",\"\",'Musica y Danza'!AE16)","v":""},{"$f":"IF('Musica y Danza'!AF16=\"\",\"\",'Musica y Danza'!AF16)","v":""},{"$f":"IF('Musica y Danza'!AG16=\"\",\"\",'Musica y Danza'!AG16)","v":""},{"$f":"IF('Musica y Danza'!AH16=\"\",\"\",'Musica y Danza'!AH16)","v":""},{"$f":"IF('Musica y Danza'!AI16=\"\",\"\",'Musica y Danza'!AI16)","v":""},{"$f":"IF('Musica y Danza'!AJ16=\"\",\"\",'Musica y Danza'!AJ16)","v":""},{"$f":"IF('Musica y Danza'!AK16=\"\",\"\",'Musica y Danza'!AK16)","v":""},{"$f":"IF('Musica y Danza'!AL16=\"\",\"\",'Musica y Danza'!AL16)","v":""},{"$f":"IF('Musica y Danza'!AM16=\"\",\"\",'Musica y Danza'!AM16)","v":""},{"$f":"IF('Musica y Danza'!AN16=\"\",\"\",'Musica y Danza'!AN16)","v":""},{"$f":"IF('Musica y Danza'!AO16=\"\",\"\",'Musica y Danza'!AO16)","v":""},{"$f":"IF('Musica y Danza'!AP16=\"\",\"\",'Musica y Danza'!AP16)","v":""}]
[null,null,null,"Criterio Evaluación 5.2",{"$f":"IF('Musica y Danza'!H17=\"\",\"\",'Musica y Danza'!H17)","v":""},{"$f":"IF('Musica y Danza'!I17=\"\",\"\",'Musica y Danza'!I17)","v":""},{"$f":"IF('Musica y Danza'!J17=\"\",\"\",'Musica y Danza'!J17)","v":""},{"$f":"IF('Musica y Danza'!K17=\"\",\"\",'Musica y Danza'!K17)","v":""},{"$f":"IF('Musica y Danza'!L17=\"\",\"\",'Musica y Danza'!L17)","v":""},{"$f":"IF('Musica y Danza'!M17=\"\",\"\",'Musica y Danza'!M17)","v":""},{"$f":"IF('Musica y Danza'!N17=\"\",\"\",'Musica y Danza'!N17)","v":""},{"$f":"IF('Musica y Danza'!O17=\"\",\"\",'Musica y Danza'!O17)","v":""},{"$f":"IF('Musica y Danza'!P17=\"\",\"\",'Musica y Danza'!P17)","v":""},{"$f":"IF('Musica y Danza'!Q17=\"\",\"\",'Musica y Danza'!Q17)","v":""},{"$f":"IF('Musica y Danza'!R17=\"\",\"\",'Musica y Danza'!R17)","v":""},{"$f":"IF('Musica y Danza'!S17=\"\",\"\",'Musica y Danza'!S17)","v":""},{"$f":"IF('Musica y Danza'!T17=\"\",\"\",'Musica y Danza'!T17)","v":""},{"$f":"IF('Musica y Danza'!U17=\"\",\"\",'Musica y Danza'!U17)","v":""},{"$f":"IF('Musica y Danza'!V17=\"\",\"\",'Musica y Danza'!V17)","v":""},{"$f":"IF('Musica y Danza'!W17=\"\",\"\",'Musica y Danza'!W17)","v":""},{"$f":"IF('Musica y Danza'!X17=\"\",\"\",'Musica y Danza'!X17)","v":""},{"$f":"IF('Musica y Danza'!Y17=\"\",\"\",'Musica y Danza'!Y17)","v":""},{"$f":"IF('Musica y Danza'!Z17=\"\",\"\",'Musica y Danza'!Z17)","v":""},{"$f":"IF('Musica y Danza'!AA17=\"\",\"\",'Musica y Danza'!AA17)","v":""},{"$f":"IF('Musica y Danza'!AB17=\"\",\"\",'Musica y Danza'!AB17)","v":""},{"$f":"IF('Musica y Danza'!AC17=\"\",\"\",'Musica y Danza'!AC17)","v":""},{"$f":"IF('Musica y Danza'!AD17=\"\",\"\",'Musica y Danza'!AD17)","v":""},{"$f":"IF('Musica y Danza'!AE17=\"\",\"\",'Musica y Danza'!AE17)","v":""},{"$f":"IF('Musica y Danza'!AF17=\"\",\"\",'Musica y Danza'!AF17)","v":""},{"$f":"IF('Musica y Danza'!AG17=\"\",\"\",'Musica y Danza'!AG17)","v":""},{"$f":"IF('Musica y Danza'!AH17=\"\",\"\",'Musica y Danza'!AH17)","v":""},{"$f":"IF('Musica y Danza'!AI17=\"\",\"\",'Musica y Danza'!AI17)","v":""},{"$f":"IF('Musica y Danza'!AJ17=\"\",\"\",'Musica y Danza'!AJ17)","v":""},{"$f":"IF('Musica y Danza'!AK17=\"\",\"\",'Musica y Danza'!AK17)","v":""},{"$f":"IF('Musica y Danza'!AL17=\"\",\"\",'Musica y Danza'!AL17)","v":""},{"$f":"IF('Musica y Danza'!AM17=\"\",\"\",'Musica y Danza'!AM17)","v":""},{"$f":"IF('Musica y Danza'!AN17=\"\",\"\",'Musica y Danza'!AN17)","v":""},{"$f":"IF('Musica y Danza'!AO17=\"\",\"\",'Musica y Danza'!AO17)","v":""},{"$f":"IF('Musica y Danza'!AP17=\"\",\"\",'Musica y Danza'!AP17)","v":""}]
[null,null,null,"Criterio Evaluación 5.3",{"$f":"IF('Musica y Danza'!H18=\"\",\"\",'Musica y Danza'!H18)","v":""},{"$f":"IF('Musica y Danza'!I18=\"\",\"\",'Musica y Danza'!I18)","v":""},{"$f":"IF('Musica y Danza'!J18=\"\",\"\",'Musica y Danza'!J18)","v":""},{"$f":"IF('Musica y Danza'!K18=\"\",\"\",'Musica y Danza'!K18)","v":""},{"$f":"IF('Musica y Danza'!L18=\"\",\"\",'Musica y Danza'!L18)","v":""},{"$f":"IF('Musica y Danza'!M18=\"\",\"\",'Musica y Danza'!M18)","v":""},{"$f":"IF('Musica y Danza'!N18=\"\",\"\",'Musica y Danza'!N18)","v":""},{"$f":"IF('Musica y Danza'!O18=\"\",\"\",'Musica y Danza'!O18)","v":""},{"$f":"IF('Musica y Danza'!P18=\"\",\"\",'Musica y Danza'!P18)","v":""},{"$f":"IF('Musica y Danza'!Q18=\"\",\"\",'Musica y Danza'!Q18)","v":""},{"$f":"IF('Musica y Danza'!R18=\"\",\"\",'Musica y Danza'!R18)","v":""},{"$f":"IF('Musica y Danza'!S18=\"\",\"\",'Musica y Danza'!S18)","v":""},{"$f":"IF('Musica y Danza'!T18=\"\",\"\",'Musica y Danza'!T18)","v":""},{"$f":"IF('Musica y Danza'!U18=\"\",\"\",'Musica y Danza'!U18)","v":""},{"$f":"IF('Musica y Danza'!V18=\"\",\"\",'Musica y Danza'!V18)","v":""},{"$f":"IF('Musica y Danza'!W18=\"\",\"\",'Musica y Danza'!W18)","v":""},{"$f":"IF('Musica y Danza'!X18=\"\",\"\",'Musica y Danza'!X18)","v":""},{"$f":"IF('Musica y Danza'!Y18=\"\",\"\",'Musica y Danza'!Y18)","v":""},{"$f":"IF('Musica y Danza'!Z18=\"\",\"\",'Musica y Danza'!Z18)","v":""},{"$f":"IF('Musica y Danza'!AA18=\"\",\"\",'Musica y Danza'!AA18)","v":""},{"$f":"IF('Musica y Danza'!AB18=\"\",\"\",'Musica y Danza'!AB18)","v":""},{"$f":"IF('Musica y Danza'!AC18=\"\",\"\",'Musica y Danza'!AC18)","v":""},{"$f":"IF('Musica y Danza'!AD18=\"\",\"\",'Musica y Danza'!AD18)","v":""},{"$f":"IF('Musica y Danza'!AE18=\"\",\"\",'Musica y Danza'!AE18)","v":""},{"$f":"IF('Musica y Danza'!AF18=\"\",\"\",'Musica y Danza'!AF18)","v":""},{"$f":"IF('Musica y Danza'!AG18=\"\",\"\",'Musica y Danza'!AG18)","v":""},{"$f":"IF('Musica y Danza'!AH18=\"\",\"\",'Musica y Danza'!AH18)","v":""},{"$f":"IF('Musica y Danza'!AI18=\"\",\"\",'Musica y Danza'!AI18)","v":""},{"$f":"IF('Musica y Danza'!AJ18=\"\",\"\",'Musica y Danza'!AJ18)","v":""},{"$f":"IF('Musica y Danza'!AK18=\"\",\"\",'Musica y Danza'!AK18)","v":""},{"$f":"IF('Musica y Danza'!AL18=\"\",\"\",'Musica y Danza'!AL18)","v":""},{"$f":"IF('Musica y Danza'!AM18=\"\",\"\",'Musica y Danza'!AM18)","v":""},{"$f":"IF('Musica y Danza'!AN18=\"\",\"\",'Musica y Danza'!AN18)","v":""},{"$f":"IF('Musica y Danza'!AO18=\"\",\"\",'Musica y Danza'!AO18)","v":""},{"$f":"IF('Musica y Danza'!AP18=\"\",\"\",'Musica y Danza'!AP18)","v":""}]
[null,null,null,"Criterio Evaluación 5.4",{"$f":"IF('Musica y Danza'!H19=\"\",\"\",'Musica y Danza'!H19)","v":""},{"$f":"IF('Musica y Danza'!I19=\"\",\"\",'Musica y Danza'!I19)","v":""},{"$f":"IF('Musica y Danza'!J19=\"\",\"\",'Musica y Danza'!J19)","v":""},{"$f":"IF('Musica y Danza'!K19=\"\",\"\",'Musica y Danza'!K19)","v":""},{"$f":"IF('Musica y Danza'!L19=\"\",\"\",'Musica y Danza'!L19)","v":""},{"$f":"IF('Musica y Danza'!M19=\"\",\"\",'Musica y Danza'!M19)","v":""},{"$f":"IF('Musica y Danza'!N19=\"\",\"\",'Musica y Danza'!N19)","v":""},{"$f":"IF('Musica y Danza'!O19=\"\",\"\",'Musica y Danza'!O19)","v":""},{"$f":"IF('Musica y Danza'!P19=\"\",\"\",'Musica y Danza'!P19)","v":""},{"$f":"IF('Musica y Danza'!Q19=\"\",\"\",'Musica y Danza'!Q19)","v":""},{"$f":"IF('Musica y Danza'!R19=\"\",\"\",'Musica y Danza'!R19)","v":""},{"$f":"IF('Musica y Danza'!S19=\"\",\"\",'Musica y Danza'!S19)","v":""},{"$f":"IF('Musica y Danza'!T19=\"\",\"\",'Musica y Danza'!T19)","v":""},{"$f":"IF('Musica y Danza'!U19=\"\",\"\",'Musica y Danza'!U19)","v":""},{"$f":"IF('Musica y Danza'!V19=\"\",\"\",'Musica y Danza'!V19)","v":""},{"$f":"IF('Musica y Danza'!W19=\"\",\"\",'Musica y Danza'!W19)","v":""},{"$f":"IF('Musica y Danza'!X19=\"\",\"\",'Musica y Danza'!X19)","v":""},{"$f":"IF('Musica y Danza'!Y19=\"\",\"\",'Musica y Danza'!Y19)","v":""},{"$f":"IF('Musica y Danza'!Z19=\"\",\"\",'Musica y Danza'!Z19)","v":""},{"$f":"IF('Musica y Danza'!AA19=\"\",\"\",'Musica y Danza'!AA19)","v":""},{"$f":"IF('Musica y Danza'!AB19=\"\",\"\",'Musica y Danza'!AB19)","v":""},{"$f":"IF('Musica y Danza'!AC19=\"\",\"\",'Musica y Danza'!AC19)","v":""},{"$f":"IF('Musica y Danza'!AD19=\"\",\"\",'Musica y Danza'!AD19)","v":""},{"$f":"IF('Musica y Danza'!AE19=\"\",\"\",'Musica y Danza'!AE19)","v":""},{"$f":"IF('Musica y Danza'!AF19=\"\",\"\",'Musica y Danza'!AF19)","v":""},{"$f":"IF('Musica y Danza'!AG19=\"\",\"\",'Musica y Danza'!AG19)","v":""},{"$f":"IF('Musica y Danza'!AH19=\"\",\"\",'Musica y Danza'!AH19)","v":""},{"$f":"IF('Musica y Danza'!AI19=\"\",\"\",'Musica y Danza'!AI19)","v":""},{"$f":"IF('Musica y Danza'!AJ19=\"\",\"\",'Musica y Danza'!AJ19)","v":""},{"$f":"IF('Musica y Danza'!AK19=\"\",\"\",'Musica y Danza'!AK19)","v":""},{"$f":"IF('Musica y Danza'!AL19=\"\",\"\",'Musica y Danza'!AL19)","v":""},{"$f":"IF('Musica y Danza'!AM19=\"\",\"\",'Musica y Danza'!AM19)","v":""},{"$f":"IF('Musica y Danza'!AN19=\"\",\"\",'Musica y Danza'!AN19)","v":""},{"$f":"IF('Musica y Danza'!AO19=\"\",\"\",'Musica y Danza'!AO19)","v":""},{"$f":"IF('Musica y Danza'!AP19=\"\",\"\",'Musica y Danza'!AP19)","v":""}]
[null,null,null,"Criterio Evaluación 5.5",{"$f":"IF('Musica y Danza'!H20=\"\",\"\",'Musica y Danza'!H20)","v":""},{"$f":"IF('Musica y Danza'!I20=\"\",\"\",'Musica y Danza'!I20)","v":""},{"$f":"IF('Musica y Danza'!J20=\"\",\"\",'Musica y Danza'!J20)","v":""},{"$f":"IF('Musica y Danza'!K20=\"\",\"\",'Musica y Danza'!K20)","v":""},{"$f":"IF('Musica y Danza'!L20=\"\",\"\",'Musica y Danza'!L20)","v":""},{"$f":"IF('Musica y Danza'!M20=\"\",\"\",'Musica y Danza'!M20)","v":""},{"$f":"IF('Musica y Danza'!N20=\"\",\"\",'Musica y Danza'!N20)","v":""},{"$f":"IF('Musica y Danza'!O20=\"\",\"\",'Musica y Danza'!O20)","v":""},{"$f":"IF('Musica y Danza'!P20=\"\",\"\",'Musica y Danza'!P20)","v":""},{"$f":"IF('Musica y Danza'!Q20=\"\",\"\",'Musica y Danza'!Q20)","v":""},{"$f":"IF('Musica y Danza'!R20=\"\",\"\",'Musica y Danza'!R20)","v":""},{"$f":"IF('Musica y Danza'!S20=\"\",\"\",'Musica y Danza'!S20)","v":""},{"$f":"IF('Musica y Danza'!T20=\"\",\"\",'Musica y Danza'!T20)","v":""},{"$f":"IF('Musica y Danza'!U20=\"\",\"\",'Musica y Danza'!U20)","v":""},{"$f":"IF('Musica y Danza'!V20=\"\",\"\",'Musica y Danza'!V20)","v":""},{"$f":"IF('Musica y Danza'!W20=\"\",\"\",'Musica y Danza'!W20)","v":""},{"$f":"IF('Musica y Danza'!X20=\"\",\"\",'Musica y Danza'!X20)","v":""},{"$f":"IF('Musica y Danza'!Y20=\"\",\"\",'Musica y Danza'!Y20)","v":""},{"$f":"IF('Musica y Danza'!Z20=\"\",\"\",'Musica y Danza'!Z20)","v":""},{"$f":"IF('Musica y Danza'!AA20=\"\",\"\",'Musica y Danza'!AA20)","v":""},{"$f":"IF('Musica y Danza'!AB20=\"\",\"\",'Musica y Danza'!AB20)","v":""},{"$f":"IF('Musica y Danza'!AC20=\"\",\"\",'Musica y Danza'!AC20)","v":""},{"$f":"IF('Musica y Danza'!AD20=\"\",\"\",'Musica y Danza'!AD20)","v":""},{"$f":"IF('Musica y Danza'!AE20=\"\",\"\",'Musica y Danza'!AE20)","v":""},{"$f":"IF('Musica y Danza'!AF20=\"\",\"\",'Musica y Danza'!AF20)","v":""},{"$f":"IF('Musica y Danza'!AG20=\"\",\"\",'Musica y Danza'!AG20)","v":""},{"$f":"IF('Musica y Danza'!AH20=\"\",\"\",'Musica y Danza'!AH20)","v":""},{"$f":"IF('Musica y Danza'!AI20=\"\",\"\",'Musica y Danza'!AI20)","v":""},{"$f":"IF('Musica y Danza'!AJ20=\"\",\"\",'Musica y Danza'!AJ20)","v":""},{"$f":"IF('Musica y Danza'!AK20=\"\",\"\",'Musica y Danza'!AK20)","v":""},{"$f":"IF('Musica y Danza'!AL20=\"\",\"\",'Musica y Danza'!AL20)","v":""},{"$f":"IF('Musica y Danza'!AM20=\"\",\"\",'Musica y Danza'!AM20)","v":""},{"$f":"IF('Musica y Danza'!AN20=\"\",\"\",'Musica y Danza'!AN20)","v":""},{"$f":"IF('Musica y Danza'!AO20=\"\",\"\",'Musica y Danza'!AO20)","v":""},{"$f":"IF('Musica y Danza'!AP20=\"\",\"\",'Musica y Danza'!AP20)","v":""}]
[null,"Educación Física","Comp. Esp. 1","Criterio Evaluación 1.1",{"$f":"IF('Educacion Fisica'!H4=\"\",\"\",'Educacion Fisica'!H4)","v":""},{"$f":"IF('Educacion Fisica'!I4=\"\",\"\",'Educacion Fisica'!I4)","v":""},{"$f":"IF('Educacion Fisica'!J4=\"\",\"\",'Educacion Fisica'!J4)","v":""},{"$f":"IF('Educacion Fisica'!K4=\"\",\"\",'Educacion Fisica'!K4)","v":""},{"$f":"IF('Educacion Fisica'!L4=\"\",\"\",'Educacion Fisica'!L4)","v":""},{"$f":"IF('Educacion Fisica'!M4=\"\",\"\",'Educacion Fisica'!M4)","v":""},{"$f":"IF('Educacion Fisica'!N4=\"\",\"\",'Educacion Fisica'!N4)","v":""},{"$f":"IF('Educacion Fisica'!O4=\"\",\"\",'Educacion Fisica'!O4)","v":""},{"$f":"IF('Educacion Fisica'!P4=\"\",\"\",'Educacion Fisica'!P4)","v":""},{"$f":"IF('Educacion Fisica'!Q4=\"\",\"\",'Educacion Fisica'!Q4)","v":""},{"$f":"IF('Educacion Fisica'!R4=\"\",\"\",'Educacion Fisica'!R4)","v":""},{"$f":"IF('Educacion Fisica'!S4=\"\",\"\",'Educacion Fisica'!S4)","v":""},{"$f":"IF('Educacion Fisica'!T4=\"\",\"\",'Educacion Fisica'!T4)","v":""},{"$f":"IF('Educacion Fisica'!U4=\"\",\"\",'Educacion Fisica'!U4)","v":""},{"$f":"IF('Educacion Fisica'!V4=\"\",\"\",'Educacion Fisica'!V4)","v":""},{"$f":"IF('Educacion Fisica'!W4=\"\",\"\",'Educacion Fisica'!W4)","v":""},{"$f":"IF('Educacion Fisica'!X4=\"\",\"\",'Educacion Fisica'!X4)","v":""},{"$f":"IF('Educacion Fisica'!Y4=\"\",\"\",'Educacion Fisica'!Y4)","v":""},{"$f":"IF('Educacion Fisica'!Z4=\"\",\"\",'Educacion Fisica'!Z4)","v":""},{"$f":"IF('Educacion Fisica'!AA4=\"\",\"\",'Educacion Fisica'!AA4)","v":""},{"$f":"IF('Educacion Fisica'!AB4=\"\",\"\",'Educacion Fisica'!AB4)","v":""},{"$f":"IF('Educacion Fisica'!AC4=\"\",\"\",'Educacion Fisica'!AC4)","v":""},{"$f":"IF('Educacion Fisica'!AD4=\"\",\"\",'Educacion Fisica'!AD4)","v":""},{"$f":"IF('Educacion Fisica'!AE4=\"\",\"\",'Educacion Fisica'!AE4)","v":""},{"$f":"IF('Educacion Fisica'!AF4=\"\",\"\",'Educacion Fisica'!AF4)","v":""},{"$f":"IF('Educacion Fisica'!AG4=\"\",\"\",'Educacion Fisica'!AG4)","v":""},{"$f":"IF('Educacion Fisica'!AH4=\"\",\"\",'Educacion Fisica'!AH4)","v":""},{"$f":"IF('Educacion Fisica'!AI4=\"\",\"\",'Educacion Fisica'!AI4)","v":""},{"$f":"IF('Educacion Fisica'!AJ4=\"\",\"\",'Educacion Fisica'!AJ4)","v":""},{"$f":"IF('Educacion Fisica'!AK4=\"\",\"\",'Educacion Fisica'!AK4)","v":""},{"$f":"IF('Educacion Fisica'!AL4=\"\",\"\",'Educacion Fisica'!AL4)","v":""},{"$f":"IF('Educacion Fisica'!AM4=\"\",\"\",'Educacion Fisica'!AM4)","v":""},{"$f":"IF('Educacion Fisica'!AN4=\"\",\"\",'Educacion Fisica'!AN4)","v":""},{"$f":"IF('Educacion Fisica'!AO4=\"\",\"\",'Educacion Fisica'!AO4)","v":""},{"$f":"IF('Educacion Fisica'!AP4=\"\",\"\",'Educacion Fisica'!AP4)","v":""}]
[null,null,null,"Criterio Evaluación 1.2",{"$f":"IF('Educacion Fisica'!H5=\"\",\"\",'Educacion Fisica'!H5)","v":""},{"$f":"IF('Educacion Fisica'!I5=\"\",\"\",'Educacion Fisica'!I5)","v":""},{"$f":"IF('Educacion Fisica'!J5=\"\",\"\",'Educacion Fisica'!J5)","v":""},{"$f":"IF('Educacion Fisica'!K5=\"\",\"\",'Educacion Fisica'!K5)","v":""},{"$f":"IF('Educacion Fisica'!L5=\"\",\"\",'Educacion Fisica'!L5)","v":""},{"$f":"IF('Educacion Fisica'!M5=\"\",\"\",'Educacion Fisica'!M5)","v":""},{"$f":"IF('Educacion Fisica'!N5=\"\",\"\",'Educacion Fisica'!N5)","v":""},{"$f":"IF('Educacion Fisica'!O5=\"\",\"\",'Educacion Fisica'!O5)","v":""},{"$f":"IF('Educacion Fisica'!P5=\"\",\"\",'Educacion Fisica'!P5)","v":""},{"$f":"IF('Educacion Fisica'!Q5=\"\",\"\",'Educacion Fisica'!Q5)","v":""},{"$f":"IF('Educacion Fisica'!R5=\"\",\"\",'Educacion Fisica'!R5)","v":""},{"$f":"IF('Educacion Fisica'!S5=\"\",\"\",'Educacion Fisica'!S5)","v":""},{"$f":"IF('Educacion Fisica'!T5=\"\",\"\",'Educacion Fisica'!T5)","v":""},{"$f":"IF('Educacion Fisica'!U5=\"\",\"\",'Educacion Fisica'!U5)","v":""},{"$f":"IF('Educacion Fisica'!V5=\"\",\"\",'Educacion Fisica'!V5)","v":""},{"$f":"IF('Educacion Fisica'!W5=\"\",\"\",'Educacion Fisica'!W5)","v":""},{"$f":"IF('Educacion Fisica'!X5=\"\",\"\",'Educacion Fisica'!X5)","v":""},{"$f":"IF('Educacion Fisica'!Y5=\"\",\"\",'Educacion Fisica'!Y5)","v":""},{"$f":"IF('Educacion Fisica'!Z5=\"\",\"\",'Educacion Fisica'!Z5)","v":""},{"$f":"IF('Educacion Fisica'!AA5=\"\",\"\",'Educacion Fisica'!AA5)","v":""},{"$f":"IF('Educacion Fisica'!AB5=\"\",\"\",'Educacion Fisica'!AB5)","v":""},{"$f":"IF('Educacion Fisica'!AC5=\"\",\"\",'Educacion Fisica'!AC5)","v":""},{"$f":"IF('Educacion Fisica'!AD5=\"\",\"\",'Educacion Fisica'!AD5)","v":""},{"$f":"IF('Educacion Fisica'!AE5=\"\",\"\",'Educacion Fisica'!AE5)","v":""},{"$f":"IF('Educacion Fisica'!AF5=\"\",\"\",'Educacion Fisica'!AF5)","v":""},{"$f":"IF('Educacion Fisica'!AG5=\"\",\"\",'Educacion Fisica'!AG5)","v":""},{"$f":"IF('Educacion Fisica'!AH5=\"\",\"\",'Educacion Fisica'!AH5)","v":""},{"$f":"IF('Educacion Fisica'!AI5=\"\",\"\",'Educacion Fisica'!AI5)","v":""},{"$f":"IF('Educacion Fisica'!AJ5=\"\",\"\",'Educacion Fisica'!AJ5)","v":""},{"$f":"IF('Educacion Fisica'!AK5=\"\",\"\",'Educacion Fisica'!AK5)","v":""},{"$f":"IF('Educacion Fisica'!AL5=\"\",\"\",'Educacion Fisica'!AL5)","v":""},{"$f":"IF('Educacion Fisica'!AM5=\"\",\"\",'Educacion Fisica'!AM5)","v":""},{"$f":"IF('Educacion Fisica'!AN5=\"\",\"\",'Educacion Fisica'!AN5)","v":""},{"$f":"IF('Educacion Fisica'!AO5=\"\",\"\",'Educacion Fisica'!AO5)","v":""},{"$f":"IF('Educacion Fisica'!AP5=\"\",\"\",'Educacion Fisica'!AP5)","v":""}]
[null,null,null,"Criterio Evaluación 1.3",{"$f":"IF('Educacion Fisica'!H6=\"\",\"\",'Educacion Fisica'!H6)","v":""},{"$f":"IF('Educacion Fisica'!I6=\"\",\"\",'Educacion Fisica'!I6)","v":""},{"$f":"IF('Educacion Fisica'!J6=\"\",\"\",'Educacion Fisica'!J6)","v":""},{"$f":"IF('Educacion Fisica'!K6=\"\",\"\",'Educacion Fisica'!K6)","v":""},{"$f":"IF('Educacion Fisica'!L6=\"\",\"\",'Educacion Fisica'!L6)","v":""},{"$f":"IF('Educacion Fisica'!M6=\"\",\"\",'Educacion Fisica'!M6)","v":""},{"$f":"IF('Educacion Fisica'!N6=\"\",\"\",'Educacion Fisica'!N6)","v":""},{"$f":"IF('Educacion Fisica'!O6=\"\",\"\",'Educacion Fisica'!O6)","v":""},{"$f":"IF('Educacion Fisica'!P6=\"\",\"\",'Educacion Fisica'!P6)","v":""},{"$f":"IF('Educacion Fisica'!Q6=\"\",\"\",'Educacion Fisica'!Q6)","v":""},{"$f":"IF('Educacion Fisica'!R6=\"\",\"\",'Educacion Fisica'!R6)","v":""},{"$f":"IF('Educacion Fisica'!S6=\"\",\"\",'Educacion Fisica'!S6)","v":""},{"$f":"IF('Educacion Fisica'!T6=\"\",\"\",'Educacion Fisica'!T6)","v":""},{"$f":"IF('Educacion Fisica'!U6=\"\",\"\",'Educacion Fisica'!U6)","v":""},{"$f":"IF('Educacion Fisica'!V6=\"\",\"\",'Educacion Fisica'!V6)","v":""},{"$f":"IF('Educacion Fisica'!W6=\"\",\"\",'Educacion Fisica'!W6)","v":""},{"$f":"IF('Educacion Fisica'!X6=\"\",\"\",'Educacion Fisica'!X6)","v":""},{"$f":"IF('Educacion Fisica'!Y6=\"\",\"\",'Educacion Fisica'!Y6)","v":""},{"$f":"IF('Educacion Fisica'!Z6=\"\",\"\",'Educacion Fisica'!Z6)","v":""},{"$f":"IF('Educacion Fisica'!AA6=\"\",\"\",'Educacion Fisica'!AA6)","v":""},{"$f":"IF('Educacion Fisica'!AB6=\"\",\"\",'Educacion Fisica'!AB6)","v":""},{"$f":"IF('Educacion Fisica'!AC6=\"\",\"\",'Educacion Fisica'!AC6)","v":""},{"$f":"IF('Educacion Fisica'!AD6=\"\",\"\",'Educacion Fisica'!AD6)","v":""},{"$f":"IF('Educacion Fisica'!AE6=\"\",\"\",'Educacion Fisica'!AE6)","v":""},{"$f":"IF('Educacion Fisica'!AF6=\"\",\"\",'Educacion Fisica'!AF6)","v":""},{"$f":"IF('Educacion Fisica'!AG6=\"\",\"\",'Educacion Fisica'!AG6)","v":""},{"$f":"IF('Educacion Fisica'!AH6=\"\",\"\",'Educacion Fisica'!AH6)","v":""},{"$f":"IF('Educacion Fisica'!AI6=\"\",\"\",'Educacion Fisica'!AI6)","v":""},{"$f":"IF('Educacion Fisica'!AJ6=\"\",\"\",'Educacion Fisica'!AJ6)","v":""},{"$f":"IF('Educacion Fisica'!AK6=\"\",\"\",'Educacion Fisica'!AK6)","v":""},{"$f":"IF('Educacion Fisica'!AL6=\"\",\"\",'Educacion Fisica'!AL6)","v":""},{"$f":"IF('Educacion Fisica'!AM6=\"\",\"\",'Educacion Fisica'!AM6)","v":""},{"$f":"IF('Educacion Fisica'!AN6=\"\",\"\",'Educacion Fisica'!AN6)","v":""},{"$f":"IF('Educacion Fisica'!AO6=\"\",\"\",'Educacion Fisica'!AO6)","v":""},{"$f":"IF('Educacion Fisica'!AP6=\"\",\"\",'Educacion Fisica'!AP6)","v":""}]
[null,null,null,"Criterio Evaluación 1.4",{"$f":"IF('Educacion Fisica'!H7=\"\",\"\",'Educacion Fisica'!H7)","v":""},{"$f":"IF('Educacion Fisica'!I7=\"\",\"\",'Educacion Fisica'!I7)","v":""},{"$f":"IF('Educacion Fisica'!J7=\"\",\"\",'Educacion Fisica'!J7)","v":""},{"$f":"IF('Educacion Fisica'!K7=\"\",\"\",'Educacion Fisica'!K7)","v":""},{"$f":"IF('Educacion Fisica'!L7=\"\",\"\",'Educacion Fisica'!L7)","v":""},{"$f":"IF('Educacion Fisica'!M7=\"\",\"\",'Educacion Fisica'!M7)","v":""},{"$f":"IF('Educacion Fisica'!N7=\"\",\"\",'Educacion Fisica'!N7)","v":""},{"$f":"IF('Educacion Fisica'!O7=\"\",\"\",'Educacion Fisica'!O7)","v":""},{"$f":"IF('Educacion Fisica'!P7=\"\",\"\",'Educacion Fisica'!P7)","v":""},{"$f":"IF('Educacion Fisica'!Q7=\"\",\"\",'Educacion Fisica'!Q7)","v":""},{"$f":"IF('Educacion Fisica'!R7=\"\",\"\",'Educacion Fisica'!R7)","v":""},{"$f":"IF('Educacion Fisica'!S7=\"\",\"\",'Educacion Fisica'!S7)","v":""},{"$f":"IF('Educacion Fisica'!T7=\"\",\"\",'Educacion Fisica'!T7)","v":""},{"$f":"IF('Educacion Fisica'!U7=\"\",\"\",'Educacion Fisica'!U7)","v":""},{"$f":"IF('Educacion Fisica'!V7=\"\",\"\",'Educacion Fisica'!V7)","v":""},{"$f":"IF('Educacion Fisica'!W7=\"\",\"\",'Educacion Fisica'!W7)","v":""},{"$f":"IF('Educacion Fisica'!X7=\"\",\"\",'Educacion Fisica'!X7)","v":""},{"$f":"IF('Educacion Fisica'!Y7=\"\",\"\",'Educacion Fisica'!Y7)","v":""},{"$f":"IF('Educacion Fisica'!Z7=\"\",\"\",'Educacion Fisica'!Z7)","v":""},{"$f":"IF('Educacion Fisica'!AA7=\"\",\"\",'Educacion Fisica'!AA7)","v":""},{"$f":"IF('Educacion Fisica'!AB7=\"\",\"\",'Educacion Fisica'!AB7)","v":""},{"$f":"IF('Educacion Fisica'!AC7=\"\",\"\",'Educacion Fisica'!AC7)","v":""},{"$f":"IF('Educacion Fisica'!AD7=\"\",\"\",'Educacion Fisica'!AD7)","v":""},{"$f":"IF('Educacion Fisica'!AE7=\"\",\"\",'Educacion Fisica'!AE7)","v":""},{"$f":"IF('Educacion Fisica'!AF7=\"\",\"\",'Educacion Fisica'!AF7)","v":""},{"$f":"IF('Educacion Fisica'!AG7=\"\",\"\",'Educacion Fisica'!AG7)","v":""},{"$f":"IF('Educacion Fisica'!AH7=\"\",\"\",'Educacion Fisica'!AH7)","v":""},{"$f":"IF('Educacion Fisica'!AI7=\"\",\"\",'Educacion Fisica'!AI7)","v":""},{"$f":"IF('Educacion Fisica'!AJ7=\"\",\"\",'Educacion Fisica'!AJ7)","v":""},{"$f":"IF('Educacion Fisica'!AK7=\"\",\"\",'Educacion Fisica'!AK7)","v":""},{"$f":"IF('Educacion Fisica'!AL7=\"\",\"\",'Educacion Fisica'!AL7)","v":""},{"$f":"IF('Educacion Fisica'!AM7=\"\",\"\",'Educacion Fisica'!AM7)","v":""},{"$f":"IF('Educacion Fisica'!AN7=\"\",\"\",'Educacion Fisica'!AN7)","v":""},{"$f":"IF('Educacion Fisica'!AO7=\"\",\"\",'Educacion Fisica'!AO7)","v":""},{"$f":"IF('Educacion Fisica'!AP7=\"\",\"\",'Educacion Fisica'!AP7)","v":""}]
[null,null,"Comp. Esp. 2","Criterio Evaluación 2.1",{"$f":"IF('Educacion Fisica'!H8=\"\",\"\",'Educacion Fisica'!H8)","v":""},{"$f":"IF('Educacion Fisica'!I8=\"\",\"\",'Educacion Fisica'!I8)","v":""},{"$f":"IF('Educacion Fisica'!J8=\"\",\"\",'Educacion Fisica'!J8)","v":""},{"$f":"IF('Educacion Fisica'!K8=\"\",\"\",'Educacion Fisica'!K8)","v":""},{"$f":"IF('Educacion Fisica'!L8=\"\",\"\",'Educacion Fisica'!L8)","v":""},{"$f":"IF('Educacion Fisica'!M8=\"\",\"\",'Educacion Fisica'!M8)","v":""},{"$f":"IF('Educacion Fisica'!N8=\"\",\"\",'Educacion Fisica'!N8)","v":""},{"$f":"IF('Educacion Fisica'!O8=\"\",\"\",'Educacion Fisica'!O8)","v":""},{"$f":"IF('Educacion Fisica'!P8=\"\",\"\",'Educacion Fisica'!P8)","v":""},{"$f":"IF('Educacion Fisica'!Q8=\"\",\"\",'Educacion Fisica'!Q8)","v":""},{"$f":"IF('Educacion Fisica'!R8=\"\",\"\",'Educacion Fisica'!R8)","v":""},{"$f":"IF('Educacion Fisica'!S8=\"\",\"\",'Educacion Fisica'!S8)","v":""},{"$f":"IF('Educacion Fisica'!T8=\"\",\"\",'Educacion Fisica'!T8)","v":""},{"$f":"IF('Educacion Fisica'!U8=\"\",\"\",'Educacion Fisica'!U8)","v":""},{"$f":"IF('Educacion Fisica'!V8=\"\",\"\",'Educacion Fisica'!V8)","v":""},{"$f":"IF('Educacion Fisica'!W8=\"\",\"\",'Educacion Fisica'!W8)","v":""},{"$f":"IF('Educacion Fisica'!X8=\"\",\"\",'Educacion Fisica'!X8)","v":""},{"$f":"IF('Educacion Fisica'!Y8=\"\",\"\",'Educacion Fisica'!Y8)","v":""},{"$f":"IF('Educacion Fisica'!Z8=\"\",\"\",'Educacion Fisica'!Z8)","v":""},{"$f":"IF('Educacion Fisica'!AA8=\"\",\"\",'Educacion Fisica'!AA8)","v":""},{"$f":"IF('Educacion Fisica'!AB8=\"\",\"\",'Educacion Fisica'!AB8)","v":""},{"$f":"IF('Educacion Fisica'!AC8=\"\",\"\",'Educacion Fisica'!AC8)","v":""},{"$f":"IF('Educacion Fisica'!AD8=\"\",\"\",'Educacion Fisica'!AD8)","v":""},{"$f":"IF('Educacion Fisica'!AE8=\"\",\"\",'Educacion Fisica'!AE8)","v":""},{"$f":"IF('Educacion Fisica'!AF8=\"\",\"\",'Educacion Fisica'!AF8)","v":""},{"$f":"IF('Educacion Fisica'!AG8=\"\",\"\",'Educacion Fisica'!AG8)","v":""},{"$f":"IF('Educacion Fisica'!AH8=\"\",\"\",'Educacion Fisica'!AH8)","v":""},{"$f":"IF('Educacion Fisica'!AI8=\"\",\"\",'Educacion Fisica'!AI8)","v":""},{"$f":"IF('Educacion Fisica'!AJ8=\"\",\"\",'Educacion Fisica'!AJ8)","v":""},{"$f":"IF('Educacion Fisica'!AK8=\"\",\"\",'Educacion Fisica'!AK8)","v":""},{"$f":"IF('Educacion Fisica'!AL8=\"\",\"\",'Educacion Fisica'!AL8)","v":""},{"$f":"IF('Educacion Fisica'!AM8=\"\",\"\",'Educacion Fisica'!AM8)","v":""},{"$f":"IF('Educacion Fisica'!AN8=\"\",\"\",'Educacion Fisica'!AN8)","v":""},{"$f":"IF('Educacion Fisica'!AO8=\"\",\"\",'Educacion Fisica'!AO8)","v":""},{"$f":"IF('Educacion Fisica'!AP8=\"\",\"\",'Educacion Fisica'!AP8)","v":""}]
[null,null,null,"Criterio Evaluación 2.2",{"$f":"IF('Educacion Fisica'!H9=\"\",\"\",'Educacion Fisica'!H9)","v":""},{"$f":"IF('Educacion Fisica'!I9=\"\",\"\",'Educacion Fisica'!I9)","v":""},{"$f":"IF('Educacion Fisica'!J9=\"\",\"\",'Educacion Fisica'!J9)","v":""},{"$f":"IF('Educacion Fisica'!K9=\"\",\"\",'Educacion Fisica'!K9)","v":""},{"$f":"IF('Educacion Fisica'!L9=\"\",\"\",'Educacion Fisica'!L9)","v":""},{"$f":"IF('Educacion Fisica'!M9=\"\",\"\",'Educacion Fisica'!M9)","v":""},{"$f":"IF('Educacion Fisica'!N9=\"\",\"\",'Educacion Fisica'!N9)","v":""},{"$f":"IF('Educacion Fisica'!O9=\"\",\"\",'Educacion Fisica'!O9)","v":""},{"$f":"IF('Educacion Fisica'!P9=\"\",\"\",'Educacion Fisica'!P9)","v":""},{"$f":"IF('Educacion Fisica'!Q9=\"\",\"\",'Educacion Fisica'!Q9)","v":""},{"$f":"IF('Educacion Fisica'!R9=\"\",\"\",'Educacion Fisica'!R9)","v":""},{"$f":"IF('Educacion Fisica'!S9=\"\",\"\",'Educacion Fisica'!S9)","v":""},{"$f":"IF('Educacion Fisica'!T9=\"\",\"\",'Educacion Fisica'!T9)","v":""},{"$f":"IF('Educacion Fisica'!U9=\"\",\"\",'Educacion Fisica'!U9)","v":""},{"$f":"IF('Educacion Fisica'!V9=\"\",\"\",'Educacion Fisica'!V9)","v":""},{"$f":"IF('Educacion Fisica'!W9=\"\",\"\",'Educacion Fisica'!W9)","v":""},{"$f":"IF('Educacion Fisica'!X9=\"\",\"\",'Educacion Fisica'!X9)","v":""},{"$f":"IF('Educacion Fisica'!Y9=\"\",\"\",'Educacion Fisica'!Y9)","v":""},{"$f":"IF('Educacion Fisica'!Z9=\"\",\"\",'Educacion Fisica'!Z9)","v":""},{"$f":"IF('Educacion Fisica'!AA9=\"\",\"\",'Educacion Fisica'!AA9)","v":""},{"$f":"IF('Educacion Fisica'!AB9=\"\",\"\",'Educacion Fisica'!AB9)","v":""},{"$f":"IF('Educacion Fisica'!AC9=\"\",\"\",'Educacion Fisica'!AC9)","v":""},{"$f":"IF('Educacion Fisica'!AD9=\"\",\"\",'Educacion Fisica'!AD9)","v":""},{"$f":"IF('Educacion Fisica'!AE9=\"\",\"\",'Educacion Fisica'!AE9)","v":""},{"$f":"IF('Educacion Fisica'!AF9=\"\",\"\",'Educacion Fisica'!AF9)","v":""},{"$f":"IF('Educacion Fisica'!AG9=\"\",\"\",'Educacion Fisica'!AG9)","v":""},{"$f":"IF('Educacion Fisica'!AH9=\"\",\"\",'Educacion Fisica'!AH9)","v":""},{"$f":"IF('Educacion Fisica'!AI9=\"\",\"\",'Educacion Fisica'!AI9)","v":""},{"$f":"IF('Educacion Fisica'!AJ9=\"\",\"\",'Educacion Fisica'!AJ9)","v":""},{"$f":"IF('Educacion Fisica'!AK9=\"\",\"\",'Educacion Fisica'!AK9)","v":""},{"$f":"IF('Educacion Fisica'!AL9=\"\",\"\",'Educacion Fisica'!AL9)","v":""},{"$f":"IF('Educacion Fisica'!AM9=\"\",\"\",'Educacion Fisica'!AM9)","v":""},{"$f":"IF('Educacion Fisica'!AN9=\"\",\"\",'Educacion Fisica'!AN9)","v":""},{"$f":"IF('Educacion Fisica'!AO9=\"\",\"\",'Educacion Fisica'!AO9)","v":""},{"$f":"IF('Educacion Fisica'!AP9=\"\",\"\",'Educacion Fisica'!AP9)","v":""}]
[null,null,null,"Criterio Evaluación 2.3",{"$f":"IF('Educacion Fisica'!H10=\"\",\"\",'Educacion Fisica'!H10)","v":""},{"$f":"IF('Educacion Fisica'!I10=\"\",\"\",'Educacion Fisica'!I10)","v":""},{"$f":"IF('Educacion Fisica'!J10=\"\",\"\",'Educacion Fisica'!J10)","v":""},{"$f":"IF('Educacion Fisica'!K10=\"\",\"\",'Educacion Fisica'!K10)","v":""},{"$f":"IF('Educacion Fisica'!L10=\"\",\"\",'Educacion Fisica'!L10)","v":""},{"$f":"IF('Educacion Fisica'!M10=\"\",\"\",'Educacion Fisica'!M10)","v":""},{"$f":"IF('Educacion Fisica'!N10=\"\",\"\",'Educacion Fisica'!N10)","v":""},{"$f":"IF('Educacion Fisica'!O10=\"\",\"\",'Educacion Fisica'!O10)","v":""},{"$f":"IF('Educacion Fisica'!P10=\"\",\"\",'Educacion Fisica'!P10)","v":""},{"$f":"IF('Educacion Fisica'!Q10=\"\",\"\",'Educacion Fisica'!Q10)","v":""},{"$f":"IF('Educacion Fisica'!R10=\"\",\"\",'Educacion Fisica'!R10)","v":""},{"$f":"IF('Educacion Fisica'!S10=\"\",\"\",'Educacion Fisica'!S10)","v":""},{"$f":"IF('Educacion Fisica'!T10=\"\",\"\",'Educacion Fisica'!T10)","v":""},{"$f":"IF('Educacion Fisica'!U10=\"\",\"\",'Educacion Fisica'!U10)","v":""},{"$f":"IF('Educacion Fisica'!V10=\"\",\"\",'Educacion Fisica'!V10)","v":""},{"$f":"IF('Educacion Fisica'!W10=\"\",\"\",'Educacion Fisica'!W10)","v":""},{"$f":"IF('Educacion Fisica'!X10=\"\",\"\",'Educacion Fisica'!X10)","v":""},{"$f":"IF('Educacion Fisica'!Y10=\"\",\"\",'Educacion Fisica'!Y10)","v":""},{"$f":"IF('Educacion Fisica'!Z10=\"\",\"\",'Educacion Fisica'!Z10)","v":""},{"$f":"IF('Educacion Fisica'!AA10=\"\",\"\",'Educacion Fisica'!AA10)","v":""},{"$f":"IF('Educacion Fisica'!AB10=\"\",\"\",'Educacion Fisica'!AB10)","v":""},{"$f":"IF('Educacion Fisica'!AC10=\"\",\"\",'Educacion Fisica'!AC10)","v":""},{"$f":"IF('Educacion Fisica'!AD10=\"\",\"\",'Educacion Fisica'!AD10)","v":""},{"$f":"IF('Educacion Fisica'!AE10=\"\",\"\",'Educacion Fisica'!AE10)","v":""},{"$f":"IF('Educacion Fisica'!AF10=\"\",\"\",'Educacion Fisica'!AF10)","v":""},{"$f":"IF('Educacion Fisica'!AG10=\"\",\"\",'Educacion Fisica'!AG10)","v":""},{"$f":"IF('Educacion Fisica'!AH10=\"\",\"\",'Educacion Fisica'!AH10)","v":""},{"$f":"IF('Educacion Fisica'!AI10=\"\",\"\",'Educacion Fisica'!AI10)","v":""},{"$f":"IF('Educacion Fisica'!AJ10=\"\",\"\",'Educacion Fisica'!AJ10)","v":""},{"$f":"IF('Educacion Fisica'!AK10=\"\",\"\",'Educacion Fisica'!AK10)","v":""},{"$f":"IF('Educacion Fisica'!AL10=\"\",\"\",'Educacion Fisica'!AL10)","v":""},{"$f":"IF('Educacion Fisica'!AM10=\"\",\"\",'Educacion Fisica'!AM10)","v":""},{"$f":"IF('Educacion Fisica'!AN10=\"\",\"\",'Educacion Fisica'!AN10)","v":""},{"$f":"IF('Educacion Fisica'!AO10=\"\",\"\",'Educacion Fisica'!AO10)","v":""},{"$f":"IF('Educacion Fisica'!AP10=\"\",\"\",'Educacion Fisica'!AP10)","v":""}]
[null,null,"Comp. Esp. 3","Criterio Evaluación 3.1",{"$f":"IF('Educacion Fisica'!H11=\"\",\"\",'Educacion Fisica'!H11)","v":""},{"$f":"IF('Educacion Fisica'!I11=\"\",\"\",'Educacion Fisica'!I11)","v":""},{"$f":"IF('Educacion Fisica'!J11=\"\",\"\",'Educacion Fisica'!J11)","v":""},{"$f":"IF('Educacion Fisica'!K11=\"\",\"\",'Educacion Fisica'!K11)","v":""},{"$f":"IF('Educacion Fisica'!L11=\"\",\"\",'Educacion Fisica'!L11)","v":""},{"$f":"IF('Educacion Fisica'!M11=\"\",\"\",'Educacion Fisica'!M11)","v":""},{"$f":"IF('Educacion Fisica'!N11=\"\",\"\",'Educacion Fisica'!N11)","v":""},{"$f":"IF('Educacion Fisica'!O11=\"\",\"\",'Educacion Fisica'!O11)","v":""},{"$f":"IF('Educacion Fisica'!P11=\"\",\"\",'Educacion Fisica'!P11)","v":""},{"$f":"IF('Educacion Fisica'!Q11=\"\",\"\",'Educacion Fisica'!Q11)","v":""},{"$f":"IF('Educacion Fisica'!R11=\"\",\"\",'Educacion Fisica'!R11)","v":""},{"$f":"IF('Educacion Fisica'!S11=\"\",\"\",'Educacion Fisica'!S11)","v":""},{"$f":"IF('Educacion Fisica'!T11=\"\",\"\",'Educacion Fisica'!T11)","v":""},{"$f":"IF('Educacion Fisica'!U11=\"\",\"\",'Educacion Fisica'!U11)","v":""},{"$f":"IF('Educacion Fisica'!V11=\"\",\"\",'Educacion Fisica'!V11)","v":""},{"$f":"IF('Educacion Fisica'!W11=\"\",\"\",'Educacion Fisica'!W11)","v":""},{"$f":"IF('Educacion Fisica'!X11=\"\",\"\",'Educacion Fisica'!X11)","v":""},{"$f":"IF('Educacion Fisica'!Y11=\"\",\"\",'Educacion Fisica'!Y11)","v":""},{"$f":"IF('Educacion Fisica'!Z11=\"\",\"\",'Educacion Fisica'!Z11)","v":""},{"$f":"IF('Educacion Fisica'!AA11=\"\",\"\",'Educacion Fisica'!AA11)","v":""},{"$f":"IF('Educacion Fisica'!AB11=\"\",\"\",'Educacion Fisica'!AB11)","v":""},{"$f":"IF('Educacion Fisica'!AC11=\"\",\"\",'Educacion Fisica'!AC11)","v":""},{"$f":"IF('Educacion Fisica'!AD11=\"\",\"\",'Educacion Fisica'!AD11)","v":""},{"$f":"IF('Educacion Fisica'!AE11=\"\",\"\",'Educacion Fisica'!AE11)","v":""},{"$f":"IF('Educacion Fisica'!AF11=\"\",\"\",'Educacion Fisica'!AF11)","v":""},{"$f":"IF('Educacion Fisica'!AG11=\"\",\"\",'Educacion Fisica'!AG11)","v":""},{"$f":"IF('Educacion Fisica'!AH11=\"\",\"\",'Educacion Fisica'!AH11)","v":""},{"$f":"IF('Educacion Fisica'!AI11=\"\",\"\",'Educacion Fisica'!AI11)","v":""},{"$f":"IF('Educacion Fisica'!AJ11=\"\",\"\",'Educacion Fisica'!AJ11)","v":""},{"$f":"IF('Educacion Fisica'!AK11=\"\",\"\",'Educacion Fisica'!AK11)","v":""},{"$f":"IF('Educacion Fisica'!AL11=\"\",\"\",'Educacion Fisica'!AL11)","v":""},{"$f":"IF('Educacion Fisica'!AM11=\"\",\"\",'Educacion Fisica'!AM11)","v":""},{"$f":"IF('Educacion Fisica'!AN11=\"\",\"\",'Educacion Fisica'!AN11)","v":""},{"$f":"IF('Educacion Fisica'!AO11=\"\",\"\",'Educacion Fisica'!AO11)","v":""},{"$f":"IF('Educacion Fisica'!AP11=\"\",\"\",'Educacion Fisica'!AP11)","v":""}]
[null,null,null,"Criterio Evaluación 3.2",{"$f":"IF('Educacion Fisica'!H12=\"\",\"\",'Educacion Fisica'!H12)","v":""},{"$f":"IF('Educacion Fisica'!I12=\"\",\"\",'Educacion Fisica'!I12)","v":""},{"$f":"IF('Educacion Fisica'!J12=\"\",\"\",'Educacion Fisica'!J12)","v":""},{"$f":"IF('Educacion Fisica'!K12=\"\",\"\",'Educacion Fisica'!K12)","v":""},{"$f":"IF('Educacion Fisica'!L12=\"\",\"\",'Educacion Fisica'!L12)","v":""},{"$f":"IF('Educacion Fisica'!M12=\"\",\"\",'Educacion Fisica'!M12)","v":""},{"$f":"IF('Educacion Fisica'!N12=\"\",\"\",'Educacion Fisica'!N12)","v":""},{"$f":"IF('Educacion Fisica'!O12=\"\",\"\",'Educacion Fisica'!O12)","v":""},{"$f":"IF('Educacion Fisica'!P12=\"\",\"\",'Educacion Fisica'!P12)","v":""},{"$f":"IF('Educacion Fisica'!Q12=\"\",\"\",'Educacion Fisica'!Q12)","v":""},{"$f":"IF('Educacion Fisica'!R12=\"\",\"\",'Educacion Fisica'!R12)","v":""},{"$f":"IF('Educacion Fisica'!S12=\"\",\"\",'Educacion Fisica'!S12)","v":""},{"$f":"IF('Educacion Fisica'!T12=\"\",\"\",'Educacion Fisica'!T12)","v":""},{"$f":"IF('Educacion Fisica'!U12=\"\",\"\",'Educacion Fisica'!U12)","v":""},{"$f":"IF('Educacion Fisica'!V12=\"\",\"\",'Educacion Fisica'!V12)","v":""},{"$f":"IF('Educacion Fisica'!W12=\"\",\"\",'Educacion Fisica'!W12)","v":""},{"$f":"IF('Educacion Fisica'!X12=\"\",\"\",'Educacion Fisica'!X12)","v":""},{"$f":"IF('Educacion Fisica'!Y12=\"\",\"\",'Educacion Fisica'!Y12)","v":""},{"$f":"IF('Educacion Fisica'!Z12=\"\",\"\",'Educacion Fisica'!Z12)","v":""},{"$f":"IF('Educacion Fisica'!AA12=\"\",\"\",'Educacion Fisica'!AA12)","v":""},{"$f":"IF('Educacion Fisica'!AB12=\"\",\"\",'Educacion Fisica'!AB12)","v":""},{"$f":"IF('Educacion Fisica'!AC12=\"\",\"\",'Educacion Fisica'!AC12)","v":""},{"$f":"IF('Educacion Fisica'!AD12=\"\",\"\",'Educacion Fisica'!AD12)","v":""},{"$f":"IF('Educacion Fisica'!AE12=\"\",\"\",'Educacion Fisica'!AE12)","v":""},{"$f":"IF('Educacion Fisica'!AF12=\"\",\"\",'Educacion Fisica'!AF12)","v":""},{"$f":"IF('Educacion Fisica'!AG12=\"\",\"\",'Educacion Fisica'!AG12)","v":""},{"$f":"IF('Educacion Fisica'!AH12=\"\",\"\",'Educacion Fisica'!AH12)","v":""},{"$f":"IF('Educacion Fisica'!AI12=\"\",\"\",'Educacion Fisica'!AI12)","v":""},{"$f":"IF('Educacion Fisica'!AJ12=\"\",\"\",'Educacion Fisica'!AJ12)","v":""},{"$f":"IF('Educacion Fisica'!AK12=\"\",\"\",'Educacion Fisica'!AK12)","v":""},{"$f":"IF('Educacion Fisica'!AL12=\"\",\"\",'Educacion Fisica'!AL12)","v":""},{"$f":"IF('Educacion Fisica'!AM12=\"\",\"\",'Educacion Fisica'!AM12)","v":""},{"$f":"IF('Educacion Fisica'!AN12=\"\",\"\",'Educacion Fisica'!AN12)","v":""},{"$f":"IF('Educacion Fisica'!AO12=\"\",\"\",'Educacion Fisica'!AO12)","v":""},{"$f":"IF('Educacion Fisica'!AP12=\"\",\"\",'Educacion Fisica'!AP12)","v":""}]
[null,null,null,"Criterio Evaluación 3.3",{"$f":"IF('Educacion Fisica'!H13=\"\",\"\",'Educacion Fisica'!H13)","v":""},{"$f":"IF('Educacion Fisica'!I13=\"\",\"\",'Educacion Fisica'!I13)","v":""},{"$f":"IF('Educacion Fisica'!J13=\"\",\"\",'Educacion Fisica'!J13)","v":""},{"$f":"IF('Educacion Fisica'!K13=\"\",\"\",'Educacion Fisica'!K13)","v":""},{"$f":"IF('Educacion Fisica'!L13=\"\",\"\",'Educacion Fisica'!L13)","v":""},{"$f":"IF('Educacion Fisica'!M13=\"\",\"\",'Educacion Fisica'!M13)","v":""},{"$f":"IF('Educacion Fisica'!N13=\"\",\"\",'Educacion Fisica'!N13)","v":""},{"$f":"IF('Educacion Fisica'!O13=\"\",\"\",'Educacion Fisica'!O13)","v":""},{"$f":"IF('Educacion Fisica'!P13=\"\",\"\",'Educacion Fisica'!P13)","v":""},{"$f":"IF('Educacion Fisica'!Q13=\"\",\"\",'Educacion Fisica'!Q13)","v":""},{"$f":"IF('Educacion Fisica'!R13=\"\",\"\",'Educacion Fisica'!R13)","v":""},{"$f":"IF('Educacion Fisica'!S13=\"\",\"\",'Educacion Fisica'!S13)","v":""},{"$f":"IF('Educacion Fisica'!T13=\"\",\"\",'Educacion Fisica'!T13)","v":""},{"$f":"IF('Educacion Fisica'!U13=\"\",\"\",'Educacion Fisica'!U13)","v":""},{"$f":"IF('Educacion Fisica'!V13=\"\",\"\",'Educacion Fisica'!V13)","v":""},{"$f":"IF('Educacion Fisica'!W13=\"\",\"\",'Educacion Fisica'!W13)","v":""},{"$f":"IF('Educacion Fisica'!X13=\"\",\"\",'Educacion Fisica'!X13)","v":""},{"$f":"IF('Educacion Fisica'!Y13=\"\",\"\",'Educacion Fisica'!Y13)","v":""},{"$f":"IF('Educacion Fisica'!Z13=\"\",\"\",'Educacion Fisica'!Z13)","v":""},{"$f":"IF('Educacion Fisica'!AA13=\"\",\"\",'Educacion Fisica'!AA13)","v":""},{"$f":"IF('Educacion Fisica'!AB13=\"\",\"\",'Educacion Fisica'!AB13)","v":""},{"$f":"IF('Educacion Fisica'!AC13=\"\",\"\",'Educacion Fisica'!AC13)","v":""},{"$f":"IF('Educacion Fisica'!AD13=\"\",\"\",'Educacion Fisica'!AD13)","v":""},{"$f":"IF('Educacion Fisica'!AE13=\"\",\"\",'Educacion Fisica'!AE13)","v":""},{"$f":"IF('Educacion Fisica'!AF13=\"\",\"\",'Educacion Fisica'!AF13)","v":""},{"$f":"IF('Educacion Fisica'!AG13=\"\",\"\",'Educacion Fisica'!AG13)","v":""},{"$f":"IF('Educacion Fisica'!AH13=\"\",\"\",'Educacion Fisica'!AH13)","v":""},{"$f":"IF('Educacion Fisica'!AI13=\"\",\"\",'Educacion Fisica'!AI13)","v":""},{"$f":"IF('Educacion Fisica'!AJ13=\"\",\"\",'Educacion Fisica'!AJ13)","v":""},{"$f":"IF('Educacion Fisica'!AK13=\"\",\"\",'Educacion Fisica'!AK13)","v":""},{"$f":"IF('Educacion Fisica'!AL13=\"\",\"\",'Educacion Fisica'!AL13)","v":""},{"$f":"IF('Educacion Fisica'!AM13=\"\",\"\",'Educacion Fisica'!AM13)","v":""},{"$f":"IF('Educacion Fisica'!AN13=\"\",\"\",'Educacion Fisica'!AN13)","v":""},{"$f":"IF('Educacion Fisica'!AO13=\"\",\"\",'Educacion Fisica'!AO13)","v":""},{"$f":"IF('Educacion Fisica'!AP13=\"\",\"\",'Educacion Fisica'!AP13)","v":""}]
[null,null,"Comp. Esp. 4","Criterio Evaluación 4.1",{"$f":"IF('Educacion Fisica'!H14=\"\",\"\",'Educacion Fisica'!H14)","v":""},{"$f":"IF('Educacion Fisica'!I14=\"\",\"\",'Educacion Fisica'!I14)","v":""},{"$f":"IF('Educacion Fisica'!J14=\"\",\"\",'Educacion Fisica'!J14)","v":""},{"$f":"IF('Educacion Fisica'!K14=\"\",\"\",'Educacion Fisica'!K14)","v":""},{"$f":"IF('Educacion Fisica'!L14=\"\",\"\",'Educacion Fisica'!L14)","v":""},{"$f":"IF('Educacion Fisica'!M14=\"\",\"\",'Educacion Fisica'!M14)","v":""},{"$f":"IF('Educacion Fisica'!N14=\"\",\"\",'Educacion Fisica'!N14)","v":""},{"$f":"IF('Educacion Fisica'!O14=\"\",\"\",'Educacion Fisica'!O14)","v":""},{"$f":"IF('Educacion Fisica'!P14=\"\",\"\",'Educacion Fisica'!P14)","v":""},{"$f":"IF('Educacion Fisica'!Q14=\"\",\"\",'Educacion Fisica'!Q14)","v":""},{"$f":"IF('Educacion Fisica'!R14=\"\",\"\",'Educacion Fisica'!R14)","v":""},{"$f":"IF('Educacion Fisica'!S14=\"\",\"\",'Educacion Fisica'!S14)","v":""},{"$f":"IF('Educacion Fisica'!T14=\"\",\"\",'Educacion Fisica'!T14)","v":""},{"$f":"IF('Educacion Fisica'!U14=\"\",\"\",'Educacion Fisica'!U14)","v":""},{"$f":"IF('Educacion Fisica'!V14=\"\",\"\",'Educacion Fisica'!V14)","v":""},{"$f":"IF('Educacion Fisica'!W14=\"\",\"\",'Educacion Fisica'!W14)","v":""},{"$f":"IF('Educacion Fisica'!X14=\"\",\"\",'Educacion Fisica'!X14)","v":""},{"$f":"IF('Educacion Fisica'!Y14=\"\",\"\",'Educacion Fisica'!Y14)","v":""},{"$f":"IF('Educacion Fisica'!Z14=\"\",\"\",'Educacion Fisica'!Z14)","v":""},{"$f":"IF('Educacion Fisica'!AA14=\"\",\"\",'Educacion Fisica'!AA14)","v":""},{"$f":"IF('Educacion Fisica'!AB14=\"\",\"\",'Educacion Fisica'!AB14)","v":""},{"$f":"IF('Educacion Fisica'!AC14=\"\",\"\",'Educacion Fisica'!AC14)","v":""},{"$f":"IF('Educacion Fisica'!AD14=\"\",\"\",'Educacion Fisica'!AD14)","v":""},{"$f":"IF('Educacion Fisica'!AE14=\"\",\"\",'Educacion Fisica'!AE14)","v":""},{"$f":"IF('Educacion Fisica'!AF14=\"\",\"\",'Educacion Fisica'!AF14)","v":""},{"$f":"IF('Educacion Fisica'!AG14=\"\",\"\",'Educacion Fisica'!AG14)","v":""},{"$f":"IF('Educacion Fisica'!AH14=\"\",\"\",'Educacion Fisica'!AH14)","v":""},{"$f":"IF('Educacion Fisica'!AI14=\"\",\"\",'Educacion Fisica'!AI14)","v":""},{"$f":"IF('Educacion Fisica'!AJ14=\"\",\"\",'Educacion Fisica'!AJ14)","v":""},{"$f":"IF('Educacion Fisica'!AK14=\"\",\"\",'Educacion Fisica'!AK14)","v":""},{"$f":"IF('Educacion Fisica'!AL14=\"\",\"\",'Educacion Fisica'!AL14)","v":""},{"$f":"IF('Educacion Fisica'!AM14=\"\",\"\",'Educacion Fisica'!AM14)","v":""},{"$f":"IF('Educacion Fisica'!AN14=\"\",\"\",'Educacion Fisica'!AN14)","v":""},{"$f":"IF('Educacion Fisica'!AO14=\"\",\"\",'Educacion Fisica'!AO14)","v":""},{"$f":"IF('Educacion Fisica'!AP14=\"\",\"\",'Educacion Fisica'!AP14)","v":""}]
[null,null,null,"Criterio Evaluación 4.2",{"$f":"IF('Educacion Fisica'!H15=\"\",\"\",'Educacion Fisica'!H15)","v":""},{"$f":"IF('Educacion Fisica'!I15=\"\",\"\",'Educacion Fisica'!I15)","v":""},{"$f":"IF('Educacion Fisica'!J15=\"\",\"\",'Educacion Fisica'!J15)","v":""},{"$f":"IF('Educacion Fisica'!K15=\"\",\"\",'Educacion Fisica'!K15)","v":""},{"$f":"IF('Educacion Fisica'!L15=\"\",\"\",'Educacion Fisica'!L15)","v":""},{"$f":"IF('Educacion Fisica'!M15=\"\",\"\",'Educacion Fisica'!M15)","v":""},{"$f":"IF('Educacion Fisica'!N15=\"\",\"\",'Educacion Fisica'!N15)","v":""},{"$f":"IF('Educacion Fisica'!O15=\"\",\"\",'Educacion Fisica'!O15)","v":""},{"$f":"IF('Educacion Fisica'!P15=\"\",\"\",'Educacion Fisica'!P15)","v":""},{"$f":"IF('Educacion Fisica'!Q15=\"\",\"\",'Educacion Fisica'!Q15)","v":""},{"$f":"IF('Educacion Fisica'!R15=\"\",\"\",'Educacion Fisica'!R15)","v":""},{"$f":"IF('Educacion Fisica'!S15=\"\",\"\",'Educacion Fisica'!S15)","v":""},{"$f":"IF('Educacion Fisica'!T15=\"\",\"\",'Educacion Fisica'!T15)","v":""},{"$f":"IF('Educacion Fisica'!U15=\"\",\"\",'Educacion Fisica'!U15)","v":""},{"$f":"IF('Educacion Fisica'!V15=\"\",\"\",'Educacion Fisica'!V15)","v":""},{"$f":"IF('Educacion Fisica'!W15=\"\",\"\",'Educacion Fisica'!W15)","v":""},{"$f":"IF('Educacion Fisica'!X15=\"\",\"\",'Educacion Fisica'!X15)","v":""},{"$f":"IF('Educacion Fisica'!Y15=\"\",\"\",'Educacion Fisica'!Y15)","v":""},{"$f":"IF('Educacion Fisica'!Z15=\"\",\"\",'Educacion Fisica'!Z15)","v":""},{"$f":"IF('Educacion Fisica'!AA15=\"\",\"\",'Educacion Fisica'!AA15)","v":""},{"$f":"IF('Educacion Fisica'!AB15=\"\",\"\",'Educacion Fisica'!AB15)","v":""},{"$f":"IF('Educacion Fisica'!AC15=\"\",\"\",'Educacion Fisica'!AC15)","v":""},{"$f":"IF('Educacion Fisica'!AD15=\"\",\"\",'Educacion Fisica'!AD15)","v":""},{"$f":"IF('Educacion Fisica'!AE15=\"\",\"\",'Educacion Fisica'!AE15)","v":""},{"$f":"IF('Educacion Fisica'!AF15=\"\",\"\",'Educacion Fisica'!AF15)","v":""},{"$f":"IF('Educacion Fisica'!AG15=\"\",\"\",'Educacion Fisica'!AG15)","v":""},{"$f":"IF('Educacion Fisica'!AH15=\"\",\"\",'Educacion Fisica'!AH15)","v":""},{"$f":"IF('Educacion Fisica'!AI15=\"\",\"\",'Educacion Fisica'!AI15)","v":""},{"$f":"IF('Educacion Fisica'!AJ15=\"\",\"\",'Educacion Fisica'!AJ15)","v":""},{"$f":"IF('Educacion Fisica'!AK15=\"\",\"\",'Educacion Fisica'!AK15)","v":""},{"$f":"IF('Educacion Fisica'!AL15=\"\",\"\",'Educacion Fisica'!AL15)","v":""},{"$f":"IF('Educacion Fisica'!AM15=\"\",\"\",'Educacion Fisica'!AM15)","v":""},{"$f":"IF('Educacion Fisica'!AN15=\"\",\"\",'Educacion Fisica'!AN15)","v":""},{"$f":"IF('Educacion Fisica'!AO15=\"\",\"\",'Educacion Fisica'!AO15)","v":""},{"$f":"IF('Educacion Fisica'!AP15=\"\",\"\",'Educacion Fisica'!AP15)","v":""}]
[null,null,null,"Criterio Evaluación 4.3",{"$f":"IF('Educacion Fisica'!H16=\"\",\"\",'Educacion Fisica'!H16)","v":""},{"$f":"IF('Educacion Fisica'!I16=\"\",\"\",'Educacion Fisica'!I16)","v":""},{"$f":"IF('Educacion Fisica'!J16=\"\",\"\",'Educacion Fisica'!J16)","v":""},{"$f":"IF('Educacion Fisica'!K16=\"\",\"\",'Educacion Fisica'!K16)","v":""},{"$f":"IF('Educacion Fisica'!L16=\"\",\"\",'Educacion Fisica'!L16)","v":""},{"$f":"IF('Educacion Fisica'!M16=\"\",\"\",'Educacion Fisica'!M16)","v":""},{"$f":"IF('Educacion Fisica'!N16=\"\",\"\",'Educacion Fisica'!N16)","v":""},{"$f":"IF('Educacion Fisica'!O16=\"\",\"\",'Educacion Fisica'!O16)","v":""},{"$f":"IF('Educacion Fisica'!P16=\"\",\"\",'Educacion Fisica'!P16)","v":""},{"$f":"IF('Educacion Fisica'!Q16=\"\",\"\",'Educacion Fisica'!Q16)","v":""},{"$f":"IF('Educacion Fisica'!R16=\"\",\"\",'Educacion Fisica'!R16)","v":""},{"$f":"IF('Educacion Fisica'!S16=\"\",\"\",'Educacion Fisica'!S16)","v":""},{"$f":"IF('Educacion Fisica'!T16=\"\",\"\",'Educacion Fisica'!T16)","v":""},{"$f":"IF('Educacion Fisica'!U16=\"\",\"\",'Educacion Fisica'!U16)","v":""},{"$f":"IF('Educacion Fisica'!V16=\"\",\"\",'Educacion Fisica'!V16)","v":""},{"$f":"IF('Educacion Fisica'!W16=\"\",\"\",'Educacion Fisica'!W16)","v":""},{"$f":"IF('Educacion Fisica'!X16=\"\",\"\",'Educacion Fisica'!X16)","v":""},{"$f":"IF('Educacion Fisica'!Y16=\"\",\"\",'Educacion Fisica'!Y16)","v":""},{"$f":"IF('Educacion Fisica'!Z16=\"\",\"\",'Educacion Fisica'!Z16)","v":""},{"$f":"IF('Educacion Fisica'!AA16=\"\",\"\",'Educacion Fisica'!AA16)","v":""},{"$f":"IF('Educacion Fisica'!AB16=\"\",\"\",'Educacion Fisica'!AB16)","v":""},{"$f":"IF('Educacion Fisica'!AC16=\"\",\"\",'Educacion Fisica'!AC16)","v":""},{"$f":"IF('Educacion Fisica'!AD16=\"\",\"\",'Educacion Fisica'!AD16)","v":""},{"$f":"IF('Educacion Fisica'!AE16=\"\",\"\",'Educacion Fisica'!AE16)","v":""},{"$f":"IF('Educacion Fisica'!AF16=\"\",\"\",'Educacion Fisica'!AF16)","v":""},{"$f":"IF('Educacion Fisica'!AG16=\"\",\"\",'Educacion Fisica'!AG16)","v":""},{"$f":"IF('Educacion Fisica'!AH16=\"\",\"\",'Educacion Fisica'!AH16)","v":""},{"$f":"IF('Educacion Fisica'!AI16=\"\",\"\",'Educacion Fisica'!AI16)","v":""},{"$f":"IF('Educacion Fisica'!AJ16=\"\",\"\",'Educacion Fisica'!AJ16)","v":""},{"$f":"IF('Educacion Fisica'!AK16=\"\",\"\",'Educacion Fisica'!AK16)","v":""},{"$f":"IF('Educacion Fisica'!AL16=\"\",\"\",'Educacion Fisica'!AL16)","v":""},{"$f":"IF('Educacion Fisica'!AM16=\"\",\"\",'Educacion Fisica'!AM16)","v":""},{"$f":"IF('Educacion Fisica'!AN16=\"\",\"\",'Educacion Fisica'!AN16)","v":""},{"$f":"IF('Educacion Fisica'!AO16=\"\",\"\",'Educacion Fisica'!AO16)","v":""},{"$f":"IF('Educacion Fisica'!AP16=\"\",\"\",'Educacion Fisica'!AP16)","v":""}]
[null,null,null,"Criterio Evaluación 4.4",{"$f":"IF('Educacion Fisica'!H17=\"\",\"\",'Educacion Fisica'!H17)","v":""},{"$f":"IF('Educacion Fisica'!I17=\"\",\"\",'Educacion Fisica'!I17)","v":""},{"$f":"IF('Educacion Fisica'!J17=\"\",\"\",'Educacion Fisica'!J17)","v":""},{"$f":"IF('Educacion Fisica'!K17=\"\",\"\",'Educacion Fisica'!K17)","v":""},{"$f":"IF('Educacion Fisica'!L17=\"\",\"\",'Educacion Fisica'!L17)","v":""},{"$f":"IF('Educacion Fisica'!M17=\"\",\"\",'Educacion Fisica'!M17)","v":""},{"$f":"IF('Educacion Fisica'!N17=\"\",\"\",'Educacion Fisica'!N17)","v":""},{"$f":"IF('Educacion Fisica'!O17=\"\",\"\",'Educacion Fisica'!O17)","v":""},{"$f":"IF('Educacion Fisica'!P17=\"\",\"\",'Educacion Fisica'!P17)","v":""},{"$f":"IF('Educacion Fisica'!Q17=\"\",\"\",'Educacion Fisica'!Q17)","v":""},{"$f":"IF('Educacion Fisica'!R17=\"\",\"\",'Educacion Fisica'!R17)","v":""},{"$f":"IF('Educacion Fisica'!S17=\"\",\"\",'Educacion Fisica'!S17)","v":""},{"$f":"IF('Educacion Fisica'!T17=\"\",\"\",'Educacion Fisica'!T17)","v":""},{"$f":"IF('Educacion Fisica'!U17=\"\",\"\",'Educacion Fisica'!U17)","v":""},{"$f":"IF('Educacion Fisica'!V17=\"\",\"\",'Educacion Fisica'!V17)","v":""},{"$f":"IF('Educacion Fisica'!W17=\"\",\"\",'Educacion Fisica'!W17)","v":""},{"$f":"IF('Educacion Fisica'!X17=\"\",\"\",'Educacion Fisica'!X17)","v":""},{"$f":"IF('Educacion Fisica'!Y17=\"\",\"\",'Educacion Fisica'!Y17)","v":""},{"$f":"IF('Educacion Fisica'!Z17=\"\",\"\",'Educacion Fisica'!Z17)","v":""},{"$f":"IF('Educacion Fisica'!AA17=\"\",\"\",'Educacion Fisica'!AA17)","v":""},{"$f":"IF('Educacion Fisica'!AB17=\"\",\"\",'Educacion Fisica'!AB17)","v":""},{"$f":"IF('Educacion Fisica'!AC17=\"\",\"\",'Educacion Fisica'!AC17)","v":""},{"$f":"IF('Educacion Fisica'!AD17=\"\",\"\",'Educacion Fisica'!AD17)","v":""},{"$f":"IF('Educacion Fisica'!AE17=\"\",\"\",'Educacion Fisica'!AE17)","v":""},{"$f":"IF('Educacion Fisica'!AF17=\"\",\"\",'Educacion Fisica'!AF17)","v":""},{"$f":"IF('Educacion Fisica'!AG17=\"\",\"\",'Educacion Fisica'!AG17)","v":""},{"$f":"IF('Educacion Fisica'!AH17=\"\",\"\",'Educacion Fisica'!AH17)","v":""},{"$f":"IF('Educacion Fisica'!AI17=\"\",\"\",'Educacion Fisica'!AI17)","v":""},{"$f":"IF('Educacion Fisica'!AJ17=\"\",\"\",'Educacion Fisica'!AJ17)","v":""},{"$f":"IF('Educacion Fisica'!AK17=\"\",\"\",'Educacion Fisica'!AK17)","v":""},{"$f":"IF('Educacion Fisica'!AL17=\"\",\"\",'Educacion Fisica'!AL17)","v":""},{"$f":"IF('Educacion Fisica'!AM17=\"\",\"\",'Educacion Fisica'!AM17)","v":""},{"$f":"IF('Educacion Fisica'!AN17=\"\",\"\",'Educacion Fisica'!AN17)","v":""},{"$f":"IF('Educacion Fisica'!AO17=\"\",\"\",'Educacion Fisica'!AO17)","v":""},{"$f":"IF('Educacion Fisica'!AP17=\"\",\"\",'Educacion Fisica'!AP17)","v":""}]
[null,null,"Comp. Esp. 5","Criterio Evaluación 5.1",{"$f":"IF('Educacion Fisica'!H18=\"\",\"\",'Educacion Fisica'!H18)","v":""},{"$f":"IF('Educacion Fisica'!I18=\"\",\"\",'Educacion Fisica'!I18)","v":""},{"$f":"IF('Educacion Fisica'!J18=\"\",\"\",'Educacion Fisica'!J18)","v":""},{"$f":"IF('Educacion Fisica'!K18=\"\",\"\",'Educacion Fisica'!K18)","v":""},{"$f":"IF('Educacion Fisica'!L18=\"\",\"\",'Educacion Fisica'!L18)","v":""},{"$f":"IF('Educacion Fisica'!M18=\"\",\"\",'Educacion Fisica'!M18)","v":""},{"$f":"IF('Educacion Fisica'!N18=\"\",\"\",'Educacion Fisica'!N18)","v":""},{"$f":"IF('Educacion Fisica'!O18=\"\",\"\",'Educacion Fisica'!O18)","v":""},{"$f":"IF('Educacion Fisica'!P18=\"\",\"\",'Educacion Fisica'!P18)","v":""},{"$f":"IF('Educacion Fisica'!Q18=\"\",\"\",'Educacion Fisica'!Q18)","v":""},{"$f":"IF('Educacion Fisica'!R18=\"\",\"\",'Educacion Fisica'!R18)","v":""},{"$f":"IF('Educacion Fisica'!S18=\"\",\"\",'Educacion Fisica'!S18)","v":""},{"$f":"IF('Educacion Fisica'!T18=\"\",\"\",'Educacion Fisica'!T18)","v":""},{"$f":"IF('Educacion Fisica'!U18=\"\",\"\",'Educacion Fisica'!U18)","v":""},{"$f":"IF('Educacion Fisica'!V18=\"\",\"\",'Educacion Fisica'!V18)","v":""},{"$f":"IF('Educacion Fisica'!W18=\"\",\"\",'Educacion Fisica'!W18)","v":""},{"$f":"IF('Educacion Fisica'!X18=\"\",\"\",'Educacion Fisica'!X18)","v":""},{"$f":"IF('Educacion Fisica'!Y18=\"\",\"\",'Educacion Fisica'!Y18)","v":""},{"$f":"IF('Educacion Fisica'!Z18=\"\",\"\",'Educacion Fisica'!Z18)","v":""},{"$f":"IF('Educacion Fisica'!AA18=\"\",\"\",'Educacion Fisica'!AA18)","v":""},{"$f":"IF('Educacion Fisica'!AB18=\"\",\"\",'Educacion Fisica'!AB18)","v":""},{"$f":"IF('Educacion Fisica'!AC18=\"\",\"\",'Educacion Fisica'!AC18)","v":""},{"$f":"IF('Educacion Fisica'!AD18=\"\",\"\",'Educacion Fisica'!AD18)","v":""},{"$f":"IF('Educacion Fisica'!AE18=\"\",\"\",'Educacion Fisica'!AE18)","v":""},{"$f":"IF('Educacion Fisica'!AF18=\"\",\"\",'Educacion Fisica'!AF18)","v":""},{"$f":"IF('Educacion Fisica'!AG18=\"\",\"\",'Educacion Fisica'!AG18)","v":""},{"$f":"IF('Educacion Fisica'!AH18=\"\",\"\",'Educacion Fisica'!AH18)","v":""},{"$f":"IF('Educacion Fisica'!AI18=\"\",\"\",'Educacion Fisica'!AI18)","v":""},{"$f":"IF('Educacion Fisica'!AJ18=\"\",\"\",'Educacion Fisica'!AJ18)","v":""},{"$f":"IF('Educacion Fisica'!AK18=\"\",\"\",'Educacion Fisica'!AK18)","v":""},{"$f":"IF('Educacion Fisica'!AL18=\"\",\"\",'Educacion Fisica'!AL18)","v":""},{"$f":"IF('Educacion Fisica'!AM18=\"\",\"\",'Educacion Fisica'!AM18)","v":""},{"$f":"IF('Educacion Fisica'!AN18=\"\",\"\",'Educacion Fisica'!AN18)","v":""},{"$f":"IF('Educacion Fisica'!AO18=\"\",\"\",'Educacion Fisica'!AO18)","v":""},{"$f":"IF('Educacion Fisica'!AP18=\"\",\"\",'Educacion Fisica'!AP18)","v":""}]
[null,null,null,"Criterio Evaluación 5.2",{"$f":"IF('Educacion Fisica'!H19=\"\",\"\",'Educacion Fisica'!H19)","v":""},{"$f":"IF('Educacion Fisica'!I19=\"\",\"\",'Educacion Fisica'!I19)","v":""},{"$f":"IF('Educacion Fisica'!J19=\"\",\"\",'Educacion Fisica'!J19)","v":""},{"$f":"IF('Educacion Fisica'!K19=\"\",\"\",'Educacion Fisica'!K19)","v":""},{"$f":"IF('Educacion Fisica'!L19=\"\",\"\",'Educacion Fisica'!L19)","v":""},{"$f":"IF('Educacion Fisica'!M19=\"\",\"\",'Educacion Fisica'!M19)","v":""},{"$f":"IF('Educacion Fisica'!N19=\"\",\"\",'Educacion Fisica'!N19)","v":""},{"$f":"IF('Educacion Fisica'!O19=\"\",\"\",'Educacion Fisica'!O19)","v":""},{"$f":"IF('Educacion Fisica'!P19=\"\",\"\",'Educacion Fisica'!P19)","v":""},{"$f":"IF('Educacion Fisica'!Q19=\"\",\"\",'Educacion Fisica'!Q19)","v":""},{"$f":"IF('Educacion Fisica'!R19=\"\",\"\",'Educacion Fisica'!R19)","v":""},{"$f":"IF('Educacion Fisica'!S19=\"\",\"\",'Educacion Fisica'!S19)","v":""},{"$f":"IF('Educacion Fisica'!T19=\"\",\"\",'Educacion Fisica'!T19)","v":""},{"$f":"IF('Educacion Fisica'!U19=\"\",\"\",'Educacion Fisica'!U19)","v":""},{"$f":"IF('Educacion Fisica'!V19=\"\",\"\",'Educacion Fisica'!V19)","v":""},{"$f":"IF('Educacion Fisica'!W19=\"\",\"\",'Educacion Fisica'!W19)","v":""},{"$f":"IF('Educacion Fisica'!X19=\"\",\"\",'Educacion Fisica'!X19)","v":""},{"$f":"IF('Educacion Fisica'!Y19=\"\",\"\",'Educacion Fisica'!Y19)","v":""},{"$f":"IF('Educacion Fisica'!Z19=\"\",\"\",'Educacion Fisica'!Z19)","v":""},{"$f":"IF('Educacion Fisica'!AA19=\"\",\"\",'Educacion Fisica'!AA19)","v":""},{"$f":"IF('Educacion Fisica'!AB19=\"\",\"\",'Educacion Fisica'!AB19)","v":""},{"$f":"IF('Educacion Fisica'!AC19=\"\",\"\",'Educacion Fisica'!AC19)","v":""},{"$f":"IF('Educacion Fisica'!AD19=\"\",\"\",'Educacion Fisica'!AD19)","v":""},{"$f":"IF('Educacion Fisica'!AE19=\"\",\"\",'Educacion Fisica'!AE19)","v":""},{"$f":"IF('Educacion Fisica'!AF19=\"\",\"\",'Educacion Fisica'!AF19)","v":""},{"$f":"IF('Educacion Fisica'!AG19=\"\",\"\",'Educacion Fisica'!AG19)","v":""},{"$f":"IF('Educacion Fisica'!AH19=\"\",\"\",'Educacion Fisica'!AH19)","v":""},{"$f":"IF('Educacion Fisica'!AI19=\"\",\"\",'Educacion Fisica'!AI19)","v":""},{"$f":"IF('Educacion Fisica'!AJ19=\"\",\"\",'Educacion Fisica'!AJ19)","v":""},{"$f":"IF('Educacion Fisica'!AK19=\"\",\"\",'Educacion Fisica'!AK19)","v":""},{"$f":"IF('Educacion Fisica'!AL19=\"\",\"\",'Educacion Fisica'!AL19)","v":""},{"$f":"IF('Educacion Fisica'!AM19=\"\",\"\",'Educacion Fisica'!AM19)","v":""},{"$f":"IF('Educacion Fisica'!AN19=\"\",\"\",'Educacion Fisica'!AN19)","v":""},{"$f":"IF('Educacion Fisica'!AO19=\"\",\"\",'Educacion Fisica'!AO19)","v":""},{"$f":"IF('Educacion Fisica'!AP19=\"\",\"\",'Educacion Fisica'!AP19)","v":""}]
[null,null,null,"Criterio Evaluación 5.3",{"$f":"IF('Educacion Fisica'!H20=\"\",\"\",'Educacion Fisica'!H20)","v":""},{"$f":"IF('Educacion Fisica'!I20=\"\",\"\",'Educacion Fisica'!I20)","v":""},{"$f":"IF('Educacion Fisica'!J20=\"\",\"\",'Educacion Fisica'!J20)","v":""},{"$f":"IF('Educacion Fisica'!K20=\"\",\"\",'Educacion Fisica'!K20)","v":""},{"$f":"IF('Educacion Fisica'!L20=\"\",\"\",'Educacion Fisica'!L20)","v":""},{"$f":"IF('Educacion Fisica'!M20=\"\",\"\",'Educacion Fisica'!M20)","v":""},{"$f":"IF('Educacion Fisica'!N20=\"\",\"\",'Educacion Fisica'!N20)","v":""},{"$f":"IF('Educacion Fisica'!O20=\"\",\"\",'Educacion Fisica'!O20)","v":""},{"$f":"IF('Educacion Fisica'!P20=\"\",\"\",'Educacion Fisica'!P20)","v":""},{"$f":"IF('Educacion Fisica'!Q20=\"\",\"\",'Educacion Fisica'!Q20)","v":""},{"$f":"IF('Educacion Fisica'!R20=\"\",\"\",'Educacion Fisica'!R20)","v":""},{"$f":"IF('Educacion Fisica'!S20=\"\",\"\",'Educacion Fisica'!S20)","v":""},{"$f":"IF('Educacion Fisica'!T20=\"\",\"\",'Educacion Fisica'!T20)","v":""},{"$f":"IF('Educacion Fisica'!U20=\"\",\"\",'Educacion Fisica'!U20)","v":""},{"$f":"IF('Educacion Fisica'!V20=\"\",\"\",'Educacion Fisica'!V20)","v":""},{"$f":"IF('Educacion Fisica'!W20=\"\",\"\",'Educacion Fisica'!W20)","v":""},{"$f":"IF('Educacion Fisica'!X20=\"\",\"\",'Educacion Fisica'!X20)","v":""},{"$f":"IF('Educacion Fisica'!Y20=\"\",\"\",'Educacion Fisica'!Y20)","v":""},{"$f":"IF('Educacion Fisica'!Z20=\"\",\"\",'Educacion Fisica'!Z20)","v":""},{"$f":"IF('Educacion Fisica'!AA20=\"\",\"\",'Educacion Fisica'!AA20)","v":""},{"$f":"IF('Educacion Fisica'!AB20=\"\",\"\",'Educacion Fisica'!AB20)","v":""},{"$f":"IF('Educacion Fisica'!AC20=\"\",\"\",'Educacion Fisica'!AC20)","v":""},{"$f":"IF('Educacion Fisica'!AD20=\"\",\"\",'Educacion Fisica'!AD20)","v":""},{"$f":"IF('Educacion Fisica'!AE20=\"\",\"\",'Educacion Fisica'!AE20)","v":""},{"$f":"IF('Educacion Fisica'!AF20=\"\",\"\",'Educacion Fisica'!AF20)","v":""},{"$f":"IF('Educacion Fisica'!AG20=\"\",\"\",'Educacion Fisica'!AG20)","v":""},{"$f":"IF('Educacion Fisica'!AH20=\"\",\"\",'Educacion Fisica'!AH20)","v":""},{"$f":"IF('Educacion Fisica'!AI20=\"\",\"\",'Educacion Fisica'!AI20)","v":""},{"$f":"IF('Educacion Fisica'!AJ20=\"\",\"\",'Educacion Fisica'!AJ20)","v":""},{"$f":"IF('Educacion Fisica'!AK20=\"\",\"\",'Educacion Fisica'!AK20)","v":""},{"$f":"IF('Educacion Fisica'!AL20=\"\",\"\",'Educacion Fisica'!AL20)","v":""},{"$f":"IF('Educacion Fisica'!AM20=\"\",\"\",'Educacion Fisica'!AM20)","v":""},{"$f":"IF('Educacion Fisica'!AN20=\"\",\"\",'Educacion Fisica'!AN20)","v":""},{"$f":"IF('Educacion Fisica'!AO20=\"\",\"\",'Educacion Fisica'!AO20)","v":""},{"$f":"IF('Educacion Fisica'!AP20=\"\",\"\",'Educacion Fisica'!AP20)","v":""}]
[null,null,"Comp. Esp. 6","Criterio Evaluación 6.1",{"$f":"IF('Educacion Fisica'!H21=\"\",\"\",'Educacion Fisica'!H21)","v":""},{"$f":"IF('Educacion Fisica'!I21=\"\",\"\",'Educacion Fisica'!I21)","v":""},{"$f":"IF('Educacion Fisica'!J21=\"\",\"\",'Educacion Fisica'!J21)","v":""},{"$f":"IF('Educacion Fisica'!K21=\"\",\"\",'Educacion Fisica'!K21)","v":""},{"$f":"IF('Educacion Fisica'!L21=\"\",\"\",'Educacion Fisica'!L21)","v":""},{"$f":"IF('Educacion Fisica'!M21=\"\",\"\",'Educacion Fisica'!M21)","v":""},{"$f":"IF('Educacion Fisica'!N21=\"\",\"\",'Educacion Fisica'!N21)","v":""},{"$f":"IF('Educacion Fisica'!O21=\"\",\"\",'Educacion Fisica'!O21)","v":""},{"$f":"IF('Educacion Fisica'!P21=\"\",\"\",'Educacion Fisica'!P21)","v":""},{"$f":"IF('Educacion Fisica'!Q21=\"\",\"\",'Educacion Fisica'!Q21)","v":""},{"$f":"IF('Educacion Fisica'!R21=\"\",\"\",'Educacion Fisica'!R21)","v":""},{"$f":"IF('Educacion Fisica'!S21=\"\",\"\",'Educacion Fisica'!S21)","v":""},{"$f":"IF('Educacion Fisica'!T21=\"\",\"\",'Educacion Fisica'!T21)","v":""},{"$f":"IF('Educacion Fisica'!U21=\"\",\"\",'Educacion Fisica'!U21)","v":""},{"$f":"IF('Educacion Fisica'!V21=\"\",\"\",'Educacion Fisica'!V21)","v":""},{"$f":"IF('Educacion Fisica'!W21=\"\",\"\",'Educacion Fisica'!W21)","v":""},{"$f":"IF('Educacion Fisica'!X21=\"\",\"\",'Educacion Fisica'!X21)","v":""},{"$f":"IF('Educacion Fisica'!Y21=\"\",\"\",'Educacion Fisica'!Y21)","v":""},{"$f":"IF('Educacion Fisica'!Z21=\"\",\"\",'Educacion Fisica'!Z21)","v":""},{"$f":"IF('Educacion Fisica'!AA21=\"\",\"\",'Educacion Fisica'!AA21)","v":""},{"$f":"IF('Educacion Fisica'!AB21=\"\",\"\",'Educacion Fisica'!AB21)","v":""},{"$f":"IF('Educacion Fisica'!AC21=\"\",\"\",'Educacion Fisica'!AC21)","v":""},{"$f":"IF('Educacion Fisica'!AD21=\"\",\"\",'Educacion Fisica'!AD21)","v":""},{"$f":"IF('Educacion Fisica'!AE21=\"\",\"\",'Educacion Fisica'!AE21)","v":""},{"$f":"IF('Educacion Fisica'!AF21=\"\",\"\",'Educacion Fisica'!AF21)","v":""},{"$f":"IF('Educacion Fisica'!AG21=\"\",\"\",'Educacion Fisica'!AG21)","v":""},{"$f":"IF('Educacion Fisica'!AH21=\"\",\"\",'Educacion Fisica'!AH21)","v":""},{"$f":"IF('Educacion Fisica'!AI21=\"\",\"\",'Educacion Fisica'!AI21)","v":""},{"$f":"IF('Educacion Fisica'!AJ21=\"\",\"\",'Educacion Fisica'!AJ21)","v":""},{"$f":"IF('Educacion Fisica'!AK21=\"\",\"\",'Educacion Fisica'!AK21)","v":""},{"$f":"IF('Educacion Fisica'!AL21=\"\",\"\",'Educacion Fisica'!AL21)","v":""},{"$f":"IF('Educacion Fisica'!AM21=\"\",\"\",'Educacion Fisica'!AM21)","v":""},{"$f":"IF('Educacion Fisica'!AN21=\"\",\"\",'Educacion Fisica'!AN21)","v":""},{"$f":"IF('Educacion Fisica'!AO21=\"\",\"\",'Educacion Fisica'!AO21)","v":""},{"$f":"IF('Educacion Fisica'!AP21=\"\",\"\",'Educacion Fisica'!AP21)","v":""}]
[null,null,null,"Criterio Evaluación 6.2",{"$f":"IF('Educacion Fisica'!H22=\"\",\"\",'Educacion Fisica'!H22)","v":""},{"$f":"IF('Educacion Fisica'!I22=\"\",\"\",'Educacion Fisica'!I22)","v":""},{"$f":"IF('Educacion Fisica'!J22=\"\",\"\",'Educacion Fisica'!J22)","v":""},{"$f":"IF('Educacion Fisica'!K22=\"\",\"\",'Educacion Fisica'!K22)","v":""},{"$f":"IF('Educacion Fisica'!L22=\"\",\"\",'Educacion Fisica'!L22)","v":""},{"$f":"IF('Educacion Fisica'!M22=\"\",\"\",'Educacion Fisica'!M22)","v":""},{"$f":"IF('Educacion Fisica'!N22=\"\",\"\",'Educacion Fisica'!N22)","v":""},{"$f":"IF('Educacion Fisica'!O22=\"\",\"\",'Educacion Fisica'!O22)","v":""},{"$f":"IF('Educacion Fisica'!P22=\"\",\"\",'Educacion Fisica'!P22)","v":""},{"$f":"IF('Educacion Fisica'!Q22=\"\",\"\",'Educacion Fisica'!Q22)","v":""},{"$f":"IF('Educacion Fisica'!R22=\"\",\"\",'Educacion Fisica'!R22)","v":""},{"$f":"IF('Educacion Fisica'!S22=\"\",\"\",'Educacion Fisica'!S22)","v":""},{"$f":"IF('Educacion Fisica'!T22=\"\",\"\",'Educacion Fisica'!T22)","v":""},{"$f":"IF('Educacion Fisica'!U22=\"\",\"\",'Educacion Fisica'!U22)","v":""},{"$f":"IF('Educacion Fisica'!V22=\"\",\"\",'Educacion Fisica'!V22)","v":""},{"$f":"IF('Educacion Fisica'!W22=\"\",\"\",'Educacion Fisica'!W22)","v":""},{"$f":"IF('Educacion Fisica'!X22=\"\",\"\",'Educacion Fisica'!X22)","v":""},{"$f":"IF('Educacion Fisica'!Y22=\"\",\"\",'Educacion Fisica'!Y22)","v":""},{"$f":"IF('Educacion Fisica'!Z22=\"\",\"\",'Educacion Fisica'!Z22)","v":""},{"$f":"IF('Educacion Fisica'!AA22=\"\",\"\",'Educacion Fisica'!AA22)","v":""},{"$f":"IF('Educacion Fisica'!AB22=\"\",\"\",'Educacion Fisica'!AB22)","v":""},{"$f":"IF('Educacion Fisica'!AC22=\"\",\"\",'Educacion Fisica'!AC22)","v":""},{"$f":"IF('Educacion Fisica'!AD22=\"\",\"\",'Educacion Fisica'!AD22)","v":""},{"$f":"IF('Educacion Fisica'!AE22=\"\",\"\",'Educacion Fisica'!AE22)","v":""},{"$f":"IF('Educacion Fisica'!AF22=\"\",\"\",'Educacion Fisica'!AF22)","v":""},{"$f":"IF('Educacion Fisica'!AG22=\"\",\"\",'Educacion Fisica'!AG22)","v":""},{"$f":"IF('Educacion Fisica'!AH22=\"\",\"\",'Educacion Fisica'!AH22)","v":""},{"$f":"IF('Educacion Fisica'!AI22=\"\",\"\",'Educacion Fisica'!AI22)","v":""},{"$f":"IF('Educacion Fisica'!AJ22=\"\",\"\",'Educacion Fisica'!AJ22)","v":""},{"$f":"IF('Educacion Fisica'!AK22=\"\",\"\",'Educacion Fisica'!AK22)","v":""},{"$f":"IF('Educacion Fisica'!AL22=\"\",\"\",'Educacion Fisica'!AL22)","v":""},{"$f":"IF('Educacion Fisica'!AM22=\"\",\"\",'Educacion Fisica'!AM22)","v":""},{"$f":"IF('Educacion Fisica'!AN22=\"\",\"\",'Educacion Fisica'!AN22)","v":""},{"$f":"IF('Educacion Fisica'!AO22=\"\",\"\",'Educacion Fisica'!AO22)","v":""},{"$f":"IF('Educacion Fisica'!AP22=\"\",\"\",'Educacion Fisica'!AP22)","v":""}]
[null,null,null,"Criterio Evaluación 6.3",{"$f":"IF('Educacion Fisica'!H23=\"\",\"\",'Educacion Fisica'!H23)","v":""},{"$f":"IF('Educacion Fisica'!I23=\"\",\"\",'Educacion Fisica'!I23)","v":""},{"$f":"IF('Educacion Fisica'!J23=\"\",\"\",'Educacion Fisica'!J23)","v":""},{"$f":"IF('Educacion Fisica'!K23=\"\",\"\",'Educacion Fisica'!K23)","v":""},{"$f":"IF('Educacion Fisica'!L23=\"\",\"\",'Educacion Fisica'!L23)","v":""},{"$f":"IF('Educacion Fisica'!M23=\"\",\"\",'Educacion Fisica'!M23)","v":""},{"$f":"IF('Educacion Fisica'!N23=\"\",\"\",'Educacion Fisica'!N23)","v":""},{"$f":"IF('Educacion Fisica'!O23=\"\",\"\",'Educacion Fisica'!O23)","v":""},{"$f":"IF('Educacion Fisica'!P23=\"\",\"\",'Educacion Fisica'!P23)","v":""},{"$f":"IF('Educacion Fisica'!Q23=\"\",\"\",'Educacion Fisica'!Q23)","v":""},{"$f":"IF('Educacion Fisica'!R23=\"\",\"\",'Educacion Fisica'!R23)","v":""},{"$f":"IF('Educacion Fisica'!S23=\"\",\"\",'Educacion Fisica'!S23)","v":""},{"$f":"IF('Educacion Fisica'!T23=\"\",\"\",'Educacion Fisica'!T23)","v":""},{"$f":"IF('Educacion Fisica'!U23=\"\",\"\",'Educacion Fisica'!U23)","v":""},{"$f":"IF('Educacion Fisica'!V23=\"\",\"\",'Educacion Fisica'!V23)","v":""},{"$f":"IF('Educacion Fisica'!W23=\"\",\"\",'Educacion Fisica'!W23)","v":""},{"$f":"IF('Educacion Fisica'!X23=\"\",\"\",'Educacion Fisica'!X23)","v":""},{"$f":"IF('Educacion Fisica'!Y23=\"\",\"\",'Educacion Fisica'!Y23)","v":""},{"$f":"IF('Educacion Fisica'!Z23=\"\",\"\",'Educacion Fisica'!Z23)","v":""},{"$f":"IF('Educacion Fisica'!AA23=\"\",\"\",'Educacion Fisica'!AA23)","v":""},{"$f":"IF('Educacion Fisica'!AB23=\"\",\"\",'Educacion Fisica'!AB23)","v":""},{"$f":"IF('Educacion Fisica'!AC23=\"\",\"\",'Educacion Fisica'!AC23)","v":""},{"$f":"IF('Educacion Fisica'!AD23=\"\",\"\",'Educacion Fisica'!AD23)","v":""},{"$f":"IF('Educacion Fisica'!AE23=\"\",\"\",'Educacion Fisica'!AE23)","v":""},{"$f":"IF('Educacion Fisica'!AF23=\"\",\"\",'Educacion Fisica'!AF23)","v":""},{"$f":"IF('Educacion Fisica'!AG23=\"\",\"\",'Educacion Fisica'!AG23)","v":""},{"$f":"IF('Educacion Fisica'!AH23=\"\",\"\",'Educacion Fisica'!AH23)","v":""},{"$f":"IF('Educacion Fisica'!AI23=\"\",\"\",'Educacion Fisica'!AI23)","v":""},{"$f":"IF('Educacion Fisica'!AJ23=\"\",\"\",'Educacion Fisica'!AJ23)","v":""},{"$f":"IF('Educacion Fisica'!AK23=\"\",\"\",'Educacion Fisica'!AK23)","v":""},{"$f":"IF('Educacion Fisica'!AL23=\"\",\"\",'Educacion Fisica'!AL23)","v":""},{"$f":"IF('Educacion Fisica'!AM23=\"\",\"\",'Educacion Fisica'!AM23)","v":""},{"$f":"IF('Educacion Fisica'!AN23=\"\",\"\",'Educacion Fisica'!AN23)","v":""},{"$f":"IF('Educacion Fisica'!AO23=\"\",\"\",'Educacion Fisica'!AO23)","v":""},{"$f":"IF('Educacion Fisica'!AP23=\"\",\"\",'Educacion Fisica'!AP23)","v":""}]
[null,"Lengua Castellana y Literatura","Comp. Esp. 1","Criterio Evaluación 1.1",{"$f":"IF('Lengua Castellana y Lit.'!H4=\"\",\"\",'Lengua Castellana y Lit.'!H4)","v":""},{"$f":"IF('Lengua Castellana y Lit.'!I4=\"\",\"\",'Lengua Castellana y Lit.'!I4)","v":""},{"$f":"IF('Lengua Castellana y Lit.'!J4=\"\",\"\",'Lengua Castellana y Lit.'!J4)","v":""},{"$f":"IF('Lengua Castellana y Lit.'!K4=\"\",\"\",'Lengua Castellana y Lit.'!K4)","v":""},{"$f":"IF('Lengua Castellana y Lit.'!L4=\"\",\"\",'Lengua Castellana y Lit.'!L4)","v":""},{"$f":"IF('Lengua Castellana y Lit.'!M4=\"\",\"\",'Lengua Castellana y Lit.'!M4)","v":""},{"$f":"IF('Lengua Castellana y Lit.'!N4=\"\",\"\",'Lengua Castellana y Lit.'!N4)","v":""},{"$f":"IF('Lengua Castellana y Lit.'!O4=\"\",\"\",'Lengua Castellana y Lit.'!O4)","v":""},{"$f":"IF('Lengua Castellana y Lit.'!P4=\"\",\"\",'Lengua Castellana y Lit.'!P4)","v":""},{"$f":"IF('Lengua Castellana y Lit.'!Q4=\"\",\"\",'Lengua Castellana y Lit.'!Q4)","v":""},{"$f":"IF('Lengua Castellana y Lit.'!R4=\"\",\"\",'Lengua Castellana y Lit.'!R4)","v":""},{"$f":"IF('Lengua Castellana y Lit.'!S4=\"\",\"\",'Lengua Castellana y Lit.'!S4)","v":""},{"$f":"IF('Lengua Castellana y Lit.'!T4=\"\",\"\",'Lengua Castellana y Lit.'!T4)","v":""},{"$f":"IF('Lengua Castellana y Lit.'!U4=\"\",\"\",'Lengua Castellana y Lit.'!U4)","v":""},{"$f":"IF('Lengua Castellana y Lit.'!V4=\"\",\"\",'Lengua Castellana y Lit.'!V4)","v":""},{"$f":"IF('Lengua Castellana y Lit.'!W4=\"\",\"\",'Lengua Castellana y Lit.'!W4)","v":""},{"$f":"IF('Lengua Castellana y Lit.'!X4=\"\",\"\",'Lengua Castellana y Lit.'!X4)","v":""},{"$f":"IF('Lengua Castellana y Lit.'!Y4=\"\",\"\",'Lengua Castellana y Lit.'!Y4)","v":""},{"$f":"IF('Lengua Castellana y Lit.'!Z4=\"\",\"\",'Lengua Castellana y Lit.'!Z4)","v":""},{"$f":"IF('Lengua Castellana y Lit.'!AA4=\"\",\"\",'Lengua Castellana y Lit.'!AA4)","v":""},{"$f":"IF('Lengua Castellana y Lit.'!AB4=\"\",\"\",'Lengua Castellana y Lit.'!AB4)","v":""},{"$f":"IF('Lengua Castellana y Lit.'!AC4=\"\",\"\",'Lengua Castellana y Lit.'!AC4)","v":""},{"$f":"IF('Lengua Castellana y Lit.'!AD4=\"\",\"\",'Lengua Castellana y Lit.'!AD4)","v":""},{"$f":"IF('Lengua Castellana y Lit.'!AE4=\"\",\"\",'Lengua Castellana y Lit.'!AE4)","v":""},{"$f":"IF('Lengua Castellana y Lit.'!AF4=\"\",\"\",'Lengua Castellana y Lit.'!AF4)","v":""},{"$f":"IF('Lengua Castellana y Lit.'!AG4=\"\",\"\",'Lengua Castellana y Lit.'!AG4)","v":""},{"$f":"IF('Lengua Castellana y Lit.'!AH4=\"\",\"\",'Lengua Castellana y Lit.'!AH4)","v":""},{"$f":"IF('Lengua Castellana y Lit.'!AI4=\"\",\"\",'Lengua Castellana y Lit.'!AI4)","v":""},{"$f":"IF('Lengua Castellana y Lit.'!AJ4=\"\",\"\",'Lengua Castellana y Lit.'!AJ4)","v":""},{"$f":"IF('Lengua Castellana y Lit.'!AK4=\"\",\"\",'Lengua Castellana y Lit.'!AK4)","v":""},{"$f":"IF('Lengua Castellana y Lit.'!AL4=\"\",\"\",'Lengua Castellana y Lit.'!AL4)","v":""},{"$f":"IF('Lengua Castellana y Lit.'!AM4=\"\",\"\",'Lengua Castellana y Lit.'!AM4)","v":""},{"$f":"IF('Lengua Castellana y Lit.'!AN4=\"\",\"\",'Lengua Castellana y Lit.'!AN4)","v":""},{"$f":"IF('Lengua Castellana y Lit.'!AO4=\"\",\"\",'Lengua Castellana y Lit.'!AO4)","v":""},{"$f":"IF('Lengua Castellana y Lit.'!AP4=\"\",\"\",'Lengua Castellana y Lit.'!AP4)","v":""}]
[null,null,null,"Criterio Evaluación 1.2",{"$f":"IF('Lengua Castellana y Lit.'!H5=\"\",\"\",'Lengua Castellana y Lit.'!H5)","v":""},{"$f":"IF('Lengua Castellana y Lit.'!I5=\"\",\"\",'Lengua Castellana y Lit.'!I5)","v":""},{"$f":"IF('Lengua Castellana y Lit.'!J5=\"\",\"\",'Lengua Castellana y Lit.'!J5)","v":""},{"$f":"IF('Lengua Castellana y Lit.'!K5=\"\",\"\",'Lengua Castellana y Lit.'!K5)","v":""},{"$f":"IF('Lengua Castellana y Lit.'!L5=\"\",\"\",'Lengua Castellana y Lit.'!L5)","v":""},{"$f":"IF('Lengua Castellana y Lit.'!M5=\"\",\"\",'Lengua Castellana y Lit.'!M5)","v":""},{"$f":"IF('Lengua Castellana y Lit.'!N5=\"\",\"\",'Lengua Castellana y Lit.'!N5)","v":""},{"$f":"IF('Lengua Castellana y Lit.'!O5=\"\",\"\",'Lengua Castellana y Lit.'!O5)","v":""},{"$f":"IF('Lengua Castellana y Lit.'!P5=\"\",\"\",'Lengua Castellana y Lit.'!P5)","v":""},{"$f":"IF('Lengua Castellana y Lit.'!Q5=\"\",\"\",'Lengua Castellana y Lit.'!Q5)","v":""},{"$f":"IF('Lengua Castellana y Lit.'!R5=\"\",\"\",'Lengua Castellana y Lit.'!R5)","v":""},{"$f":"IF('Lengua Castellana y Lit.'!S5=\"\",\"\",'Lengua Castellana y Lit.'!S5)","v":""},{"$f":"IF('Lengua Castellana y Lit.'!T5=\"\",\"\",'Lengua Castellana y Lit.'!T5)","v":""},{"$f":"IF('Lengua Castellana y Lit.'!U5=\"\",\"\",'Lengua Castellana y Lit.'!U5)","v":""},{"$f":"IF('Lengua Castellana y Lit.'!V5=\"\",\"\",'Lengua Castellana y Lit.'!V5)","v":""},{"$f":"IF('Lengua Castellana y Lit.'!W5=\"\",\"\",'Lengua Castellana y Lit.'!W5)","v":""},{"$f":"IF('Lengua Castellana y Lit.'!X5=\"\",\"\",'Lengua Castellana y Lit.'!X5)","v":""},{"$f":"IF('Lengua Castellana y Lit.'!Y5=\"\",\"\",'Lengua Castellana y Lit.'!Y5)","v":""},{"$f":"IF('Lengua Castellana y Lit.'!Z5=\"\",\"\",'Lengua Castellana y Lit.'!Z5)","v":""},{"$f":"IF('Lengua Castellana y Lit.'!AA5=\"\",\"\",'Lengua Castellana y Lit.'!AA5)","v":""},{"$f":"IF('Lengua Castellana y Lit.'!AB5=\"\",\"\",'Lengua Castellana y Lit.'!AB5)","v":""},{"$f":"IF('Lengua Castellana y Lit.'!AC5=\"\",\"\",'Lengua Castellana y Lit.'!AC5)","v":""},{"$f":"IF('Lengua Castellana y Lit.'!AD5=\"\",\"\",'Lengua Castellana y Lit.'!AD5)","v":""},{"$f":"IF('Lengua Castellana y Lit.'!AE5=\"\",\"\",'Lengua Castellana y Lit.'!AE5)","v":""},{"$f":"IF('Lengua Castellana y Lit.'!AF5=\"\",\"\",'Lengua Castellana y Lit.'!AF5)","v":""},{"$f":"IF('Lengua Castellana y Lit.'!AG5=\"\",\"\",'Lengua Castellana y Lit.'!AG5)","v":""},{"$f":"IF('Lengua Castellana y Lit.'!AH5=\"\",\"\",'Lengua Castellana y Lit.'!AH5)","v":""},{"$f":"IF('Lengua Castellana y Lit.'!AI5=\"\",\"\",'Lengua Castellana y Lit.'!AI5)","v":""},{"$f":"IF('Lengua Castellana y Lit.'!AJ5=\"\",\"\",'Lengua Castellana y Lit.'!AJ5)","v":""},{"$f":"IF('Lengua Castellana y Lit.'!AK5=\"\",\"\",'Lengua Castellana y Lit.'!AK5)","v":""},{"$f":"IF('Lengua Castellana y Lit.'!AL5=\"\",\"\",'Lengua Castellana y Lit.'!AL5)","v":""},{"$f":"IF('Lengua Castellana y Lit.'!AM5=\"\",\"\",'Lengua Castellana y Lit.'!AM5)","v":""},{"$f":"IF('Lengua Castellana y Lit.'!AN5=\"\",\"\",'Lengua Castellana y Lit.'!AN5)","v":""},{"$f":"IF('Lengua Castellana y Lit.'!AO5=\"\",\"\",'Lengua Castellana y Lit.'!AO5)","v":""},{"$f":"IF('Lengua Castellana y Lit.'!AP5=\"\",\"\",'Lengua Castellana y Lit.'!AP5)","v":""}]
[null,null,"Comp. Esp. 2","Criterio Evaluación 2.1",{"$f":"IF('Lengua Castellana y Lit.'!H6=\"\",\"\",'Lengua Castellana y Lit.'!H6)","v":""},{"$f":"IF('Lengua Castellana y Lit.'!I6=\"\",\"\",'Lengua Castellana y Lit.'!I6)","v":""},{"$f":"IF('Lengua Castellana y Lit.'!J6=\"\",\"\",'Lengua Castellana y Lit.'!J6)","v":""},{"$f":"IF('Lengua Castellana y Lit.'!K6=\"\",\"\",'Lengua Castellana y Lit.'!K6)","v":""},{"$f":"IF('Lengua Castellana y Lit.'!L6=\"\",\"\",'Lengua Castellana y Lit.'!L6)","v":""},{"$f":"IF('Lengua Castellana y Lit.'!M6=\"\",\"\",'Lengua Castellana y Lit.'!M6)","v":""},{"$f":"IF('Lengua Castellana y Lit.'!N6=\"\",\"\",'Lengua Castellana y Lit.'!N6)","v":""},{"$f":"IF('Lengua Castellana y Lit.'!O6=\"\",\"\",'Lengua Castellana y Lit.'!O6)","v":""},{"$f":"IF('Lengua Castellana y Lit.'!P6=\"\",\"\",'Lengua Castellana y Lit.'!P6)","v":""},{"$f":"IF('Lengua Castellana y Lit.'!Q6=\"\",\"\",'Lengua Castellana y Lit.'!Q6)","v":""},{"$f":"IF('Lengua Castellana y Lit.'!R6=\"\",\"\",'Lengua Castellana y Lit.'!R6)","v":""},{"$f":"IF('Lengua Castellana y Lit.'!S6=\"\",\"\",'Lengua Castellana y Lit.'!S6)","v":""},{"$f":"IF('Lengua Castellana y Lit.'!T6=\"\",\"\",'Lengua Castellana y Lit.'!T6)","v":""},{"$f":"IF('Lengua Castellana y Lit.'!U6=\"\",\"\",'Lengua Castellana y Lit.'!U6)","v":""},{"$f":"IF('Lengua Castellana y Lit.'!V6=\"\",\"\",'Lengua Castellana y Lit.'!V6)","v":""},{"$f":"IF('Lengua Castellana y Lit.'!W6=\"\",\"\",'Lengua Castellana y Lit.'!W6)","v":""},{"$f":"IF('Lengua Castellana y Lit.'!X6=\"\",\"\",'Lengua Castellana y Lit.'!X6)","v":""},{"$f":"IF('Lengua Castellana y Lit.'!Y6=\"\",\"\",'Lengua Castellana y Lit.'!Y6)","v":""},{"$f":"IF('Lengua Castellana y Lit.'!Z6=\"\",\"\",'Lengua Castellana y Lit.'!Z6)","v":""},{"$f":"IF('Lengua Castellana y Lit.'!AA6=\"\",\"\",'Lengua Castellana y Lit.'!AA6)","v":""},{"$f":"IF('Lengua Castellana y Lit.'!AB6=\"\",\"\",'Lengua Castellana y Lit.'!AB6)","v":""},{"$f":"IF('Lengua Castellana y Lit.'!AC6=\"\",\"\",'Lengua Castellana y Lit.'!AC6)","v":""},{"$f":"IF('Lengua Castellana y Lit.'!AD6=\"\",\"\",'Lengua Castellana y Lit.'!AD6)","v":""},{"$f":"IF('Lengua Castellana y Lit.'!AE6=\"\",\"\",'Lengua Castellana y Lit.'!AE6)","v":""},{"$f":"IF('Lengua Castellana y Lit.'!AF6=\"\",\"\",'Lengua Castellana y Lit.'!AF6)","v":""},{"$f":"IF('Lengua Castellana y Lit.'!AG6=\"\",\"\",'Lengua Castellana y Lit.'!AG6)","v":""},{"$f":"IF('Lengua Castellana y Lit.'!AH6=\"\",\"\",'Lengua Castellana y Lit.'!AH6)","v":""},{"$f":"IF('Lengua Castellana y Lit.'!AI6=\"\",\"\",'Lengua Castellana y Lit.'!AI6)","v":""},{"$f":"IF('Lengua Castellana y Lit.'!AJ6=\"\",\"\",'Lengua Castellana y Lit.'!AJ6)","v":""},{"$f":"IF('Lengua Castellana y Lit.'!AK6=\"\",\"\",'Lengua Castellana y Lit.'!AK6)","v":""},{"$f":"IF('Lengua Castellana y Lit.'!AL6=\"\",\"\",'Lengua Castellana y Lit.'!AL6)","v":""},{"$f":"IF('Lengua Castellana y Lit.'!AM6=\"\",\"\",'Lengua Castellana y Lit.'!AM6)","v":""},{"$f":"IF('Lengua Castellana y Lit.'!AN6=\"\",\"\",'Lengua Castellana y Lit.'!AN6)","v":""},{"$f":"IF('Lengua Castellana y Lit.'!AO6=\"\",\"\",'Lengua Castellana y Lit.'!AO6)","v":""},{"$f":"IF('Lengua Castellana y Lit.'!AP6=\"\",\"\",'Lengua Castellana y Lit.'!AP6)","v":""}]
[null,null,null,"Criterio Evaluación 2.2",{"$f":"IF('Lengua Castellana y Lit.'!H7=\"\",\"\",'Lengua Castellana y Lit.'!H7)","v":""},{"$f":"IF('Lengua Castellana y Lit.'!I7=\"\",\"\",'Lengua Castellana y Lit.'!I7)","v":""},{"$f":"IF('Lengua Castellana y Lit.'!J7=\"\",\"\",'Lengua Castellana y Lit.'!J7)","v":""},{"$f":"IF('Lengua Castellana y Lit.'!K7=\"\",\"\",'Lengua Castellana y Lit.'!K7)","v":""},{"$f":"IF('Lengua Castellana y Lit.'!L7=\"\",\"\",'Lengua Castellana y Lit.'!L7)","v":""},{"$f":"IF('Lengua Castellana y Lit.'!M7=\"\",\"\",'Lengua Castellana y Lit.'!M7)","v":""},{"$f":"IF('Lengua Castellana y Lit.'!N7=\"\",\"\",'Lengua Castellana y Lit.'!N7)","v":""},{"$f":"IF('Lengua Castellana y Lit.'!O7=\"\",\"\",'Lengua Castellana y Lit.'!O7)","v":""},{"$f":"IF('Lengua Castellana y Lit.'!P7=\"\",\"\",'Lengua Castellana y Lit.'!P7)","v":""},{"$f":"IF('Lengua Castellana y Lit.'!Q7=\"\",\"\",'Lengua Castellana y Lit.'!Q7)","v":""},{"$f":"IF('Lengua Castellana y Lit.'!R7=\"\",\"\",'Lengua Castellana y Lit.'!R7)","v":""},{"$f":"IF('Lengua Castellana y Lit.'!S7=\"\",\"\",'Lengua Castellana y Lit.'!S7)","v":""},{"$f":"IF('Lengua Castellana y Lit.'!T7=\"\",\"\",'Lengua Castellana y Lit.'!T7)","v":""},{"$f":"IF('Lengua Castellana y Lit.'!U7=\"\",\"\",'Lengua Castellana y Lit.'!U7)","v":""},{"$f":"IF('Lengua Castellana y Lit.'!V7=\"\",\"\",'Lengua Castellana y Lit.'!V7)","v":""},{"$f":"IF('Lengua Castellana y Lit.'!W7=\"\",\"\",'Lengua Castellana y Lit.'!W7)","v":""},{"$f":"IF('Lengua Castellana y Lit.'!X7=\"\",\"\",'Lengua Castellana y Lit.'!X7)","v":""},{"$f":"IF('Lengua Castellana y Lit.'!Y7=\"\",\"\",'Lengua Castellana y Lit.'!Y7)","v":""},{"$f":"IF('Lengua Castellana y Lit.'!Z7=\"\",\"\",'Lengua Castellana y Lit.'!Z7)","v":""},{"$f":"IF('Lengua Castellana y Lit.'!AA7=\"\",\"\",'Lengua Castellana y Lit.'!AA7)","v":""},{"$f":"IF('Lengua Castellana y Lit.'!AB7=\"\",\"\",'Lengua Castellana y Lit.'!AB7)","v":""},{"$f":"IF('Lengua Castellana y Lit.'!AC7=\"\",\"\",'Lengua Castellana y Lit.'!AC7)","v":""},{"$f":"IF('Lengua Castellana y Lit.'!AD7=\"\",\"\",'Lengua Castellana y Lit.'!AD7)","v":""},{"$f":"IF('Lengua Castellana y Lit.'!AE7=\"\",\"\",'Lengua Castellana y Lit.'!AE7)","v":""},{"$f":"IF('Lengua Castellana y Lit.'!AF7=\"\",\"\",'Lengua Castellana y Lit.'!AF7)","v":""},{"$f":"IF('Lengua Castellana y Lit.'!AG7=\"\",\"\",'Lengua Castellana y Lit.'!AG7)","v":""},{"$f":"IF('Lengua Castellana y Lit.'!AH7=\"\",\"\",'Lengua Castellana y Lit.'!AH7)","v":""},{"$f":"IF('Lengua Castellana y Lit.'!AI7=\"\",\"\",'Lengua Castellana y Lit.'!AI7)","v":""},{"$f":"IF('Lengua Castellana y Lit.'!AJ7=\"\",\"\",'Lengua Castellana y Lit.'!AJ7)","v":""},{"$f":"IF('Lengua Castellana y Lit.'!AK7=\"\",\"\",'Lengua Castellana y Lit.'!AK7)","v":""},{"$f":"IF('Lengua Castellana y Lit.'!AL7=\"\",\"\",'Lengua Castellana y Lit.'!AL7)","v":""},{"$f":"IF('Lengua Castellana y Lit.'!AM7=\"\",\"\",'Lengua Castellana y Lit.'!AM7)","v":""},{"$f":"IF('Lengua Castellana y Lit.'!AN7=\"\",\"\",'Lengua Castellana y Lit.'!AN7)","v":""},{"$f":"IF('Lengua Castellana y Lit.'!AO7=\"\",\"\",'Lengua Castellana y Lit.'!AO7)","v":""},{"$f":"IF('Lengua Castellana y Lit.'!AP7=\"\",\"\",'Lengua Castellana y Lit.'!AP7)","v":""}]
[null,null,"Comp. Esp. 3","Criterio Evaluación 3.1",{"$f":"IF('Lengua Castellana y Lit.'!H8=\"\",\"\",'Lengua Castellana y Lit.'!H8)","v":""},{"$f":"IF('Lengua Castellana y Lit.'!I8=\"\",\"\",'Lengua Castellana y Lit.'!I8)","v":""},{"$f":"IF('Lengua Castellana y Lit.'!J8=\"\",\"\",'Lengua Castellana y Lit.'!J8)","v":""},{"$f":"IF('Lengua Castellana y Lit.'!K8=\"\",\"\",'Lengua Castellana y Lit.'!K8)","v":""},{"$f":"IF('Lengua Castellana y Lit.'!L8=\"\",\"\",'Lengua Castellana y Lit.'!L8)","v":""},{"$f":"IF('Lengua Castellana y Lit.'!M8=\"\",\"\",'Lengua Castellana y Lit.'!M8)","v":""},{"$f":"IF('Lengua Castellana y Lit.'!N8=\"\",\"\",'Lengua Castellana y Lit.'!N8)","v":""},{"$f":"IF('Lengua Castellana y Lit.'!O8=\"\",\"\",'Lengua Castellana y Lit.'!O8)","v":""},{"$f":"IF('Lengua Castellana y Lit.'!P8=\"\",\"\",'Lengua Castellana y Lit.'!P8)","v":""},{"$f":"IF('Lengua Castellana y Lit.'!Q8=\"\",\"\",'Lengua Castellana y Lit.'!Q8)","v":""},{"$f":"IF('Lengua Castellana y Lit.'!R8=\"\",\"\",'Lengua Castellana y Lit.'!R8)","v":""},{"$f":"IF('Lengua Castellana y Lit.'!S8=\"\",\"\",'Lengua Castellana y Lit.'!S8)","v":""},{"$f":"IF('Lengua Castellana y Lit.'!T8=\"\",\"\",'Lengua Castellana y Lit.'!T8)","v":""},{"$f":"IF('Lengua Castellana y Lit.'!U8=\"\",\"\",'Lengua Castellana y Lit.'!U8)","v":""},{"$f":"IF('Lengua Castellana y Lit.'!V8=\"\",\"\",'Lengua Castellana y Lit.'!V8)","v":""},{"$f":"IF('Lengua Castellana y Lit.'!W8=\"\",\"\",'Lengua Castellana y Lit.'!W8)","v":""},{"$f":"IF('Lengua Castellana y Lit.'!X8=\"\",\"\",'Lengua Castellana y Lit.'!X8)","v":""},{"$f":"IF('Lengua Castellana y Lit.'!Y8=\"\",\"\",'Lengua Castellana y Lit.'!Y8)","v":""},{"$f":"IF('Lengua Castellana y Lit.'!Z8=\"\",\"\",'Lengua Castellana y Lit.'!Z8)","v":""},{"$f":"IF('Lengua Castellana y Lit.'!AA8=\"\",\"\",'Lengua Castellana y Lit.'!AA8)","v":""},{"$f":"IF('Lengua Castellana y Lit.'!AB8=\"\",\"\",'Lengua Castellana y Lit.'!AB8)","v":""},{"$f":"IF('Lengua Castellana y Lit.'!AC8=\"\",\"\",'Lengua Castellana y Lit.'!AC8)","v":""},{"$f":"IF('Lengua Castellana y Lit.'!AD8=\"\",\"\",'Lengua Castellana y Lit.'!AD8)","v":""},{"$f":"IF('Lengua Castellana y Lit.'!AE8=\"\",\"\",'Lengua Castellana y Lit.'!AE8)","v":""},{"$f":"IF('Lengua Castellana y Lit.'!AF8=\"\",\"\",'Lengua Castellana y Lit.'!AF8)","v":""},{"$f":"IF('Lengua Castellana y Lit.'!AG8=\"\",\"\",'Lengua Castellana y Lit.'!AG8)","v":""},{"$f":"IF('Lengua Castellana y Lit.'!AH8=\"\",\"\",'Lengua Castellana y Lit.'!AH8)","v":""},{"$f":"IF('Lengua Castellana y Lit.'!AI8=\"\",\"\",'Lengua Castellana y Lit.'!AI8)","v":""},{"$f":"IF('Lengua Castellana y Lit.'!AJ8=\"\",\"\",'Lengua Castellana y Lit.'!AJ8)","v":""},{"$f":"IF('Lengua Castellana y Lit.'!AK8=\"\",\"\",'Lengua Castellana y Lit.'!AK8)","v":""},{"$f":"IF('Lengua Castellana y Lit.'!AL8=\"\",\"\",'Lengua Castellana y Lit.'!AL8)","v":""},{"$f":"IF('Lengua Castellana y Lit.'!AM8=\"\",\"\",'Lengua Castellana y Lit.'!AM8)","v":""},{"$f":"IF('Lengua Castellana y Lit.'!AN8=\"\",\"\",'Lengua Castellana y Lit.'!AN8)","v":""},{"$f":"IF('Lengua Castellana y Lit.'!AO8=\"\",\"\",'Lengua Castellana y Lit.'!AO8)","v":""},{"$f":"IF('Lengua Castellana y Lit.'!AP8=\"\",\"\",'Lengua Castellana y Lit.'!AP8)","v":""}]
[null,null,null,"Criterio Evaluación 3.2",{"$f":"IF('Lengua Castellana y Lit.'!H9=\"\",\"\",'Lengua Castellana y Lit.'!H9)","v":""},{"$f":"IF('Lengua Castellana y Lit.'!I9=\"\",\"\",'Lengua Castellana y Lit.'!I9)","v":""},{"$f":"IF('Lengua Castellana y Lit.'!J9=\"\",\"\",'Lengua Castellana y Lit.'!J9)","v":""},{"$f":"IF('Lengua Castellana y Lit.'!K9=\"\",\"\",'Lengua Castellana y Lit.'!K9)","v":""},{"$f":"IF('Lengua Castellana y Lit.'!L9=\"\",\"\",'Lengua Castellana y Lit.'!L9)","v":""},{"$f":"IF('Lengua Castellana y Lit.'!M9=\"\",\"\",'Lengua Castellana y Lit.'!M9)","v":""},{"$f":"IF('Lengua Castellana y Lit.'!N9=\"\",\"\",'Lengua Castellana y Lit.'!N9)","v":""},{"$f":"IF('Lengua Castellana y Lit.'!O9=\"\",\"\",'Lengua Castellana y Lit.'!O9)","v":""},{"$f":"IF('Lengua Castellana y Lit.'!P9=\"\",\"\",'Lengua Castellana y Lit.'!P9)","v":""},{"$f":"IF('Lengua Castellana y Lit.'!Q9=\"\",\"\",'Lengua Castellana y Lit.'!Q9)","v":""},{"$f":"IF('Lengua Castellana y Lit.'!R9=\"\",\"\",'Lengua Castellana y Lit.'!R9)","v":""},{"$f":"IF('Lengua Castellana y Lit.'!S9=\"\",\"\",'Lengua Castellana y Lit.'!S9)","v":""},{"$f":"IF('Lengua Castellana y Lit.'!T9=\"\",\"\",'Lengua Castellana y Lit.'!T9)","v":""},{"$f":"IF('Lengua Castellana y Lit.'!U9=\"\",\"\",'Lengua Castellana y Lit.'!U9)","v":""},{"$f":"IF('Lengua Castellana y Lit.'!V9=\"\",\"\",'Lengua Castellana y Lit.'!V9)","v":""},{"$f":"IF('Lengua Castellana y Lit.'!W9=\"\",\"\",'Lengua Castellana y Lit.'!W9)","v":""},{"$f":"IF('Lengua Castellana y Lit.'!X9=\"\",\"\",'Lengua Castellana y Lit.'!X9)","v":""},{"$f":"IF('Lengua Castellana y Lit.'!Y9=\"\",\"\",'Lengua Castellana y Lit.'!Y9)","v":""},{"$f":"IF('Lengua Castellana y Lit.'!Z9=\"\",\"\",'Lengua Castellana y Lit.'!Z9)","v":""},{"$f":"IF('Lengua Castellana y Lit.'!AA9=\"\",\"\",'Lengua Castellana y Lit.'!AA9)","v":""},{"$f":"IF('Lengua Castellana y Lit.'!AB9=\"\",\"\",'Lengua Castellana y Lit.'!AB9)","v":""},{"$f":"IF('Lengua Castellana y Lit.'!AC9=\"\",\"\",'Lengua Castellana y Lit.'!AC9)","v":""},{"$f":"IF('Lengua Castellana y Lit.'!AD9=\"\",\"\",'Lengua Castellana y Lit.'!AD9)","v":""},{"$f":"IF('Lengua Castellana y Lit.'!AE9=\"\",\"\",'Lengua Castellana y Lit.'!AE9)","v":""},{"$f":"IF('Lengua Castellana y Lit.'!AF9=\"\",\"\",'Lengua Castellana y Lit.'!AF9)","v":""},{"$f":"IF('Lengua Castellana y Lit.'!AG9=\"\",\"\",'Lengua Castellana y Lit.'!AG9)","v":""},{"$f":"IF('Lengua Castellana y Lit.'!AH9=\"\",\"\",'Lengua Castellana y Lit.'!AH9)","v":""},{"$f":"IF('Lengua Castellana y Lit.'!AI9=\"\",\"\",'Lengua Castellana y Lit.'!AI9)","v":""},{"$f":"IF('Lengua Castellana y Lit.'!AJ9=\"\",\"\",'Lengua Castellana y Lit.'!AJ9)","v":""},{"$f":"IF('Lengua Castellana y Lit.'!AK9=\"\",\"\",'Lengua Castellana y Lit.'!AK9)","v":""},{"$f":"IF('Lengua Castellana y Lit.'!AL9=\"\",\"\",'Lengua Castellana y Lit.'!AL9)","v":""},{"$f":"IF('Lengua Castellana y Lit.'!AM9=\"\",\"\",'Lengua Castellana y Lit.'!AM9)","v":""},{"$f":"IF('Lengua Castellana y Lit.'!AN9=\"\",\"\",'Lengua Castellana y Lit.'!AN9)","v":""},{"$f":"IF('Lengua Castellana y Lit.'!AO9=\"\",\"\",'Lengua Castellana y Lit.'!AO9)","v":""},{"$f":"IF('Lengua Castellana y Lit.'!AP9=\"\",\"\",'Lengua Castellana y Lit.'!AP9)","v":""}]
[null,null,null,"Criterio Evaluación 3.3",{"$f":"IF('Lengua Castellana y Lit.'!H10=\"\",\"\",'Lengua Castellana y Lit.'!H10)","v":""},{"$f":"IF('Lengua Castellana y Lit.'!I10=\"\",\"\",'Lengua Castellana y Lit.'!I10)","v":""},{"$f":"IF('Lengua Castellana y Lit.'!J10=\"\",\"\",'Lengua Castellana y Lit.'!J10)","v":""},{"$f":"IF('Lengua Castellana y Lit.'!K10=\"\",\"\",'Lengua Castellana y Lit.'!K10)","v":""},{"$f":"IF('Lengua Castellana y Lit.'!L10=\"\",\"\",'Lengua Castellana y Lit.'!L10)","v":""},{"$f":"IF('Lengua Castellana y Lit.'!M10=\"\",\"\",'Lengua Castellana y Lit.'!M10)","v":""},{"$f":"IF('Lengua Castellana y Lit.'!N10=\"\",\"\",'Lengua Castellana y Lit.'!N10)","v":""},{"$f":"IF('Lengua Castellana y Lit.'!O10=\"\",\"\",'Lengua Castellana y Lit.'!O10)","v":""},{"$f":"IF('Lengua Castellana y Lit.'!P10=\"\",\"\",'Lengua Castellana y Lit.'!P10)","v":""},{"$f":"IF('Lengua Castellana y Lit.'!Q10=\"\",\"\",'Lengua Castellana y Lit.'!Q10)","v":""},{"$f":"IF('Lengua Castellana y Lit.'!R10=\"\",\"\",'Lengua Castellana y Lit.'!R10)","v":""},{"$f":"IF('Lengua Castellana y Lit.'!S10=\"\",\"\",'Lengua Castellana y Lit.'!S10)","v":""},{"$f":"IF('Lengua Castellana y Lit.'!T10=\"\",\"\",'Lengua Castellana y Lit.'!T10)","v":""},{"$f":"IF('Lengua Castellana y Lit.'!U10=\"\",\"\",'Lengua Castellana y Lit.'!U10)","v":""},{"$f":"IF('Lengua Castellana y Lit.'!V10=\"\",\"\",'Lengua Castellana y Lit.'!V10)","v":""},{"$f":"IF('Lengua Castellana y Lit.'!W10=\"\",\"\",'Lengua Castellana y Lit.'!W10)","v":""},{"$f":"IF('Lengua Castellana y Lit.'!X10=\"\",\"\",'Lengua Castellana y Lit.'!X10)","v":""},{"$f":"IF('Lengua Castellana y Lit.'!Y10=\"\",\"\",'Lengua Castellana y Lit.'!Y10)","v":""},{"$f":"IF('Lengua Castellana y Lit.'!Z10=\"\",\"\",'Lengua Castellana y Lit.'!Z10)","v":""},{"$f":"IF('Lengua Castellana y Lit.'!AA10=\"\",\"\",'Lengua Castellana y Lit.'!AA10)","v":""},{"$f":"IF('Lengua Castellana y Lit.'!AB10=\"\",\"\",'Lengua Castellana y Lit.'!AB10)","v":""},{"$f":"IF('Lengua Castellana y Lit.'!AC10=\"\",\"\",'Lengua Castellana y Lit.'!AC10)","v":""},{"$f":"IF('Lengua Castellana y Lit.'!AD10=\"\",\"\",'Lengua Castellana y Lit.'!AD10)","v":""},{"$f":"IF('Lengua Castellana y Lit.'!AE10=\"\",\"\",'Lengua Castellana y Lit.'!AE10)","v":""},{"$f":"IF('Lengua Castellana y Lit.'!AF10=\"\",\"\",'Lengua Castellana y Lit.'!AF10)","v":""},{"$f":"IF('Lengua Castellana y Lit.'!AG10=\"\",\"\",'Lengua Castellana y Lit.'!AG10)","v":""},{"$f":"IF('Lengua Castellana y Lit.'!AH10=\"\",\"\",'Lengua Castellana y Lit.'!AH10)","v":""},{"$f":"IF('Lengua Castellana y Lit.'!AI10=\"\",\"\",'Lengua Castellana y Lit.'!AI10)","v":""},{"$f":"IF('Lengua Castellana y Lit.'!AJ10=\"\",\"\",'Lengua Castellana y Lit.'!AJ10)","v":""},{"$f":"IF('Lengua Castellana y Lit.'!AK10=\"\",\"\",'Lengua Castellana y Lit.'!AK10)","v":""},{"$f":"IF('Lengua Castellana y Lit.'!AL10=\"\",\"\",'Lengua Castellana y Lit.'!AL10)","v":""},{"$f":"IF('Lengua Castellana y Lit.'!AM10=\"\",\"\",'Lengua Castellana y Lit.'!AM10)","v":""},{"$f":"IF('Lengua Castellana y Lit.'!AN10=\"\",\"\",'Lengua Castellana y Lit.'!AN10)","v":""},{"$f":"IF('Lengua Castellana y Lit.'!AO10=\"\",\"\",'Lengua Castellana y Lit.'!AO10)","v":""},{"$f":"IF('Lengua Castellana y Lit.'!AP10=\"\",\"\",'Lengua Castellana y Lit.'!AP10)","v":""}]
[null,null,"Comp. Esp. 4","Criterio Evaluación 4.1",{"$f":"IF('Lengua Castellana y Lit.'!H11=\"\",\"\",'Lengua Castellana y Lit.'!H11)","v":""},{"$f":"IF('Lengua Castellana y Lit.'!I11=\"\",\"\",'Lengua Castellana y Lit.'!I11)","v":""},{"$f":"IF('Lengua Castellana y Lit.'!J11=\"\",\"\",'Lengua Castellana y Lit.'!J11)","v":""},{"$f":"IF('Lengua Castellana y Lit.'!K11=\"\",\"\",'Lengua Castellana y Lit.'!K11)","v":""},{"$f":"IF('Lengua Castellana y Lit.'!L11=\"\",\"\",'Lengua Castellana y Lit.'!L11)","v":""},{"$f":"IF('Lengua Castellana y Lit.'!M11=\"\",\"\",'Lengua Castellana y Lit.'!M11)","v":""},{"$f":"IF('Lengua Castellana y Lit.'!N11=\"\",\"\",'Lengua Castellana y Lit.'!N11)","v":""},{"$f":"IF('Lengua Castellana y Lit.'!O11=\"\",\"\",'Lengua Castellana y Lit.'!O11)","v":""},{"$f":"IF('Lengua Castellana y Lit.'!P11=\"\",\"\",'Lengua Castellana y Lit.'!P11)","v":""},{"$f":"IF('Lengua Castellana y Lit.'!Q11=\"\",\"\",'Lengua Castellana y Lit.'!Q11)","v":""},{"$f":"IF('Lengua Castellana y Lit.'!R11=\"\",\"\",'Lengua Castellana y Lit.'!R11)","v":""},{"$f":"IF('Lengua Castellana y Lit.'!S11=\"\",\"\",'Lengua Castellana y Lit.'!S11)","v":""},{"$f":"IF('Lengua Castellana y Lit.'!T11=\"\",\"\",'Lengua Castellana y Lit.'!T11)","v":""},{"$f":"IF('Lengua Castellana y Lit.'!U11=\"\",\"\",'Lengua Castellana y Lit.'!U11)","v":""},{"$f":"IF('Lengua Castellana y Lit.'!V11=\"\",\"\",'Lengua Castellana y Lit.'!V11)","v":""},{"$f":"IF('Lengua Castellana y Lit.'!W11=\"\",\"\",'Lengua Castellana y Lit.'!W11)","v":""},{"$f":"IF('Lengua Castellana y Lit.'!X11=\"\",\"\",'Lengua Castellana y Lit.'!X11)","v":""},{"$f":"IF('Lengua Castellana y Lit.'!Y11=\"\",\"\",'Lengua Castellana y Lit.'!Y11)","v":""},{"$f":"IF('Lengua Castellana y Lit.'!Z11=\"\",\"\",'Lengua Castellana y Lit.'!Z11)","v":""},{"$f":"IF('Lengua Castellana y Lit.'!AA11=\"\",\"\",'Lengua Castellana y Lit.'!AA11)","v":""},{"$f":"IF('Lengua Castellana y Lit.'!AB11=\"\",\"\",'Lengua Castellana y Lit.'!AB11)","v":""},{"$f":"IF('Lengua Castellana y Lit.'!AC11=\"\",\"\",'Lengua Castellana y Lit.'!AC11)","v":""},{"$f":"IF('Lengua Castellana y Lit.'!AD11=\"\",\"\",'Lengua Castellana y Lit.'!AD11)","v":""},{"$f":"IF('Lengua Castellana y Lit.'!AE11=\"\",\"\",'Lengua Castellana y Lit.'!AE11)","v":""},{"$f":"IF('Lengua Castellana y Lit.'!AF11=\"\",\"\",'Lengua Castellana y Lit.'!AF11)","v":""},{"$f":"IF('Lengua Castellana y Lit.'!AG11=\"\",\"\",'Lengua Castellana y Lit.'!AG11)","v":""},{"$f":"IF('Lengua Castellana y Lit.'!AH11=\"\",\"\",'Lengua Castellana y Lit.'!AH11)","v":""},{"$f":"IF('Lengua Castellana y Lit.'!AI11=\"\",\"\",'Lengua Castellana y Lit.'!AI11)","v":""},{"$f":"IF('Lengua Castellana y Lit.'!AJ11=\"\",\"\",'Lengua Castellana y Lit.'!AJ11)","v":""},{"$f":"IF('Lengua Castellana y Lit.'!AK11=\"\",\"\",'Lengua Castellana y Lit.'!AK11)","v":""},{"$f":"IF('Lengua Castellana y Lit.'!AL11=\"\",\"\",'Lengua Castellana y Lit.'!AL11)","v":""},{"$f":"IF('Lengua Castellana y Lit.'!AM11=\"\",\"\",'Lengua Castellana y Lit.'!AM11)","v":""},{"$f":"IF('Lengua Castellana y Lit.'!AN11=\"\",\"\",'Lengua Castellana y Lit.'!AN11)","v":""},{"$f":"IF('Lengua Castellana y Lit.'!AO11=\"\",\"\",'Lengua Castellana y Lit.'!AO11)","v":""},{"$f":"IF('Lengua Castellana y Lit.'!AP11=\"\",\"\",'Lengua Castellana y Lit.'!AP11)","v":""}]
[null,null,null,"Criterio Evaluación 4.2",{"$f":"IF('Lengua Castellana y Lit.'!H12=\"\",\"\",'Lengua Castellana y Lit.'!H12)","v":""},{"$f":"IF('Lengua Castellana y Lit.'!I12=\"\",\"\",'Lengua Castellana y Lit.'!I12)","v":""},{"$f":"IF('Lengua Castellana y Lit.'!J12=\"\",\"\",'Lengua Castellana y Lit.'!J12)","v":""},{"$f":"IF('Lengua Castellana y Lit.'!K12=\"\",\"\",'Lengua Castellana y Lit.'!K12)","v":""},{"$f":"IF('Lengua Castellana y Lit.'!L12=\"\",\"\",'Lengua Castellana y Lit.'!L12)","v":""},{"$f":"IF('Lengua Castellana y Lit.'!M12=\"\",\"\",'Lengua Castellana y Lit.'!M12)","v":""},{"$f":"IF('Lengua Castellana y Lit.'!N12=\"\",\"\",'Lengua Castellana y Lit.'!N12)","v":""},{"$f":"IF('Lengua Castellana y Lit.'!O12=\"\",\"\",'Lengua Castellana y Lit.'!O12)","v":""},{"$f":"IF('Lengua Castellana y Lit.'!P12=\"\",\"\",'Lengua Castellana y Lit.'!P12)","v":""},{"$f":"IF('Lengua Castellana y Lit.'!Q12=\"\",\"\",'Lengua Castellana y Lit.'!Q12)","v":""},{"$f":"IF('Lengua Castellana y Lit.'!R12=\"\",\"\",'Lengua Castellana y Lit.'!R12)","v":""},{"$f":"IF('Lengua Castellana y Lit.'!S12=\"\",\"\",'Lengua Castellana y Lit.'!S12)","v":""},{"$f":"IF('Lengua Castellana y Lit.'!T12=\"\",\"\",'Lengua Castellana y Lit.'!T12)","v":""},{"$f":"IF('Lengua Castellana y Lit.'!U12=\"\",\"\",'Lengua Castellana y Lit.'!U12)","v":""},{"$f":"IF('Lengua Castellana y Lit.'!V12=\"\",\"\",'Lengua Castellana y Lit.'!V12)","v":""},{"$f":"IF('Lengua Castellana y Lit.'!W12=\"\",\"\",'Lengua Castellana y Lit.'!W12)","v":""},{"$f":"IF('Lengua Castellana y Lit.'!X12=\"\",\"\",'Lengua Castellana y Lit.'!X12)","v":""},{"$f":"IF('Lengua Castellana y Lit.'!Y12=\"\",\"\",'Lengua Castellana y Lit.'!Y12)","v":""},{"$f":"IF('Lengua Castellana y Lit.'!Z12=\"\",\"\",'Lengua Castellana y Lit.'!Z12)","v":""},{"$f":"IF('Lengua Castellana y Lit.'!AA12=\"\",\"\",'Lengua Castellana y Lit.'!AA12)","v":""},{"$f":"IF('Lengua Castellana y Lit.'!AB12=\"\",\"\",'Lengua Castellana y Lit.'!AB12)","v":""},{"$f":"IF('Lengua Castellana y Lit.'!AC12=\"\",\"\",'Lengua Castellana y Lit.'!AC12)","v":""},{"$f":"IF('Lengua Castellana y Lit.'!AD12=\"\",\"\",'Lengua Castellana y Lit.'!AD12)","v":""},{"$f":"IF('Lengua Castellana y Lit.'!AE12=\"\",\"\",'Lengua Castellana y Lit.'!AE12)","v":""},{"$f":"IF('Lengua Castellana y Lit.'!AF12=\"\",\"\",'Lengua Castellana y Lit.'!AF12)","v":""},{"$f":"IF('Lengua Castellana y Lit.'!AG12=\"\",\"\",'Lengua Castellana y Lit.'!AG12)","v":""},{"$f":"IF('Lengua Castellana y Lit.'!AH12=\"\",\"\",'Lengua Castellana y Lit.'!AH12)","v":""},{"$f":"IF('Lengua Castellana y Lit.'!AI12=\"\",\"\",'Lengua Castellana y Lit.'!AI12)","v":""},{"$f":"IF('Lengua Castellana y Lit.'!AJ12=\"\",\"\",'Lengua Castellana y Lit.'!AJ12)","v":""},{"$f":"IF('Lengua Castellana y Lit.'!AK12=\"\",\"\",'Lengua Castellana y Lit.'!AK12)","v":""},{"$f":"IF('Lengua Castellana y Lit.'!AL12=\"\",\"\",'Lengua Castellana y Lit.'!AL12)","v":""},{"$f":"IF('Lengua Castellana y Lit.'!AM12=\"\",\"\",'Lengua Castellana y Lit.'!AM12)","v":""},{"$f":"IF('Lengua Castellana y Lit.'!AN12=\"\",\"\",'Lengua Castellana y Lit.'!AN12)","v":""},{"$f":"IF('Lengua Castellana y Lit.'!AO12=\"\",\"\",'Lengua Castellana y Lit.'!AO12)","v":""},{"$f":"IF('Lengua Castellana y Lit.'!AP12=\"\",\"\",'Lengua Castellana y Lit.'!AP12)","v":""}]
[null,null,null,"Criterio Evaluación 4.3",{"$f":"IF('Lengua Castellana y Lit.'!H13=\"\",\"\",'Lengua Castellana y Lit.'!H13)","v":""},{"$f":"IF('Lengua Castellana y Lit.'!I13=\"\",\"\",'Lengua Castellana y Lit.'!I13)","v":""},{"$f":"IF('Lengua Castellana y Lit.'!J13=\"\",\"\",'Lengua Castellana y Lit.'!J13)","v":""},{"$f":"IF('Lengua Castellana y Lit.'!K13=\"\",\"\",'Lengua Castellana y Lit.'!K13)","v":""},{"$f":"IF('Lengua Castellana y Lit.'!L13=\"\",\"\",'Lengua Castellana y Lit.'!L13)","v":""},{"$f":"IF('Lengua Castellana y Lit.'!M13=\"\",\"\",'Lengua Castellana y Lit.'!M13)","v":""},{"$f":"IF('Lengua Castellana y Lit.'!N13=\"\",\"\",'Lengua Castellana y Lit.'!N13)","v":""},{"$f":"IF('Lengua Castellana y Lit.'!O13=\"\",\"\",'Lengua Castellana y Lit.'!O13)","v":""},{"$f":"IF('Lengua Castellana y Lit.'!P13=\"\",\"\",'Lengua Castellana y Lit.'!P13)","v":""},{"$f":"IF('Lengua Castellana y Lit.'!Q13=\"\",\"\",'Lengua Castellana y Lit.'!Q13)","v":""},{"$f":"IF('Lengua Castellana y Lit.'!R13=\"\",\"\",'Lengua Castellana y Lit.'!R13)","v":""},{"$f":"IF('Lengua Castellana y Lit.'!S13=\"\",\"\",'Lengua Castellana y Lit.'!S13)","v":""},{"$f":"IF('Lengua Castellana y Lit.'!T13=\"\",\"\",'Lengua Castellana y Lit.'!T13)","v":""},{"$f":"IF('Lengua Castellana y Lit.'!U13=\"\",\"\",'Lengua Castellana y Lit.'!U13)","v":""},{"$f":"IF('Lengua Castellana y Lit.'!V13=\"\",\"\",'Lengua Castellana y Lit.'!V13)","v":""},{"$f":"IF('Lengua Castellana y Lit.'!W13=\"\",\"\",'Lengua Castellana y Lit.'!W13)","v":""},{"$f":"IF('Lengua Castellana y Lit.'!X13=\"\",\"\",'Lengua Castellana y Lit.'!X13)","v":""},{"$f":"IF('Lengua Castellana y Lit.'!Y13=\"\",\"\",'Lengua Castellana y Lit.'!Y13)","v":""},{"$f":"IF('Lengua Castellana y Lit.'!Z13=\"\",\"\",'Lengua Castellana y Lit.'!Z13)","v":""},{"$f":"IF('Lengua Castellana y Lit.'!AA13=\"\",\"\",'Lengua Castellana y Lit.'!AA13)","v":""},{"$f":"IF('Lengua Castellana y Lit.'!AB13=\"\",\"\",'Lengua Castellana y Lit.'!AB13)","v":""},{"$f":"IF('Lengua Castellana y Lit.'!AC13=\"\",\"\",'Lengua Castellana y Lit.'!AC13)","v":""},{"$f":"IF('Lengua Castellana y Lit.'!AD13=\"\",\"\",'Lengua Castellana y Lit.'!AD13)","v":""},{"$f":"IF('Lengua Castellana y Lit.'!AE13=\"\",\"\",'Lengua Castellana y Lit.'!AE13)","v":""},{"$f":"IF('Lengua Castellana y Lit.'!AF13=\"\",\"\",'Lengua Castellana y Lit.'!AF13)","v":""},{"$f":"IF('Lengua Castellana y Lit.'!AG13=\"\",\"\",'Lengua Castellana y Lit.'!AG13)","v":""},{"$f":"IF('Lengua Castellana y Lit.'!AH13=\"\",\"\",'Lengua Castellana y Lit.'!AH13)","v":""},{"$f":"IF('Lengua Castellana y Lit.'!AI13=\"\",\"\",'Lengua Castellana y Lit.'!AI13)","v":""},{"$f":"IF('Lengua Castellana y Lit.'!AJ13=\"\",\"\",'Lengua Castellana y Lit.'!AJ13)","v":""},{"$f":"IF('Lengua Castellana y Lit.'!AK13=\"\",\"\",'Lengua Castellana y Lit.'!AK13)","v":""},{"$f":"IF('Lengua Castellana y Lit.'!AL13=\"\",\"\",'Lengua Castellana y Lit.'!AL13)","v":""},{"$f":"IF('Lengua Castellana y Lit.'!AM13=\"\",\"\",'Lengua Castellana y Lit.'!AM13)","v":""},{"$f":"IF('Lengua Castellana y Lit.'!AN13=\"\",\"\",'Lengua Castellana y Lit.'!AN13)","v":""},{"$f":"IF('Lengua Castellana y Lit.'!AO13=\"\",\"\",'Lengua Castellana y Lit.'!AO13)","v":""},{"$f":"IF('Lengua Castellana y Lit.'!AP13=\"\",\"\",'Lengua Castellana y Lit.'!AP13)","v":""}]
[null,null,"Comp. Esp. 5","Criterio Evaluación 5.1",{"$f":"IF('Lengua Castellana y Lit.'!H14=\"\",\"\",'Lengua Castellana y Lit.'!H14)","v":""},{"$f":"IF('Lengua Castellana y Lit.'!I14=\"\",\"\",'Lengua Castellana y Lit.'!I14)","v":""},{"$f":"IF('Lengua Castellana y Lit.'!J14=\"\",\"\",'Lengua Castellana y Lit.'!J14)","v":""},{"$f":"IF('Lengua Castellana y Lit.'!K14=\"\",\"\",'Lengua Castellana y Lit.'!K14)","v":""},{"$f":"IF('Lengua Castellana y Lit.'!L14=\"\",\"\",'Lengua Castellana y Lit.'!L14)","v":""},{"$f":"IF('Lengua Castellana y Lit.'!M14=\"\",\"\",'Lengua Castellana y Lit.'!M14)","v":""},{"$f":"IF('Lengua Castellana y Lit.'!N14=\"\",\"\",'Lengua Castellana y Lit.'!N14)","v":""},{"$f":"IF('Lengua Castellana y Lit.'!O14=\"\",\"\",'Lengua Castellana y Lit.'!O14)","v":""},{"$f":"IF('Lengua Castellana y Lit.'!P14=\"\",\"\",'Lengua Castellana y Lit.'!P14)","v":""},{"$f":"IF('Lengua Castellana y Lit.'!Q14=\"\",\"\",'Lengua Castellana y Lit.'!Q14)","v":""},{"$f":"IF('Lengua Castellana y Lit.'!R14=\"\",\"\",'Lengua Castellana y Lit.'!R14)","v":""},{"$f":"IF('Lengua Castellana y Lit.'!S14=\"\",\"\",'Lengua Castellana y Lit.'!S14)","v":""},{"$f":"IF('Lengua Castellana y Lit.'!T14=\"\",\"\",'Lengua Castellana y Lit.'!T14)","v":""},{"$f":"IF('Lengua Castellana y Lit.'!U14=\"\",\"\",'Lengua Castellana y Lit.'!U14)","v":""},{"$f":"IF('Lengua Castellana y Lit.'!V14=\"\",\"\",'Lengua Castellana y Lit.'!V14)","v":""},{"$f":"IF('Lengua Castellana y Lit.'!W14=\"\",\"\",'Lengua Castellana y Lit.'!W14)","v":""},{"$f":"IF('Lengua Castellana y Lit.'!X14=\"\",\"\",'Lengua Castellana y Lit.'!X14)","v":""},{"$f":"IF('Lengua Castellana y Lit.'!Y14=\"\",\"\",'Lengua Castellana y Lit.'!Y14)","v":""},{"$f":"IF('Lengua Castellana y Lit.'!Z14=\"\",\"\",'Lengua Castellana y Lit.'!Z14)","v":""},{"$f":"IF('Lengua Castellana y Lit.'!AA14=\"\",\"\",'Lengua Castellana y Lit.'!AA14)","v":""},{"$f":"IF('Lengua Castellana y Lit.'!AB14=\"\",\"\",'Lengua Castellana y Lit.'!AB14)","v":""},{"$f":"IF('Lengua Castellana y Lit.'!AC14=\"\",\"\",'Lengua Castellana y Lit.'!AC14)","v":""},{"$f":"IF('Lengua Castellana y Lit.'!AD14=\"\",\"\",'Lengua Castellana y Lit.'!AD14)","v":""},{"$f":"IF('Lengua Castellana y Lit.'!AE14=\"\",\"\",'Lengua Castellana y Lit.'!AE14)","v":""},{"$f":"IF('Lengua Castellana y Lit.'!AF14=\"\",\"\",'Lengua Castellana y Lit.'!AF14)","v":""},{"$f":"IF('Lengua Castellana y Lit.'!AG14=\"\",\"\",'Lengua Castellana y Lit.'!AG14)","v":""},{"$f":"IF('Lengua Castellana y Lit.'!AH14=\"\",\"\",'Lengua Castellana y Lit.'!AH14)","v":""},{"$f":"IF('Lengua Castellana y Lit.'!AI14=\"\",\"\",'Lengua Castellana y Lit.'!AI14)","v":""},{"$f":"IF('Lengua Castellana y Lit.'!AJ14=\"\",\"\",'Lengua Castellana y Lit.'!AJ14)","v":""},{"$f":"IF('Lengua Castellana y Lit.'!AK14=\"\",\"\",'Lengua Castellana y Lit.'!AK14)","v":""},{"$f":"IF('Lengua Castellana y Lit.'!AL14=\"\",\"\",'Lengua Castellana y Lit.'!AL14)","v":""},{"$f":"IF('Lengua Castellana y Lit.'!AM14=\"\",\"\",'Lengua Castellana y Lit.'!AM14)","v":""},{"$f":"IF('Lengua Castellana y Lit.'!AN14=\"\",\"\",'Lengua Castellana y Lit.'!AN14)","v":""},{"$f":"IF('Lengua Castellana y Lit.'!AO14=\"\",\"\",'Lengua Castellana y Lit.'!AO14)","v":""},{"$f":"IF('Lengua Castellana y Lit.'!AP14=\"\",\"\",'Lengua Castellana y Lit.'!AP14)","v":""}]
[null,null,null,"Criterio Evaluación 5.2",{"$f":"IF('Lengua Castellana y Lit.'!H15=\"\",\"\",'Lengua Castellana y Lit.'!H15)","v":""},{"$f":"IF('Lengua Castellana y Lit.'!I15=\"\",\"\",'Lengua Castellana y Lit.'!I15)","v":""},{"$f":"IF('Lengua Castellana y Lit.'!J15=\"\",\"\",'Lengua Castellana y Lit.'!J15)","v":""},{"$f":"IF('Lengua Castellana y Lit.'!K15=\"\",\"\",'Lengua Castellana y Lit.'!K15)","v":""},{"$f":"IF('Lengua Castellana y Lit.'!L15=\"\",\"\",'Lengua Castellana y Lit.'!L15)","v":""},{"$f":"IF('Lengua Castellana y Lit.'!M15=\"\",\"\",'Lengua Castellana y Lit.'!M15)","v":""},{"$f":"IF('Lengua Castellana y Lit.'!N15=\"\",\"\",'Lengua Castellana y Lit.'!N15)","v":""},{"$f":"IF('Lengua Castellana y Lit.'!O15=\"\",\"\",'Lengua Castellana y Lit.'!O15)","v":""},{"$f":"IF('Lengua Castellana y Lit.'!P15=\"\",\"\",'Lengua Castellana y Lit.'!P15)","v":""},{"$f":"IF('Lengua Castellana y Lit.'!Q15=\"\",\"\",'Lengua Castellana y Lit.'!Q15)","v":""},{"$f":"IF('Lengua Castellana y Lit.'!R15=\"\",\"\",'Lengua Castellana y Lit.'!R15)","v":""},{"$f":"IF('Lengua Castellana y Lit.'!S15=\"\",\"\",'Lengua Castellana y Lit.'!S15)","v":""},{"$f":"IF('Lengua Castellana y Lit.'!T15=\"\",\"\",'Lengua Castellana y Lit.'!T15)","v":""},{"$f":"IF('Lengua Castellana y Lit.'!U15=\"\",\"\",'Lengua Castellana y Lit.'!U15)","v":""},{"$f":"IF('Lengua Castellana y Lit.'!V15=\"\",\"\",'Lengua Castellana y Lit.'!V15)","v":""},{"$f":"IF('Lengua Castellana y Lit.'!W15=\"\",\"\",'Lengua Castellana y Lit.'!W15)","v":""},{"$f":"IF('Lengua Castellana y Lit.'!X15=\"\",\"\",'Lengua Castellana y Lit.'!X15)","v":""},{"$f":"IF('Lengua Castellana y Lit.'!Y15=\"\",\"\",'Lengua Castellana y Lit.'!Y15)","v":""},{"$f":"IF('Lengua Castellana y Lit.'!Z15=\"\",\"\",'Lengua Castellana y Lit.'!Z15)","v":""},{"$f":"IF('Lengua Castellana y Lit.'!AA15=\"\",\"\",'Lengua Castellana y Lit.'!AA15)","v":""},{"$f":"IF('Lengua Castellana y Lit.'!AB15=\"\",\"\",'Lengua Castellana y Lit.'!AB15)","v":""},{"$f":"IF('Lengua Castellana y Lit.'!AC15=\"\",\"\",'Lengua Castellana y Lit.'!AC15)","v":""},{"$f":"IF('Lengua Castellana y Lit.'!AD15=\"\",\"\",'Lengua Castellana y Lit.'!AD15)","v":""},{"$f":"IF('Lengua Castellana y Lit.'!AE15=\"\",\"\",'Lengua Castellana y Lit.'!AE15)","v":""},{"$f":"IF('Lengua Castellana y Lit.'!AF15=\"\",\"\",'Lengua Castellana y Lit.'!AF15)","v":""},{"$f":"IF('Lengua Castellana y Lit.'!AG15=\"\",\"\",'Lengua Castellana y Lit.'!AG15)","v":""},{"$f":"IF('Lengua Castellana y Lit.'!AH15=\"\",\"\",'Lengua Castellana y Lit.'!AH15)","v":""},{"$f":"IF('Lengua Castellana y Lit.'!AI15=\"\",\"\",'Lengua Castellana y Lit.'!AI15)","v":""},{"$f":"IF('Lengua Castellana y Lit.'!AJ15=\"\",\"\",'Lengua Castellana y Lit.'!AJ15)","v":""},{"$f":"IF('Lengua Castellana y Lit.'!AK15=\"\",\"\",'Lengua Castellana y Lit.'!AK15)","v":""},{"$f":"IF('Lengua Castellana y Lit.'!AL15=\"\",\"\",'Lengua Castellana y Lit.'!AL15)","v":""},{"$f":"IF('Lengua Castellana y Lit.'!AM15=\"\",\"\",'Lengua Castellana y Lit.'!AM15)","v":""},{"$f":"IF('Lengua Castellana y Lit.'!AN15=\"\",\"\",'Lengua Castellana y Lit.'!AN15)","v":""},{"$f":"IF('Lengua Castellana y Lit.'!AO15=\"\",\"\",'Lengua Castellana y Lit.'!AO15)","v":""},{"$f":"IF('Lengua Castellana y Lit.'!AP15=\"\",\"\",'Lengua Castellana y Lit.'!AP15)","v":""}]
[null,null,"Comp. Esp. 6","Criterio Evaluación 6.1",{"$f":"IF('Lengua Castellana y Lit.'!H16=\"\",\"\",'Lengua Castellana y Lit.'!H16)","v":""},{"$f":"IF('Lengua Castellana y Lit.'!I16=\"\",\"\",'Lengua Castellana y Lit.'!I16)","v":""},{"$f":"IF('Lengua Castellana y Lit.'!J16=\"\",\"\",'Lengua Castellana y Lit.'!J16)","v":""},{"$f":"IF('Lengua Castellana y Lit.'!K16=\"\",\"\",'Lengua Castellana y Lit.'!K16)","v":""},{"$f":"IF('Lengua Castellana y Lit.'!L16=\"\",\"\",'Lengua Castellana y Lit.'!L16)","v":""},{"$f":"IF('Lengua Castellana y Lit.'!M16=\"\",\"\",'Lengua Castellana y Lit.'!M16)","v":""},{"$f":"IF('Lengua Castellana y Lit.'!N16=\"\",\"\",'Lengua Castellana y Lit.'!N16)","v":""},{"$f":"IF('Lengua Castellana y Lit.'!O16=\"\",\"\",'Lengua Castellana y Lit.'!O16)","v":""},{"$f":"IF('Lengua Castellana y Lit.'!P16=\"\",\"\",'Lengua Castellana y Lit.'!P16)","v":""},{"$f":"IF('Lengua Castellana y Lit.'!Q16=\"\",\"\",'Lengua Castellana y Lit.'!Q16)","v":""},{"$f":"IF('Lengua Castellana y Lit.'!R16=\"\",\"\",'Lengua Castellana y Lit.'!R16)","v":""},{"$f":"IF('Lengua Castellana y Lit.'!S16=\"\",\"\",'Lengua Castellana y Lit.'!S16)","v":""},{"$f":"IF('Lengua Castellana y Lit.'!T16=\"\",\"\",'Lengua Castellana y Lit.'!T16)","v":""},{"$f":"IF('Lengua Castellana y Lit.'!U16=\"\",\"\",'Lengua Castellana y Lit.'!U16)","v":""},{"$f":"IF('Lengua Castellana y Lit.'!V16=\"\",\"\",'Lengua Castellana y Lit.'!V16)","v":""},{"$f":"IF('Lengua Castellana y Lit.'!W16=\"\",\"\",'Lengua Castellana y Lit.'!W16)","v":""},{"$f":"IF('Lengua Castellana y Lit.'!X16=\"\",\"\",'Lengua Castellana y Lit.'!X16)","v":""},{"$f":"IF('Lengua Castellana y Lit.'!Y16=\"\",\"\",'Lengua Castellana y Lit.'!Y16)","v":""},{"$f":"IF('Lengua Castellana y Lit.'!Z16=\"\",\"\",'Lengua Castellana y Lit.'!Z16)","v":""},{"$f":"IF('Lengua Castellana y Lit.'!AA16=\"\",\"\",'Lengua Castellana y Lit.'!AA16)","v":""},{"$f":"IF('Lengua Castellana y Lit.'!AB16=\"\",\"\",'Lengua Castellana y Lit.'!AB16)","v":""},{"$f":"IF('Lengua Castellana y Lit.'!AC16=\"\",\"\",'Lengua Castellana y Lit.'!AC16)","v":""},{"$f":"IF('Lengua Castellana y Lit.'!AD16=\"\",\"\",'Lengua Castellana y Lit.'!AD16)","v":""},{"$f":"IF('Lengua Castellana y Lit.'!AE16=\"\",\"\",'Lengua Castellana y Lit.'!AE16)","v":""},{"$f":"IF('Lengua Castellana y Lit.'!AF16=\"\",\"\",'Lengua Castellana y Lit.'!AF16)","v":""},{"$f":"IF('Lengua Castellana y Lit.'!AG16=\"\",\"\",'Lengua Castellana y Lit.'!AG16)","v":""},{"$f":"IF('Lengua Castellana y Lit.'!AH16=\"\",\"\",'Lengua Castellana y Lit.'!AH16)","v":""},{"$f":"IF('Lengua Castellana y Lit.'!AI16=\"\",\"\",'Lengua Castellana y Lit.'!AI16)","v":""},{"$f":"IF('Lengua Castellana y Lit.'!AJ16=\"\",\"\",'Lengua Castellana y Lit.'!AJ16)","v":""},{"$f":"IF('Lengua Castellana y Lit.'!AK16=\"\",\"\",'Lengua Castellana y Lit.'!AK16)","v":""},{"$f":"IF('Lengua Castellana y Lit.'!AL16=\"\",\"\",'Lengua Castellana y Lit.'!AL16)","v":""},{"$f":"IF('Lengua Castellana y Lit.'!AM16=\"\",\"\",'Lengua Castellana y Lit.'!AM16)","v":""},{"$f":"IF('Lengua Castellana y Lit.'!AN16=\"\",\"\",'Lengua Castellana y Lit.'!AN16)","v":""},{"$f":"IF('Lengua Castellana y Lit.'!AO16=\"\",\"\",'Lengua Castellana y Lit.'!AO16)","v":""},{"$f":"IF('Lengua Castellana y Lit.'!AP16=\"\",\"\",'Lengua Castellana y Lit.'!AP16)","v":""}]
[null,null,null,"Criterio Evaluación 6.2",{"$f":"IF('Lengua Castellana y Lit.'!H17=\"\",\"\",'Lengua Castellana y Lit.'!H17)","v":""},{"$f":"IF('Lengua Castellana y Lit.'!I17=\"\",\"\",'Lengua Castellana y Lit.'!I17)","v":""},{"$f":"IF('Lengua Castellana y Lit.'!J17=\"\",\"\",'Lengua Castellana y Lit.'!J17)","v":""},{"$f":"IF('Lengua Castellana y Lit.'!K17=\"\",\"\",'Lengua Castellana y Lit.'!K17)","v":""},{"$f":"IF('Lengua Castellana y Lit.'!L17=\"\",\"\",'Lengua Castellana y Lit.'!L17)","v":""},{"$f":"IF('Lengua Castellana y Lit.'!M17=\"\",\"\",'Lengua Castellana y Lit.'!M17)","v":""},{"$f":"IF('Lengua Castellana y Lit.'!N17=\"\",\"\",'Lengua Castellana y Lit.'!N17)","v":""},{"$f":"IF('Lengua Castellana y Lit.'!O17=\"\",\"\",'Lengua Castellana y Lit.'!O17)","v":""},{"$f":"IF('Lengua Castellana y Lit.'!P17=\"\",\"\",'Lengua Castellana y Lit.'!P17)","v":""},{"$f":"IF('Lengua Castellana y Lit.'!Q17=\"\",\"\",'Lengua Castellana y Lit.'!Q17)","v":""},{"$f":"IF('Lengua Castellana y Lit.'!R17=\"\",\"\",'Lengua Castellana y Lit.'!R17)","v":""},{"$f":"IF('Lengua Castellana y Lit.'!S17=\"\",\"\",'Lengua Castellana y Lit.'!S17)","v":""},{"$f":"IF('Lengua Castellana y Lit.'!T17=\"\",\"\",'Lengua Castellana y Lit.'!T17)","v":""},{"$f":"IF('Lengua Castellana y Lit.'!U17=\"\",\"\",'Lengua Castellana y Lit.'!U17)","v":""},{"$f":"IF('Lengua Castellana y Lit.'!V17=\"\",\"\",'Lengua Castellana y Lit.'!V17)","v":""},{"$f":"IF('Lengua Castellana y Lit.'!W17=\"\",\"\",'Lengua Castellana y Lit.'!W17)","v":""},{"$f":"IF('Lengua Castellana y Lit.'!X17=\"\",\"\",'Lengua Castellana y Lit.'!X17)","v":""},{"$f":"IF('Lengua Castellana y Lit.'!Y17=\"\",\"\",'Lengua Castellana y Lit.'!Y17)","v":""},{"$f":"IF('Lengua Castellana y Lit.'!Z17=\"\",\"\",'Lengua Castellana y Lit.'!Z17)","v":""},{"$f":"IF('Lengua Castellana y Lit.'!AA17=\"\",\"\",'Lengua Castellana y Lit.'!AA17)","v":""},{"$f":"IF('Lengua Castellana y Lit.'!AB17=\"\",\"\",'Lengua Castellana y Lit.'!AB17)","v":""},{"$f":"IF('Lengua Castellana y Lit.'!AC17=\"\",\"\",'Lengua Castellana y Lit.'!AC17)","v":""},{"$f":"IF('Lengua Castellana y Lit.'!AD17=\"\",\"\",'Lengua Castellana y Lit.'!AD17)","v":""},{"$f":"IF('Lengua Castellana y Lit.'!AE17=\"\",\"\",'Lengua Castellana y Lit.'!AE17)","v":""},{"$f":"IF('Lengua Castellana y Lit.'!AF17=\"\",\"\",'Lengua Castellana y Lit.'!AF17)","v":""},{"$f":"IF('Lengua Castellana y Lit.'!AG17=\"\",\"\",'Lengua Castellana y Lit.'!AG17)","v":""},{"$f":"IF('Lengua Castellana y Lit.'!AH17=\"\",\"\",'Lengua Castellana y Lit.'!AH17)","v":""},{"$f":"IF('Lengua Castellana y Lit.'!AI17=\"\",\"\",'Lengua Castellana y Lit.'!AI17)","v":""},{"$f":"IF('Lengua Castellana y Lit.'!AJ17=\"\",\"\",'Lengua Castellana y Lit.'!AJ17)","v":""},{"$f":"IF('Lengua Castellana y Lit.'!AK17=\"\",\"\",'Lengua Castellana y Lit.'!AK17)","v":""},{"$f":"IF('Lengua Castellana y Lit.'!AL17=\"\",\"\",'Lengua Castellana y Lit.'!AL17)","v":""},{"$f":"IF('Lengua Castellana y Lit.'!AM17=\"\",\"\",'Lengua Castellana y Lit.'!AM17)","v":""},{"$f":"IF('Lengua Castellana y Lit.'!AN17=\"\",\"\",'Lengua Castellana y Lit.'!AN17)","v":""},{"$f":"IF('Lengua Castellana y Lit.'!AO17=\"\",\"\",'Lengua Castellana y Lit.'!AO17)","v":""},{"$f":"IF('Lengua Castellana y Lit.'!AP17=\"\",\"\",'Lengua Castellana y Lit.'!AP17)","v":""}]
[null,null,null,"Criterio Evaluación 6.3",{"$f":"IF('Lengua Castellana y Lit.'!H18=\"\",\"\",'Lengua Castellana y Lit.'!H18)","v":""},{"$f":"IF('Lengua Castellana y Lit.'!I18=\"\",\"\",'Lengua Castellana y Lit.'!I18)","v":""},{"$f":"IF('Lengua Castellana y Lit.'!J18=\"\",\"\",'Lengua Castellana y Lit.'!J18)","v":""},{"$f":"IF('Lengua Castellana y Lit.'!K18=\"\",\"\",'Lengua Castellana y Lit.'!K18)","v":""},{"$f":"IF('Lengua Castellana y Lit.'!L18=\"\",\"\",'Lengua Castellana y Lit.'!L18)","v":""},{"$f":"IF('Lengua Castellana y Lit.'!M18=\"\",\"\",'Lengua Castellana y Lit.'!M18)","v":""},{"$f":"IF('Lengua Castellana y Lit.'!N18=\"\",\"\",'Lengua Castellana y Lit.'!N18)","v":""},{"$f":"IF('Lengua Castellana y Lit.'!O18=\"\",\"\",'Lengua Castellana y Lit.'!O18)","v":""},{"$f":"IF('Lengua Castellana y Lit.'!P18=\"\",\"\",'Lengua Castellana y Lit.'!P18)","v":""},{"$f":"IF('Lengua Castellana y Lit.'!Q18=\"\",\"\",'Lengua Castellana y Lit.'!Q18)","v":""},{"$f":"IF('Lengua Castellana y Lit.'!R18=\"\",\"\",'Lengua Castellana y Lit.'!R18)","v":""},{"$f":"IF('Lengua Castellana y Lit.'!S18=\"\",\"\",'Lengua Castellana y Lit.'!S18)","v":""},{"$f":"IF('Lengua Castellana y Lit.'!T18=\"\",\"\",'Lengua Castellana y Lit.'!T18)","v":""},{"$f":"IF('Lengua Castellana y Lit.'!U18=\"\",\"\",'Lengua Castellana y Lit.'!U18)","v":""},{"$f":"IF('Lengua Castellana y Lit.'!V18=\"\",\"\",'Lengua Castellana y Lit.'!V18)","v":""},{"$f":"IF('Lengua Castellana y Lit.'!W18=\"\",\"\",'Lengua Castellana y Lit.'!W18)","v":""},{"$f":"IF('Lengua Castellana y Lit.'!X18=\"\",\"\",'Lengua Castellana y Lit.'!X18)","v":""},{"$f":"IF('Lengua Castellana y Lit.'!Y18=\"\",\"\",'Lengua Castellana y Lit.'!Y18)","v":""},{"$f":"IF('Lengua Castellana y Lit.'!Z18=\"\",\"\",'Lengua Castellana y Lit.'!Z18)","v":""},{"$f":"IF('Lengua Castellana y Lit.'!AA18=\"\",\"\",'Lengua Castellana y Lit.'!AA18)","v":""},{"$f":"IF('Lengua Castellana y Lit.'!AB18=\"\",\"\",'Lengua Castellana y Lit.'!AB18)","v":""},{"$f":"IF('Lengua Castellana y Lit.'!AC18=\"\",\"\",'Lengua Castellana y Lit.'!AC18)","v":""},{"$f":"IF('Lengua Castellana y Lit.'!AD18=\"\",\"\",'Lengua Castellana y Lit.'!AD18)","v":""},{"$f":"IF('Lengua Castellana y Lit.'!AE18=\"\",\"\",'Lengua Castellana y Lit.'!AE18)","v":""},{"$f":"IF('Lengua Castellana y Lit.'!AF18=\"\",\"\",'Lengua Castellana y Lit.'!AF18)","v":""},{"$f":"IF('Lengua Castellana y Lit.'!AG18=\"\",\"\",'Lengua Castellana y Lit.'!AG18)","v":""},{"$f":"IF('Lengua Castellana y Lit.'!AH18=\"\",\"\",'Lengua Castellana y Lit.'!AH18)","v":""},{"$f":"IF('Lengua Castellana y Lit.'!AI18=\"\",\"\",'Lengua Castellana y Lit.'!AI18)","v":""},{"$f":"IF('Lengua Castellana y Lit.'!AJ18=\"\",\"\",'Lengua Castellana y Lit.'!AJ18)","v":""},{"$f":"IF('Lengua Castellana y Lit.'!AK18=\"\",\"\",'Lengua Castellana y Lit.'!AK18)","v":""},{"$f":"IF('Lengua Castellana y Lit.'!AL18=\"\",\"\",'Lengua Castellana y Lit.'!AL18)","v":""},{"$f":"IF('Lengua Castellana y Lit.'!AM18=\"\",\"\",'Lengua Castellana y Lit.'!AM18)","v":""},{"$f":"IF('Lengua Castellana y Lit.'!AN18=\"\",\"\",'Lengua Castellana y Lit.'!AN18)","v":""},{"$f":"IF('Lengua Castellana y Lit.'!AO18=\"\",\"\",'Lengua Castellana y Lit.'!AO18)","v":""},{"$f":"IF('Lengua Castellana y Lit.'!AP18=\"\",\"\",'Lengua Castellana y Lit.'!AP18)","v":""}]
[null,null,null,"Criterio Evaluación 6.4",{"$f":"IF('Lengua Castellana y Lit.'!H19=\"\",\"\",'Lengua Castellana y Lit.'!H19)","v":""},{"$f":"IF('Lengua Castellana y Lit.'!I19=\"\",\"\",'Lengua Castellana y Lit.'!I19)","v":""},{"$f":"IF('Lengua Castellana y Lit.'!J19=\"\",\"\",'Lengua Castellana y Lit.'!J19)","v":""},{"$f":"IF('Lengua Castellana y Lit.'!K19=\"\",\"\",'Lengua Castellana y Lit.'!K19)","v":""},{"$f":"IF('Lengua Castellana y Lit.'!L19=\"\",\"\",'Lengua Castellana y Lit.'!L19)","v":""},{"$f":"IF('Lengua Castellana y Lit.'!M19=\"\",\"\",'Lengua Castellana y Lit.'!M19)","v":""},{"$f":"IF('Lengua Castellana y Lit.'!N19=\"\",\"\",'Lengua Castellana y Lit.'!N19)","v":""},{"$f":"IF('Lengua Castellana y Lit.'!O19=\"\",\"\",'Lengua Castellana y Lit.'!O19)","v":""},{"$f":"IF('Lengua Castellana y Lit.'!P19=\"\",\"\",'Lengua Castellana y Lit.'!P19)","v":""},{"$f":"IF('Lengua Castellana y Lit.'!Q19=\"\",\"\",'Lengua Castellana y Lit.'!Q19)","v":""},{"$f":"IF('Lengua Castellana y Lit.'!R19=\"\",\"\",'Lengua Castellana y Lit.'!R19)","v":""},{"$f":"IF('Lengua Castellana y Lit.'!S19=\"\",\"\",'Lengua Castellana y Lit.'!S19)","v":""},{"$f":"IF('Lengua Castellana y Lit.'!T19=\"\",\"\",'Lengua Castellana y Lit.'!T19)","v":""},{"$f":"IF('Lengua Castellana y Lit.'!U19=\"\",\"\",'Lengua Castellana y Lit.'!U19)","v":""},{"$f":"IF('Lengua Castellana y Lit.'!V19=\"\",\"\",'Lengua Castellana y Lit.'!V19)","v":""},{"$f":"IF('Lengua Castellana y Lit.'!W19=\"\",\"\",'Lengua Castellana y Lit.'!W19)","v":""},{"$f":"IF('Lengua Castellana y Lit.'!X19=\"\",\"\",'Lengua Castellana y Lit.'!X19)","v":""},{"$f":"IF('Lengua Castellana y Lit.'!Y19=\"\",\"\",'Lengua Castellana y Lit.'!Y19)","v":""},{"$f":"IF('Lengua Castellana y Lit.'!Z19=\"\",\"\",'Lengua Castellana y Lit.'!Z19)","v":""},{"$f":"IF('Lengua Castellana y Lit.'!AA19=\"\",\"\",'Lengua Castellana y Lit.'!AA19)","v":""},{"$f":"IF('Lengua Castellana y Lit.'!AB19=\"\",\"\",'Lengua Castellana y Lit.'!AB19)","v":""},{"$f":"IF('Lengua Castellana y Lit.'!AC19=\"\",\"\",'Lengua Castellana y Lit.'!AC19)","v":""},{"$f":"IF('Lengua Castellana y Lit.'!AD19=\"\",\"\",'Lengua Castellana y Lit.'!AD19)","v":""},{"$f":"IF('Lengua Castellana y Lit.'!AE19=\"\",\"\",'Lengua Castellana y Lit.'!AE19)","v":""},{"$f":"IF('Lengua Castellana y Lit.'!AF19=\"\",\"\",'Lengua Castellana y Lit.'!AF19)","v":""},{"$f":"IF('Lengua Castellana y Lit.'!AG19=\"\",\"\",'Lengua Castellana y Lit.'!AG19)","v":""},{"$f":"IF('Lengua Castellana y Lit.'!AH19=\"\",\"\",'Lengua Castellana y Lit.'!AH19)","v":""},{"$f":"IF('Lengua Castellana y Lit.'!AI19=\"\",\"\",'Lengua Castellana y Lit.'!AI19)","v":""},{"$f":"IF('Lengua Castellana y Lit.'!AJ19=\"\",\"\",'Lengua Castellana y Lit.'!AJ19)","v":""},{"$f":"IF('Lengua Castellana y Lit.'!AK19=\"\",\"\",'Lengua Castellana y Lit.'!AK19)","v":""},{"$f":"IF('Lengua Castellana y Lit.'!AL19=\"\",\"\",'Lengua Castellana y Lit.'!AL19)","v":""},{"$f":"IF('Lengua Castellana y Lit.'!AM19=\"\",\"\",'Lengua Castellana y Lit.'!AM19)","v":""},{"$f":"IF('Lengua Castellana y Lit.'!AN19=\"\",\"\",'Lengua Castellana y Lit.'!AN19)","v":""},{"$f":"IF('Lengua Castellana y Lit.'!AO19=\"\",\"\",'Lengua Castellana y Lit.'!AO19)","v":""},{"$f":"IF('Lengua Castellana y Lit.'!AP19=\"\",\"\",'Lengua Castellana y Lit.'!AP19)","v":""}]
[null,null,"Comp. Esp. 7","Criterio Evaluación 7.1",{"$f":"IF('Lengua Castellana y Lit.'!H20=\"\",\"\",'Lengua Castellana y Lit.'!H20)","v":""},{"$f":"IF('Lengua Castellana y Lit.'!I20=\"\",\"\",'Lengua Castellana y Lit.'!I20)","v":""},{"$f":"IF('Lengua Castellana y Lit.'!J20=\"\",\"\",'Lengua Castellana y Lit.'!J20)","v":""},{"$f":"IF('Lengua Castellana y Lit.'!K20=\"\",\"\",'Lengua Castellana y Lit.'!K20)","v":""},{"$f":"IF('Lengua Castellana y Lit.'!L20=\"\",\"\",'Lengua Castellana y Lit.'!L20)","v":""},{"$f":"IF('Lengua Castellana y Lit.'!M20=\"\",\"\",'Lengua Castellana y Lit.'!M20)","v":""},{"$f":"IF('Lengua Castellana y Lit.'!N20=\"\",\"\",'Lengua Castellana y Lit.'!N20)","v":""},{"$f":"IF('Lengua Castellana y Lit.'!O20=\"\",\"\",'Lengua Castellana y Lit.'!O20)","v":""},{"$f":"IF('Lengua Castellana y Lit.'!P20=\"\",\"\",'Lengua Castellana y Lit.'!P20)","v":""},{"$f":"IF('Lengua Castellana y Lit.'!Q20=\"\",\"\",'Lengua Castellana y Lit.'!Q20)","v":""},{"$f":"IF('Lengua Castellana y Lit.'!R20=\"\",\"\",'Lengua Castellana y Lit.'!R20)","v":""},{"$f":"IF('Lengua Castellana y Lit.'!S20=\"\",\"\",'Lengua Castellana y Lit.'!S20)","v":""},{"$f":"IF('Lengua Castellana y Lit.'!T20=\"\",\"\",'Lengua Castellana y Lit.'!T20)","v":""},{"$f":"IF('Lengua Castellana y Lit.'!U20=\"\",\"\",'Lengua Castellana y Lit.'!U20)","v":""},{"$f":"IF('Lengua Castellana y Lit.'!V20=\"\",\"\",'Lengua Castellana y Lit.'!V20)","v":""},{"$f":"IF('Lengua Castellana y Lit.'!W20=\"\",\"\",'Lengua Castellana y Lit.'!W20)","v":""},{"$f":"IF('Lengua Castellana y Lit.'!X20=\"\",\"\",'Lengua Castellana y Lit.'!X20)","v":""},{"$f":"IF('Lengua Castellana y Lit.'!Y20=\"\",\"\",'Lengua Castellana y Lit.'!Y20)","v":""},{"$f":"IF('Lengua Castellana y Lit.'!Z20=\"\",\"\",'Lengua Castellana y Lit.'!Z20)","v":""},{"$f":"IF('Lengua Castellana y Lit.'!AA20=\"\",\"\",'Lengua Castellana y Lit.'!AA20)","v":""},{"$f":"IF('Lengua Castellana y Lit.'!AB20=\"\",\"\",'Lengua Castellana y Lit.'!AB20)","v":""},{"$f":"IF('Lengua Castellana y Lit.'!AC20=\"\",\"\",'Lengua Castellana y Lit.'!AC20)","v":""},{"$f":"IF('Lengua Castellana y Lit.'!AD20=\"\",\"\",'Lengua Castellana y Lit.'!AD20)","v":""},{"$f":"IF('Lengua Castellana y Lit.'!AE20=\"\",\"\",'Lengua Castellana y Lit.'!AE20)","v":""},{"$f":"IF('Lengua Castellana y Lit.'!AF20=\"\",\"\",'Lengua Castellana y Lit.'!AF20)","v":""},{"$f":"IF('Lengua Castellana y Lit.'!AG20=\"\",\"\",'Lengua Castellana y Lit.'!AG20)","v":""},{"$f":"IF('Lengua Castellana y Lit.'!AH20=\"\",\"\",'Lengua Castellana y Lit.'!AH20)","v":""},{"$f":"IF('Lengua Castellana y Lit.'!AI20=\"\",\"\",'Lengua Castellana y Lit.'!AI20)","v":""},{"$f":"IF('Lengua Castellana y Lit.'!AJ20=\"\",\"\",'Lengua Castellana y Lit.'!AJ20)","v":""},{"$f":"IF('Lengua Castellana y Lit.'!AK20=\"\",\"\",'Lengua Castellana y Lit.'!AK20)","v":""},{"$f":"IF('Lengua Castellana y Lit.'!AL20=\"\",\"\",'Lengua Castellana y Lit.'!AL20)","v":""},{"$f":"IF('Lengua Castellana y Lit.'!AM20=\"\",\"\",'Lengua Castellana y Lit.'!AM20)","v":""},{"$f":"IF('Lengua Castellana y Lit.'!AN20=\"\",\"\",'Lengua Castellana y Lit.'!AN20)","v":""},{"$f":"IF('Lengua Castellana y Lit.'!AO20=\"\",\"\",'Lengua Castellana y Lit.'!AO20)","v":""},{"$f":"IF('Lengua Castellana y Lit.'!AP20=\"\",\"\",'Lengua Castellana y Lit.'!AP20)","v":""}]
[null,null,null,"Criterio Evaluación 7.2",{"$f":"IF('Lengua Castellana y Lit.'!H21=\"\",\"\",'Lengua Castellana y Lit.'!H21)","v":""},{"$f":"IF('Lengua Castellana y Lit.'!I21=\"\",\"\",'Lengua Castellana y Lit.'!I21)","v":""},{"$f":"IF('Lengua Castellana y Lit.'!J21=\"\",\"\",'Lengua Castellana y Lit.'!J21)","v":""},{"$f":"IF('Lengua Castellana y Lit.'!K21=\"\",\"\",'Lengua Castellana y Lit.'!K21)","v":""},{"$f":"IF('Lengua Castellana y Lit.'!L21=\"\",\"\",'Lengua Castellana y Lit.'!L21)","v":""},{"$f":"IF('Lengua Castellana y Lit.'!M21=\"\",\"\",'Lengua Castellana y Lit.'!M21)","v":""},{"$f":"IF('Lengua Castellana y Lit.'!N21=\"\",\"\",'Lengua Castellana y Lit.'!N21)","v":""},{"$f":"IF('Lengua Castellana y Lit.'!O21=\"\",\"\",'Lengua Castellana y Lit.'!O21)","v":""},{"$f":"IF('Lengua Castellana y Lit.'!P21=\"\",\"\",'Lengua Castellana y Lit.'!P21)","v":""},{"$f":"IF('Lengua Castellana y Lit.'!Q21=\"\",\"\",'Lengua Castellana y Lit.'!Q21)","v":""},{"$f":"IF('Lengua Castellana y Lit.'!R21=\"\",\"\",'Lengua Castellana y Lit.'!R21)","v":""},{"$f":"IF('Lengua Castellana y Lit.'!S21=\"\",\"\",'Lengua Castellana y Lit.'!S21)","v":""},{"$f":"IF('Lengua Castellana y Lit.'!T21=\"\",\"\",'Lengua Castellana y Lit.'!T21)","v":""},{"$f":"IF('Lengua Castellana y Lit.'!U21=\"\",\"\",'Lengua Castellana y Lit.'!U21)","v":""},{"$f":"IF('Lengua Castellana y Lit.'!V21=\"\",\"\",'Lengua Castellana y Lit.'!V21)","v":""},{"$f":"IF('Lengua Castellana y Lit.'!W21=\"\",\"\",'Lengua Castellana y Lit.'!W21)","v":""},{"$f":"IF('Lengua Castellana y Lit.'!X21=\"\",\"\",'Lengua Castellana y Lit.'!X21)","v":""},{"$f":"IF('Lengua Castellana y Lit.'!Y21=\"\",\"\",'Lengua Castellana y Lit.'!Y21)","v":""},{"$f":"IF('Lengua Castellana y Lit.'!Z21=\"\",\"\",'Lengua Castellana y Lit.'!Z21)","v":""},{"$f":"IF('Lengua Castellana y Lit.'!AA21=\"\",\"\",'Lengua Castellana y Lit.'!AA21)","v":""},{"$f":"IF('Lengua Castellana y Lit.'!AB21=\"\",\"\",'Lengua Castellana y Lit.'!AB21)","v":""},{"$f":"IF('Lengua Castellana y Lit.'!AC21=\"\",\"\",'Lengua Castellana y Lit.'!AC21)","v":""},{"$f":"IF('Lengua Castellana y Lit.'!AD21=\"\",\"\",'Lengua Castellana y Lit.'!AD21)","v":""},{"$f":"IF('Lengua Castellana y Lit.'!AE21=\"\",\"\",'Lengua Castellana y Lit.'!AE21)","v":""},{"$f":"IF('Lengua Castellana y Lit.'!AF21=\"\",\"\",'Lengua Castellana y Lit.'!AF21)","v":""},{"$f":"IF('Lengua Castellana y Lit.'!AG21=\"\",\"\",'Lengua Castellana y Lit.'!AG21)","v":""},{"$f":"IF('Lengua Castellana y Lit.'!AH21=\"\",\"\",'Lengua Castellana y Lit.'!AH21)","v":""},{"$f":"IF('Lengua Castellana y Lit.'!AI21=\"\",\"\",'Lengua Castellana y Lit.'!AI21)","v":""},{"$f":"IF('Lengua Castellana y Lit.'!AJ21=\"\",\"\",'Lengua Castellana y Lit.'!AJ21)","v":""},{"$f":"IF('Lengua Castellana y Lit.'!AK21=\"\",\"\",'Lengua Castellana y Lit.'!AK21)","v":""},{"$f":"IF('Lengua Castellana y Lit.'!AL21=\"\",\"\",'Lengua Castellana y Lit.'!AL21)","v":""},{"$f":"IF('Lengua Castellana y Lit.'!AM21=\"\",\"\",'Lengua Castellana y Lit.'!AM21)","v":""},{"$f":"IF('Lengua Castellana y Lit.'!AN21=\"\",\"\",'Lengua Castellana y Lit.'!AN21)","v":""},{"$f":"IF('Lengua Castellana y Lit.'!AO21=\"\",\"\",'Lengua Castellana y Lit.'!AO21)","v":""},{"$f":"IF('Lengua Castellana y Lit.'!AP21=\"\",\"\",'Lengua Castellana y Lit.'!AP21)","v":""}]
[null,null,null,"Criterio Evaluación 7.3",{"$f":"IF('Lengua Castellana y Lit.'!H22=\"\",\"\",'Lengua Castellana y Lit.'!H22)","v":""},{"$f":"IF('Lengua Castellana y Lit.'!I22=\"\",\"\",'Lengua Castellana y Lit.'!I22)","v":""},{"$f":"IF('Lengua Castellana y Lit.'!J22=\"\",\"\",'Lengua Castellana y Lit.'!J22)","v":""},{"$f":"IF('Lengua Castellana y Lit.'!K22=\"\",\"\",'Lengua Castellana y Lit.'!K22)","v":""},{"$f":"IF('Lengua Castellana y Lit.'!L22=\"\",\"\",'Lengua Castellana y Lit.'!L22)","v":""},{"$f":"IF('Lengua Castellana y Lit.'!M22=\"\",\"\",'Lengua Castellana y Lit.'!M22)","v":""},{"$f":"IF('Lengua Castellana y Lit.'!N22=\"\",\"\",'Lengua Castellana y Lit.'!N22)","v":""},{"$f":"IF('Lengua Castellana y Lit.'!O22=\"\",\"\",'Lengua Castellana y Lit.'!O22)","v":""},{"$f":"IF('Lengua Castellana y Lit.'!P22=\"\",\"\",'Lengua Castellana y Lit.'!P22)","v":""},{"$f":"IF('Lengua Castellana y Lit.'!Q22=\"\",\"\",'Lengua Castellana y Lit.'!Q22)","v":""},{"$f":"IF('Lengua Castellana y Lit.'!R22=\"\",\"\",'Lengua Castellana y Lit.'!R22)","v":""},{"$f":"IF('Lengua Castellana y Lit.'!S22=\"\",\"\",'Lengua Castellana y Lit.'!S22)","v":""},{"$f":"IF('Lengua Castellana y Lit.'!T22=\"\",\"\",'Lengua Castellana y Lit.'!T22)","v":""},{"$f":"IF('Lengua Castellana y Lit.'!U22=\"\",\"\",'Lengua Castellana y Lit.'!U22)","v":""},{"$f":"IF('Lengua Castellana y Lit.'!V22=\"\",\"\",'Lengua Castellana y Lit.'!V22)","v":""},{"$f":"IF('Lengua Castellana y Lit.'!W22=\"\",\"\",'Lengua Castellana y Lit.'!W22)","v":""},{"$f":"IF('Lengua Castellana y Lit.'!X22=\"\",\"\",'Lengua Castellana y Lit.'!X22)","v":""},{"$f":"IF('Lengua Castellana y Lit.'!Y22=\"\",\"\",'Lengua Castellana y Lit.'!Y22)","v":""},{"$f":"IF('Lengua Castellana y Lit.'!Z22=\"\",\"\",'Lengua Castellana y Lit.'!Z22)","v":""},{"$f":"IF('Lengua Castellana y Lit.'!AA22=\"\",\"\",'Lengua Castellana y Lit.'!AA22)","v":""},{"$f":"IF('Lengua Castellana y Lit.'!AB22=\"\",\"\",'Lengua Castellana y Lit.'!AB22)","v":""},{"$f":"IF('Lengua Castellana y Lit.'!AC22=\"\",\"\",'Lengua Castellana y Lit.'!AC22)","v":""},{"$f":"IF('Lengua Castellana y Lit.'!AD22=\"\",\"\",'Lengua Castellana y Lit.'!AD22)","v":""},{"$f":"IF('Lengua Castellana y Lit.'!AE22=\"\",\"\",'Lengua Castellana y Lit.'!AE22)","v":""},{"$f":"IF('Lengua Castellana y Lit.'!AF22=\"\",\"\",'Lengua Castellana y Lit.'!AF22)","v":""},{"$f":"IF('Lengua Castellana y Lit.'!AG22=\"\",\"\",'Lengua Castellana y Lit.'!AG22)","v":""},{"$f":"IF('Lengua Castellana y Lit.'!AH22=\"\",\"\",'Lengua Castellana y Lit.'!AH22)","v":""},{"$f":"IF('Lengua Castellana y Lit.'!AI22=\"\",\"\",'Lengua Castellana y Lit.'!AI22)","v":""},{"$f":"IF('Lengua Castellana y Lit.'!AJ22=\"\",\"\",'Lengua Castellana y Lit.'!AJ22)","v":""},{"$f":"IF('Lengua Castellana y Lit.'!AK22=\"\",\"\",'Lengua Castellana y Lit.'!AK22)","v":""},{"$f":"IF('Lengua Castellana y Lit.'!AL22=\"\",\"\",'Lengua Castellana y Lit.'!AL22)","v":""},{"$f":"IF('Lengua Castellana y Lit.'!AM22=\"\",\"\",'Lengua Castellana y Lit.'!AM22)","v":""},{"$f":"IF('Lengua Castellana y Lit.'!AN22=\"\",\"\",'Lengua Castellana y Lit.'!AN22)","v":""},{"$f":"IF('Lengua Castellana y Lit.'!AO22=\"\",\"\",'Lengua Castellana y Lit.'!AO22)","v":""},{"$f":"IF('Lengua Castellana y Lit.'!AP22=\"\",\"\",'Lengua Castellana y Lit.'!AP22)","v":""}]
[null,null,"Comp. Esp. 8","Criterio Evaluación 8.1",{"$f":"IF('Lengua Castellana y Lit.'!H23=\"\",\"\",'Lengua Castellana y Lit.'!H23)","v":""},{"$f":"IF('Lengua Castellana y Lit.'!I23=\"\",\"\",'Lengua Castellana y Lit.'!I23)","v":""},{"$f":"IF('Lengua Castellana y Lit.'!J23=\"\",\"\",'Lengua Castellana y Lit.'!J23)","v":""},{"$f":"IF('Lengua Castellana y Lit.'!K23=\"\",\"\",'Lengua Castellana y Lit.'!K23)","v":""},{"$f":"IF('Lengua Castellana y Lit.'!L23=\"\",\"\",'Lengua Castellana y Lit.'!L23)","v":""},{"$f":"IF('Lengua Castellana y Lit.'!M23=\"\",\"\",'Lengua Castellana y Lit.'!M23)","v":""},{"$f":"IF('Lengua Castellana y Lit.'!N23=\"\",\"\",'Lengua Castellana y Lit.'!N23)","v":""},{"$f":"IF('Lengua Castellana y Lit.'!O23=\"\",\"\",'Lengua Castellana y Lit.'!O23)","v":""},{"$f":"IF('Lengua Castellana y Lit.'!P23=\"\",\"\",'Lengua Castellana y Lit.'!P23)","v":""},{"$f":"IF('Lengua Castellana y Lit.'!Q23=\"\",\"\",'Lengua Castellana y Lit.'!Q23)","v":""},{"$f":"IF('Lengua Castellana y Lit.'!R23=\"\",\"\",'Lengua Castellana y Lit.'!R23)","v":""},{"$f":"IF('Lengua Castellana y Lit.'!S23=\"\",\"\",'Lengua Castellana y Lit.'!S23)","v":""},{"$f":"IF('Lengua Castellana y Lit.'!T23=\"\",\"\",'Lengua Castellana y Lit.'!T23)","v":""},{"$f":"IF('Lengua Castellana y Lit.'!U23=\"\",\"\",'Lengua Castellana y Lit.'!U23)","v":""},{"$f":"IF('Lengua Castellana y Lit.'!V23=\"\",\"\",'Lengua Castellana y Lit.'!V23)","v":""},{"$f":"IF('Lengua Castellana y Lit.'!W23=\"\",\"\",'Lengua Castellana y Lit.'!W23)","v":""},{"$f":"IF('Lengua Castellana y Lit.'!X23=\"\",\"\",'Lengua Castellana y Lit.'!X23)","v":""},{"$f":"IF('Lengua Castellana y Lit.'!Y23=\"\",\"\",'Lengua Castellana y Lit.'!Y23)","v":""},{"$f":"IF('Lengua Castellana y Lit.'!Z23=\"\",\"\",'Lengua Castellana y Lit.'!Z23)","v":""},{"$f":"IF('Lengua Castellana y Lit.'!AA23=\"\",\"\",'Lengua Castellana y Lit.'!AA23)","v":""},{"$f":"IF('Lengua Castellana y Lit.'!AB23=\"\",\"\",'Lengua Castellana y Lit.'!AB23)","v":""},{"$f":"IF('Lengua Castellana y Lit.'!AC23=\"\",\"\",'Lengua Castellana y Lit.'!AC23)","v":""},{"$f":"IF('Lengua Castellana y Lit.'!AD23=\"\",\"\",'Lengua Castellana y Lit.'!AD23)","v":""},{"$f":"IF('Lengua Castellana y Lit.'!AE23=\"\",\"\",'Lengua Castellana y Lit.'!AE23)","v":""},{"$f":"IF('Lengua Castellana y Lit.'!AF23=\"\",\"\",'Lengua Castellana y Lit.'!AF23)","v":""},{"$f":"IF('Lengua Castellana y Lit.'!AG23=\"\",\"\",'Lengua Castellana y Lit.'!AG23)","v":""},{"$f":"IF('Lengua Castellana y Lit.'!AH23=\"\",\"\",'Lengua Castellana y Lit.'!AH23)","v":""},{"$f":"IF('Lengua Castellana y Lit.'!AI23=\"\",\"\",'Lengua Castellana y Lit.'!AI23)","v":""},{"$f":"IF('Lengua Castellana y Lit.'!AJ23=\"\",\"\",'Lengua Castellana y Lit.'!AJ23)","v":""},{"$f":"IF('Lengua Castellana y Lit.'!AK23=\"\",\"\",'Lengua Castellana y Lit.'!AK23)","v":""},{"$f":"IF('Lengua Castellana y Lit.'!AL23=\"\",\"\",'Lengua Castellana y Lit.'!AL23)","v":""},{"$f":"IF('Lengua Castellana y Lit.'!AM23=\"\",\"\",'Lengua Castellana y Lit.'!AM23)","v":""},{"$f":"IF('Lengua Castellana y Lit.'!AN23=\"\",\"\",'Lengua Castellana y Lit.'!AN23)","v":""},{"$f":"IF('Lengua Castellana y Lit.'!AO23=\"\",\"\",'Lengua Castellana y Lit.'!AO23)","v":""},{"$f":"IF('Lengua Castellana y Lit.'!AP23=\"\",\"\",'Lengua Castellana y Lit.'!AP23)","v":""}]
[null,null,null,"Criterio Evaluación 8.2",{"$f":"IF('Lengua Castellana y Lit.'!H24=\"\",\"\",'Lengua Castellana y Lit.'!H24)","v":""},{"$f":"IF('Lengua Castellana y Lit.'!I24=\"\",\"\",'Lengua Castellana y Lit.'!I24)","v":""},{"$f":"IF('Lengua Castellana y Lit.'!J24=\"\",\"\",'Lengua Castellana y Lit.'!J24)","v":""},{"$f":"IF('Lengua Castellana y Lit.'!K24=\"\",\"\",'Lengua Castellana y Lit.'!K24)","v":""},{"$f":"IF('Lengua Castellana y Lit.'!L24=\"\",\"\",'Lengua Castellana y Lit.'!L24)","v":""},{"$f":"IF('Lengua Castellana y Lit.'!M24=\"\",\"\",'Lengua Castellana y Lit.'!M24)","v":""},{"$f":"IF('Lengua Castellana y Lit.'!N24=\"\",\"\",'Lengua Castellana y Lit.'!N24)","v":""},{"$f":"IF('Lengua Castellana y Lit.'!O24=\"\",\"\",'Lengua Castellana y Lit.'!O24)","v":""},{"$f":"IF('Lengua Castellana y Lit.'!P24=\"\",\"\",'Lengua Castellana y Lit.'!P24)","v":""},{"$f":"IF('Lengua Castellana y Lit.'!Q24=\"\",\"\",'Lengua Castellana y Lit.'!Q24)","v":""},{"$f":"IF('Lengua Castellana y Lit.'!R24=\"\",\"\",'Lengua Castellana y Lit.'!R24)","v":""},{"$f":"IF('Lengua Castellana y Lit.'!S24=\"\",\"\",'Lengua Castellana y Lit.'!S24)","v":""},{"$f":"IF('Lengua Castellana y Lit.'!T24=\"\",\"\",'Lengua Castellana y Lit.'!T24)","v":""},{"$f":"IF('Lengua Castellana y Lit.'!U24=\"\",\"\",'Lengua Castellana y Lit.'!U24)","v":""},{"$f":"IF('Lengua Castellana y Lit.'!V24=\"\",\"\",'Lengua Castellana y Lit.'!V24)","v":""},{"$f":"IF('Lengua Castellana y Lit.'!W24=\"\",\"\",'Lengua Castellana y Lit.'!W24)","v":""},{"$f":"IF('Lengua Castellana y Lit.'!X24=\"\",\"\",'Lengua Castellana y Lit.'!X24)","v":""},{"$f":"IF('Lengua Castellana y Lit.'!Y24=\"\",\"\",'Lengua Castellana y Lit.'!Y24)","v":""},{"$f":"IF('Lengua Castellana y Lit.'!Z24=\"\",\"\",'Lengua Castellana y Lit.'!Z24)","v":""},{"$f":"IF('Lengua Castellana y Lit.'!AA24=\"\",\"\",'Lengua Castellana y Lit.'!AA24)","v":""},{"$f":"IF('Lengua Castellana y Lit.'!AB24=\"\",\"\",'Lengua Castellana y Lit.'!AB24)","v":""},{"$f":"IF('Lengua Castellana y Lit.'!AC24=\"\",\"\",'Lengua Castellana y Lit.'!AC24)","v":""},{"$f":"IF('Lengua Castellana y Lit.'!AD24=\"\",\"\",'Lengua Castellana y Lit.'!AD24)","v":""},{"$f":"IF('Lengua Castellana y Lit.'!AE24=\"\",\"\",'Lengua Castellana y Lit.'!AE24)","v":""},{"$f":"IF('Lengua Castellana y Lit.'!AF24=\"\",\"\",'Lengua Castellana y Lit.'!AF24)","v":""},{"$f":"IF('Lengua Castellana y Lit.'!AG24=\"\",\"\",'Lengua Castellana y Lit.'!AG24)","v":""},{"$f":"IF('Lengua Castellana y Lit.'!AH24=\"\",\"\",'Lengua Castellana y Lit.'!AH24)","v":""},{"$f":"IF('Lengua Castellana y Lit.'!AI24=\"\",\"\",'Lengua Castellana y Lit.'!AI24)","v":""},{"$f":"IF('Lengua Castellana y Lit.'!AJ24=\"\",\"\",'Lengua Castellana y Lit.'!AJ24)","v":""},{"$f":"IF('Lengua Castellana y Lit.'!AK24=\"\",\"\",'Lengua Castellana y Lit.'!AK24)","v":""},{"$f":"IF('Lengua Castellana y Lit.'!AL24=\"\",\"\",'Lengua Castellana y Lit.'!AL24)","v":""},{"$f":"IF('Lengua Castellana y Lit.'!AM24=\"\",\"\",'Lengua Castellana y Lit.'!AM24)","v":""},{"$f":"IF('Lengua Castellana y Lit.'!AN24=\"\",\"\",'Lengua Castellana y Lit.'!AN24)","v":""},{"$f":"IF('Lengua Castellana y Lit.'!AO24=\"\",\"\",'Lengua Castellana y Lit.'!AO24)","v":""},{"$f":"IF('Lengua Castellana y Lit.'!AP24=\"\",\"\",'Lengua Castellana y Lit.'!AP24)","v":""}]
[null,null,null,"Criterio Evaluación 8.3",{"$f":"IF('Lengua Castellana y Lit.'!H25=\"\",\"\",'Lengua Castellana y Lit.'!H25)","v":""},{"$f":"IF('Lengua Castellana y Lit.'!I25=\"\",\"\",'Lengua Castellana y Lit.'!I25)","v":""},{"$f":"IF('Lengua Castellana y Lit.'!J25=\"\",\"\",'Lengua Castellana y Lit.'!J25)","v":""},{"$f":"IF('Lengua Castellana y Lit.'!K25=\"\",\"\",'Lengua Castellana y Lit.'!K25)","v":""},{"$f":"IF('Lengua Castellana y Lit.'!L25=\"\",\"\",'Lengua Castellana y Lit.'!L25)","v":""},{"$f":"IF('Lengua Castellana y Lit.'!M25=\"\",\"\",'Lengua Castellana y Lit.'!M25)","v":""},{"$f":"IF('Lengua Castellana y Lit.'!N25=\"\",\"\",'Lengua Castellana y Lit.'!N25)","v":""},{"$f":"IF('Lengua Castellana y Lit.'!O25=\"\",\"\",'Lengua Castellana y Lit.'!O25)","v":""},{"$f":"IF('Lengua Castellana y Lit.'!P25=\"\",\"\",'Lengua Castellana y Lit.'!P25)","v":""},{"$f":"IF('Lengua Castellana y Lit.'!Q25=\"\",\"\",'Lengua Castellana y Lit.'!Q25)","v":""},{"$f":"IF('Lengua Castellana y Lit.'!R25=\"\",\"\",'Lengua Castellana y Lit.'!R25)","v":""},{"$f":"IF('Lengua Castellana y Lit.'!S25=\"\",\"\",'Lengua Castellana y Lit.'!S25)","v":""},{"$f":"IF('Lengua Castellana y Lit.'!T25=\"\",\"\",'Lengua Castellana y Lit.'!T25)","v":""},{"$f":"IF('Lengua Castellana y Lit.'!U25=\"\",\"\",'Lengua Castellana y Lit.'!U25)","v":""},{"$f":"IF('Lengua Castellana y Lit.'!V25=\"\",\"\",'Lengua Castellana y Lit.'!V25)","v":""},{"$f":"IF('Lengua Castellana y Lit.'!W25=\"\",\"\",'Lengua Castellana y Lit.'!W25)","v":""},{"$f":"IF('Lengua Castellana y Lit.'!X25=\"\",\"\",'Lengua Castellana y Lit.'!X25)","v":""},{"$f":"IF('Lengua Castellana y Lit.'!Y25=\"\",\"\",'Lengua Castellana y Lit.'!Y25)","v":""},{"$f":"IF('Lengua Castellana y Lit.'!Z25=\"\",\"\",'Lengua Castellana y Lit.'!Z25)","v":""},{"$f":"IF('Lengua Castellana y Lit.'!AA25=\"\",\"\",'Lengua Castellana y Lit.'!AA25)","v":""},{"$f":"IF('Lengua Castellana y Lit.'!AB25=\"\",\"\",'Lengua Castellana y Lit.'!AB25)","v":""},{"$f":"IF('Lengua Castellana y Lit.'!AC25=\"\",\"\",'Lengua Castellana y Lit.'!AC25)","v":""},{"$f":"IF('Lengua Castellana y Lit.'!AD25=\"\",\"\",'Lengua Castellana y Lit.'!AD25)","v":""},{"$f":"IF('Lengua Castellana y Lit.'!AE25=\"\",\"\",'Lengua Castellana y Lit.'!AE25)","v":""},{"$f":"IF('Lengua Castellana y Lit.'!AF25=\"\",\"\",'Lengua Castellana y Lit.'!AF25)","v":""},{"$f":"IF('Lengua Castellana y Lit.'!AG25=\"\",\"\",'Lengua Castellana y Lit.'!AG25)","v":""},{"$f":"IF('Lengua Castellana y Lit.'!AH25=\"\",\"\",'Lengua Castellana y Lit.'!AH25)","v":""},{"$f":"IF('Lengua Castellana y Lit.'!AI25=\"\",\"\",'Lengua Castellana y Lit.'!AI25)","v":""},{"$f":"IF('Lengua Castellana y Lit.'!AJ25=\"\",\"\",'Lengua Castellana y Lit.'!AJ25)","v":""},{"$f":"IF('Lengua Castellana y Lit.'!AK25=\"\",\"\",'Lengua Castellana y Lit.'!AK25)","v":""},{"$f":"IF('Lengua Castellana y Lit.'!AL25=\"\",\"\",'Lengua Castellana y Lit.'!AL25)","v":""},{"$f":"IF('Lengua Castellana y Lit.'!AM25=\"\",\"\",'Lengua Castellana y Lit.'!AM25)","v":""},{"$f":"IF('Lengua Castellana y Lit.'!AN25=\"\",\"\",'Lengua Castellana y Lit.'!AN25)","v":""},{"$f":"IF('Lengua Castellana y Lit.'!AO25=\"\",\"\",'Lengua Castellana y Lit.'!AO25)","v":""},{"$f":"IF('Lengua Castellana y Lit.'!AP25=\"\",\"\",'Lengua Castellana y Lit.'!AP25)","v":""}]
[null,null,"Comp. Esp. 9","Criterio Evaluación 9.1",{"$f":"IF('Lengua Castellana y Lit.'!H26=\"\",\"\",'Lengua Castellana y Lit.'!H26)","v":""},{"$f":"IF('Lengua Castellana y Lit.'!I26=\"\",\"\",'Lengua Castellana y Lit.'!I26)","v":""},{"$f":"IF('Lengua Castellana y Lit.'!J26=\"\",\"\",'Lengua Castellana y Lit.'!J26)","v":""},{"$f":"IF('Lengua Castellana y Lit.'!K26=\"\",\"\",'Lengua Castellana y Lit.'!K26)","v":""},{"$f":"IF('Lengua Castellana y Lit.'!L26=\"\",\"\",'Lengua Castellana y Lit.'!L26)","v":""},{"$f":"IF('Lengua Castellana y Lit.'!M26=\"\",\"\",'Lengua Castellana y Lit.'!M26)","v":""},{"$f":"IF('Lengua Castellana y Lit.'!N26=\"\",\"\",'Lengua Castellana y Lit.'!N26)","v":""},{"$f":"IF('Lengua Castellana y Lit.'!O26=\"\",\"\",'Lengua Castellana y Lit.'!O26)","v":""},{"$f":"IF('Lengua Castellana y Lit.'!P26=\"\",\"\",'Lengua Castellana y Lit.'!P26)","v":""},{"$f":"IF('Lengua Castellana y Lit.'!Q26=\"\",\"\",'Lengua Castellana y Lit.'!Q26)","v":""},{"$f":"IF('Lengua Castellana y Lit.'!R26=\"\",\"\",'Lengua Castellana y Lit.'!R26)","v":""},{"$f":"IF('Lengua Castellana y Lit.'!S26=\"\",\"\",'Lengua Castellana y Lit.'!S26)","v":""},{"$f":"IF('Lengua Castellana y Lit.'!T26=\"\",\"\",'Lengua Castellana y Lit.'!T26)","v":""},{"$f":"IF('Lengua Castellana y Lit.'!U26=\"\",\"\",'Lengua Castellana y Lit.'!U26)","v":""},{"$f":"IF('Lengua Castellana y Lit.'!V26=\"\",\"\",'Lengua Castellana y Lit.'!V26)","v":""},{"$f":"IF('Lengua Castellana y Lit.'!W26=\"\",\"\",'Lengua Castellana y Lit.'!W26)","v":""},{"$f":"IF('Lengua Castellana y Lit.'!X26=\"\",\"\",'Lengua Castellana y Lit.'!X26)","v":""},{"$f":"IF('Lengua Castellana y Lit.'!Y26=\"\",\"\",'Lengua Castellana y Lit.'!Y26)","v":""},{"$f":"IF('Lengua Castellana y Lit.'!Z26=\"\",\"\",'Lengua Castellana y Lit.'!Z26)","v":""},{"$f":"IF('Lengua Castellana y Lit.'!AA26=\"\",\"\",'Lengua Castellana y Lit.'!AA26)","v":""},{"$f":"IF('Lengua Castellana y Lit.'!AB26=\"\",\"\",'Lengua Castellana y Lit.'!AB26)","v":""},{"$f":"IF('Lengua Castellana y Lit.'!AC26=\"\",\"\",'Lengua Castellana y Lit.'!AC26)","v":""},{"$f":"IF('Lengua Castellana y Lit.'!AD26=\"\",\"\",'Lengua Castellana y Lit.'!AD26)","v":""},{"$f":"IF('Lengua Castellana y Lit.'!AE26=\"\",\"\",'Lengua Castellana y Lit.'!AE26)","v":""},{"$f":"IF('Lengua Castellana y Lit.'!AF26=\"\",\"\",'Lengua Castellana y Lit.'!AF26)","v":""},{"$f":"IF('Lengua Castellana y Lit.'!AG26=\"\",\"\",'Lengua Castellana y Lit.'!AG26)","v":""},{"$f":"IF('Lengua Castellana y Lit.'!AH26=\"\",\"\",'Lengua Castellana y Lit.'!AH26)","v":""},{"$f":"IF('Lengua Castellana y Lit.'!AI26=\"\",\"\",'Lengua Castellana y Lit.'!AI26)","v":""},{"$f":"IF('Lengua Castellana y Lit.'!AJ26=\"\",\"\",'Lengua Castellana y Lit.'!AJ26)","v":""},{"$f":"IF('Lengua Castellana y Lit.'!AK26=\"\",\"\",'Lengua Castellana y Lit.'!AK26)","v":""},{"$f":"IF('Lengua Castellana y Lit.'!AL26=\"\",\"\",'Lengua Castellana y Lit.'!AL26)","v":""},{"$f":"IF('Lengua Castellana y Lit.'!AM26=\"\",\"\",'Lengua Castellana y Lit.'!AM26)","v":""},{"$f":"IF('Lengua Castellana y Lit.'!AN26=\"\",\"\",'Lengua Castellana y Lit.'!AN26)","v":""},{"$f":"IF('Lengua Castellana y Lit.'!AO26=\"\",\"\",'Lengua Castellana y Lit.'!AO26)","v":""},{"$f":"IF('Lengua Castellana y Lit.'!AP26=\"\",\"\",'Lengua Castellana y Lit.'!AP26)","v":""}]
[null,null,null,"Criterio Evaluación 9.2",{"$f":"IF('Lengua Castellana y Lit.'!H27=\"\",\"\",'Lengua Castellana y Lit.'!H27)","v":""},{"$f":"IF('Lengua Castellana y Lit.'!I27=\"\",\"\",'Lengua Castellana y Lit.'!I27)","v":""},{"$f":"IF('Lengua Castellana y Lit.'!J27=\"\",\"\",'Lengua Castellana y Lit.'!J27)","v":""},{"$f":"IF('Lengua Castellana y Lit.'!K27=\"\",\"\",'Lengua Castellana y Lit.'!K27)","v":""},{"$f":"IF('Lengua Castellana y Lit.'!L27=\"\",\"\",'Lengua Castellana y Lit.'!L27)","v":""},{"$f":"IF('Lengua Castellana y Lit.'!M27=\"\",\"\",'Lengua Castellana y Lit.'!M27)","v":""},{"$f":"IF('Lengua Castellana y Lit.'!N27=\"\",\"\",'Lengua Castellana y Lit.'!N27)","v":""},{"$f":"IF('Lengua Castellana y Lit.'!O27=\"\",\"\",'Lengua Castellana y Lit.'!O27)","v":""},{"$f":"IF('Lengua Castellana y Lit.'!P27=\"\",\"\",'Lengua Castellana y Lit.'!P27)","v":""},{"$f":"IF('Lengua Castellana y Lit.'!Q27=\"\",\"\",'Lengua Castellana y Lit.'!Q27)","v":""},{"$f":"IF('Lengua Castellana y Lit.'!R27=\"\",\"\",'Lengua Castellana y Lit.'!R27)","v":""},{"$f":"IF('Lengua Castellana y Lit.'!S27=\"\",\"\",'Lengua Castellana y Lit.'!S27)","v":""},{"$f":"IF('Lengua Castellana y Lit.'!T27=\"\",\"\",'Lengua Castellana y Lit.'!T27)","v":""},{"$f":"IF('Lengua Castellana y Lit.'!U27=\"\",\"\",'Lengua Castellana y Lit.'!U27)","v":""},{"$f":"IF('Lengua Castellana y Lit.'!V27=\"\",\"\",'Lengua Castellana y Lit.'!V27)","v":""},{"$f":"IF('Lengua Castellana y Lit.'!W27=\"\",\"\",'Lengua Castellana y Lit.'!W27)","v":""},{"$f":"IF('Lengua Castellana y Lit.'!X27=\"\",\"\",'Lengua Castellana y Lit.'!X27)","v":""},{"$f":"IF('Lengua Castellana y Lit.'!Y27=\"\",\"\",'Lengua Castellana y Lit.'!Y27)","v":""},{"$f":"IF('Lengua Castellana y Lit.'!Z27=\"\",\"\",'Lengua Castellana y Lit.'!Z27)","v":""},{"$f":"IF('Lengua Castellana y Lit.'!AA27=\"\",\"\",'Lengua Castellana y Lit.'!AA27)","v":""},{"$f":"IF('Lengua Castellana y Lit.'!AB27=\"\",\"\",'Lengua Castellana y Lit.'!AB27)","v":""},{"$f":"IF('Lengua Castellana y Lit.'!AC27=\"\",\"\",'Lengua Castellana y Lit.'!AC27)","v":""},{"$f":"IF('Lengua Castellana y Lit.'!AD27=\"\",\"\",'Lengua Castellana y Lit.'!AD27)","v":""},{"$f":"IF('Lengua Castellana y Lit.'!AE27=\"\",\"\",'Lengua Castellana y Lit.'!AE27)","v":""},{"$f":"IF('Lengua Castellana y Lit.'!AF27=\"\",\"\",'Lengua Castellana y Lit.'!AF27)","v":""},{"$f":"IF('Lengua Castellana y Lit.'!AG27=\"\",\"\",'Lengua Castellana y Lit.'!AG27)","v":""},{"$f":"IF('Lengua Castellana y Lit.'!AH27=\"\",\"\",'Lengua Castellana y Lit.'!AH27)","v":""},{"$f":"IF('Lengua Castellana y Lit.'!AI27=\"\",\"\",'Lengua Castellana y Lit.'!AI27)","v":""},{"$f":"IF('Lengua Castellana y Lit.'!AJ27=\"\",\"\",'Lengua Castellana y Lit.'!AJ27)","v":""},{"$f":"IF('Lengua Castellana y Lit.'!AK27=\"\",\"\",'Lengua Castellana y Lit.'!AK27)","v":""},{"$f":"IF('Lengua Castellana y Lit.'!AL27=\"\",\"\",'Lengua Castellana y Lit.'!AL27)","v":""},{"$f":"IF('Lengua Castellana y Lit.'!AM27=\"\",\"\",'Lengua Castellana y Lit.'!AM27)","v":""},{"$f":"IF('Lengua Castellana y Lit.'!AN27=\"\",\"\",'Lengua Castellana y Lit.'!AN27)","v":""},{"$f":"IF('Lengua Castellana y Lit.'!AO27=\"\",\"\",'Lengua Castellana y Lit.'!AO27)","v":""},{"$f":"IF('Lengua Castellana y Lit.'!AP27=\"\",\"\",'Lengua Castellana y Lit.'!AP27)","v":""}]
[null,null,"Comp. Esp. 10","Criterio Evaluación 10.1",{"$f":"IF('Lengua Castellana y Lit.'!H28=\"\",\"\",'Lengua Castellana y Lit.'!H28)","v":""},{"$f":"IF('Lengua Castellana y Lit.'!I28=\"\",\"\",'Lengua Castellana y Lit.'!I28)","v":""},{"$f":"IF('Lengua Castellana y Lit.'!J28=\"\",\"\",'Lengua Castellana y Lit.'!J28)","v":""},{"$f":"IF('Lengua Castellana y Lit.'!K28=\"\",\"\",'Lengua Castellana y Lit.'!K28)","v":""},{"$f":"IF('Lengua Castellana y Lit.'!L28=\"\",\"\",'Lengua Castellana y Lit.'!L28)","v":""},{"$f":"IF('Lengua Castellana y Lit.'!M28=\"\",\"\",'Lengua Castellana y Lit.'!M28)","v":""},{"$f":"IF('Lengua Castellana y Lit.'!N28=\"\",\"\",'Lengua Castellana y Lit.'!N28)","v":""},{"$f":"IF('Lengua Castellana y Lit.'!O28=\"\",\"\",'Lengua Castellana y Lit.'!O28)","v":""},{"$f":"IF('Lengua Castellana y Lit.'!P28=\"\",\"\",'Lengua Castellana y Lit.'!P28)","v":""},{"$f":"IF('Lengua Castellana y Lit.'!Q28=\"\",\"\",'Lengua Castellana y Lit.'!Q28)","v":""},{"$f":"IF('Lengua Castellana y Lit.'!R28=\"\",\"\",'Lengua Castellana y Lit.'!R28)","v":""},{"$f":"IF('Lengua Castellana y Lit.'!S28=\"\",\"\",'Lengua Castellana y Lit.'!S28)","v":""},{"$f":"IF('Lengua Castellana y Lit.'!T28=\"\",\"\",'Lengua Castellana y Lit.'!T28)","v":""},{"$f":"IF('Lengua Castellana y Lit.'!U28=\"\",\"\",'Lengua Castellana y Lit.'!U28)","v":""},{"$f":"IF('Lengua Castellana y Lit.'!V28=\"\",\"\",'Lengua Castellana y Lit.'!V28)","v":""},{"$f":"IF('Lengua Castellana y Lit.'!W28=\"\",\"\",'Lengua Castellana y Lit.'!W28)","v":""},{"$f":"IF('Lengua Castellana y Lit.'!X28=\"\",\"\",'Lengua Castellana y Lit.'!X28)","v":""},{"$f":"IF('Lengua Castellana y Lit.'!Y28=\"\",\"\",'Lengua Castellana y Lit.'!Y28)","v":""},{"$f":"IF('Lengua Castellana y Lit.'!Z28=\"\",\"\",'Lengua Castellana y Lit.'!Z28)","v":""},{"$f":"IF('Lengua Castellana y Lit.'!AA28=\"\",\"\",'Lengua Castellana y Lit.'!AA28)","v":""},{"$f":"IF('Lengua Castellana y Lit.'!AB28=\"\",\"\",'Lengua Castellana y Lit.'!AB28)","v":""},{"$f":"IF('Lengua Castellana y Lit.'!AC28=\"\",\"\",'Lengua Castellana y Lit.'!AC28)","v":""},{"$f":"IF('Lengua Castellana y Lit.'!AD28=\"\",\"\",'Lengua Castellana y Lit.'!AD28)","v":""},{"$f":"IF('Lengua Castellana y Lit.'!AE28=\"\",\"\",'Lengua Castellana y Lit.'!AE28)","v":""},{"$f":"IF('Lengua Castellana y Lit.'!AF28=\"\",\"\",'Lengua Castellana y Lit.'!AF28)","v":""},{"$f":"IF('Lengua Castellana y Lit.'!AG28=\"\",\"\",'Lengua Castellana y Lit.'!AG28)","v":""},{"$f":"IF('Lengua Castellana y Lit.'!AH28=\"\",\"\",'Lengua Castellana y Lit.'!AH28)","v":""},{"$f":"IF('Lengua Castellana y Lit.'!AI28=\"\",\"\",'Lengua Castellana y Lit.'!AI28)","v":""},{"$f":"IF('Lengua Castellana y Lit.'!AJ28=\"\",\"\",'Lengua Castellana y Lit.'!AJ28)","v":""},{"$f":"IF('Lengua Castellana y Lit.'!AK28=\"\",\"\",'Lengua Castellana y Lit.'!AK28)","v":""},{"$f":"IF('Lengua Castellana y Lit.'!AL28=\"\",\"\",'Lengua Castellana y Lit.'!AL28)","v":""},{"$f":"IF('Lengua Castellana y Lit.'!AM28=\"\",\"\",'Lengua Castellana y Lit.'!AM28)","v":""},{"$f":"IF('Lengua Castellana y Lit.'!AN28=\"\",\"\",'Lengua Castellana y Lit.'!AN28)","v":""},{"$f":"IF('Lengua Castellana y Lit.'!AO28=\"\",\"\",'Lengua Castellana y Lit.'!AO28)","v":""},{"$f":"IF('Lengua Castellana y Lit.'!AP28=\"\",\"\",'Lengua Castellana y Lit.'!AP28)","v":""}]
[null,null,null,"Criterio Evaluación 10.2",{"$f":"IF('Lengua Castellana y Lit.'!H29=\"\",\"\",'Lengua Castellana y Lit.'!H29)","v":""},{"$f":"IF('Lengua Castellana y Lit.'!I29=\"\",\"\",'Lengua Castellana y Lit.'!I29)","v":""},{"$f":"IF('Lengua Castellana y Lit.'!J29=\"\",\"\",'Lengua Castellana y Lit.'!J29)","v":""},{"$f":"IF('Lengua Castellana y Lit.'!K29=\"\",\"\",'Lengua Castellana y Lit.'!K29)","v":""},{"$f":"IF('Lengua Castellana y Lit.'!L29=\"\",\"\",'Lengua Castellana y Lit.'!L29)","v":""},{"$f":"IF('Lengua Castellana y Lit.'!M29=\"\",\"\",'Lengua Castellana y Lit.'!M29)","v":""},{"$f":"IF('Lengua Castellana y Lit.'!N29=\"\",\"\",'Lengua Castellana y Lit.'!N29)","v":""},{"$f":"IF('Lengua Castellana y Lit.'!O29=\"\",\"\",'Lengua Castellana y Lit.'!O29)","v":""},{"$f":"IF('Lengua Castellana y Lit.'!P29=\"\",\"\",'Lengua Castellana y Lit.'!P29)","v":""},{"$f":"IF('Lengua Castellana y Lit.'!Q29=\"\",\"\",'Lengua Castellana y Lit.'!Q29)","v":""},{"$f":"IF('Lengua Castellana y Lit.'!R29=\"\",\"\",'Lengua Castellana y Lit.'!R29)","v":""},{"$f":"IF('Lengua Castellana y Lit.'!S29=\"\",\"\",'Lengua Castellana y Lit.'!S29)","v":""},{"$f":"IF('Lengua Castellana y Lit.'!T29=\"\",\"\",'Lengua Castellana y Lit.'!T29)","v":""},{"$f":"IF('Lengua Castellana y Lit.'!U29=\"\",\"\",'Lengua Castellana y Lit.'!U29)","v":""},{"$f":"IF('Lengua Castellana y Lit.'!V29=\"\",\"\",'Lengua Castellana y Lit.'!V29)","v":""},{"$f":"IF('Lengua Castellana y Lit.'!W29=\"\",\"\",'Lengua Castellana y Lit.'!W29)","v":""},{"$f":"IF('Lengua Castellana y Lit.'!X29=\"\",\"\",'Lengua Castellana y Lit.'!X29)","v":""},{"$f":"IF('Lengua Castellana y Lit.'!Y29=\"\",\"\",'Lengua Castellana y Lit.'!Y29)","v":""},{"$f":"IF('Lengua Castellana y Lit.'!Z29=\"\",\"\",'Lengua Castellana y Lit.'!Z29)","v":""},{"$f":"IF('Lengua Castellana y Lit.'!AA29=\"\",\"\",'Lengua Castellana y Lit.'!AA29)","v":""},{"$f":"IF('Lengua Castellana y Lit.'!AB29=\"\",\"\",'Lengua Castellana y Lit.'!AB29)","v":""},{"$f":"IF('Lengua Castellana y Lit.'!AC29=\"\",\"\",'Lengua Castellana y Lit.'!AC29)","v":""},{"$f":"IF('Lengua Castellana y Lit.'!AD29=\"\",\"\",'Lengua Castellana y Lit.'!AD29)","v":""},{"$f":"IF('Lengua Castellana y Lit.'!AE29=\"\",\"\",'Lengua Castellana y Lit.'!AE29)","v":""},{"$f":"IF('Lengua Castellana y Lit.'!AF29=\"\",\"\",'Lengua Castellana y Lit.'!AF29)","v":""},{"$f":"IF('Lengua Castellana y Lit.'!AG29=\"\",\"\",'Lengua Castellana y Lit.'!AG29)","v":""},{"$f":"IF('Lengua Castellana y Lit.'!AH29=\"\",\"\",'Lengua Castellana y Lit.'!AH29)","v":""},{"$f":"IF('Lengua Castellana y Lit.'!AI29=\"\",\"\",'Lengua Castellana y Lit.'!AI29)","v":""},{"$f":"IF('Lengua Castellana y Lit.'!AJ29=\"\",\"\",'Lengua Castellana y Lit.'!AJ29)","v":""},{"$f":"IF('Lengua Castellana y Lit.'!AK29=\"\",\"\",'Lengua Castellana y Lit.'!AK29)","v":""},{"$f":"IF('Lengua Castellana y Lit.'!AL29=\"\",\"\",'Lengua Castellana y Lit.'!AL29)","v":""},{"$f":"IF('Lengua Castellana y Lit.'!AM29=\"\",\"\",'Lengua Castellana y Lit.'!AM29)","v":""},{"$f":"IF('Lengua Castellana y Lit.'!AN29=\"\",\"\",'Lengua Castellana y Lit.'!AN29)","v":""},{"$f":"IF('Lengua Castellana y Lit.'!AO29=\"\",\"\",'Lengua Castellana y Lit.'!AO29)","v":""},{"$f":"IF('Lengua Castellana y Lit.'!AP29=\"\",\"\",'Lengua Castellana y Lit.'!AP29)","v":""}]
[null,"Lengua Extranjera","Comp. Esp. 1","Criterio Evaluación 1.1",{"$f":"IF('Lengua extranjera'!H4=\"\",\"\",'Lengua extranjera'!H4)","v":""},{"$f":"IF('Lengua extranjera'!I4=\"\",\"\",'Lengua extranjera'!I4)","v":""},{"$f":"IF('Lengua extranjera'!J4=\"\",\"\",'Lengua extranjera'!J4)","v":""},{"$f":"IF('Lengua extranjera'!K4=\"\",\"\",'Lengua extranjera'!K4)","v":""},{"$f":"IF('Lengua extranjera'!L4=\"\",\"\",'Lengua extranjera'!L4)","v":""},{"$f":"IF('Lengua extranjera'!M4=\"\",\"\",'Lengua extranjera'!M4)","v":""},{"$f":"IF('Lengua extranjera'!N4=\"\",\"\",'Lengua extranjera'!N4)","v":""},{"$f":"IF('Lengua extranjera'!O4=\"\",\"\",'Lengua extranjera'!O4)","v":""},{"$f":"IF('Lengua extranjera'!P4=\"\",\"\",'Lengua extranjera'!P4)","v":""},{"$f":"IF('Lengua extranjera'!Q4=\"\",\"\",'Lengua extranjera'!Q4)","v":""},{"$f":"IF('Lengua extranjera'!R4=\"\",\"\",'Lengua extranjera'!R4)","v":""},{"$f":"IF('Lengua extranjera'!S4=\"\",\"\",'Lengua extranjera'!S4)","v":""},{"$f":"IF('Lengua extranjera'!T4=\"\",\"\",'Lengua extranjera'!T4)","v":""},{"$f":"IF('Lengua extranjera'!U4=\"\",\"\",'Lengua extranjera'!U4)","v":""},{"$f":"IF('Lengua extranjera'!V4=\"\",\"\",'Lengua extranjera'!V4)","v":""},{"$f":"IF('Lengua extranjera'!W4=\"\",\"\",'Lengua extranjera'!W4)","v":""},{"$f":"IF('Lengua extranjera'!X4=\"\",\"\",'Lengua extranjera'!X4)","v":""},{"$f":"IF('Lengua extranjera'!Y4=\"\",\"\",'Lengua extranjera'!Y4)","v":""},{"$f":"IF('Lengua extranjera'!Z4=\"\",\"\",'Lengua extranjera'!Z4)","v":""},{"$f":"IF('Lengua extranjera'!AA4=\"\",\"\",'Lengua extranjera'!AA4)","v":""},{"$f":"IF('Lengua extranjera'!AB4=\"\",\"\",'Lengua extranjera'!AB4)","v":""},{"$f":"IF('Lengua extranjera'!AC4=\"\",\"\",'Lengua extranjera'!AC4)","v":""},{"$f":"IF('Lengua extranjera'!AD4=\"\",\"\",'Lengua extranjera'!AD4)","v":""},{"$f":"IF('Lengua extranjera'!AE4=\"\",\"\",'Lengua extranjera'!AE4)","v":""},{"$f":"IF('Lengua extranjera'!AF4=\"\",\"\",'Lengua extranjera'!AF4)","v":""},{"$f":"IF('Lengua extranjera'!AG4=\"\",\"\",'Lengua extranjera'!AG4)","v":""},{"$f":"IF('Lengua extranjera'!AH4=\"\",\"\",'Lengua extranjera'!AH4)","v":""},{"$f":"IF('Lengua extranjera'!AI4=\"\",\"\",'Lengua extranjera'!AI4)","v":""},{"$f":"IF('Lengua extranjera'!AJ4=\"\",\"\",'Lengua extranjera'!AJ4)","v":""},{"$f":"IF('Lengua extranjera'!AK4=\"\",\"\",'Lengua extranjera'!AK4)","v":""},{"$f":"IF('Lengua extranjera'!AL4=\"\",\"\",'Lengua extranjera'!AL4)","v":""},{"$f":"IF('Lengua extranjera'!AM4=\"\",\"\",'Lengua extranjera'!AM4)","v":""},{"$f":"IF('Lengua extranjera'!AN4=\"\",\"\",'Lengua extranjera'!AN4)","v":""},{"$f":"IF('Lengua extranjera'!AO4=\"\",\"\",'Lengua extranjera'!AO4)","v":""},{"$f":"IF('Lengua extranjera'!AP4=\"\",\"\",'Lengua extranjera'!AP4)","v":""}]
[null,null,null,"Criterio Evaluación 1.2",{"$f":"IF('Lengua extranjera'!H5=\"\",\"\",'Lengua extranjera'!H5)","v":""},{"$f":"IF('Lengua extranjera'!I5=\"\",\"\",'Lengua extranjera'!I5)","v":""},{"$f":"IF('Lengua extranjera'!J5=\"\",\"\",'Lengua extranjera'!J5)","v":""},{"$f":"IF('Lengua extranjera'!K5=\"\",\"\",'Lengua extranjera'!K5)","v":""},{"$f":"IF('Lengua extranjera'!L5=\"\",\"\",'Lengua extranjera'!L5)","v":""},{"$f":"IF('Lengua extranjera'!M5=\"\",\"\",'Lengua extranjera'!M5)","v":""},{"$f":"IF('Lengua extranjera'!N5=\"\",\"\",'Lengua extranjera'!N5)","v":""},{"$f":"IF('Lengua extranjera'!O5=\"\",\"\",'Lengua extranjera'!O5)","v":""},{"$f":"IF('Lengua extranjera'!P5=\"\",\"\",'Lengua extranjera'!P5)","v":""},{"$f":"IF('Lengua extranjera'!Q5=\"\",\"\",'Lengua extranjera'!Q5)","v":""},{"$f":"IF('Lengua extranjera'!R5=\"\",\"\",'Lengua extranjera'!R5)","v":""},{"$f":"IF('Lengua extranjera'!S5=\"\",\"\",'Lengua extranjera'!S5)","v":""},{"$f":"IF('Lengua extranjera'!T5=\"\",\"\",'Lengua extranjera'!T5)","v":""},{"$f":"IF('Lengua extranjera'!U5=\"\",\"\",'Lengua extranjera'!U5)","v":""},{"$f":"IF('Lengua extranjera'!V5=\"\",\"\",'Lengua extranjera'!V5)","v":""},{"$f":"IF('Lengua extranjera'!W5=\"\",\"\",'Lengua extranjera'!W5)","v":""},{"$f":"IF('Lengua extranjera'!X5=\"\",\"\",'Lengua extranjera'!X5)","v":""},{"$f":"IF('Lengua extranjera'!Y5=\"\",\"\",'Lengua extranjera'!Y5)","v":""},{"$f":"IF('Lengua extranjera'!Z5=\"\",\"\",'Lengua extranjera'!Z5)","v":""},{"$f":"IF('Lengua extranjera'!AA5=\"\",\"\",'Lengua extranjera'!AA5)","v":""},{"$f":"IF('Lengua extranjera'!AB5=\"\",\"\",'Lengua extranjera'!AB5)","v":""},{"$f":"IF('Lengua extranjera'!AC5=\"\",\"\",'Lengua extranjera'!AC5)","v":""},{"$f":"IF('Lengua extranjera'!AD5=\"\",\"\",'Lengua extranjera'!AD5)","v":""},{"$f":"IF('Lengua extranjera'!AE5=\"\",\"\",'Lengua extranjera'!AE5)","v":""},{"$f":"IF('Lengua extranjera'!AF5=\"\",\"\",'Lengua extranjera'!AF5)","v":""},{"$f":"IF('Lengua extranjera'!AG5=\"\",\"\",'Lengua extranjera'!AG5)","v":""},{"$f":"IF('Lengua extranjera'!AH5=\"\",\"\",'Lengua extranjera'!AH5)","v":""},{"$f":"IF('Lengua extranjera'!AI5=\"\",\"\",'Lengua extranjera'!AI5)","v":""},{"$f":"IF('Lengua extranjera'!AJ5=\"\",\"\",'Lengua extranjera'!AJ5)","v":""},{"$f":"IF('Lengua extranjera'!AK5=\"\",\"\",'Lengua extranjera'!AK5)","v":""},{"$f":"IF('Lengua extranjera'!AL5=\"\",\"\",'Lengua extranjera'!AL5)","v":""},{"$f":"IF('Lengua extranjera'!AM5=\"\",\"\",'Lengua extranjera'!AM5)","v":""},{"$f":"IF('Lengua extranjera'!AN5=\"\",\"\",'Lengua extranjera'!AN5)","v":""},{"$f":"IF('Lengua extranjera'!AO5=\"\",\"\",'Lengua extranjera'!AO5)","v":""},{"$f":"IF('Lengua extranjera'!AP5=\"\",\"\",'Lengua extranjera'!AP5)","v":""}]
[null,null,"Comp. Esp. 2","Criterio Evaluación 2.1",{"$f":"IF('Lengua extranjera'!H6=\"\",\"\",'Lengua extranjera'!H6)","v":""},{"$f":"IF('Lengua extranjera'!I6=\"\",\"\",'Lengua extranjera'!I6)","v":""},{"$f":"IF('Lengua extranjera'!J6=\"\",\"\",'Lengua extranjera'!J6)","v":""},{"$f":"IF('Lengua extranjera'!K6=\"\",\"\",'Lengua extranjera'!K6)","v":""},{"$f":"IF('Lengua extranjera'!L6=\"\",\"\",'Lengua extranjera'!L6)","v":""},{"$f":"IF('Lengua extranjera'!M6=\"\",\"\",'Lengua extranjera'!M6)","v":""},{"$f":"IF('Lengua extranjera'!N6=\"\",\"\",'Lengua extranjera'!N6)","v":""},{"$f":"IF('Lengua extranjera'!O6=\"\",\"\",'Lengua extranjera'!O6)","v":""},{"$f":"IF('Lengua extranjera'!P6=\"\",\"\",'Lengua extranjera'!P6)","v":""},{"$f":"IF('Lengua extranjera'!Q6=\"\",\"\",'Lengua extranjera'!Q6)","v":""},{"$f":"IF('Lengua extranjera'!R6=\"\",\"\",'Lengua extranjera'!R6)","v":""},{"$f":"IF('Lengua extranjera'!S6=\"\",\"\",'Lengua extranjera'!S6)","v":""},{"$f":"IF('Lengua extranjera'!T6=\"\",\"\",'Lengua extranjera'!T6)","v":""},{"$f":"IF('Lengua extranjera'!U6=\"\",\"\",'Lengua extranjera'!U6)","v":""},{"$f":"IF('Lengua extranjera'!V6=\"\",\"\",'Lengua extranjera'!V6)","v":""},{"$f":"IF('Lengua extranjera'!W6=\"\",\"\",'Lengua extranjera'!W6)","v":""},{"$f":"IF('Lengua extranjera'!X6=\"\",\"\",'Lengua extranjera'!X6)","v":""},{"$f":"IF('Lengua extranjera'!Y6=\"\",\"\",'Lengua extranjera'!Y6)","v":""},{"$f":"IF('Lengua extranjera'!Z6=\"\",\"\",'Lengua extranjera'!Z6)","v":""},{"$f":"IF('Lengua extranjera'!AA6=\"\",\"\",'Lengua extranjera'!AA6)","v":""},{"$f":"IF('Lengua extranjera'!AB6=\"\",\"\",'Lengua extranjera'!AB6)","v":""},{"$f":"IF('Lengua extranjera'!AC6=\"\",\"\",'Lengua extranjera'!AC6)","v":""},{"$f":"IF('Lengua extranjera'!AD6=\"\",\"\",'Lengua extranjera'!AD6)","v":""},{"$f":"IF('Lengua extranjera'!AE6=\"\",\"\",'Lengua extranjera'!AE6)","v":""},{"$f":"IF('Lengua extranjera'!AF6=\"\",\"\",'Lengua extranjera'!AF6)","v":""},{"$f":"IF('Lengua extranjera'!AG6=\"\",\"\",'Lengua extranjera'!AG6)","v":""},{"$f":"IF('Lengua extranjera'!AH6=\"\",\"\",'Lengua extranjera'!AH6)","v":""},{"$f":"IF('Lengua extranjera'!AI6=\"\",\"\",'Lengua extranjera'!AI6)","v":""},{"$f":"IF('Lengua extranjera'!AJ6=\"\",\"\",'Lengua extranjera'!AJ6)","v":""},{"$f":"IF('Lengua extranjera'!AK6=\"\",\"\",'Lengua extranjera'!AK6)","v":""},{"$f":"IF('Lengua extranjera'!AL6=\"\",\"\",'Lengua extranjera'!AL6)","v":""},{"$f":"IF('Lengua extranjera'!AM6=\"\",\"\",'Lengua extranjera'!AM6)","v":""},{"$f":"IF('Lengua extranjera'!AN6=\"\",\"\",'Lengua extranjera'!AN6)","v":""},{"$f":"IF('Lengua extranjera'!AO6=\"\",\"\",'Lengua extranjera'!AO6)","v":""},{"$f":"IF('Lengua extranjera'!AP6=\"\",\"\",'Lengua extranjera'!AP6)","v":""}]
[null,null,null,"Criterio Evaluación 2.2",{"$f":"IF('Lengua extranjera'!H7=\"\",\"\",'Lengua extranjera'!H7)","v":""},{"$f":"IF('Lengua extranjera'!I7=\"\",\"\",'Lengua extranjera'!I7)","v":""},{"$f":"IF('Lengua extranjera'!J7=\"\",\"\",'Lengua extranjera'!J7)","v":""},{"$f":"IF('Lengua extranjera'!K7=\"\",\"\",'Lengua extranjera'!K7)","v":""},{"$f":"IF('Lengua extranjera'!L7=\"\",\"\",'Lengua extranjera'!L7)","v":""},{"$f":"IF('Lengua extranjera'!M7=\"\",\"\",'Lengua extranjera'!M7)","v":""},{"$f":"IF('Lengua extranjera'!N7=\"\",\"\",'Lengua extranjera'!N7)","v":""},{"$f":"IF('Lengua extranjera'!O7=\"\",\"\",'Lengua extranjera'!O7)","v":""},{"$f":"IF('Lengua extranjera'!P7=\"\",\"\",'Lengua extranjera'!P7)","v":""},{"$f":"IF('Lengua extranjera'!Q7=\"\",\"\",'Lengua extranjera'!Q7)","v":""},{"$f":"IF('Lengua extranjera'!R7=\"\",\"\",'Lengua extranjera'!R7)","v":""},{"$f":"IF('Lengua extranjera'!S7=\"\",\"\",'Lengua extranjera'!S7)","v":""},{"$f":"IF('Lengua extranjera'!T7=\"\",\"\",'Lengua extranjera'!T7)","v":""},{"$f":"IF('Lengua extranjera'!U7=\"\",\"\",'Lengua extranjera'!U7)","v":""},{"$f":"IF('Lengua extranjera'!V7=\"\",\"\",'Lengua extranjera'!V7)","v":""},{"$f":"IF('Lengua extranjera'!W7=\"\",\"\",'Lengua extranjera'!W7)","v":""},{"$f":"IF('Lengua extranjera'!X7=\"\",\"\",'Lengua extranjera'!X7)","v":""},{"$f":"IF('Lengua extranjera'!Y7=\"\",\"\",'Lengua extranjera'!Y7)","v":""},{"$f":"IF('Lengua extranjera'!Z7=\"\",\"\",'Lengua extranjera'!Z7)","v":""},{"$f":"IF('Lengua extranjera'!AA7=\"\",\"\",'Lengua extranjera'!AA7)","v":""},{"$f":"IF('Lengua extranjera'!AB7=\"\",\"\",'Lengua extranjera'!AB7)","v":""},{"$f":"IF('Lengua extranjera'!AC7=\"\",\"\",'Lengua extranjera'!AC7)","v":""},{"$f":"IF('Lengua extranjera'!AD7=\"\",\"\",'Lengua extranjera'!AD7)","v":""},{"$f":"IF('Lengua extranjera'!AE7=\"\",\"\",'Lengua extranjera'!AE7)","v":""},{"$f":"IF('Lengua extranjera'!AF7=\"\",\"\",'Lengua extranjera'!AF7)","v":""},{"$f":"IF('Lengua extranjera'!AG7=\"\",\"\",'Lengua extranjera'!AG7)","v":""},{"$f":"IF('Lengua extranjera'!AH7=\"\",\"\",'Lengua extranjera'!AH7)","v":""},{"$f":"IF('Lengua extranjera'!AI7=\"\",\"\",'Lengua extranjera'!AI7)","v":""},{"$f":"IF('Lengua extranjera'!AJ7=\"\",\"\",'Lengua extranjera'!AJ7)","v":""},{"$f":"IF('Lengua extranjera'!AK7=\"\",\"\",'Lengua extranjera'!AK7)","v":""},{"$f":"IF('Lengua extranjera'!AL7=\"\",\"\",'Lengua extranjera'!AL7)","v":""},{"$f":"IF('Lengua extranjera'!AM7=\"\",\"\",'Lengua extranjera'!AM7)","v":""},{"$f":"IF('Lengua extranjera'!AN7=\"\",\"\",'Lengua extranjera'!AN7)","v":""},{"$f":"IF('Lengua extranjera'!AO7=\"\",\"\",'Lengua extranjera'!AO7)","v":""},{"$f":"IF('Lengua extranjera'!AP7=\"\",\"\",'Lengua extranjera'!AP7)","v":""}]
[null,null,null,"Criterio Evaluación 2.3",{"$f":"IF('Lengua extranjera'!H8=\"\",\"\",'Lengua extranjera'!H8)","v":""},{"$f":"IF('Lengua extranjera'!I8=\"\",\"\",'Lengua extranjera'!I8)","v":""},{"$f":"IF('Lengua extranjera'!J8=\"\",\"\",'Lengua extranjera'!J8)","v":""},{"$f":"IF('Lengua extranjera'!K8=\"\",\"\",'Lengua extranjera'!K8)","v":""},{"$f":"IF('Lengua extranjera'!L8=\"\",\"\",'Lengua extranjera'!L8)","v":""},{"$f":"IF('Lengua extranjera'!M8=\"\",\"\",'Lengua extranjera'!M8)","v":""},{"$f":"IF('Lengua extranjera'!N8=\"\",\"\",'Lengua extranjera'!N8)","v":""},{"$f":"IF('Lengua extranjera'!O8=\"\",\"\",'Lengua extranjera'!O8)","v":""},{"$f":"IF('Lengua extranjera'!P8=\"\",\"\",'Lengua extranjera'!P8)","v":""},{"$f":"IF('Lengua extranjera'!Q8=\"\",\"\",'Lengua extranjera'!Q8)","v":""},{"$f":"IF('Lengua extranjera'!R8=\"\",\"\",'Lengua extranjera'!R8)","v":""},{"$f":"IF('Lengua extranjera'!S8=\"\",\"\",'Lengua extranjera'!S8)","v":""},{"$f":"IF('Lengua extranjera'!T8=\"\",\"\",'Lengua extranjera'!T8)","v":""},{"$f":"IF('Lengua extranjera'!U8=\"\",\"\",'Lengua extranjera'!U8)","v":""},{"$f":"IF('Lengua extranjera'!V8=\"\",\"\",'Lengua extranjera'!V8)","v":""},{"$f":"IF('Lengua extranjera'!W8=\"\",\"\",'Lengua extranjera'!W8)","v":""},{"$f":"IF('Lengua extranjera'!X8=\"\",\"\",'Lengua extranjera'!X8)","v":""},{"$f":"IF('Lengua extranjera'!Y8=\"\",\"\",'Lengua extranjera'!Y8)","v":""},{"$f":"IF('Lengua extranjera'!Z8=\"\",\"\",'Lengua extranjera'!Z8)","v":""},{"$f":"IF('Lengua extranjera'!AA8=\"\",\"\",'Lengua extranjera'!AA8)","v":""},{"$f":"IF('Lengua extranjera'!AB8=\"\",\"\",'Lengua extranjera'!AB8)","v":""},{"$f":"IF('Lengua extranjera'!AC8=\"\",\"\",'Lengua extranjera'!AC8)","v":""},{"$f":"IF('Lengua extranjera'!AD8=\"\",\"\",'Lengua extranjera'!AD8)","v":""},{"$f":"IF('Lengua extranjera'!AE8=\"\",\"\",'Lengua extranjera'!AE8)","v":""},{"$f":"IF('Lengua extranjera'!AF8=\"\",\"\",'Lengua extranjera'!AF8)","v":""},{"$f":"IF('Lengua extranjera'!AG8=\"\",\"\",'Lengua extranjera'!AG8)","v":""},{"$f":"IF('Lengua extranjera'!AH8=\"\",\"\",'Lengua extranjera'!AH8)","v":""},{"$f":"IF('Lengua extranjera'!AI8=\"\",\"\",'Lengua extranjera'!AI8)","v":""},{"$f":"IF('Lengua extranjera'!AJ8=\"\",\"\",'Lengua extranjera'!AJ8)","v":""},{"$f":"IF('Lengua extranjera'!AK8=\"\",\"\",'Lengua extranjera'!AK8)","v":""},{"$f":"IF('Lengua extranjera'!AL8=\"\",\"\",'Lengua extranjera'!AL8)","v":""},{"$f":"IF('Lengua extranjera'!AM8=\"\",\"\",'Lengua extranjera'!AM8)","v":""},{"$f":"IF('Lengua extranjera'!AN8=\"\",\"\",'Lengua extranjera'!AN8)","v":""},{"$f":"IF('Lengua extranjera'!AO8=\"\",\"\",'Lengua extranjera'!AO8)","v":""},{"$f":"IF('Lengua extranjera'!AP8=\"\",\"\",'Lengua extranjera'!AP8)","v":""}]
[null,null,"Comp. Esp. 3","Criterio Evaluación 3.1",{"$f":"IF('Lengua extranjera'!H9=\"\",\"\",'Lengua extranjera'!H9)","v":""},{"$f":"IF('Lengua extranjera'!I9=\"\",\"\",'Lengua extranjera'!I9)","v":""},{"$f":"IF('Lengua extranjera'!J9=\"\",\"\",'Lengua extranjera'!J9)","v":""},{"$f":"IF('Lengua extranjera'!K9=\"\",\"\",'Lengua extranjera'!K9)","v":""},{"$f":"IF('Lengua extranjera'!L9=\"\",\"\",'Lengua extranjera'!L9)","v":""},{"$f":"IF('Lengua extranjera'!M9=\"\",\"\",'Lengua extranjera'!M9)","v":""},{"$f":"IF('Lengua extranjera'!N9=\"\",\"\",'Lengua extranjera'!N9)","v":""},{"$f":"IF('Lengua extranjera'!O9=\"\",\"\",'Lengua extranjera'!O9)","v":""},{"$f":"IF('Lengua extranjera'!P9=\"\",\"\",'Lengua extranjera'!P9)","v":""},{"$f":"IF('Lengua extranjera'!Q9=\"\",\"\",'Lengua extranjera'!Q9)","v":""},{"$f":"IF('Lengua extranjera'!R9=\"\",\"\",'Lengua extranjera'!R9)","v":""},{"$f":"IF('Lengua extranjera'!S9=\"\",\"\",'Lengua extranjera'!S9)","v":""},{"$f":"IF('Lengua extranjera'!T9=\"\",\"\",'Lengua extranjera'!T9)","v":""},{"$f":"IF('Lengua extranjera'!U9=\"\",\"\",'Lengua extranjera'!U9)","v":""},{"$f":"IF('Lengua extranjera'!V9=\"\",\"\",'Lengua extranjera'!V9)","v":""},{"$f":"IF('Lengua extranjera'!W9=\"\",\"\",'Lengua extranjera'!W9)","v":""},{"$f":"IF('Lengua extranjera'!X9=\"\",\"\",'Lengua extranjera'!X9)","v":""},{"$f":"IF('Lengua extranjera'!Y9=\"\",\"\",'Lengua extranjera'!Y9)","v":""},{"$f":"IF('Lengua extranjera'!Z9=\"\",\"\",'Lengua extranjera'!Z9)","v":""},{"$f":"IF('Lengua extranjera'!AA9=\"\",\"\",'Lengua extranjera'!AA9)","v":""},{"$f":"IF('Lengua extranjera'!AB9=\"\",\"\",'Lengua extranjera'!AB9)","v":""},{"$f":"IF('Lengua extranjera'!AC9=\"\",\"\",'Lengua extranjera'!AC9)","v":""},{"$f":"IF('Lengua extranjera'!AD9=\"\",\"\",'Lengua extranjera'!AD9)","v":""},{"$f":"IF('Lengua extranjera'!AE9=\"\",\"\",'Lengua extranjera'!AE9)","v":""},{"$f":"IF('Lengua extranjera'!AF9=\"\",\"\",'Lengua extranjera'!AF9)","v":""},{"$f":"IF('Lengua extranjera'!AG9=\"\",\"\",'Lengua extranjera'!AG9)","v":""},{"$f":"IF('Lengua extranjera'!AH9=\"\",\"\",'Lengua extranjera'!AH9)","v":""},{"$f":"IF('Lengua extranjera'!AI9=\"\",\"\",'Lengua extranjera'!AI9)","v":""},{"$f":"IF('Lengua extranjera'!AJ9=\"\",\"\",'Lengua extranjera'!AJ9)","v":""},{"$f":"IF('Lengua extranjera'!AK9=\"\",\"\",'Lengua extranjera'!AK9)","v":""},{"$f":"IF('Lengua extranjera'!AL9=\"\",\"\",'Lengua extranjera'!AL9)","v":""},{"$f":"IF('Lengua extranjera'!AM9=\"\",\"\",'Lengua extranjera'!AM9)","v":""},{"$f":"IF('Lengua extranjera'!AN9=\"\",\"\",'Lengua extranjera'!AN9)","v":""},{"$f":"IF('Lengua extranjera'!AO9=\"\",\"\",'Lengua extranjera'!AO9)","v":""},{"$f":"IF('Lengua extranjera'!AP9=\"\",\"\",'Lengua extranjera'!AP9)","v":""}]
[null,null,null,"Criterio Evaluación 3.2",{"$f":"IF('Lengua extranjera'!H10=\"\",\"\",'Lengua extranjera'!H10)","v":""},{"$f":"IF('Lengua extranjera'!I10=\"\",\"\",'Lengua extranjera'!I10)","v":""},{"$f":"IF('Lengua extranjera'!J10=\"\",\"\",'Lengua extranjera'!J10)","v":""},{"$f":"IF('Lengua extranjera'!K10=\"\",\"\",'Lengua extranjera'!K10)","v":""},{"$f":"IF('Lengua extranjera'!L10=\"\",\"\",'Lengua extranjera'!L10)","v":""},{"$f":"IF('Lengua extranjera'!M10=\"\",\"\",'Lengua extranjera'!M10)","v":""},{"$f":"IF('Lengua extranjera'!N10=\"\",\"\",'Lengua extranjera'!N10)","v":""},{"$f":"IF('Lengua extranjera'!O10=\"\",\"\",'Lengua extranjera'!O10)","v":""},{"$f":"IF('Lengua extranjera'!P10=\"\",\"\",'Lengua extranjera'!P10)","v":""},{"$f":"IF('Lengua extranjera'!Q10=\"\",\"\",'Lengua extranjera'!Q10)","v":""},{"$f":"IF('Lengua extranjera'!R10=\"\",\"\",'Lengua extranjera'!R10)","v":""},{"$f":"IF('Lengua extranjera'!S10=\"\",\"\",'Lengua extranjera'!S10)","v":""},{"$f":"IF('Lengua extranjera'!T10=\"\",\"\",'Lengua extranjera'!T10)","v":""},{"$f":"IF('Lengua extranjera'!U10=\"\",\"\",'Lengua extranjera'!U10)","v":""},{"$f":"IF('Lengua extranjera'!V10=\"\",\"\",'Lengua extranjera'!V10)","v":""},{"$f":"IF('Lengua extranjera'!W10=\"\",\"\",'Lengua extranjera'!W10)","v":""},{"$f":"IF('Lengua extranjera'!X10=\"\",\"\",'Lengua extranjera'!X10)","v":""},{"$f":"IF('Lengua extranjera'!Y10=\"\",\"\",'Lengua extranjera'!Y10)","v":""},{"$f":"IF('Lengua extranjera'!Z10=\"\",\"\",'Lengua extranjera'!Z10)","v":""},{"$f":"IF('Lengua extranjera'!AA10=\"\",\"\",'Lengua extranjera'!AA10)","v":""},{"$f":"IF('Lengua extranjera'!AB10=\"\",\"\",'Lengua extranjera'!AB10)","v":""},{"$f":"IF('Lengua extranjera'!AC10=\"\",\"\",'Lengua extranjera'!AC10)","v":""},{"$f":"IF('Lengua extranjera'!AD10=\"\",\"\",'Lengua extranjera'!AD10)","v":""},{"$f":"IF('Lengua extranjera'!AE10=\"\",\"\",'Lengua extranjera'!AE10)","v":""},{"$f":"IF('Lengua extranjera'!AF10=\"\",\"\",'Lengua extranjera'!AF10)","v":""},{"$f":"IF('Lengua extranjera'!AG10=\"\",\"\",'Lengua extranjera'!AG10)","v":""},{"$f":"IF('Lengua extranjera'!AH10=\"\",\"\",'Lengua extranjera'!AH10)","v":""},{"$f":"IF('Lengua extranjera'!AI10=\"\",\"\",'Lengua extranjera'!AI10)","v":""},{"$f":"IF('Lengua extranjera'!AJ10=\"\",\"\",'Lengua extranjera'!AJ10)","v":""},{"$f":"IF('Lengua extranjera'!AK10=\"\",\"\",'Lengua extranjera'!AK10)","v":""},{"$f":"IF('Lengua extranjera'!AL10=\"\",\"\",'Lengua extranjera'!AL10)","v":""},{"$f":"IF('Lengua extranjera'!AM10=\"\",\"\",'Lengua extranjera'!AM10)","v":""},{"$f":"IF('Lengua extranjera'!AN10=\"\",\"\",'Lengua extranjera'!AN10)","v":""},{"$f":"IF('Lengua extranjera'!AO10=\"\",\"\",'Lengua extranjera'!AO10)","v":""},{"$f":"IF('Lengua extranjera'!AP10=\"\",\"\",'Lengua extranjera'!AP10)","v":""}]
[null,null,"Comp. Esp. 4","Criterio Evaluación 4.1",{"$f":"IF('Lengua extranjera'!H11=\"\",\"\",'Lengua extranjera'!H11)","v":""},{"$f":"IF('Lengua extranjera'!I11=\"\",\"\",'Lengua extranjera'!I11)","v":""},{"$f":"IF('Lengua extranjera'!J11=\"\",\"\",'Lengua extranjera'!J11)","v":""},{"$f":"IF('Lengua extranjera'!K11=\"\",\"\",'Lengua extranjera'!K11)","v":""},{"$f":"IF('Lengua extranjera'!L11=\"\",\"\",'Lengua extranjera'!L11)","v":""},{"$f":"IF('Lengua extranjera'!M11=\"\",\"\",'Lengua extranjera'!M11)","v":""},{"$f":"IF('Lengua extranjera'!N11=\"\",\"\",'Lengua extranjera'!N11)","v":""},{"$f":"IF('Lengua extranjera'!O11=\"\",\"\",'Lengua extranjera'!O11)","v":""},{"$f":"IF('Lengua extranjera'!P11=\"\",\"\",'Lengua extranjera'!P11)","v":""},{"$f":"IF('Lengua extranjera'!Q11=\"\",\"\",'Lengua extranjera'!Q11)","v":""},{"$f":"IF('Lengua extranjera'!R11=\"\",\"\",'Lengua extranjera'!R11)","v":""},{"$f":"IF('Lengua extranjera'!S11=\"\",\"\",'Lengua extranjera'!S11)","v":""},{"$f":"IF('Lengua extranjera'!T11=\"\",\"\",'Lengua extranjera'!T11)","v":""},{"$f":"IF('Lengua extranjera'!U11=\"\",\"\",'Lengua extranjera'!U11)","v":""},{"$f":"IF('Lengua extranjera'!V11=\"\",\"\",'Lengua extranjera'!V11)","v":""},{"$f":"IF('Lengua extranjera'!W11=\"\",\"\",'Lengua extranjera'!W11)","v":""},{"$f":"IF('Lengua extranjera'!X11=\"\",\"\",'Lengua extranjera'!X11)","v":""},{"$f":"IF('Lengua extranjera'!Y11=\"\",\"\",'Lengua extranjera'!Y11)","v":""},{"$f":"IF('Lengua extranjera'!Z11=\"\",\"\",'Lengua extranjera'!Z11)","v":""},{"$f":"IF('Lengua extranjera'!AA11=\"\",\"\",'Lengua extranjera'!AA11)","v":""},{"$f":"IF('Lengua extranjera'!AB11=\"\",\"\",'Lengua extranjera'!AB11)","v":""},{"$f":"IF('Lengua extranjera'!AC11=\"\",\"\",'Lengua extranjera'!AC11)","v":""},{"$f":"IF('Lengua extranjera'!AD11=\"\",\"\",'Lengua extranjera'!AD11)","v":""},{"$f":"IF('Lengua extranjera'!AE11=\"\",\"\",'Lengua extranjera'!AE11)","v":""},{"$f":"IF('Lengua extranjera'!AF11=\"\",\"\",'Lengua extranjera'!AF11)","v":""},{"$f":"IF('Lengua extranjera'!AG11=\"\",\"\",'Lengua extranjera'!AG11)","v":""},{"$f":"IF('Lengua extranjera'!AH11=\"\",\"\",'Lengua extranjera'!AH11)","v":""},{"$f":"IF('Lengua extranjera'!AI11=\"\",\"\",'Lengua extranjera'!AI11)","v":""},{"$f":"IF('Lengua extranjera'!AJ11=\"\",\"\",'Lengua extranjera'!AJ11)","v":""},{"$f":"IF('Lengua extranjera'!AK11=\"\",\"\",'Lengua extranjera'!AK11)","v":""},{"$f":"IF('Lengua extranjera'!AL11=\"\",\"\",'Lengua extranjera'!AL11)","v":""},{"$f":"IF('Lengua extranjera'!AM11=\"\",\"\",'Lengua extranjera'!AM11)","v":""},{"$f":"IF('Lengua extranjera'!AN11=\"\",\"\",'Lengua extranjera'!AN11)","v":""},{"$f":"IF('Lengua extranjera'!AO11=\"\",\"\",'Lengua extranjera'!AO11)","v":""},{"$f":"IF('Lengua extranjera'!AP11=\"\",\"\",'Lengua extranjera'!AP11)","v":""}]
[null,null,null,"Criterio Evaluación 4.2",{"$f":"IF('Lengua extranjera'!H12=\"\",\"\",'Lengua extranjera'!H12)","v":""},{"$f":"IF('Lengua extranjera'!I12=\"\",\"\",'Lengua extranjera'!I12)","v":""},{"$f":"IF('Lengua extranjera'!J12=\"\",\"\",'Lengua extranjera'!J12)","v":""},{"$f":"IF('Lengua extranjera'!K12=\"\",\"\",'Lengua extranjera'!K12)","v":""},{"$f":"IF('Lengua extranjera'!L12=\"\",\"\",'Lengua extranjera'!L12)","v":""},{"$f":"IF('Lengua extranjera'!M12=\"\",\"\",'Lengua extranjera'!M12)","v":""},{"$f":"IF('Lengua extranjera'!N12=\"\",\"\",'Lengua extranjera'!N12)","v":""},{"$f":"IF('Lengua extranjera'!O12=\"\",\"\",'Lengua extranjera'!O12)","v":""},{"$f":"IF('Lengua extranjera'!P12=\"\",\"\",'Lengua extranjera'!P12)","v":""},{"$f":"IF('Lengua extranjera'!Q12=\"\",\"\",'Lengua extranjera'!Q12)","v":""},{"$f":"IF('Lengua extranjera'!R12=\"\",\"\",'Lengua extranjera'!R12)","v":""},{"$f":"IF('Lengua extranjera'!S12=\"\",\"\",'Lengua extranjera'!S12)","v":""},{"$f":"IF('Lengua extranjera'!T12=\"\",\"\",'Lengua extranjera'!T12)","v":""},{"$f":"IF('Lengua extranjera'!U12=\"\",\"\",'Lengua extranjera'!U12)","v":""},{"$f":"IF('Lengua extranjera'!V12=\"\",\"\",'Lengua extranjera'!V12)","v":""},{"$f":"IF('Lengua extranjera'!W12=\"\",\"\",'Lengua extranjera'!W12)","v":""},{"$f":"IF('Lengua extranjera'!X12=\"\",\"\",'Lengua extranjera'!X12)","v":""},{"$f":"IF('Lengua extranjera'!Y12=\"\",\"\",'Lengua extranjera'!Y12)","v":""},{"$f":"IF('Lengua extranjera'!Z12=\"\",\"\",'Lengua extranjera'!Z12)","v":""},{"$f":"IF('Lengua extranjera'!AA12=\"\",\"\",'Lengua extranjera'!AA12)","v":""},{"$f":"IF('Lengua extranjera'!AB12=\"\",\"\",'Lengua extranjera'!AB12)","v":""},{"$f":"IF('Lengua extranjera'!AC12=\"\",\"\",'Lengua extranjera'!AC12)","v":""},{"$f":"IF('Lengua extranjera'!AD12=\"\",\"\",'Lengua extranjera'!AD12)","v":""},{"$f":"IF('Lengua extranjera'!AE12=\"\",\"\",'Lengua extranjera'!AE12)","v":""},{"$f":"IF('Lengua extranjera'!AF12=\"\",\"\",'Lengua extranjera'!AF12)","v":""},{"$f":"IF('Lengua extranjera'!AG12=\"\",\"\",'Lengua extranjera'!AG12)","v":""},{"$f":"IF('Lengua extranjera'!AH12=\"\",\"\",'Lengua extranjera'!AH12)","v":""},{"$f":"IF('Lengua extranjera'!AI12=\"\",\"\",'Lengua extranjera'!AI12)","v":""},{"$f":"IF('Lengua extranjera'!AJ12=\"\",\"\",'Lengua extranjera'!AJ12)","v":""},{"$f":"IF('Lengua extranjera'!AK12=\"\",\"\",'Lengua extranjera'!AK12)","v":""},{"$f":"IF('Lengua extranjera'!AL12=\"\",\"\",'Lengua extranjera'!AL12)","v":""},{"$f":"IF('Lengua extranjera'!AM12=\"\",\"\",'Lengua extranjera'!AM12)","v":""},{"$f":"IF('Lengua extranjera'!AN12=\"\",\"\",'Lengua extranjera'!AN12)","v":""},{"$f":"IF('Lengua extranjera'!AO12=\"\",\"\",'Lengua extranjera'!AO12)","v":""},{"$f":"IF('Lengua extranjera'!AP12=\"\",\"\",'Lengua extranjera'!AP12)","v":""}]
[null,null,"Comp. Esp. 5","Criterio Evaluación 5.1",{"$f":"IF('Lengua extranjera'!H13=\"\",\"\",'Lengua extranjera'!H13)","v":""},{"$f":"IF('Lengua extranjera'!I13=\"\",\"\",'Lengua extranjera'!I13)","v":""},{"$f":"IF('Lengua extranjera'!J13=\"\",\"\",'Lengua extranjera'!J13)","v":""},{"$f":"IF('Lengua extranjera'!K13=\"\",\"\",'Lengua extranjera'!K13)","v":""},{"$f":"IF('Lengua extranjera'!L13=\"\",\"\",'Lengua extranjera'!L13)","v":""},{"$f":"IF('Lengua extranjera'!M13=\"\",\"\",'Lengua extranjera'!M13)","v":""},{"$f":"IF('Lengua extranjera'!N13=\"\",\"\",'Lengua extranjera'!N13)","v":""},{"$f":"IF('Lengua extranjera'!O13=\"\",\"\",'Lengua extranjera'!O13)","v":""},{"$f":"IF('Lengua extranjera'!P13=\"\",\"\",'Lengua extranjera'!P13)","v":""},{"$f":"IF('Lengua extranjera'!Q13=\"\",\"\",'Lengua extranjera'!Q13)","v":""},{"$f":"IF('Lengua extranjera'!R13=\"\",\"\",'Lengua extranjera'!R13)","v":""},{"$f":"IF('Lengua extranjera'!S13=\"\",\"\",'Lengua extranjera'!S13)","v":""},{"$f":"IF('Lengua extranjera'!T13=\"\",\"\",'Lengua extranjera'!T13)","v":""},{"$f":"IF('Lengua extranjera'!U13=\"\",\"\",'Lengua extranjera'!U13)","v":""},{"$f":"IF('Lengua extranjera'!V13=\"\",\"\",'Lengua extranjera'!V13)","v":""},{"$f":"IF('Lengua extranjera'!W13=\"\",\"\",'Lengua extranjera'!W13)","v":""},{"$f":"IF('Lengua extranjera'!X13=\"\",\"\",'Lengua extranjera'!X13)","v":""},{"$f":"IF('Lengua extranjera'!Y13=\"\",\"\",'Lengua extranjera'!Y13)","v":""},{"$f":"IF('Lengua extranjera'!Z13=\"\",\"\",'Lengua extranjera'!Z13)","v":""},{"$f":"IF('Lengua extranjera'!AA13=\"\",\"\",'Lengua extranjera'!AA13)","v":""},{"$f":"IF('Lengua extranjera'!AB13=\"\",\"\",'Lengua extranjera'!AB13)","v":""},{"$f":"IF('Lengua extranjera'!AC13=\"\",\"\",'Lengua extranjera'!AC13)","v":""},{"$f":"IF('Lengua extranjera'!AD13=\"\",\"\",'Lengua extranjera'!AD13)","v":""},{"$f":"IF('Lengua extranjera'!AE13=\"\",\"\",'Lengua extranjera'!AE13)","v":""},{"$f":"IF('Lengua extranjera'!AF13=\"\",\"\",'Lengua extranjera'!AF13)","v":""},{"$f":"IF('Lengua extranjera'!AG13=\"\",\"\",'Lengua extranjera'!AG13)","v":""},{"$f":"IF('Lengua extranjera'!AH13=\"\",\"\",'Lengua extranjera'!AH13)","v":""},{"$f":"IF('Lengua extranjera'!AI13=\"\",\"\",'Lengua extranjera'!AI13)","v":""},{"$f":"IF('Lengua extranjera'!AJ13=\"\",\"\",'Lengua extranjera'!AJ13)","v":""},{"$f":"IF('Lengua extranjera'!AK13=\"\",\"\",'Lengua extranjera'!AK13)","v":""},{"$f":"IF('Lengua extranjera'!AL13=\"\",\"\",'Lengua extranjera'!AL13)","v":""},{"$f":"IF('Lengua extranjera'!AM13=\"\",\"\",'Lengua extranjera'!AM13)","v":""},{"$f":"IF('Lengua extranjera'!AN13=\"\",\"\",'Lengua extranjera'!AN13)","v":""},{"$f":"IF('Lengua extranjera'!AO13=\"\",\"\",'Lengua extranjera'!AO13)","v":""},{"$f":"IF('Lengua extranjera'!AP13=\"\",\"\",'Lengua extranjera'!AP13)","v":""}]
[null,null,null,"Criterio Evaluación 5.2",{"$f":"IF('Lengua extranjera'!H14=\"\",\"\",'Lengua extranjera'!H14)","v":""},{"$f":"IF('Lengua extranjera'!I14=\"\",\"\",'Lengua extranjera'!I14)","v":""},{"$f":"IF('Lengua extranjera'!J14=\"\",\"\",'Lengua extranjera'!J14)","v":""},{"$f":"IF('Lengua extranjera'!K14=\"\",\"\",'Lengua extranjera'!K14)","v":""},{"$f":"IF('Lengua extranjera'!L14=\"\",\"\",'Lengua extranjera'!L14)","v":""},{"$f":"IF('Lengua extranjera'!M14=\"\",\"\",'Lengua extranjera'!M14)","v":""},{"$f":"IF('Lengua extranjera'!N14=\"\",\"\",'Lengua extranjera'!N14)","v":""},{"$f":"IF('Lengua extranjera'!O14=\"\",\"\",'Lengua extranjera'!O14)","v":""},{"$f":"IF('Lengua extranjera'!P14=\"\",\"\",'Lengua extranjera'!P14)","v":""},{"$f":"IF('Lengua extranjera'!Q14=\"\",\"\",'Lengua extranjera'!Q14)","v":""},{"$f":"IF('Lengua extranjera'!R14=\"\",\"\",'Lengua extranjera'!R14)","v":""},{"$f":"IF('Lengua extranjera'!S14=\"\",\"\",'Lengua extranjera'!S14)","v":""},{"$f":"IF('Lengua extranjera'!T14=\"\",\"\",'Lengua extranjera'!T14)","v":""},{"$f":"IF('Lengua extranjera'!U14=\"\",\"\",'Lengua extranjera'!U14)","v":""},{"$f":"IF('Lengua extranjera'!V14=\"\",\"\",'Lengua extranjera'!V14)","v":""},{"$f":"IF('Lengua extranjera'!W14=\"\",\"\",'Lengua extranjera'!W14)","v":""},{"$f":"IF('Lengua extranjera'!X14=\"\",\"\",'Lengua extranjera'!X14)","v":""},{"$f":"IF('Lengua extranjera'!Y14=\"\",\"\",'Lengua extranjera'!Y14)","v":""},{"$f":"IF('Lengua extranjera'!Z14=\"\",\"\",'Lengua extranjera'!Z14)","v":""},{"$f":"IF('Lengua extranjera'!AA14=\"\",\"\",'Lengua extranjera'!AA14)","v":""},{"$f":"IF('Lengua extranjera'!AB14=\"\",\"\",'Lengua extranjera'!AB14)","v":""},{"$f":"IF('Lengua extranjera'!AC14=\"\",\"\",'Lengua extranjera'!AC14)","v":""},{"$f":"IF('Lengua extranjera'!AD14=\"\",\"\",'Lengua extranjera'!AD14)","v":""},{"$f":"IF('Lengua extranjera'!AE14=\"\",\"\",'Lengua extranjera'!AE14)","v":""},{"$f":"IF('Lengua extranjera'!AF14=\"\",\"\",'Lengua extranjera'!AF14)","v":""},{"$f":"IF('Lengua extranjera'!AG14=\"\",\"\",'Lengua extranjera'!AG14)","v":""},{"$f":"IF('Lengua extranjera'!AH14=\"\",\"\",'Lengua extranjera'!AH14)","v":""},{"$f":"IF('Lengua extranjera'!AI14=\"\",\"\",'Lengua extranjera'!AI14)","v":""},{"$f":"IF('Lengua extranjera'!AJ14=\"\",\"\",'Lengua extranjera'!AJ14)","v":""},{"$f":"IF('Lengua extranjera'!AK14=\"\",\"\",'Lengua extranjera'!AK14)","v":""},{"$f":"IF('Lengua extranjera'!AL14=\"\",\"\",'Lengua extranjera'!AL14)","v":""},{"$f":"IF('Lengua extranjera'!AM14=\"\",\"\",'Lengua extranjera'!AM14)","v":""},{"$f":"IF('Lengua extranjera'!AN14=\"\",\"\",'Lengua extranjera'!AN14)","v":""},{"$f":"IF('Lengua extranjera'!AO14=\"\",\"\",'Lengua extranjera'!AO14)","v":""},{"$f":"IF('Lengua extranjera'!AP14=\"\",\"\",'Lengua extranjera'!AP14)","v":""}]
[null,null,null,"Criterio Evaluación 5.3",{"$f":"IF('Lengua extranjera'!H15=\"\",\"\",'Lengua extranjera'!H15)","v":""},{"$f":"IF('Lengua extranjera'!I15=\"\",\"\",'Lengua extranjera'!I15)","v":""},{"$f":"IF('Lengua extranjera'!J15=\"\",\"\",'Lengua extranjera'!J15)","v":""},{"$f":"IF('Lengua extranjera'!K15=\"\",\"\",'Lengua extranjera'!K15)","v":""},{"$f":"IF('Lengua extranjera'!L15=\"\",\"\",'Lengua extranjera'!L15)","v":""},{"$f":"IF('Lengua extranjera'!M15=\"\",\"\",'Lengua extranjera'!M15)","v":""},{"$f":"IF('Lengua extranjera'!N15=\"\",\"\",'Lengua extranjera'!N15)","v":""},{"$f":"IF('Lengua extranjera'!O15=\"\",\"\",'Lengua extranjera'!O15)","v":""},{"$f":"IF('Lengua extranjera'!P15=\"\",\"\",'Lengua extranjera'!P15)","v":""},{"$f":"IF('Lengua extranjera'!Q15=\"\",\"\",'Lengua extranjera'!Q15)","v":""},{"$f":"IF('Lengua extranjera'!R15=\"\",\"\",'Lengua extranjera'!R15)","v":""},{"$f":"IF('Lengua extranjera'!S15=\"\",\"\",'Lengua extranjera'!S15)","v":""},{"$f":"IF('Lengua extranjera'!T15=\"\",\"\",'Lengua extranjera'!T15)","v":""},{"$f":"IF('Lengua extranjera'!U15=\"\",\"\",'Lengua extranjera'!U15)","v":""},{"$f":"IF('Lengua extranjera'!V15=\"\",\"\",'Lengua extranjera'!V15)","v":""},{"$f":"IF('Lengua extranjera'!W15=\"\",\"\",'Lengua extranjera'!W15)","v":""},{"$f":"IF('Lengua extranjera'!X15=\"\",\"\",'Lengua extranjera'!X15)","v":""},{"$f":"IF('Lengua extranjera'!Y15=\"\",\"\",'Lengua extranjera'!Y15)","v":""},{"$f":"IF('Lengua extranjera'!Z15=\"\",\"\",'Lengua extranjera'!Z15)","v":""},{"$f":"IF('Lengua extranjera'!AA15=\"\",\"\",'Lengua extranjera'!AA15)","v":""},{"$f":"IF('Lengua extranjera'!AB15=\"\",\"\",'Lengua extranjera'!AB15)","v":""},{"$f":"IF('Lengua extranjera'!AC15=\"\",\"\",'Lengua extranjera'!AC15)","v":""},{"$f":"IF('Lengua extranjera'!AD15=\"\",\"\",'Lengua extranjera'!AD15)","v":""},{"$f":"IF('Lengua extranjera'!AE15=\"\",\"\",'Lengua extranjera'!AE15)","v":""},{"$f":"IF('Lengua extranjera'!AF15=\"\",\"\",'Lengua extranjera'!AF15)","v":""},{"$f":"IF('Lengua extranjera'!AG15=\"\",\"\",'Lengua extranjera'!AG15)","v":""},{"$f":"IF('Lengua extranjera'!AH15=\"\",\"\",'Lengua extranjera'!AH15)","v":""},{"$f":"IF('Lengua extranjera'!AI15=\"\",\"\",'Lengua extranjera'!AI15)","v":""},{"$f":"IF('Lengua extranjera'!AJ15=\"\",\"\",'Lengua extranjera'!AJ15)","v":""},{"$f":"IF('Lengua extranjera'!AK15=\"\",\"\",'Lengua extranjera'!AK15)","v":""},{"$f":"IF('Lengua extranjera'!AL15=\"\",\"\",'Lengua extranjera'!AL15)","v":""},{"$f":"IF('Lengua extranjera'!AM15=\"\",\"\",'Lengua extranjera'!AM15)","v":""},{"$f":"IF('Lengua extranjera'!AN15=\"\",\"\",'Lengua extranjera'!AN15)","v":""},{"$f":"IF('Lengua extranjera'!AO15=\"\",\"\",'Lengua extranjera'!AO15)","v":""},{"$f":"IF('Lengua extranjera'!AP15=\"\",\"\",'Lengua extranjera'!AP15)","v":""}]
[null,null,"Comp. Esp. 6","Criterio Evaluación 6.1",{"$f":"IF('Lengua extranjera'!H16=\"\",\"\",'Lengua extranjera'!H16)","v":""},{"$f":"IF('Lengua extranjera'!I16=\"\",\"\",'Lengua extranjera'!I16)","v":""},{"$f":"IF('Lengua extranjera'!J16=\"\",\"\",'Lengua extranjera'!J16)","v":""},{"$f":"IF('Lengua extranjera'!K16=\"\",\"\",'Lengua extranjera'!K16)","v":""},{"$f":"IF('Lengua extranjera'!L16=\"\",\"\",'Lengua extranjera'!L16)","v":""},{"$f":"IF('Lengua extranjera'!M16=\"\",\"\",'Lengua extranjera'!M16)","v":""},{"$f":"IF('Lengua extranjera'!N16=\"\",\"\",'Lengua extranjera'!N16)","v":""},{"$f":"IF('Lengua extranjera'!O16=\"\",\"\",'Lengua extranjera'!O16)","v":""},{"$f":"IF('Lengua extranjera'!P16=\"\",\"\",'Lengua extranjera'!P16)","v":""},{"$f":"IF('Lengua extranjera'!Q16=\"\",\"\",'Lengua extranjera'!Q16)","v":""},{"$f":"IF('Lengua extranjera'!R16=\"\",\"\",'Lengua extranjera'!R16)","v":""},{"$f":"IF('Lengua extranjera'!S16=\"\",\"\",'Lengua extranjera'!S16)","v":""},{"$f":"IF('Lengua extranjera'!T16=\"\",\"\",'Lengua extranjera'!T16)","v":""},{"$f":"IF('Lengua extranjera'!U16=\"\",\"\",'Lengua extranjera'!U16)","v":""},{"$f":"IF('Lengua extranjera'!V16=\"\",\"\",'Lengua extranjera'!V16)","v":""},{"$f":"IF('Lengua extranjera'!W16=\"\",\"\",'Lengua extranjera'!W16)","v":""},{"$f":"IF('Lengua extranjera'!X16=\"\",\"\",'Lengua extranjera'!X16)","v":""},{"$f":"IF('Lengua extranjera'!Y16=\"\",\"\",'Lengua extranjera'!Y16)","v":""},{"$f":"IF('Lengua extranjera'!Z16=\"\",\"\",'Lengua extranjera'!Z16)","v":""},{"$f":"IF('Lengua extranjera'!AA16=\"\",\"\",'Lengua extranjera'!AA16)","v":""},{"$f":"IF('Lengua extranjera'!AB16=\"\",\"\",'Lengua extranjera'!AB16)","v":""},{"$f":"IF('Lengua extranjera'!AC16=\"\",\"\",'Lengua extranjera'!AC16)","v":""},{"$f":"IF('Lengua extranjera'!AD16=\"\",\"\",'Lengua extranjera'!AD16)","v":""},{"$f":"IF('Lengua extranjera'!AE16=\"\",\"\",'Lengua extranjera'!AE16)","v":""},{"$f":"IF('Lengua extranjera'!AF16=\"\",\"\",'Lengua extranjera'!AF16)","v":""},{"$f":"IF('Lengua extranjera'!AG16=\"\",\"\",'Lengua extranjera'!AG16)","v":""},{"$f":"IF('Lengua extranjera'!AH16=\"\",\"\",'Lengua extranjera'!AH16)","v":""},{"$f":"IF('Lengua extranjera'!AI16=\"\",\"\",'Lengua extranjera'!AI16)","v":""},{"$f":"IF('Lengua extranjera'!AJ16=\"\",\"\",'Lengua extranjera'!AJ16)","v":""},{"$f":"IF('Lengua extranjera'!AK16=\"\",\"\",'Lengua extranjera'!AK16)","v":""},{"$f":"IF('Lengua extranjera'!AL16=\"\",\"\",'Lengua extranjera'!AL16)","v":""},{"$f":"IF('Lengua extranjera'!AM16=\"\",\"\",'Lengua extranjera'!AM16)","v":""},{"$f":"IF('Lengua extranjera'!AN16=\"\",\"\",'Lengua extranjera'!AN16)","v":""},{"$f":"IF('Lengua extranjera'!AO16=\"\",\"\",'Lengua extranjera'!AO16)","v":""},{"$f":"IF('Lengua extranjera'!AP16=\"\",\"\",'Lengua extranjera'!AP16)","v":""}]
[null,null,null,"Criterio Evaluación 6.2",{"$f":"IF('Lengua extranjera'!H17=\"\",\"\",'Lengua extranjera'!H17)","v":""},{"$f":"IF('Lengua extranjera'!I17=\"\",\"\",'Lengua extranjera'!I17)","v":""},{"$f":"IF('Lengua extranjera'!J17=\"\",\"\",'Lengua extranjera'!J17)","v":""},{"$f":"IF('Lengua extranjera'!K17=\"\",\"\",'Lengua extranjera'!K17)","v":""},{"$f":"IF('Lengua extranjera'!L17=\"\",\"\",'Lengua extranjera'!L17)","v":""},{"$f":"IF('Lengua extranjera'!M17=\"\",\"\",'Lengua extranjera'!M17)","v":""},{"$f":"IF('Lengua extranjera'!N17=\"\",\"\",'Lengua extranjera'!N17)","v":""},{"$f":"IF('Lengua extranjera'!O17=\"\",\"\",'Lengua extranjera'!O17)","v":""},{"$f":"IF('Lengua extranjera'!P17=\"\",\"\",'Lengua extranjera'!P17)","v":""},{"$f":"IF('Lengua extranjera'!Q17=\"\",\"\",'Lengua extranjera'!Q17)","v":""},{"$f":"IF('Lengua extranjera'!R17=\"\",\"\",'Lengua extranjera'!R17)","v":""},{"$f":"IF('Lengua extranjera'!S17=\"\",\"\",'Lengua extranjera'!S17)","v":""},{"$f":"IF('Lengua extranjera'!T17=\"\",\"\",'Lengua extranjera'!T17)","v":""},{"$f":"IF('Lengua extranjera'!U17=\"\",\"\",'Lengua extranjera'!U17)","v":""},{"$f":"IF('Lengua extranjera'!V17=\"\",\"\",'Lengua extranjera'!V17)","v":""},{"$f":"IF('Lengua extranjera'!W17=\"\",\"\",'Lengua extranjera'!W17)","v":""},{"$f":"IF('Lengua extranjera'!X17=\"\",\"\",'Lengua extranjera'!X17)","v":""},{"$f":"IF('Lengua extranjera'!Y17=\"\",\"\",'Lengua extranjera'!Y17)","v":""},{"$f":"IF('Lengua extranjera'!Z17=\"\",\"\",'Lengua extranjera'!Z17)","v":""},{"$f":"IF('Lengua extranjera'!AA17=\"\",\"\",'Lengua extranjera'!AA17)","v":""},{"$f":"IF('Lengua extranjera'!AB17=\"\",\"\",'Lengua extranjera'!AB17)","v":""},{"$f":"IF('Lengua extranjera'!AC17=\"\",\"\",'Lengua extranjera'!AC17)","v":""},{"$f":"IF('Lengua extranjera'!AD17=\"\",\"\",'Lengua extranjera'!AD17)","v":""},{"$f":"IF('Lengua extranjera'!AE17=\"\",\"\",'Lengua extranjera'!AE17)","v":""},{"$f":"IF('Lengua extranjera'!AF17=\"\",\"\",'Lengua extranjera'!AF17)","v":""},{"$f":"IF('Lengua extranjera'!AG17=\"\",\"\",'Lengua extranjera'!AG17)","v":""},{"$f":"IF('Lengua extranjera'!AH17=\"\",\"\",'Lengua extranjera'!AH17)","v":""},{"$f":"IF('Lengua extranjera'!AI17=\"\",\"\",'Lengua extranjera'!AI17)","v":""},{"$f":"IF('Lengua extranjera'!AJ17=\"\",\"\",'Lengua extranjera'!AJ17)","v":""},{"$f":"IF('Lengua extranjera'!AK17=\"\",\"\",'Lengua extranjera'!AK17)","v":""},{"$f":"IF('Lengua extranjera'!AL17=\"\",\"\",'Lengua extranjera'!AL17)","v":""},{"$f":"IF('Lengua extranjera'!AM17=\"\",\"\",'Lengua extranjera'!AM17)","v":""},{"$f":"IF('Lengua extranjera'!AN17=\"\",\"\",'Lengua extranjera'!AN17)","v":""},{"$f":"IF('Lengua extranjera'!AO17=\"\",\"\",'Lengua extranjera'!AO17)","v":""},{"$f":"IF('Lengua extranjera'!AP17=\"\",\"\",'Lengua extranjera'!AP17)","v":""}]
[null,null,null,"Criterio Evaluación 6.3",{"$f":"IF('Lengua extranjera'!H18=\"\",\"\",'Lengua extranjera'!H18)","v":""},{"$f":"IF('Lengua extranjera'!I18=\"\",\"\",'Lengua extranjera'!I18)","v":""},{"$f":"IF('Lengua extranjera'!J18=\"\",\"\",'Lengua extranjera'!J18)","v":""},{"$f":"IF('Lengua extranjera'!K18=\"\",\"\",'Lengua extranjera'!K18)","v":""},{"$f":"IF('Lengua extranjera'!L18=\"\",\"\",'Lengua extranjera'!L18)","v":""},{"$f":"IF('Lengua extranjera'!M18=\"\",\"\",'Lengua extranjera'!M18)","v":""},{"$f":"IF('Lengua extranjera'!N18=\"\",\"\",'Lengua extranjera'!N18)","v":""},{"$f":"IF('Lengua extranjera'!O18=\"\",\"\",'Lengua extranjera'!O18)","v":""},{"$f":"IF('Lengua extranjera'!P18=\"\",\"\",'Lengua extranjera'!P18)","v":""},{"$f":"IF('Lengua extranjera'!Q18=\"\",\"\",'Lengua extranjera'!Q18)","v":""},{"$f":"IF('Lengua extranjera'!R18=\"\",\"\",'Lengua extranjera'!R18)","v":""},{"$f":"IF('Lengua extranjera'!S18=\"\",\"\",'Lengua extranjera'!S18)","v":""},{"$f":"IF('Lengua extranjera'!T18=\"\",\"\",'Lengua extranjera'!T18)","v":""},{"$f":"IF('Lengua extranjera'!U18=\"\",\"\",'Lengua extranjera'!U18)","v":""},{"$f":"IF('Lengua extranjera'!V18=\"\",\"\",'Lengua extranjera'!V18)","v":""},{"$f":"IF('Lengua extranjera'!W18=\"\",\"\",'Lengua extranjera'!W18)","v":""},{"$f":"IF('Lengua extranjera'!X18=\"\",\"\",'Lengua extranjera'!X18)","v":""},{"$f":"IF('Lengua extranjera'!Y18=\"\",\"\",'Lengua extranjera'!Y18)","v":""},{"$f":"IF('Lengua extranjera'!Z18=\"\",\"\",'Lengua extranjera'!Z18)","v":""},{"$f":"IF('Lengua extranjera'!AA18=\"\",\"\",'Lengua extranjera'!AA18)","v":""},{"$f":"IF('Lengua extranjera'!AB18=\"\",\"\",'Lengua extranjera'!AB18)","v":""},{"$f":"IF('Lengua extranjera'!AC18=\"\",\"\",'Lengua extranjera'!AC18)","v":""},{"$f":"IF('Lengua extranjera'!AD18=\"\",\"\",'Lengua extranjera'!AD18)","v":""},{"$f":"IF('Lengua extranjera'!AE18=\"\",\"\",'Lengua extranjera'!AE18)","v":""},{"$f":"IF('Lengua extranjera'!AF18=\"\",\"\",'Lengua extranjera'!AF18)","v":""},{"$f":"IF('Lengua extranjera'!AG18=\"\",\"\",'Lengua extranjera'!AG18)","v":""},{"$f":"IF('Lengua extranjera'!AH18=\"\",\"\",'Lengua extranjera'!AH18)","v":""},{"$f":"IF('Lengua extranjera'!AI18=\"\",\"\",'Lengua extranjera'!AI18)","v":""},{"$f":"IF('Lengua extranjera'!AJ18=\"\",\"\",'Lengua extranjera'!AJ18)","v":""},{"$f":"IF('Lengua extranjera'!AK18=\"\",\"\",'Lengua extranjera'!AK18)","v":""},{"$f":"IF('Lengua extranjera'!AL18=\"\",\"\",'Lengua extranjera'!AL18)","v":""},{"$f":"IF('Lengua extranjera'!AM18=\"\",\"\",'Lengua extranjera'!AM18)","v":""},{"$f":"IF('Lengua extranjera'!AN18=\"\",\"\",'Lengua extranjera'!AN18)","v":""},{"$f":"IF('Lengua extranjera'!AO18=\"\",\"\",'Lengua extranjera'!AO18)","v":""},{"$f":"IF('Lengua extranjera'!AP18=\"\",\"\",'Lengua extranjera'!AP18)","v":""}]
[null,"Matemáticas","Comp. Esp. 1","Criterio Evaluación 1.1",{"$f":"IF(Matematicas!H4=\"\",\"\",Matematicas!H4)","v":""},{"$f":"IF(Matematicas!I4=\"\",\"\",Matematicas!I4)","v":""},{"$f":"IF(Matematicas!J4=\"\",\"\",Matematicas!J4)","v":""},{"$f":"IF(Matematicas!K4=\"\",\"\",Matematicas!K4)","v":""},{"$f":"IF(Matematicas!L4=\"\",\"\",Matematicas!L4)","v":""},{"$f":"IF(Matematicas!M4=\"\",\"\",Matematicas!M4)","v":""},{"$f":"IF(Matematicas!N4=\"\",\"\",Matematicas!N4)","v":""},{"$f":"IF(Matematicas!O4=\"\",\"\",Matematicas!O4)","v":""},{"$f":"IF(Matematicas!P4=\"\",\"\",Matematicas!P4)","v":""},{"$f":"IF(Matematicas!Q4=\"\",\"\",Matematicas!Q4)","v":""},{"$f":"IF(Matematicas!R4=\"\",\"\",Matematicas!R4)","v":""},{"$f":"IF(Matematicas!S4=\"\",\"\",Matematicas!S4)","v":""},{"$f":"IF(Matematicas!T4=\"\",\"\",Matematicas!T4)","v":""},{"$f":"IF(Matematicas!U4=\"\",\"\",Matematicas!U4)","v":""},{"$f":"IF(Matematicas!V4=\"\",\"\",Matematicas!V4)","v":""},{"$f":"IF(Matematicas!W4=\"\",\"\",Matematicas!W4)","v":""},{"$f":"IF(Matematicas!X4=\"\",\"\",Matematicas!X4)","v":""},{"$f":"IF(Matematicas!Y4=\"\",\"\",Matematicas!Y4)","v":""},{"$f":"IF(Matematicas!Z4=\"\",\"\",Matematicas!Z4)","v":""},{"$f":"IF(Matematicas!AA4=\"\",\"\",Matematicas!AA4)","v":""},{"$f":"IF(Matematicas!AB4=\"\",\"\",Matematicas!AB4)","v":""},{"$f":"IF(Matematicas!AC4=\"\",\"\",Matematicas!AC4)","v":""},{"$f":"IF(Matematicas!AD4=\"\",\"\",Matematicas!AD4)","v":""},{"$f":"IF(Matematicas!AE4=\"\",\"\",Matematicas!AE4)","v":""},{"$f":"IF(Matematicas!AF4=\"\",\"\",Matematicas!AF4)","v":""},{"$f":"IF(Matematicas!AG4=\"\",\"\",Matematicas!AG4)","v":""},{"$f":"IF(Matematicas!AH4=\"\",\"\",Matematicas!AH4)","v":""},{"$f":"IF(Matematicas!AI4=\"\",\"\",Matematicas!AI4)","v":""},{"$f":"IF(Matematicas!AJ4=\"\",\"\",Matematicas!AJ4)","v":""},{"$f":"IF(Matematicas!AK4=\"\",\"\",Matematicas!AK4)","v":""},{"$f":"IF(Matematicas!AL4=\"\",\"\",Matematicas!AL4)","v":""},{"$f":"IF(Matematicas!AM4=\"\",\"\",Matematicas!AM4)","v":""},{"$f":"IF(Matematicas!AN4=\"\",\"\",Matematicas!AN4)","v":""},{"$f":"IF(Matematicas!AO4=\"\",\"\",Matematicas!AO4)","v":""},{"$f":"IF(Matematicas!AP4=\"\",\"\",Matematicas!AP4)","v":""}]
[null,null,null,"Criterio Evaluación 1.2",{"$f":"IF(Matematicas!H5=\"\",\"\",Matematicas!H5)","v":""},{"$f":"IF(Matematicas!I5=\"\",\"\",Matematicas!I5)","v":""},{"$f":"IF(Matematicas!J5=\"\",\"\",Matematicas!J5)","v":""},{"$f":"IF(Matematicas!K5=\"\",\"\",Matematicas!K5)","v":""},{"$f":"IF(Matematicas!L5=\"\",\"\",Matematicas!L5)","v":""},{"$f":"IF(Matematicas!M5=\"\",\"\",Matematicas!M5)","v":""},{"$f":"IF(Matematicas!N5=\"\",\"\",Matematicas!N5)","v":""},{"$f":"IF(Matematicas!O5=\"\",\"\",Matematicas!O5)","v":""},{"$f":"IF(Matematicas!P5=\"\",\"\",Matematicas!P5)","v":""},{"$f":"IF(Matematicas!Q5=\"\",\"\",Matematicas!Q5)","v":""},{"$f":"IF(Matematicas!R5=\"\",\"\",Matematicas!R5)","v":""},{"$f":"IF(Matematicas!S5=\"\",\"\",Matematicas!S5)","v":""},{"$f":"IF(Matematicas!T5=\"\",\"\",Matematicas!T5)","v":""},{"$f":"IF(Matematicas!U5=\"\",\"\",Matematicas!U5)","v":""},{"$f":"IF(Matematicas!V5=\"\",\"\",Matematicas!V5)","v":""},{"$f":"IF(Matematicas!W5=\"\",\"\",Matematicas!W5)","v":""},{"$f":"IF(Matematicas!X5=\"\",\"\",Matematicas!X5)","v":""},{"$f":"IF(Matematicas!Y5=\"\",\"\",Matematicas!Y5)","v":""},{"$f":"IF(Matematicas!Z5=\"\",\"\",Matematicas!Z5)","v":""},{"$f":"IF(Matematicas!AA5=\"\",\"\",Matematicas!AA5)","v":""},{"$f":"IF(Matematicas!AB5=\"\",\"\",Matematicas!AB5)","v":""},{"$f":"IF(Matematicas!AC5=\"\",\"\",Matematicas!AC5)","v":""},{"$f":"IF(Matematicas!AD5=\"\",\"\",Matematicas!AD5)","v":""},{"$f":"IF(Matematicas!AE5=\"\",\"\",Matematicas!AE5)","v":""},{"$f":"IF(Matematicas!AF5=\"\",\"\",Matematicas!AF5)","v":""},{"$f":"IF(Matematicas!AG5=\"\",\"\",Matematicas!AG5)","v":""},{"$f":"IF(Matematicas!AH5=\"\",\"\",Matematicas!AH5)","v":""},{"$f":"IF(Matematicas!AI5=\"\",\"\",Matematicas!AI5)","v":""},{"$f":"IF(Matematicas!AJ5=\"\",\"\",Matematicas!AJ5)","v":""},{"$f":"IF(Matematicas!AK5=\"\",\"\",Matematicas!AK5)","v":""},{"$f":"IF(Matematicas!AL5=\"\",\"\",Matematicas!AL5)","v":""},{"$f":"IF(Matematicas!AM5=\"\",\"\",Matematicas!AM5)","v":""},{"$f":"IF(Matematicas!AN5=\"\",\"\",Matematicas!AN5)","v":""},{"$f":"IF(Matematicas!AO5=\"\",\"\",Matematicas!AO5)","v":""},{"$f":"IF(Matematicas!AP5=\"\",\"\",Matematicas!AP5)","v":""}]
[null,null,"Comp. Esp. 2","Criterio Evaluación 2.1",{"$f":"IF(Matematicas!H6=\"\",\"\",Matematicas!H6)","v":""},{"$f":"IF(Matematicas!I6=\"\",\"\",Matematicas!I6)","v":""},{"$f":"IF(Matematicas!J6=\"\",\"\",Matematicas!J6)","v":""},{"$f":"IF(Matematicas!K6=\"\",\"\",Matematicas!K6)","v":""},{"$f":"IF(Matematicas!L6=\"\",\"\",Matematicas!L6)","v":""},{"$f":"IF(Matematicas!M6=\"\",\"\",Matematicas!M6)","v":""},{"$f":"IF(Matematicas!N6=\"\",\"\",Matematicas!N6)","v":""},{"$f":"IF(Matematicas!O6=\"\",\"\",Matematicas!O6)","v":""},{"$f":"IF(Matematicas!P6=\"\",\"\",Matematicas!P6)","v":""},{"$f":"IF(Matematicas!Q6=\"\",\"\",Matematicas!Q6)","v":""},{"$f":"IF(Matematicas!R6=\"\",\"\",Matematicas!R6)","v":""},{"$f":"IF(Matematicas!S6=\"\",\"\",Matematicas!S6)","v":""},{"$f":"IF(Matematicas!T6=\"\",\"\",Matematicas!T6)","v":""},{"$f":"IF(Matematicas!U6=\"\",\"\",Matematicas!U6)","v":""},{"$f":"IF(Matematicas!V6=\"\",\"\",Matematicas!V6)","v":""},{"$f":"IF(Matematicas!W6=\"\",\"\",Matematicas!W6)","v":""},{"$f":"IF(Matematicas!X6=\"\",\"\",Matematicas!X6)","v":""},{"$f":"IF(Matematicas!Y6=\"\",\"\",Matematicas!Y6)","v":""},{"$f":"IF(Matematicas!Z6=\"\",\"\",Matematicas!Z6)","v":""},{"$f":"IF(Matematicas!AA6=\"\",\"\",Matematicas!AA6)","v":""},{"$f":"IF(Matematicas!AB6=\"\",\"\",Matematicas!AB6)","v":""},{"$f":"IF(Matematicas!AC6=\"\",\"\",Matematicas!AC6)","v":""},{"$f":"IF(Matematicas!AD6=\"\",\"\",Matematicas!AD6)","v":""},{"$f":"IF(Matematicas!AE6=\"\",\"\",Matematicas!AE6)","v":""},{"$f":"IF(Matematicas!AF6=\"\",\"\",Matematicas!AF6)","v":""},{"$f":"IF(Matematicas!AG6=\"\",\"\",Matematicas!AG6)","v":""},{"$f":"IF(Matematicas!AH6=\"\",\"\",Matematicas!AH6)","v":""},{"$f":"IF(Matematicas!AI6=\"\",\"\",Matematicas!AI6)","v":""},{"$f":"IF(Matematicas!AJ6=\"\",\"\",Matematicas!AJ6)","v":""},{"$f":"IF(Matematicas!AK6=\"\",\"\",Matematicas!AK6)","v":""},{"$f":"IF(Matematicas!AL6=\"\",\"\",Matematicas!AL6)","v":""},{"$f":"IF(Matematicas!AM6=\"\",\"\",Matematicas!AM6)","v":""},{"$f":"IF(Matematicas!AN6=\"\",\"\",Matematicas!AN6)","v":""},{"$f":"IF(Matematicas!AO6=\"\",\"\",Matematicas!AO6)","v":""},{"$f":"IF(Matematicas!AP6=\"\",\"\",Matematicas!AP6)","v":""}]
[null,null,null,"Criterio Evaluación 2.2",{"$f":"IF(Matematicas!H7=\"\",\"\",Matematicas!H7)","v":""},{"$f":"IF(Matematicas!I7=\"\",\"\",Matematicas!I7)","v":""},{"$f":"IF(Matematicas!J7=\"\",\"\",Matematicas!J7)","v":""},{"$f":"IF(Matematicas!K7=\"\",\"\",Matematicas!K7)","v":""},{"$f":"IF(Matematicas!L7=\"\",\"\",Matematicas!L7)","v":""},{"$f":"IF(Matematicas!M7=\"\",\"\",Matematicas!M7)","v":""},{"$f":"IF(Matematicas!N7=\"\",\"\",Matematicas!N7)","v":""},{"$f":"IF(Matematicas!O7=\"\",\"\",Matematicas!O7)","v":""},{"$f":"IF(Matematicas!P7=\"\",\"\",Matematicas!P7)","v":""},{"$f":"IF(Matematicas!Q7=\"\",\"\",Matematicas!Q7)","v":""},{"$f":"IF(Matematicas!R7=\"\",\"\",Matematicas!R7)","v":""},{"$f":"IF(Matematicas!S7=\"\",\"\",Matematicas!S7)","v":""},{"$f":"IF(Matematicas!T7=\"\",\"\",Matematicas!T7)","v":""},{"$f":"IF(Matematicas!U7=\"\",\"\",Matematicas!U7)","v":""},{"$f":"IF(Matematicas!V7=\"\",\"\",Matematicas!V7)","v":""},{"$f":"IF(Matematicas!W7=\"\",\"\",Matematicas!W7)","v":""},{"$f":"IF(Matematicas!X7=\"\",\"\",Matematicas!X7)","v":""},{"$f":"IF(Matematicas!Y7=\"\",\"\",Matematicas!Y7)","v":""},{"$f":"IF(Matematicas!Z7=\"\",\"\",Matematicas!Z7)","v":""},{"$f":"IF(Matematicas!AA7=\"\",\"\",Matematicas!AA7)","v":""},{"$f":"IF(Matematicas!AB7=\"\",\"\",Matematicas!AB7)","v":""},{"$f":"IF(Matematicas!AC7=\"\",\"\",Matematicas!AC7)","v":""},{"$f":"IF(Matematicas!AD7=\"\",\"\",Matematicas!AD7)","v":""},{"$f":"IF(Matematicas!AE7=\"\",\"\",Matematicas!AE7)","v":""},{"$f":"IF(Matematicas!AF7=\"\",\"\",Matematicas!AF7)","v":""},{"$f":"IF(Matematicas!AG7=\"\",\"\",Matematicas!AG7)","v":""},{"$f":"IF(Matematicas!AH7=\"\",\"\",Matematicas!AH7)","v":""},{"$f":"IF(Matematicas!AI7=\"\",\"\",Matematicas!AI7)","v":""},{"$f":"IF(Matematicas!AJ7=\"\",\"\",Matematicas!AJ7)","v":""},{"$f":"IF(Matematicas!AK7=\"\",\"\",Matematicas!AK7)","v":""},{"$f":"IF(Matematicas!AL7=\"\",\"\",Matematicas!AL7)","v":""},{"$f":"IF(Matematicas!AM7=\"\",\"\",Matematicas!AM7)","v":""},{"$f":"IF(Matematicas!AN7=\"\",\"\",Matematicas!AN7)","v":""},{"$f":"IF(Matematicas!AO7=\"\",\"\",Matematicas!AO7)","v":""},{"$f":"IF(Matematicas!AP7=\"\",\"\",Matematicas!AP7)","v":""}]
[null,null,null,"Criterio Evaluación 2.3",{"$f":"IF(Matematicas!H8=\"\",\"\",Matematicas!H8)","v":""},{"$f":"IF(Matematicas!I8=\"\",\"\",Matematicas!I8)","v":""},{"$f":"IF(Matematicas!J8=\"\",\"\",Matematicas!J8)","v":""},{"$f":"IF(Matematicas!K8=\"\",\"\",Matematicas!K8)","v":""},{"$f":"IF(Matematicas!L8=\"\",\"\",Matematicas!L8)","v":""},{"$f":"IF(Matematicas!M8=\"\",\"\",Matematicas!M8)","v":""},{"$f":"IF(Matematicas!N8=\"\",\"\",Matematicas!N8)","v":""},{"$f":"IF(Matematicas!O8=\"\",\"\",Matematicas!O8)","v":""},{"$f":"IF(Matematicas!P8=\"\",\"\",Matematicas!P8)","v":""},{"$f":"IF(Matematicas!Q8=\"\",\"\",Matematicas!Q8)","v":""},{"$f":"IF(Matematicas!R8=\"\",\"\",Matematicas!R8)","v":""},{"$f":"IF(Matematicas!S8=\"\",\"\",Matematicas!S8)","v":""},{"$f":"IF(Matematicas!T8=\"\",\"\",Matematicas!T8)","v":""},{"$f":"IF(Matematicas!U8=\"\",\"\",Matematicas!U8)","v":""},{"$f":"IF(Matematicas!V8=\"\",\"\",Matematicas!V8)","v":""},{"$f":"IF(Matematicas!W8=\"\",\"\",Matematicas!W8)","v":""},{"$f":"IF(Matematicas!X8=\"\",\"\",Matematicas!X8)","v":""},{"$f":"IF(Matematicas!Y8=\"\",\"\",Matematicas!Y8)","v":""},{"$f":"IF(Matematicas!Z8=\"\",\"\",Matematicas!Z8)","v":""},{"$f":"IF(Matematicas!AA8=\"\",\"\",Matematicas!AA8)","v":""},{"$f":"IF(Matematicas!AB8=\"\",\"\",Matematicas!AB8)","v":""},{"$f":"IF(Matematicas!AC8=\"\",\"\",Matematicas!AC8)","v":""},{"$f":"IF(Matematicas!AD8=\"\",\"\",Matematicas!AD8)","v":""},{"$f":"IF(Matematicas!AE8=\"\",\"\",Matematicas!AE8)","v":""},{"$f":"IF(Matematicas!AF8=\"\",\"\",Matematicas!AF8)","v":""},{"$f":"IF(Matematicas!AG8=\"\",\"\",Matematicas!AG8)","v":""},{"$f":"IF(Matematicas!AH8=\"\",\"\",Matematicas!AH8)","v":""},{"$f":"IF(Matematicas!AI8=\"\",\"\",Matematicas!AI8)","v":""},{"$f":"IF(Matematicas!AJ8=\"\",\"\",Matematicas!AJ8)","v":""},{"$f":"IF(Matematicas!AK8=\"\",\"\",Matematicas!AK8)","v":""},{"$f":"IF(Matematicas!AL8=\"\",\"\",Matematicas!AL8)","v":""},{"$f":"IF(Matematicas!AM8=\"\",\"\",Matematicas!AM8)","v":""},{"$f":"IF(Matematicas!AN8=\"\",\"\",Matematicas!AN8)","v":""},{"$f":"IF(Matematicas!AO8=\"\",\"\",Matematicas!AO8)","v":""},{"$f":"IF(Matematicas!AP8=\"\",\"\",Matematicas!AP8)","v":""}]
[null,null,null,"Criterio Evaluación 2.4",{"$f":"IF(Matematicas!H9=\"\",\"\",Matematicas!H9)","v":""},{"$f":"IF(Matematicas!I9=\"\",\"\",Matematicas!I9)","v":""},{"$f":"IF(Matematicas!J9=\"\",\"\",Matematicas!J9)","v":""},{"$f":"IF(Matematicas!K9=\"\",\"\",Matematicas!K9)","v":""},{"$f":"IF(Matematicas!L9=\"\",\"\",Matematicas!L9)","v":""},{"$f":"IF(Matematicas!M9=\"\",\"\",Matematicas!M9)","v":""},{"$f":"IF(Matematicas!N9=\"\",\"\",Matematicas!N9)","v":""},{"$f":"IF(Matematicas!O9=\"\",\"\",Matematicas!O9)","v":""},{"$f":"IF(Matematicas!P9=\"\",\"\",Matematicas!P9)","v":""},{"$f":"IF(Matematicas!Q9=\"\",\"\",Matematicas!Q9)","v":""},{"$f":"IF(Matematicas!R9=\"\",\"\",Matematicas!R9)","v":""},{"$f":"IF(Matematicas!S9=\"\",\"\",Matematicas!S9)","v":""},{"$f":"IF(Matematicas!T9=\"\",\"\",Matematicas!T9)","v":""},{"$f":"IF(Matematicas!U9=\"\",\"\",Matematicas!U9)","v":""},{"$f":"IF(Matematicas!V9=\"\",\"\",Matematicas!V9)","v":""},{"$f":"IF(Matematicas!W9=\"\",\"\",Matematicas!W9)","v":""},{"$f":"IF(Matematicas!X9=\"\",\"\",Matematicas!X9)","v":""},{"$f":"IF(Matematicas!Y9=\"\",\"\",Matematicas!Y9)","v":""},{"$f":"IF(Matematicas!Z9=\"\",\"\",Matematicas!Z9)","v":""},{"$f":"IF(Matematicas!AA9=\"\",\"\",Matematicas!AA9)","v":""},{"$f":"IF(Matematicas!AB9=\"\",\"\",Matematicas!AB9)","v":""},{"$f":"IF(Matematicas!AC9=\"\",\"\",Matematicas!AC9)","v":""},{"$f":"IF(Matematicas!AD9=\"\",\"\",Matematicas!AD9)","v":""},{"$f":"IF(Matematicas!AE9=\"\",\"\",Matematicas!AE9)","v":""},{"$f":"IF(Matematicas!AF9=\"\",\"\",Matematicas!AF9)","v":""},{"$f":"IF(Matematicas!AG9=\"\",\"\",Matematicas!AG9)","v":""},{"$f":"IF(Matematicas!AH9=\"\",\"\",Matematicas!AH9)","v":""},{"$f":"IF(Matematicas!AI9=\"\",\"\",Matematicas!AI9)","v":""},{"$f":"IF(Matematicas!AJ9=\"\",\"\",Matematicas!AJ9)","v":""},{"$f":"IF(Matematicas!AK9=\"\",\"\",Matematicas!AK9)","v":""},{"$f":"IF(Matematicas!AL9=\"\",\"\",Matematicas!AL9)","v":""},{"$f":"IF(Matematicas!AM9=\"\",\"\",Matematicas!AM9)","v":""},{"$f":"IF(Matematicas!AN9=\"\",\"\",Matematicas!AN9)","v":""},{"$f":"IF(Matematicas!AO9=\"\",\"\",Matematicas!AO9)","v":""},{"$f":"IF(Matematicas!AP9=\"\",\"\",Matematicas!AP9)","v":""}]
[null,null,"Comp. Esp. 3","Criterio Evaluación 3.1",{"$f":"IF(Matematicas!H10=\"\",\"\",Matematicas!H10)","v":""},{"$f":"IF(Matematicas!I10=\"\",\"\",Matematicas!I10)","v":""},{"$f":"IF(Matematicas!J10=\"\",\"\",Matematicas!J10)","v":""},{"$f":"IF(Matematicas!K10=\"\",\"\",Matematicas!K10)","v":""},{"$f":"IF(Matematicas!L10=\"\",\"\",Matematicas!L10)","v":""},{"$f":"IF(Matematicas!M10=\"\",\"\",Matematicas!M10)","v":""},{"$f":"IF(Matematicas!N10=\"\",\"\",Matematicas!N10)","v":""},{"$f":"IF(Matematicas!O10=\"\",\"\",Matematicas!O10)","v":""},{"$f":"IF(Matematicas!P10=\"\",\"\",Matematicas!P10)","v":""},{"$f":"IF(Matematicas!Q10=\"\",\"\",Matematicas!Q10)","v":""},{"$f":"IF(Matematicas!R10=\"\",\"\",Matematicas!R10)","v":""},{"$f":"IF(Matematicas!S10=\"\",\"\",Matematicas!S10)","v":""},{"$f":"IF(Matematicas!T10=\"\",\"\",Matematicas!T10)","v":""},{"$f":"IF(Matematicas!U10=\"\",\"\",Matematicas!U10)","v":""},{"$f":"IF(Matematicas!V10=\"\",\"\",Matematicas!V10)","v":""},{"$f":"IF(Matematicas!W10=\"\",\"\",Matematicas!W10)","v":""},{"$f":"IF(Matematicas!X10=\"\",\"\",Matematicas!X10)","v":""},{"$f":"IF(Matematicas!Y10=\"\",\"\",Matematicas!Y10)","v":""},{"$f":"IF(Matematicas!Z10=\"\",\"\",Matematicas!Z10)","v":""},{"$f":"IF(Matematicas!AA10=\"\",\"\",Matematicas!AA10)","v":""},{"$f":"IF(Matematicas!AB10=\"\",\"\",Matematicas!AB10)","v":""},{"$f":"IF(Matematicas!AC10=\"\",\"\",Matematicas!AC10)","v":""},{"$f":"IF(Matematicas!AD10=\"\",\"\",Matematicas!AD10)","v":""},{"$f":"IF(Matematicas!AE10=\"\",\"\",Matematicas!AE10)","v":""},{"$f":"IF(Matematicas!AF10=\"\",\"\",Matematicas!AF10)","v":""},{"$f":"IF(Matematicas!AG10=\"\",\"\",Matematicas!AG10)","v":""},{"$f":"IF(Matematicas!AH10=\"\",\"\",Matematicas!AH10)","v":""},{"$f":"IF(Matematicas!AI10=\"\",\"\",Matematicas!AI10)","v":""},{"$f":"IF(Matematicas!AJ10=\"\",\"\",Matematicas!AJ10)","v":""},{"$f":"IF(Matematicas!AK10=\"\",\"\",Matematicas!AK10)","v":""},{"$f":"IF(Matematicas!AL10=\"\",\"\",Matematicas!AL10)","v":""},{"$f":"IF(Matematicas!AM10=\"\",\"\",Matematicas!AM10)","v":""},{"$f":"IF(Matematicas!AN10=\"\",\"\",Matematicas!AN10)","v":""},{"$f":"IF(Matematicas!AO10=\"\",\"\",Matematicas!AO10)","v":""},{"$f":"IF(Matematicas!AP10=\"\",\"\",Matematicas!AP10)","v":""}]
[null,null,null,"Criterio Evaluación 3.2",{"$f":"IF(Matematicas!H11=\"\",\"\",Matematicas!H11)","v":""},{"$f":"IF(Matematicas!I11=\"\",\"\",Matematicas!I11)","v":""},{"$f":"IF(Matematicas!J11=\"\",\"\",Matematicas!J11)","v":""},{"$f":"IF(Matematicas!K11=\"\",\"\",Matematicas!K11)","v":""},{"$f":"IF(Matematicas!L11=\"\",\"\",Matematicas!L11)","v":""},{"$f":"IF(Matematicas!M11=\"\",\"\",Matematicas!M11)","v":""},{"$f":"IF(Matematicas!N11=\"\",\"\",Matematicas!N11)","v":""},{"$f":"IF(Matematicas!O11=\"\",\"\",Matematicas!O11)","v":""},{"$f":"IF(Matematicas!P11=\"\",\"\",Matematicas!P11)","v":""},{"$f":"IF(Matematicas!Q11=\"\",\"\",Matematicas!Q11)","v":""},{"$f":"IF(Matematicas!R11=\"\",\"\",Matematicas!R11)","v":""},{"$f":"IF(Matematicas!S11=\"\",\"\",Matematicas!S11)","v":""},{"$f":"IF(Matematicas!T11=\"\",\"\",Matematicas!T11)","v":""},{"$f":"IF(Matematicas!U11=\"\",\"\",Matematicas!U11)","v":""},{"$f":"IF(Matematicas!V11=\"\",\"\",Matematicas!V11)","v":""},{"$f":"IF(Matematicas!W11=\"\",\"\",Matematicas!W11)","v":""},{"$f":"IF(Matematicas!X11=\"\",\"\",Matematicas!X11)","v":""},{"$f":"IF(Matematicas!Y11=\"\",\"\",Matematicas!Y11)","v":""},{"$f":"IF(Matematicas!Z11=\"\",\"\",Matematicas!Z11)","v":""},{"$f":"IF(Matematicas!AA11=\"\",\"\",Matematicas!AA11)","v":""},{"$f":"IF(Matematicas!AB11=\"\",\"\",Matematicas!AB11)","v":""},{"$f":"IF(Matematicas!AC11=\"\",\"\",Matematicas!AC11)","v":""},{"$f":"IF(Matematicas!AD11=\"\",\"\",Matematicas!AD11)","v":""},{"$f":"IF(Matematicas!AE11=\"\",\"\",Matematicas!AE11)","v":""},{"$f":"IF(Matematicas!AF11=\"\",\"\",Matematicas!AF11)","v":""},{"$f":"IF(Matematicas!AG11=\"\",\"\",Matematicas!AG11)","v":""},{"$f":"IF(Matematicas!AH11=\"\",\"\",Matematicas!AH11)","v":""},{"$f":"IF(Matematicas!AI11=\"\",\"\",Matematicas!AI11)","v":""},{"$f":"IF(Matematicas!AJ11=\"\",\"\",Matematicas!AJ11)","v":""},{"$f":"IF(Matematicas!AK11=\"\",\"\",Matematicas!AK11)","v":""},{"$f":"IF(Matematicas!AL11=\"\",\"\",Matematicas!AL11)","v":""},{"$f":"IF(Matematicas!AM11=\"\",\"\",Matematicas!AM11)","v":""},{"$f":"IF(Matematicas!AN11=\"\",\"\",Matematicas!AN11)","v":""},{"$f":"IF(Matematicas!AO11=\"\",\"\",Matematicas!AO11)","v":""},{"$f":"IF(Matematicas!AP11=\"\",\"\",Matematicas!AP11)","v":""}]
[null,null,"Comp. Esp. 4","Criterio Evaluación 4.1",{"$f":"IF(Matematicas!H12=\"\",\"\",Matematicas!H12)","v":""},{"$f":"IF(Matematicas!I12=\"\",\"\",Matematicas!I12)","v":""},{"$f":"IF(Matematicas!J12=\"\",\"\",Matematicas!J12)","v":""},{"$f":"IF(Matematicas!K12=\"\",\"\",Matematicas!K12)","v":""},{"$f":"IF(Matematicas!L12=\"\",\"\",Matematicas!L12)","v":""},{"$f":"IF(Matematicas!M12=\"\",\"\",Matematicas!M12)","v":""},{"$f":"IF(Matematicas!N12=\"\",\"\",Matematicas!N12)","v":""},{"$f":"IF(Matematicas!O12=\"\",\"\",Matematicas!O12)","v":""},{"$f":"IF(Matematicas!P12=\"\",\"\",Matematicas!P12)","v":""},{"$f":"IF(Matematicas!Q12=\"\",\"\",Matematicas!Q12)","v":""},{"$f":"IF(Matematicas!R12=\"\",\"\",Matematicas!R12)","v":""},{"$f":"IF(Matematicas!S12=\"\",\"\",Matematicas!S12)","v":""},{"$f":"IF(Matematicas!T12=\"\",\"\",Matematicas!T12)","v":""},{"$f":"IF(Matematicas!U12=\"\",\"\",Matematicas!U12)","v":""},{"$f":"IF(Matematicas!V12=\"\",\"\",Matematicas!V12)","v":""},{"$f":"IF(Matematicas!W12=\"\",\"\",Matematicas!W12)","v":""},{"$f":"IF(Matematicas!X12=\"\",\"\",Matematicas!X12)","v":""},{"$f":"IF(Matematicas!Y12=\"\",\"\",Matematicas!Y12)","v":""},{"$f":"IF(Matematicas!Z12=\"\",\"\",Matematicas!Z12)","v":""},{"$f":"IF(Matematicas!AA12=\"\",\"\",Matematicas!AA12)","v":""},{"$f":"IF(Matematicas!AB12=\"\",\"\",Matematicas!AB12)","v":""},{"$f":"IF(Matematicas!AC12=\"\",\"\",Matematicas!AC12)","v":""},{"$f":"IF(Matematicas!AD12=\"\",\"\",Matematicas!AD12)","v":""},{"$f":"IF(Matematicas!AE12=\"\",\"\",Matematicas!AE12)","v":""},{"$f":"IF(Matematicas!AF12=\"\",\"\",Matematicas!AF12)","v":""},{"$f":"IF(Matematicas!AG12=\"\",\"\",Matematicas!AG12)","v":""},{"$f":"IF(Matematicas!AH12=\"\",\"\",Matematicas!AH12)","v":""},{"$f":"IF(Matematicas!AI12=\"\",\"\",Matematicas!AI12)","v":""},{"$f":"IF(Matematicas!AJ12=\"\",\"\",Matematicas!AJ12)","v":""},{"$f":"IF(Matematicas!AK12=\"\",\"\",Matematicas!AK12)","v":""},{"$f":"IF(Matematicas!AL12=\"\",\"\",Matematicas!AL12)","v":""},{"$f":"IF(Matematicas!AM12=\"\",\"\",Matematicas!AM12)","v":""},{"$f":"IF(Matematicas!AN12=\"\",\"\",Matematicas!AN12)","v":""},{"$f":"IF(Matematicas!AO12=\"\",\"\",Matematicas!AO12)","v":""},{"$f":"IF(Matematicas!AP12=\"\",\"\",Matematicas!AP12)","v":""}]
[null,null,null,"Criterio Evaluación 4.2",{"$f":"IF(Matematicas!H13=\"\",\"\",Matematicas!H13)","v":""},{"$f":"IF(Matematicas!I13=\"\",\"\",Matematicas!I13)","v":""},{"$f":"IF(Matematicas!J13=\"\",\"\",Matematicas!J13)","v":""},{"$f":"IF(Matematicas!K13=\"\",\"\",Matematicas!K13)","v":""},{"$f":"IF(Matematicas!L13=\"\",\"\",Matematicas!L13)","v":""},{"$f":"IF(Matematicas!M13=\"\",\"\",Matematicas!M13)","v":""},{"$f":"IF(Matematicas!N13=\"\",\"\",Matematicas!N13)","v":""},{"$f":"IF(Matematicas!O13=\"\",\"\",Matematicas!O13)","v":""},{"$f":"IF(Matematicas!P13=\"\",\"\",Matematicas!P13)","v":""},{"$f":"IF(Matematicas!Q13=\"\",\"\",Matematicas!Q13)","v":""},{"$f":"IF(Matematicas!R13=\"\",\"\",Matematicas!R13)","v":""},{"$f":"IF(Matematicas!S13=\"\",\"\",Matematicas!S13)","v":""},{"$f":"IF(Matematicas!T13=\"\",\"\",Matematicas!T13)","v":""},{"$f":"IF(Matematicas!U13=\"\",\"\",Matematicas!U13)","v":""},{"$f":"IF(Matematicas!V13=\"\",\"\",Matematicas!V13)","v":""},{"$f":"IF(Matematicas!W13=\"\",\"\",Matematicas!W13)","v":""},{"$f":"IF(Matematicas!X13=\"\",\"\",Matematicas!X13)","v":""},{"$f":"IF(Matematicas!Y13=\"\",\"\",Matematicas!Y13)","v":""},{"$f":"IF(Matematicas!Z13=\"\",\"\",Matematicas!Z13)","v":""},{"$f":"IF(Matematicas!AA13=\"\",\"\",Matematicas!AA13)","v":""},{"$f":"IF(Matematicas!AB13=\"\",\"\",Matematicas!AB13)","v":""},{"$f":"IF(Matematicas!AC13=\"\",\"\",Matematicas!AC13)","v":""},{"$f":"IF(Matematicas!AD13=\"\",\"\",Matematicas!AD13)","v":""},{"$f":"IF(Matematicas!AE13=\"\",\"\",Matematicas!AE13)","v":""},{"$f":"IF(Matematicas!AF13=\"\",\"\",Matematicas!AF13)","v":""},{"$f":"IF(Matematicas!AG13=\"\",\"\",Matematicas!AG13)","v":""},{"$f":"IF(Matematicas!AH13=\"\",\"\",Matematicas!AH13)","v":""},{"$f":"IF(Matematicas!AI13=\"\",\"\",Matematicas!AI13)","v":""},{"$f":"IF(Matematicas!AJ13=\"\",\"\",Matematicas!AJ13)","v":""},{"$f":"IF(Matematicas!AK13=\"\",\"\",Matematicas!AK13)","v":""},{"$f":"IF(Matematicas!AL13=\"\",\"\",Matematicas!AL13)","v":""},{"$f":"IF(Matematicas!AM13=\"\",\"\",Matematicas!AM13)","v":""},{"$f":"IF(Matematicas!AN13=\"\",\"\",Matematicas!AN13)","v":""},{"$f":"IF(Matematicas!AO13=\"\",\"\",Matematicas!AO13)","v":""},{"$f":"IF(Matematicas!AP13=\"\",\"\",Matematicas!AP13)","v":""}]
[null,null,"Comp. Esp. 5","Criterio Evaluación 5.1",{"$f":"IF(Matematicas!H14=\"\",\"\",Matematicas!H14)","v":""},{"$f":"IF(Matematicas!I14=\"\",\"\",Matematicas!I14)","v":""},{"$f":"IF(Matematicas!J14=\"\",\"\",Matematicas!J14)","v":""},{"$f":"IF(Matematicas!K14=\"\",\"\",Matematicas!K14)","v":""},{"$f":"IF(Matematicas!L14=\"\",\"\",Matematicas!L14)","v":""},{"$f":"IF(Matematicas!M14=\"\",\"\",Matematicas!M14)","v":""},{"$f":"IF(Matematicas!N14=\"\",\"\",Matematicas!N14)","v":""},{"$f":"IF(Matematicas!O14=\"\",\"\",Matematicas!O14)","v":""},{"$f":"IF(Matematicas!P14=\"\",\"\",Matematicas!P14)","v":""},{"$f":"IF(Matematicas!Q14=\"\",\"\",Matematicas!Q14)","v":""},{"$f":"IF(Matematicas!R14=\"\",\"\",Matematicas!R14)","v":""},{"$f":"IF(Matematicas!S14=\"\",\"\",Matematicas!S14)","v":""},{"$f":"IF(Matematicas!T14=\"\",\"\",Matematicas!T14)","v":""},{"$f":"IF(Matematicas!U14=\"\",\"\",Matematicas!U14)","v":""},{"$f":"IF(Matematicas!V14=\"\",\"\",Matematicas!V14)","v":""},{"$f":"IF(Matematicas!W14=\"\",\"\",Matematicas!W14)","v":""},{"$f":"IF(Matematicas!X14=\"\",\"\",Matematicas!X14)","v":""},{"$f":"IF(Matematicas!Y14=\"\",\"\",Matematicas!Y14)","v":""},{"$f":"IF(Matematicas!Z14=\"\",\"\",Matematicas!Z14)","v":""},{"$f":"IF(Matematicas!AA14=\"\",\"\",Matematicas!AA14)","v":""},{"$f":"IF(Matematicas!AB14=\"\",\"\",Matematicas!AB14)","v":""},{"$f":"IF(Matematicas!AC14=\"\",\"\",Matematicas!AC14)","v":""},{"$f":"IF(Matematicas!AD14=\"\",\"\",Matematicas!AD14)","v":""},{"$f":"IF(Matematicas!AE14=\"\",\"\",Matematicas!AE14)","v":""},{"$f":"IF(Matematicas!AF14=\"\",\"\",Matematicas!AF14)","v":""},{"$f":"IF(Matematicas!AG14=\"\",\"\",Matematicas!AG14)","v":""},{"$f":"IF(Matematicas!AH14=\"\",\"\",Matematicas!AH14)","v":""},{"$f":"IF(Matematicas!AI14=\"\",\"\",Matematicas!AI14)","v":""},{"$f":"IF(Matematicas!AJ14=\"\",\"\",Matematicas!AJ14)","v":""},{"$f":"IF(Matematicas!AK14=\"\",\"\",Matematicas!AK14)","v":""},{"$f":"IF(Matematicas!AL14=\"\",\"\",Matematicas!AL14)","v":""},{"$f":"IF(Matematicas!AM14=\"\",\"\",Matematicas!AM14)","v":""},{"$f":"IF(Matematicas!AN14=\"\",\"\",Matematicas!AN14)","v":""},{"$f":"IF(Matematicas!AO14=\"\",\"\",Matematicas!AO14)","v":""},{"$f":"IF(Matematicas!AP14=\"\",\"\",Matematicas!AP14)","v":""}]
[null,null,null,"Criterio Evaluación 5.2",{"$f":"IF(Matematicas!H15=\"\",\"\",Matematicas!H15)","v":""},{"$f":"IF(Matematicas!I15=\"\",\"\",Matematicas!I15)","v":""},{"$f":"IF(Matematicas!J15=\"\",\"\",Matematicas!J15)","v":""},{"$f":"IF(Matematicas!K15=\"\",\"\",Matematicas!K15)","v":""},{"$f":"IF(Matematicas!L15=\"\",\"\",Matematicas!L15)","v":""},{"$f":"IF(Matematicas!M15=\"\",\"\",Matematicas!M15)","v":""},{"$f":"IF(Matematicas!N15=\"\",\"\",Matematicas!N15)","v":""},{"$f":"IF(Matematicas!O15=\"\",\"\",Matematicas!O15)","v":""},{"$f":"IF(Matematicas!P15=\"\",\"\",Matematicas!P15)","v":""},{"$f":"IF(Matematicas!Q15=\"\",\"\",Matematicas!Q15)","v":""},{"$f":"IF(Matematicas!R15=\"\",\"\",Matematicas!R15)","v":""},{"$f":"IF(Matematicas!S15=\"\",\"\",Matematicas!S15)","v":""},{"$f":"IF(Matematicas!T15=\"\",\"\",Matematicas!T15)","v":""},{"$f":"IF(Matematicas!U15=\"\",\"\",Matematicas!U15)","v":""},{"$f":"IF(Matematicas!V15=\"\",\"\",Matematicas!V15)","v":""},{"$f":"IF(Matematicas!W15=\"\",\"\",Matematicas!W15)","v":""},{"$f":"IF(Matematicas!X15=\"\",\"\",Matematicas!X15)","v":""},{"$f":"IF(Matematicas!Y15=\"\",\"\",Matematicas!Y15)","v":""},{"$f":"IF(Matematicas!Z15=\"\",\"\",Matematicas!Z15)","v":""},{"$f":"IF(Matematicas!AA15=\"\",\"\",Matematicas!AA15)","v":""},{"$f":"IF(Matematicas!AB15=\"\",\"\",Matematicas!AB15)","v":""},{"$f":"IF(Matematicas!AC15=\"\",\"\",Matematicas!AC15)","v":""},{"$f":"IF(Matematicas!AD15=\"\",\"\",Matematicas!AD15)","v":""},{"$f":"IF(Matematicas!AE15=\"\",\"\",Matematicas!AE15)","v":""},{"$f":"IF(Matematicas!AF15=\"\",\"\",Matematicas!AF15)","v":""},{"$f":"IF(Matematicas!AG15=\"\",\"\",Matematicas!AG15)","v":""},{"$f":"IF(Matematicas!AH15=\"\",\"\",Matematicas!AH15)","v":""},{"$f":"IF(Matematicas!AI15=\"\",\"\",Matematicas!AI15)","v":""},{"$f":"IF(Matematicas!AJ15=\"\",\"\",Matematicas!AJ15)","v":""},{"$f":"IF(Matematicas!AK15=\"\",\"\",Matematicas!AK15)","v":""},{"$f":"IF(Matematicas!AL15=\"\",\"\",Matematicas!AL15)","v":""},{"$f":"IF(Matematicas!AM15=\"\",\"\",Matematicas!AM15)","v":""},{"$f":"IF(Matematicas!AN15=\"\",\"\",Matematicas!AN15)","v":""},{"$f":"IF(Matematicas!AO15=\"\",\"\",Matematicas!AO15)","v":""},{"$f":"IF(Matematicas!AP15=\"\",\"\",Matematicas!AP15)","v":""}]
[null,null,"Comp. Esp. 6","Criterio Evaluación 6.1",{"$f":"IF(Matematicas!H16=\"\",\"\",Matematicas!H16)","v":""},{"$f":"IF(Matematicas!I16=\"\",\"\",Matematicas!I16)","v":""},{"$f":"IF(Matematicas!J16=\"\",\"\",Matematicas!J16)","v":""},{"$f":"IF(Matematicas!K16=\"\",\"\",Matematicas!K16)","v":""},{"$f":"IF(Matematicas!L16=\"\",\"\",Matematicas!L16)","v":""},{"$f":"IF(Matematicas!M16=\"\",\"\",Matematicas!M16)","v":""},{"$f":"IF(Matematicas!N16=\"\",\"\",Matematicas!N16)","v":""},{"$f":"IF(Matematicas!O16=\"\",\"\",Matematicas!O16)","v":""},{"$f":"IF(Matematicas!P16=\"\",\"\",Matematicas!P16)","v":""},{"$f":"IF(Matematicas!Q16=\"\",\"\",Matematicas!Q16)","v":""},{"$f":"IF(Matematicas!R16=\"\",\"\",Matematicas!R16)","v":""},{"$f":"IF(Matematicas!S16=\"\",\"\",Matematicas!S16)","v":""},{"$f":"IF(Matematicas!T16=\"\",\"\",Matematicas!T16)","v":""},{"$f":"IF(Matematicas!U16=\"\",\"\",Matematicas!U16)","v":""},{"$f":"IF(Matematicas!V16=\"\",\"\",Matematicas!V16)","v":""},{"$f":"IF(Matematicas!W16=\"\",\"\",Matematicas!W16)","v":""},{"$f":"IF(Matematicas!X16=\"\",\"\",Matematicas!X16)","v":""},{"$f":"IF(Matematicas!Y16=\"\",\"\",Matematicas!Y16)","v":""},{"$f":"IF(Matematicas!Z16=\"\",\"\",Matematicas!Z16)","v":""},{"$f":"IF(Matematicas!AA16=\"\",\"\",Matematicas!AA16)","v":""},{"$f":"IF(Matematicas!AB16=\"\",\"\",Matematicas!AB16)","v":""},{"$f":"IF(Matematicas!AC16=\"\",\"\",Matematicas!AC16)","v":""},{"$f":"IF(Matematicas!AD16=\"\",\"\",Matematicas!AD16)","v":""},{"$f":"IF(Matematicas!AE16=\"\",\"\",Matematicas!AE16)","v":""},{"$f":"IF(Matematicas!AF16=\"\",\"\",Matematicas!AF16)","v":""},{"$f":"IF(Matematicas!AG16=\"\",\"\",Matematicas!AG16)","v":""},{"$f":"IF(Matematicas!AH16=\"\",\"\",Matematicas!AH16)","v":""},{"$f":"IF(Matematicas!AI16=\"\",\"\",Matematicas!AI16)","v":""},{"$f":"IF(Matematicas!AJ16=\"\",\"\",Matematicas!AJ16)","v":""},{"$f":"IF(Matematicas!AK16=\"\",\"\",Matematicas!AK16)","v":""},{"$f":"IF(Matematicas!AL16=\"\",\"\",Matematicas!AL16)","v":""},{"$f":"IF(Matematicas!AM16=\"\",\"\",Matematicas!AM16)","v":""},{"$f":"IF(Matematicas!AN16=\"\",\"\",Matematicas!AN16)","v":""},{"$f":"IF(Matematicas!AO16=\"\",\"\",Matematicas!AO16)","v":""},{"$f":"IF(Matematicas!AP16=\"\",\"\",Matematicas!AP16)","v":""}]
[null,null,null,"Criterio Evaluación 6.2",{"$f":"IF(Matematicas!H17=\"\",\"\",Matematicas!H17)","v":""},{"$f":"IF(Matematicas!I17=\"\",\"\",Matematicas!I17)","v":""},{"$f":"IF(Matematicas!J17=\"\",\"\",Matematicas!J17)","v":""},{"$f":"IF(Matematicas!K17=\"\",\"\",Matematicas!K17)","v":""},{"$f":"IF(Matematicas!L17=\"\",\"\",Matematicas!L17)","v":""},{"$f":"IF(Matematicas!M17=\"\",\"\",Matematicas!M17)","v":""},{"$f":"IF(Matematicas!N17=\"\",\"\",Matematicas!N17)","v":""},{"$f":"IF(Matematicas!O17=\"\",\"\",Matematicas!O17)","v":""},{"$f":"IF(Matematicas!P17=\"\",\"\",Matematicas!P17)","v":""},{"$f":"IF(Matematicas!Q17=\"\",\"\",Matematicas!Q17)","v":""},{"$f":"IF(Matematicas!R17=\"\",\"\",Matematicas!R17)","v":""},{"$f":"IF(Matematicas!S17=\"\",\"\",Matematicas!S17)","v":""},{"$f":"IF(Matematicas!T17=\"\",\"\",Matematicas!T17)","v":""},{"$f":"IF(Matematicas!U17=\"\",\"\",Matematicas!U17)","v":""},{"$f":"IF(Matematicas!V17=\"\",\"\",Matematicas!V17)","v":""},{"$f":"IF(Matematicas!W17=\"\",\"\",Matematicas!W17)","v":""},{"$f":"IF(Matematicas!X17=\"\",\"\",Matematicas!X17)","v":""},{"$f":"IF(Matematicas!Y17=\"\",\"\",Matematicas!Y17)","v":""},{"$f":"IF(Matematicas!Z17=\"\",\"\",Matematicas!Z17)","v":""},{"$f":"IF(Matematicas!AA17=\"\",\"\",Matematicas!AA17)","v":""},{"$f":"IF(Matematicas!AB17=\"\",\"\",Matematicas!AB17)","v":""},{"$f":"IF(Matematicas!AC17=\"\",\"\",Matematicas!AC17)","v":""},{"$f":"IF(Matematicas!AD17=\"\",\"\",Matematicas!AD17)","v":""},{"$f":"IF(Matematicas!AE17=\"\",\"\",Matematicas!AE17)","v":""},{"$f":"IF(Matematicas!AF17=\"\",\"\",Matematicas!AF17)","v":""},{"$f":"IF(Matematicas!AG17=\"\",\"\",Matematicas!AG17)","v":""},{"$f":"IF(Matematicas!AH17=\"\",\"\",Matematicas!AH17)","v":""},{"$f":"IF(Matematicas!AI17=\"\",\"\",Matematicas!AI17)","v":""},{"$f":"IF(Matematicas!AJ17=\"\",\"\",Matematicas!AJ17)","v":""},{"$f":"IF(Matematicas!AK17=\"\",\"\",Matematicas!AK17)","v":""},{"$f":"IF(Matematicas!AL17=\"\",\"\",Matematicas!AL17)","v":""},{"$f":"IF(Matematicas!AM17=\"\",\"\",Matematicas!AM17)","v":""},{"$f":"IF(Matematicas!AN17=\"\",\"\",Matematicas!AN17)","v":""},{"$f":"IF(Matematicas!AO17=\"\",\"\",Matematicas!AO17)","v":""},{"$f":"IF(Matematicas!AP17=\"\",\"\",Matematicas!AP17)","v":""}]
[null,null,"Comp. Esp. 7","Criterio Evaluación 7.1",{"$f":"IF(Matematicas!H18=\"\",\"\",Matematicas!H18)","v":""},{"$f":"IF(Matematicas!I18=\"\",\"\",Matematicas!I18)","v":""},{"$f":"IF(Matematicas!J18=\"\",\"\",Matematicas!J18)","v":""},{"$f":"IF(Matematicas!K18=\"\",\"\",Matematicas!K18)","v":""},{"$f":"IF(Matematicas!L18=\"\",\"\",Matematicas!L18)","v":""},{"$f":"IF(Matematicas!M18=\"\",\"\",Matematicas!M18)","v":""},{"$f":"IF(Matematicas!N18=\"\",\"\",Matematicas!N18)","v":""},{"$f":"IF(Matematicas!O18=\"\",\"\",Matematicas!O18)","v":""},{"$f":"IF(Matematicas!P18=\"\",\"\",Matematicas!P18)","v":""},{"$f":"IF(Matematicas!Q18=\"\",\"\",Matematicas!Q18)","v":""},{"$f":"IF(Matematicas!R18=\"\",\"\",Matematicas!R18)","v":""},{"$f":"IF(Matematicas!S18=\"\",\"\",Matematicas!S18)","v":""},{"$f":"IF(Matematicas!T18=\"\",\"\",Matematicas!T18)","v":""},{"$f":"IF(Matematicas!U18=\"\",\"\",Matematicas!U18)","v":""},{"$f":"IF(Matematicas!V18=\"\",\"\",Matematicas!V18)","v":""},{"$f":"IF(Matematicas!W18=\"\",\"\",Matematicas!W18)","v":""},{"$f":"IF(Matematicas!X18=\"\",\"\",Matematicas!X18)","v":""},{"$f":"IF(Matematicas!Y18=\"\",\"\",Matematicas!Y18)","v":""},{"$f":"IF(Matematicas!Z18=\"\",\"\",Matematicas!Z18)","v":""},{"$f":"IF(Matematicas!AA18=\"\",\"\",Matematicas!AA18)","v":""},{"$f":"IF(Matematicas!AB18=\"\",\"\",Matematicas!AB18)","v":""},{"$f":"IF(Matematicas!AC18=\"\",\"\",Matematicas!AC18)","v":""},{"$f":"IF(Matematicas!AD18=\"\",\"\",Matematicas!AD18)","v":""},{"$f":"IF(Matematicas!AE18=\"\",\"\",Matematicas!AE18)","v":""},{"$f":"IF(Matematicas!AF18=\"\",\"\",Matematicas!AF18)","v":""},{"$f":"IF(Matematicas!AG18=\"\",\"\",Matematicas!AG18)","v":""},{"$f":"IF(Matematicas!AH18=\"\",\"\",Matematicas!AH18)","v":""},{"$f":"IF(Matematicas!AI18=\"\",\"\",Matematicas!AI18)","v":""},{"$f":"IF(Matematicas!AJ18=\"\",\"\",Matematicas!AJ18)","v":""},{"$f":"IF(Matematicas!AK18=\"\",\"\",Matematicas!AK18)","v":""},{"$f":"IF(Matematicas!AL18=\"\",\"\",Matematicas!AL18)","v":""},{"$f":"IF(Matematicas!AM18=\"\",\"\",Matematicas!AM18)","v":""},{"$f":"IF(Matematicas!AN18=\"\",\"\",Matematicas!AN18)","v":""},{"$f":"IF(Matematicas!AO18=\"\",\"\",Matematicas!AO18)","v":""},{"$f":"IF(Matematicas!AP18=\"\",\"\",Matematicas!AP18)","v":""}]
[null,null,null,"Criterio Evaluación 7.2",{"$f":"IF(Matematicas!H19=\"\",\"\",Matematicas!H19)","v":""},{"$f":"IF(Matematicas!I19=\"\",\"\",Matematicas!I19)","v":""},{"$f":"IF(Matematicas!J19=\"\",\"\",Matematicas!J19)","v":""},{"$f":"IF(Matematicas!K19=\"\",\"\",Matematicas!K19)","v":""},{"$f":"IF(Matematicas!L19=\"\",\"\",Matematicas!L19)","v":""},{"$f":"IF(Matematicas!M19=\"\",\"\",Matematicas!M19)","v":""},{"$f":"IF(Matematicas!N19=\"\",\"\",Matematicas!N19)","v":""},{"$f":"IF(Matematicas!O19=\"\",\"\",Matematicas!O19)","v":""},{"$f":"IF(Matematicas!P19=\"\",\"\",Matematicas!P19)","v":""},{"$f":"IF(Matematicas!Q19=\"\",\"\",Matematicas!Q19)","v":""},{"$f":"IF(Matematicas!R19=\"\",\"\",Matematicas!R19)","v":""},{"$f":"IF(Matematicas!S19=\"\",\"\",Matematicas!S19)","v":""},{"$f":"IF(Matematicas!T19=\"\",\"\",Matematicas!T19)","v":""},{"$f":"IF(Matematicas!U19=\"\",\"\",Matematicas!U19)","v":""},{"$f":"IF(Matematicas!V19=\"\",\"\",Matematicas!V19)","v":""},{"$f":"IF(Matematicas!W19=\"\",\"\",Matematicas!W19)","v":""},{"$f":"IF(Matematicas!X19=\"\",\"\",Matematicas!X19)","v":""},{"$f":"IF(Matematicas!Y19=\"\",\"\",Matematicas!Y19)","v":""},{"$f":"IF(Matematicas!Z19=\"\",\"\",Matematicas!Z19)","v":""},{"$f":"IF(Matematicas!AA19=\"\",\"\",Matematicas!AA19)","v":""},{"$f":"IF(Matematicas!AB19=\"\",\"\",Matematicas!AB19)","v":""},{"$f":"IF(Matematicas!AC19=\"\",\"\",Matematicas!AC19)","v":""},{"$f":"IF(Matematicas!AD19=\"\",\"\",Matematicas!AD19)","v":""},{"$f":"IF(Matematicas!AE19=\"\",\"\",Matematicas!AE19)","v":""},{"$f":"IF(Matematicas!AF19=\"\",\"\",Matematicas!AF19)","v":""},{"$f":"IF(Matematicas!AG19=\"\",\"\",Matematicas!AG19)","v":""},{"$f":"IF(Matematicas!AH19=\"\",\"\",Matematicas!AH19)","v":""},{"$f":"IF(Matematicas!AI19=\"\",\"\",Matematicas!AI19)","v":""},{"$f":"IF(Matematicas!AJ19=\"\",\"\",Matematicas!AJ19)","v":""},{"$f":"IF(Matematicas!AK19=\"\",\"\",Matematicas!AK19)","v":""},{"$f":"IF(Matematicas!AL19=\"\",\"\",Matematicas!AL19)","v":""},{"$f":"IF(Matematicas!AM19=\"\",\"\",Matematicas!AM19)","v":""},{"$f":"IF(Matematicas!AN19=\"\",\"\",Matematicas!AN19)","v":""},{"$f":"IF(Matematicas!AO19=\"\",\"\",Matematicas!AO19)","v":""},{"$f":"IF(Matematicas!AP19=\"\",\"\",Matematicas!AP19)","v":""}]
[null,null,"Comp. Esp. 8","Criterio Evaluación 8.1",{"$f":"IF(Matematicas!H20=\"\",\"\",Matematicas!H20)","v":""},{"$f":"IF(Matematicas!I20=\"\",\"\",Matematicas!I20)","v":""},{"$f":"IF(Matematicas!J20=\"\",\"\",Matematicas!J20)","v":""},{"$f":"IF(Matematicas!K20=\"\",\"\",Matematicas!K20)","v":""},{"$f":"IF(Matematicas!L20=\"\",\"\",Matematicas!L20)","v":""},{"$f":"IF(Matematicas!M20=\"\",\"\",Matematicas!M20)","v":""},{"$f":"IF(Matematicas!N20=\"\",\"\",Matematicas!N20)","v":""},{"$f":"IF(Matematicas!O20=\"\",\"\",Matematicas!O20)","v":""},{"$f":"IF(Matematicas!P20=\"\",\"\",Matematicas!P20)","v":""},{"$f":"IF(Matematicas!Q20=\"\",\"\",Matematicas!Q20)","v":""},{"$f":"IF(Matematicas!R20=\"\",\"\",Matematicas!R20)","v":""},{"$f":"IF(Matematicas!S20=\"\",\"\",Matematicas!S20)","v":""},{"$f":"IF(Matematicas!T20=\"\",\"\",Matematicas!T20)","v":""},{"$f":"IF(Matematicas!U20=\"\",\"\",Matematicas!U20)","v":""},{"$f":"IF(Matematicas!V20=\"\",\"\",Matematicas!V20)","v":""},{"$f":"IF(Matematicas!W20=\"\",\"\",Matematicas!W20)","v":""},{"$f":"IF(Matematicas!X20=\"\",\"\",Matematicas!X20)","v":""},{"$f":"IF(Matematicas!Y20=\"\",\"\",Matematicas!Y20)","v":""},{"$f":"IF(Matematicas!Z20=\"\",\"\",Matematicas!Z20)","v":""},{"$f":"IF(Matematicas!AA20=\"\",\"\",Matematicas!AA20)","v":""},{"$f":"IF(Matematicas!AB20=\"\",\"\",Matematicas!AB20)","v":""},{"$f":"IF(Matematicas!AC20=\"\",\"\",Matematicas!AC20)","v":""},{"$f":"IF(Matematicas!AD20=\"\",\"\",Matematicas!AD20)","v":""},{"$f":"IF(Matematicas!AE20=\"\",\"\",Matematicas!AE20)","v":""},{"$f":"IF(Matematicas!AF20=\"\",\"\",Matematicas!AF20)","v":""},{"$f":"IF(Matematicas!AG20=\"\",\"\",Matematicas!AG20)","v":""},{"$f":"IF(Matematicas!AH20=\"\",\"\",Matematicas!AH20)","v":""},{"$f":"IF(Matematicas!AI20=\"\",\"\",Matematicas!AI20)","v":""},{"$f":"IF(Matematicas!AJ20=\"\",\"\",Matematicas!AJ20)","v":""},{"$f":"IF(Matematicas!AK20=\"\",\"\",Matematicas!AK20)","v":""},{"$f":"IF(Matematicas!AL20=\"\",\"\",Matematicas!AL20)","v":""},{"$f":"IF(Matematicas!AM20=\"\",\"\",Matematicas!AM20)","v":""},{"$f":"IF(Matematicas!AN20=\"\",\"\",Matematicas!AN20)","v":""},{"$f":"IF(Matematicas!AO20=\"\",\"\",Matematicas!AO20)","v":""},{"$f":"IF(Matematicas!AP20=\"\",\"\",Matematicas!AP20)","v":""}]
[null,null,null,"Criterio Evaluación 8.2",{"$f":"IF(Matematicas!H21=\"\",\"\",Matematicas!H21)","v":""},{"$f":"IF(Matematicas!I21=\"\",\"\",Matematicas!I21)","v":""},{"$f":"IF(Matematicas!J21=\"\",\"\",Matematicas!J21)","v":""},{"$f":"IF(Matematicas!K21=\"\",\"\",Matematicas!K21)","v":""},{"$f":"IF(Matematicas!L21=\"\",\"\",Matematicas!L21)","v":""},{"$f":"IF(Matematicas!M21=\"\",\"\",Matematicas!M21)","v":""},{"$f":"IF(Matematicas!N21=\"\",\"\",Matematicas!N21)","v":""},{"$f":"IF(Matematicas!O21=\"\",\"\",Matematicas!O21)","v":""},{"$f":"IF(Matematicas!P21=\"\",\"\",Matematicas!P21)","v":""},{"$f":"IF(Matematicas!Q21=\"\",\"\",Matematicas!Q21)","v":""},{"$f":"IF(Matematicas!R21=\"\",\"\",Matematicas!R21)","v":""},{"$f":"IF(Matematicas!S21=\"\",\"\",Matematicas!S21)","v":""},{"$f":"IF(Matematicas!T21=\"\",\"\",Matematicas!T21)","v":""},{"$f":"IF(Matematicas!U21=\"\",\"\",Matematicas!U21)","v":""},{"$f":"IF(Matematicas!V21=\"\",\"\",Matematicas!V21)","v":""},{"$f":"IF(Matematicas!W21=\"\",\"\",Matematicas!W21)","v":""},{"$f":"IF(Matematicas!X21=\"\",\"\",Matematicas!X21)","v":""},{"$f":"IF(Matematicas!Y21=\"\",\"\",Matematicas!Y21)","v":""},{"$f":"IF(Matematicas!Z21=\"\",\"\",Matematicas!Z21)","v":""},{"$f":"IF(Matematicas!AA21=\"\",\"\",Matematicas!AA21)","v":""},{"$f":"IF(Matematicas!AB21=\"\",\"\",Matematicas!AB21)","v":""},{"$f":"IF(Matematicas!AC21=\"\",\"\",Matematicas!AC21)","v":""},{"$f":"IF(Matematicas!AD21=\"\",\"\",Matematicas!AD21)","v":""},{"$f":"IF(Matematicas!AE21=\"\",\"\",Matematicas!AE21)","v":""},{"$f":"IF(Matematicas!AF21=\"\",\"\",Matematicas!AF21)","v":""},{"$f":"IF(Matematicas!AG21=\"\",\"\",Matematicas!AG21)","v":""},{"$f":"IF(Matematicas!AH21=\"\",\"\",Matematicas!AH21)","v":""},{"$f":"IF(Matematicas!AI21=\"\",\"\",Matematicas!AI21)","v":""},{"$f":"IF(Matematicas!AJ21=\"\",\"\",Matematicas!AJ21)","v":""},{"$f":"IF(Matematicas!AK21=\"\",\"\",Matematicas!AK21)","v":""},{"$f":"IF(Matematicas!AL21=\"\",\"\",Matematicas!AL21)","v":""},{"$f":"IF(Matematicas!AM21=\"\",\"\",Matematicas!AM21)","v":""},{"$f":"IF(Matematicas!AN21=\"\",\"\",Matematicas!AN21)","v":""},{"$f":"IF(Matematicas!AO21=\"\",\"\",Matematicas!AO21)","v":""},{"$f":"IF(Matematicas!AP21=\"\",\"\",Matematicas!AP21)","v":""}]
[null,"Religión","Comp. Esp. 1","Criterio Evaluación 1.1",{"$f":"IF(Religion!H4=\"\",\"\",Religion!H4)","v":""},{"$f":"IF(Religion!I4=\"\",\"\",Religion!I4)","v":""},{"$f":"IF(Religion!J4=\"\",\"\",Religion!J4)","v":""},{"$f":"IF(Religion!K4=\"\",\"\",Religion!K4)","v":""},{"$f":"IF(Religion!L4=\"\",\"\",Religion!L4)","v":""},{"$f":"IF(Religion!M4=\"\",\"\",Religion!M4)","v":""},{"$f":"IF(Religion!N4=\"\",\"\",Religion!N4)","v":""},{"$f":"IF(Religion!O4=\"\",\"\",Religion!O4)","v":""},{"$f":"IF(Religion!P4=\"\",\"\",Religion!P4)","v":""},{"$f":"IF(Religion!Q4=\"\",\"\",Religion!Q4)","v":""},{"$f":"IF(Religion!R4=\"\",\"\",Religion!R4)","v":""},{"$f":"IF(Religion!S4=\"\",\"\",Religion!S4)","v":""},{"$f":"IF(Religion!T4=\"\",\"\",Religion!T4)","v":""},{"$f":"IF(Religion!U4=\"\",\"\",Religion!U4)","v":""},{"$f":"IF(Religion!V4=\"\",\"\",Religion!V4)","v":""},{"$f":"IF(Religion!W4=\"\",\"\",Religion!W4)","v":""},{"$f":"IF(Religion!X4=\"\",\"\",Religion!X4)","v":""},{"$f":"IF(Religion!Y4=\"\",\"\",Religion!Y4)","v":""},{"$f":"IF(Religion!Z4=\"\",\"\",Religion!Z4)","v":""},{"$f":"IF(Religion!AA4=\"\",\"\",Religion!AA4)","v":""},{"$f":"IF(Religion!AB4=\"\",\"\",Religion!AB4)","v":""},{"$f":"IF(Religion!AC4=\"\",\"\",Religion!AC4)","v":""},{"$f":"IF(Religion!AD4=\"\",\"\",Religion!AD4)","v":""},{"$f":"IF(Religion!AE4=\"\",\"\",Religion!AE4)","v":""},{"$f":"IF(Religion!AF4=\"\",\"\",Religion!AF4)","v":""},{"$f":"IF(Religion!AG4=\"\",\"\",Religion!AG4)","v":""},{"$f":"IF(Religion!AH4=\"\",\"\",Religion!AH4)","v":""},{"$f":"IF(Religion!AI4=\"\",\"\",Religion!AI4)","v":""},{"$f":"IF(Religion!AJ4=\"\",\"\",Religion!AJ4)","v":""},{"$f":"IF(Religion!AK4=\"\",\"\",Religion!AK4)","v":""},{"$f":"IF(Religion!AL4=\"\",\"\",Religion!AL4)","v":""},{"$f":"IF(Religion!AM4=\"\",\"\",Religion!AM4)","v":""},{"$f":"IF(Religion!AN4=\"\",\"\",Religion!AN4)","v":""},{"$f":"IF(Religion!AO4=\"\",\"\",Religion!AO4)","v":""},{"$f":"IF(Religion!AP4=\"\",\"\",Religion!AP4)","v":""}]
[null,null,"Comp. Esp. 2","Criterio Evaluación 2.1",{"$f":"IF(Religion!H5=\"\",\"\",Religion!H5)","v":""},{"$f":"IF(Religion!I5=\"\",\"\",Religion!I5)","v":""},{"$f":"IF(Religion!J5=\"\",\"\",Religion!J5)","v":""},{"$f":"IF(Religion!K5=\"\",\"\",Religion!K5)","v":""},{"$f":"IF(Religion!L5=\"\",\"\",Religion!L5)","v":""},{"$f":"IF(Religion!M5=\"\",\"\",Religion!M5)","v":""},{"$f":"IF(Religion!N5=\"\",\"\",Religion!N5)","v":""},{"$f":"IF(Religion!O5=\"\",\"\",Religion!O5)","v":""},{"$f":"IF(Religion!P5=\"\",\"\",Religion!P5)","v":""},{"$f":"IF(Religion!Q5=\"\",\"\",Religion!Q5)","v":""},{"$f":"IF(Religion!R5=\"\",\"\",Religion!R5)","v":""},{"$f":"IF(Religion!S5=\"\",\"\",Religion!S5)","v":""},{"$f":"IF(Religion!T5=\"\",\"\",Religion!T5)","v":""},{"$f":"IF(Religion!U5=\"\",\"\",Religion!U5)","v":""},{"$f":"IF(Religion!V5=\"\",\"\",Religion!V5)","v":""},{"$f":"IF(Religion!W5=\"\",\"\",Religion!W5)","v":""},{"$f":"IF(Religion!X5=\"\",\"\",Religion!X5)","v":""},{"$f":"IF(Religion!Y5=\"\",\"\",Religion!Y5)","v":""},{"$f":"IF(Religion!Z5=\"\",\"\",Religion!Z5)","v":""},{"$f":"IF(Religion!AA5=\"\",\"\",Religion!AA5)","v":""},{"$f":"IF(Religion!AB5=\"\",\"\",Religion!AB5)","v":""},{"$f":"IF(Religion!AC5=\"\",\"\",Religion!AC5)","v":""},{"$f":"IF(Religion!AD5=\"\",\"\",Religion!AD5)","v":""},{"$f":"IF(Religion!AE5=\"\",\"\",Religion!AE5)","v":""},{"$f":"IF(Religion!AF5=\"\",\"\",Religion!AF5)","v":""},{"$f":"IF(Religion!AG5=\"\",\"\",Religion!AG5)","v":""},{"$f":"IF(Religion!AH5=\"\",\"\",Religion!AH5)","v":""},{"$f":"IF(Religion!AI5=\"\",\"\",Religion!AI5)","v":""},{"$f":"IF(Religion!AJ5=\"\",\"\",Religion!AJ5)","v":""},{"$f":"IF(Religion!AK5=\"\",\"\",Religion!AK5)","v":""},{"$f":"IF(Religion!AL5=\"\",\"\",Religion!AL5)","v":""},{"$f":"IF(Religion!AM5=\"\",\"\",Religion!AM5)","v":""},{"$f":"IF(Religion!AN5=\"\",\"\",Religion!AN5)","v":""},{"$f":"IF(Religion!AO5=\"\",\"\",Religion!AO5)","v":""},{"$f":"IF(Religion!AP5=\"\",\"\",Religion!AP5)","v":""}]
[null,null,"Comp. Esp. 3","Criterio Evaluación 3.1",{"$f":"IF(Religion!H6=\"\",\"\",Religion!H6)","v":""},{"$f":"IF(Religion!I6=\"\",\"\",Religion!I6)","v":""},{"$f":"IF(Religion!J6=\"\",\"\",Religion!J6)","v":""},{"$f":"IF(Religion!K6=\"\",\"\",Religion!K6)","v":""},{"$f":"IF(Religion!L6=\"\",\"\",Religion!L6)","v":""},{"$f":"IF(Religion!M6=\"\",\"\",Religion!M6)","v":""},{"$f":"IF(Religion!N6=\"\",\"\",Religion!N6)","v":""},{"$f":"IF(Religion!O6=\"\",\"\",Religion!O6)","v":""},{"$f":"IF(Religion!P6=\"\",\"\",Religion!P6)","v":""},{"$f":"IF(Religion!Q6=\"\",\"\",Religion!Q6)","v":""},{"$f":"IF(Religion!R6=\"\",\"\",Religion!R6)","v":""},{"$f":"IF(Religion!S6=\"\",\"\",Religion!S6)","v":""},{"$f":"IF(Religion!T6=\"\",\"\",Religion!T6)","v":""},{"$f":"IF(Religion!U6=\"\",\"\",Religion!U6)","v":""},{"$f":"IF(Religion!V6=\"\",\"\",Religion!V6)","v":""},{"$f":"IF(Religion!W6=\"\",\"\",Religion!W6)","v":""},{"$f":"IF(Religion!X6=\"\",\"\",Religion!X6)","v":""},{"$f":"IF(Religion!Y6=\"\",\"\",Religion!Y6)","v":""},{"$f":"IF(Religion!Z6=\"\",\"\",Religion!Z6)","v":""},{"$f":"IF(Religion!AA6=\"\",\"\",Religion!AA6)","v":""},{"$f":"IF(Religion!AB6=\"\",\"\",Religion!AB6)","v":""},{"$f":"IF(Religion!AC6=\"\",\"\",Religion!AC6)","v":""},{"$f":"IF(Religion!AD6=\"\",\"\",Religion!AD6)","v":""},{"$f":"IF(Religion!AE6=\"\",\"\",Religion!AE6)","v":""},{"$f":"IF(Religion!AF6=\"\",\"\",Religion!AF6)","v":""},{"$f":"IF(Religion!AG6=\"\",\"\",Religion!AG6)","v":""},{"$f":"IF(Religion!AH6=\"\",\"\",Religion!AH6)","v":""},{"$f":"IF(Religion!AI6=\"\",\"\",Religion!AI6)","v":""},{"$f":"IF(Religion!AJ6=\"\",\"\",Religion!AJ6)","v":""},{"$f":"IF(Religion!AK6=\"\",\"\",Religion!AK6)","v":""},{"$f":"IF(Religion!AL6=\"\",\"\",Religion!AL6)","v":""},{"$f":"IF(Religion!AM6=\"\",\"\",Religion!AM6)","v":""},{"$f":"IF(Religion!AN6=\"\",\"\",Religion!AN6)","v":""},{"$f":"IF(Religion!AO6=\"\",\"\",Religion!AO6)","v":""},{"$f":"IF(Religion!AP6=\"\",\"\",Religion!AP6)","v":""}]
[null,null,"Comp. Esp. 4","Criterio Evaluación 4.1",{"$f":"IF(Religion!H7=\"\",\"\",Religion!H7)","v":""},{"$f":"IF(Religion!I7=\"\",\"\",Religion!I7)","v":""},{"$f":"IF(Religion!J7=\"\",\"\",Religion!J7)","v":""},{"$f":"IF(Religion!K7=\"\",\"\",Religion!K7)","v":""},{"$f":"IF(Religion!L7=\"\",\"\",Religion!L7)","v":""},{"$f":"IF(Religion!M7=\"\",\"\",Religion!M7)","v":""},{"$f":"IF(Religion!N7=\"\",\"\",Religion!N7)","v":""},{"$f":"IF(Religion!O7=\"\",\"\",Religion!O7)","v":""},{"$f":"IF(Religion!P7=\"\",\"\",Religion!P7)","v":""},{"$f":"IF(Religion!Q7=\"\",\"\",Religion!Q7)","v":""},{"$f":"IF(Religion!R7=\"\",\"\",Religion!R7)","v":""},{"$f":"IF(Religion!S7=\"\",\"\",Religion!S7)","v":""},{"$f":"IF(Religion!T7=\"\",\"\",Religion!T7)","v":""},{"$f":"IF(Religion!U7=\"\",\"\",Religion!U7)","v":""},{"$f":"IF(Religion!V7=\"\",\"\",Religion!V7)","v":""},{"$f":"IF(Religion!W7=\"\",\"\",Religion!W7)","v":""},{"$f":"IF(Religion!X7=\"\",\"\",Religion!X7)","v":""},{"$f":"IF(Religion!Y7=\"\",\"\",Religion!Y7)","v":""},{"$f":"IF(Religion!Z7=\"\",\"\",Religion!Z7)","v":""},{"$f":"IF(Religion!AA7=\"\",\"\",Religion!AA7)","v":""},{"$f":"IF(Religion!AB7=\"\",\"\",Religion!AB7)","v":""},{"$f":"IF(Religion!AC7=\"\",\"\",Religion!AC7)","v":""},{"$f":"IF(Religion!AD7=\"\",\"\",Religion!AD7)","v":""},{"$f":"IF(Religion!AE7=\"\",\"\",Religion!AE7)","v":""},{"$f":"IF(Religion!AF7=\"\",\"\",Religion!AF7)","v":""},{"$f":"IF(Religion!AG7=\"\",\"\",Religion!AG7)","v":""},{"$f":"IF(Religion!AH7=\"\",\"\",Religion!AH7)","v":""},{"$f":"IF(Religion!AI7=\"\",\"\",Religion!AI7)","v":""},{"$f":"IF(Religion!AJ7=\"\",\"\",Religion!AJ7)","v":""},{"$f":"IF(Religion!AK7=\"\",\"\",Religion!AK7)","v":""},{"$f":"IF(Religion!AL7=\"\",\"\",Religion!AL7)","v":""},{"$f":"IF(Religion!AM7=\"\",\"\",Religion!AM7)","v":""},{"$f":"IF(Religion!AN7=\"\",\"\",Religion!AN7)","v":""},{"$f":"IF(Religion!AO7=\"\",\"\",Religion!AO7)","v":""},{"$f":"IF(Religion!AP7=\"\",\"\",Religion!AP7)","v":""}]
[null,null,"Comp. Esp. 5","Criterio Evaluación 5.1",{"$f":"IF(Religion!H8=\"\",\"\",Religion!H8)","v":""},{"$f":"IF(Religion!I8=\"\",\"\",Religion!I8)","v":""},{"$f":"IF(Religion!J8=\"\",\"\",Religion!J8)","v":""},{"$f":"IF(Religion!K8=\"\",\"\",Religion!K8)","v":""},{"$f":"IF(Religion!L8=\"\",\"\",Religion!L8)","v":""},{"$f":"IF(Religion!M8=\"\",\"\",Religion!M8)","v":""},{"$f":"IF(Religion!N8=\"\",\"\",Religion!N8)","v":""},{"$f":"IF(Religion!O8=\"\",\"\",Religion!O8)","v":""},{"$f":"IF(Religion!P8=\"\",\"\",Religion!P8)","v":""},{"$f":"IF(Religion!Q8=\"\",\"\",Religion!Q8)","v":""},{"$f":"IF(Religion!R8=\"\",\"\",Religion!R8)","v":""},{"$f":"IF(Religion!S8=\"\",\"\",Religion!S8)","v":""},{"$f":"IF(Religion!T8=\"\",\"\",Religion!T8)","v":""},{"$f":"IF(Religion!U8=\"\",\"\",Religion!U8)","v":""},{"$f":"IF(Religion!V8=\"\",\"\",Religion!V8)","v":""},{"$f":"IF(Religion!W8=\"\",\"\",Religion!W8)","v":""},{"$f":"IF(Religion!X8=\"\",\"\",Religion!X8)","v":""},{"$f":"IF(Religion!Y8=\"\",\"\",Religion!Y8)","v":""},{"$f":"IF(Religion!Z8=\"\",\"\",Religion!Z8)","v":""},{"$f":"IF(Religion!AA8=\"\",\"\",Religion!AA8)","v":""},{"$f":"IF(Religion!AB8=\"\",\"\",Religion!AB8)","v":""},{"$f":"IF(Religion!AC8=\"\",\"\",Religion!AC8)","v":""},{"$f":"IF(Religion!AD8=\"\",\"\",Religion!AD8)","v":""},{"$f":"IF(Religion!AE8=\"\",\"\",Religion!AE8)","v":""},{"$f":"IF(Religion!AF8=\"\",\"\",Religion!AF8)","v":""},{"$f":"IF(Religion!AG8=\"\",\"\",Religion!AG8)","v":""},{"$f":"IF(Religion!AH8=\"\",\"\",Religion!AH8)","v":""},{"$f":"IF(Religion!AI8=\"\",\"\",Religion!AI8)","v":""},{"$f":"IF(Religion!AJ8=\"\",\"\",Religion!AJ8)","v":""},{"$f":"IF(Religion!AK8=\"\",\"\",Religion!AK8)","v":""},{"$f":"IF(Religion!AL8=\"\",\"\",Religion!AL8)","v":""},{"$f":"IF(Religion!AM8=\"\",\"\",Religion!AM8)","v":""},{"$f":"IF(Religion!AN8=\"\",\"\",Religion!AN8)","v":""},{"$f":"IF(Religion!AO8=\"\",\"\",Religion!AO8)","v":""},{"$f":"IF(Religion!AP8=\"\",\"\",Religion!AP8)","v":""}]
[null,null,"Comp. Esp. 6","Criterio Evaluación 6.1",{"$f":"IF(Religion!H9=\"\",\"\",Religion!H9)","v":""},{"$f":"IF(Religion!I9=\"\",\"\",Religion!I9)","v":""},{"$f":"IF(Religion!J9=\"\",\"\",Religion!J9)","v":""},{"$f":"IF(Religion!K9=\"\",\"\",Religion!K9)","v":""},{"$f":"IF(Religion!L9=\"\",\"\",Religion!L9)","v":""},{"$f":"IF(Religion!M9=\"\",\"\",Religion!M9)","v":""},{"$f":"IF(Religion!N9=\"\",\"\",Religion!N9)","v":""},{"$f":"IF(Religion!O9=\"\",\"\",Religion!O9)","v":""},{"$f":"IF(Religion!P9=\"\",\"\",Religion!P9)","v":""},{"$f":"IF(Religion!Q9=\"\",\"\",Religion!Q9)","v":""},{"$f":"IF(Religion!R9=\"\",\"\",Religion!R9)","v":""},{"$f":"IF(Religion!S9=\"\",\"\",Religion!S9)","v":""},{"$f":"IF(Religion!T9=\"\",\"\",Religion!T9)","v":""},{"$f":"IF(Religion!U9=\"\",\"\",Religion!U9)","v":""},{"$f":"IF(Religion!V9=\"\",\"\",Religion!V9)","v":""},{"$f":"IF(Religion!W9=\"\",\"\",Religion!W9)","v":""},{"$f":"IF(Religion!X9=\"\",\"\",Religion!X9)","v":""},{"$f":"IF(Religion!Y9=\"\",\"\",Religion!Y9)","v":""},{"$f":"IF(Religion!Z9=\"\",\"\",Religion!Z9)","v":""},{"$f":"IF(Religion!AA9=\"\",\"\",Religion!AA9)","v":""},{"$f":"IF(Religion!AB9=\"\",\"\",Religion!AB9)","v":""},{"$f":"IF(Religion!AC9=\"\",\"\",Religion!AC9)","v":""},{"$f":"IF(Religion!AD9=\"\",\"\",Religion!AD9)","v":""},{"$f":"IF(Religion!AE9=\"\",\"\",Religion!AE9)","v":""},{"$f":"IF(Religion!AF9=\"\",\"\",Religion!AF9)","v":""},{"$f":"IF(Religion!AG9=\"\",\"\",Religion!AG9)","v":""},{"$f":"IF(Religion!AH9=\"\",\"\",Religion!AH9)","v":""},{"$f":"IF(Religion!AI9=\"\",\"\",Religion!AI9)","v":""},{"$f":"IF(Religion!AJ9=\"\",\"\",Religion!AJ9)","v":""},{"$f":"IF(Religion!AK9=\"\",\"\",Religion!AK9)","v":""},{"$f":"IF(Religion!AL9=\"\",\"\",Religion!AL9)","v":""},{"$f":"IF(Religion!AM9=\"\",\"\",Religion!AM9)","v":""},{"$f":"IF(Religion!AN9=\"\",\"\",Religion!AN9)","v":""},{"$f":"IF(Religion!AO9=\"\",\"\",Religion!AO9)","v":""},{"$f":"IF(Religion!AP9=\"\",\"\",Religion!AP9)","v":""}]
[null,"Área dirigida al alumnado que no cursa religión","Comp. Esp. 1","Criterio Evaluación 1.1",{"$f":"IF(ANR!H$3=\"\",\"\",ANR!H$3)","v":""},{"$f":"IF(ANR!I$3=\"\",\"\",ANR!I$3)","v":""},{"$f":"IF(ANR!J$3=\"\",\"\",ANR!J$3)","v":""},{"$f":"IF(ANR!K$3=\"\",\"\",ANR!K$3)","v":""},{"$f":"IF(ANR!L$3=\"\",\"\",ANR!L$3)","v":""},{"$f":"IF(ANR!M$3=\"\",\"\",ANR!M$3)","v":""},{"$f":"IF(ANR!N$3=\"\",\"\",ANR!N$3)","v":""},{"$f":"IF(ANR!O$3=\"\",\"\",ANR!O$3)","v":""},{"$f":"IF(ANR!P$3=\"\",\"\",ANR!P$3)","v":""},{"$f":"IF(ANR!Q$3=\"\",\"\",ANR!Q$3)","v":""},{"$f":"IF(ANR!R$3=\"\",\"\",ANR!R$3)","v":""},{"$f":"IF(ANR!S$3=\"\",\"\",ANR!S$3)","v":""},{"$f":"IF(ANR!T$3=\"\",\"\",ANR!T$3)","v":""},{"$f":"IF(ANR!U$3=\"\",\"\",ANR!U$3)","v":""},{"$f":"IF(ANR!V$3=\"\",\"\",ANR!V$3)","v":""},{"$f":"IF(ANR!W$3=\"\",\"\",ANR!W$3)","v":""},{"$f":"IF(ANR!X$3=\"\",\"\",ANR!X$3)","v":""},{"$f":"IF(ANR!Y$3=\"\",\"\",ANR!Y$3)","v":""},{"$f":"IF(ANR!Z$3=\"\",\"\",ANR!Z$3)","v":""},{"$f":"IF(ANR!AA$3=\"\",\"\",ANR!AA$3)","v":""},{"$f":"IF(ANR!AB$3=\"\",\"\",ANR!AB$3)","v":""},{"$f":"IF(ANR!AC$3=\"\",\"\",ANR!AC$3)","v":""},{"$f":"IF(ANR!AD$3=\"\",\"\",ANR!AD$3)","v":""},{"$f":"IF(ANR!AE$3=\"\",\"\",ANR!AE$3)","v":""},{"$f":"IF(ANR!AF$3=\"\",\"\",ANR!AF$3)","v":""},{"$f":"IF(ANR!AG$3=\"\",\"\",ANR!AG$3)","v":""},{"$f":"IF(ANR!AH$3=\"\",\"\",ANR!AH$3)","v":""},{"$f":"IF(ANR!AI$3=\"\",\"\",ANR!AI$3)","v":""},{"$f":"IF(ANR!AJ$3=\"\",\"\",ANR!AJ$3)","v":""},{"$f":"IF(ANR!AK$3=\"\",\"\",ANR!AK$3)","v":""},{"$f":"IF(ANR!AL$3=\"\",\"\",ANR!AL$3)","v":""},{"$f":"IF(ANR!AM$3=\"\",\"\",ANR!AM$3)","v":""},{"$f":"IF(ANR!AN$3=\"\",\"\",ANR!AN$3)","v":""},{"$f":"IF(ANR!AO$3=\"\",\"\",ANR!AO$3)","v":""},{"$f":"IF(ANR!AP$3=\"\",\"\",ANR!AP$3)","v":""}]
[null,null,"Comp. Esp. 2","Criterio Evaluación 2.1",{"$f":"IF(ANR!H$3=\"\",\"\",ANR!H$3)","v":""},{"$f":"IF(ANR!I$3=\"\",\"\",ANR!I$3)","v":""},{"$f":"IF(ANR!J$3=\"\",\"\",ANR!J$3)","v":""},{"$f":"IF(ANR!K$3=\"\",\"\",ANR!K$3)","v":""},{"$f":"IF(ANR!L$3=\"\",\"\",ANR!L$3)","v":""},{"$f":"IF(ANR!M$3=\"\",\"\",ANR!M$3)","v":""},{"$f":"IF(ANR!N$3=\"\",\"\",ANR!N$3)","v":""},{"$f":"IF(ANR!O$3=\"\",\"\",ANR!O$3)","v":""},{"$f":"IF(ANR!P$3=\"\",\"\",ANR!P$3)","v":""},{"$f":"IF(ANR!Q$3=\"\",\"\",ANR!Q$3)","v":""},{"$f":"IF(ANR!R$3=\"\",\"\",ANR!R$3)","v":""},{"$f":"IF(ANR!S$3=\"\",\"\",ANR!S$3)","v":""},{"$f":"IF(ANR!T$3=\"\",\"\",ANR!T$3)","v":""},{"$f":"IF(ANR!U$3=\"\",\"\",ANR!U$3)","v":""},{"$f":"IF(ANR!V$3=\"\",\"\",ANR!V$3)","v":""},{"$f":"IF(ANR!W$3=\"\",\"\",ANR!W$3)","v":""},{"$f":"IF(ANR!X$3=\"\",\"\",ANR!X$3)","v":""},{"$f":"IF(ANR!Y$3=\"\",\"\",ANR!Y$3)","v":""},{"$f":"IF(ANR!Z$3=\"\",\"\",ANR!Z$3)","v":""},{"$f":"IF(ANR!AA$3=\"\",\"\",ANR!AA$3)","v":""},{"$f":"IF(ANR!AB$3=\"\",\"\",ANR!AB$3)","v":""},{"$f":"IF(ANR!AC$3=\"\",\"\",ANR!AC$3)","v":""},{"$f":"IF(ANR!AD$3=\"\",\"\",ANR!AD$3)","v":""},{"$f":"IF(ANR!AE$3=\"\",\"\",ANR!AE$3)","v":""},{"$f":"IF(ANR!AF$3=\"\",\"\",ANR!AF$3)","v":""},{"$f":"IF(ANR!AG$3=\"\",\"\",ANR!AG$3)","v":""},{"$f":"IF(ANR!AH$3=\"\",\"\",ANR!AH$3)","v":""},{"$f":"IF(ANR!AI$3=\"\",\"\",ANR!AI$3)","v":""},{"$f":"IF(ANR!AJ$3=\"\",\"\",ANR!AJ$3)","v":""},{"$f":"IF(ANR!AK$3=\"\",\"\",ANR!AK$3)","v":""},{"$f":"IF(ANR!AL$3=\"\",\"\",ANR!AL$3)","v":""},{"$f":"IF(ANR!AM$3=\"\",\"\",ANR!AM$3)","v":""},{"$f":"IF(ANR!AN$3=\"\",\"\",ANR!AN$3)","v":""},{"$f":"IF(ANR!AO$3=\"\",\"\",ANR!AO$3)","v":""},{"$f":"IF(ANR!AP$3=\"\",\"\",ANR!AP$3)","v":""}]
[null,null,"Comp. Esp. 3","Criterio Evaluación 3.1",{"$f":"IF(ANR!H$3=\"\",\"\",ANR!H$3)","v":""},{"$f":"IF(ANR!I$3=\"\",\"\",ANR!I$3)","v":""},{"$f":"IF(ANR!J$3=\"\",\"\",ANR!J$3)","v":""},{"$f":"IF(ANR!K$3=\"\",\"\",ANR!K$3)","v":""},{"$f":"IF(ANR!L$3=\"\",\"\",ANR!L$3)","v":""},{"$f":"IF(ANR!M$3=\"\",\"\",ANR!M$3)","v":""},{"$f":"IF(ANR!N$3=\"\",\"\",ANR!N$3)","v":""},{"$f":"IF(ANR!O$3=\"\",\"\",ANR!O$3)","v":""},{"$f":"IF(ANR!P$3=\"\",\"\",ANR!P$3)","v":""},{"$f":"IF(ANR!Q$3=\"\",\"\",ANR!Q$3)","v":""},{"$f":"IF(ANR!R$3=\"\",\"\",ANR!R$3)","v":""},{"$f":"IF(ANR!S$3=\"\",\"\",ANR!S$3)","v":""},{"$f":"IF(ANR!T$3=\"\",\"\",ANR!T$3)","v":""},{"$f":"IF(ANR!U$3=\"\",\"\",ANR!U$3)","v":""},{"$f":"IF(ANR!V$3=\"\",\"\",ANR!V$3)","v":""},{"$f":"IF(ANR!W$3=\"\",\"\",ANR!W$3)","v":""},{"$f":"IF(ANR!X$3=\"\",\"\",ANR!X$3)","v":""},{"$f":"IF(ANR!Y$3=\"\",\"\",ANR!Y$3)","v":""},{"$f":"IF(ANR!Z$3=\"\",\"\",ANR!Z$3)","v":""},{"$f":"IF(ANR!AA$3=\"\",\"\",ANR!AA$3)","v":""},{"$f":"IF(ANR!AB$3=\"\",\"\",ANR!AB$3)","v":""},{"$f":"IF(ANR!AC$3=\"\",\"\",ANR!AC$3)","v":""},{"$f":"IF(ANR!AD$3=\"\",\"\",ANR!AD$3)","v":""},{"$f":"IF(ANR!AE$3=\"\",\"\",ANR!AE$3)","v":""},{"$f":"IF(ANR!AF$3=\"\",\"\",ANR!AF$3)","v":""},{"$f":"IF(ANR!AG$3=\"\",\"\",ANR!AG$3)","v":""},{"$f":"IF(ANR!AH$3=\"\",\"\",ANR!AH$3)","v":""},{"$f":"IF(ANR!AI$3=\"\",\"\",ANR!AI$3)","v":""},{"$f":"IF(ANR!AJ$3=\"\",\"\",ANR!AJ$3)","v":""},{"$f":"IF(ANR!AK$3=\"\",\"\",ANR!AK$3)","v":""},{"$f":"IF(ANR!AL$3=\"\",\"\",ANR!AL$3)","v":""},{"$f":"IF(ANR!AM$3=\"\",\"\",ANR!AM$3)","v":""},{"$f":"IF(ANR!AN$3=\"\",\"\",ANR!AN$3)","v":""},{"$f":"IF(ANR!AO$3=\"\",\"\",ANR!AO$3)","v":""},{"$f":"IF(ANR!AP$3=\"\",\"\",ANR!AP$3)","v":""}]
[null,null,"Comp. Esp. 4","Criterio Evaluación 4.1",{"$f":"IF(ANR!H$3=\"\",\"\",ANR!H$3)","v":""},{"$f":"IF(ANR!I$3=\"\",\"\",ANR!I$3)","v":""},{"$f":"IF(ANR!J$3=\"\",\"\",ANR!J$3)","v":""},{"$f":"IF(ANR!K$3=\"\",\"\",ANR!K$3)","v":""},{"$f":"IF(ANR!L$3=\"\",\"\",ANR!L$3)","v":""},{"$f":"IF(ANR!M$3=\"\",\"\",ANR!M$3)","v":""},{"$f":"IF(ANR!N$3=\"\",\"\",ANR!N$3)","v":""},{"$f":"IF(ANR!O$3=\"\",\"\",ANR!O$3)","v":""},{"$f":"IF(ANR!P$3=\"\",\"\",ANR!P$3)","v":""},{"$f":"IF(ANR!Q$3=\"\",\"\",ANR!Q$3)","v":""},{"$f":"IF(ANR!R$3=\"\",\"\",ANR!R$3)","v":""},{"$f":"IF(ANR!S$3=\"\",\"\",ANR!S$3)","v":""},{"$f":"IF(ANR!T$3=\"\",\"\",ANR!T$3)","v":""},{"$f":"IF(ANR!U$3=\"\",\"\",ANR!U$3)","v":""},{"$f":"IF(ANR!V$3=\"\",\"\",ANR!V$3)","v":""},{"$f":"IF(ANR!W$3=\"\",\"\",ANR!W$3)","v":""},{"$f":"IF(ANR!X$3=\"\",\"\",ANR!X$3)","v":""},{"$f":"IF(ANR!Y$3=\"\",\"\",ANR!Y$3)","v":""},{"$f":"IF(ANR!Z$3=\"\",\"\",ANR!Z$3)","v":""},{"$f":"IF(ANR!AA$3=\"\",\"\",ANR!AA$3)","v":""},{"$f":"IF(ANR!AB$3=\"\",\"\",ANR!AB$3)","v":""},{"$f":"IF(ANR!AC$3=\"\",\"\",ANR!AC$3)","v":""},{"$f":"IF(ANR!AD$3=\"\",\"\",ANR!AD$3)","v":""},{"$f":"IF(ANR!AE$3=\"\",\"\",ANR!AE$3)","v":""},{"$f":"IF(ANR!AF$3=\"\",\"\",ANR!AF$3)","v":""},{"$f":"IF(ANR!AG$3=\"\",\"\",ANR!AG$3)","v":""},{"$f":"IF(ANR!AH$3=\"\",\"\",ANR!AH$3)","v":""},{"$f":"IF(ANR!AI$3=\"\",\"\",ANR!AI$3)","v":""},{"$f":"IF(ANR!AJ$3=\"\",\"\",ANR!AJ$3)","v":""},{"$f":"IF(ANR!AK$3=\"\",\"\",ANR!AK$3)","v":""},{"$f":"IF(ANR!AL$3=\"\",\"\",ANR!AL$3)","v":""},{"$f":"IF(ANR!AM$3=\"\",\"\",ANR!AM$3)","v":""},{"$f":"IF(ANR!AN$3=\"\",\"\",ANR!AN$3)","v":""},{"$f":"IF(ANR!AO$3=\"\",\"\",ANR!AO$3)","v":""},{"$f":"IF(ANR!AP$3=\"\",\"\",ANR!AP$3)","v":""}]
[null,null,"Comp. Esp. 5","Criterio Evaluación 5.1",{"$f":"IF(ANR!H$3=\"\",\"\",ANR!H$3)","v":""},{"$f":"IF(ANR!I$3=\"\",\"\",ANR!I$3)","v":""},{"$f":"IF(ANR!J$3=\"\",\"\",ANR!J$3)","v":""},{"$f":"IF(ANR!K$3=\"\",\"\",ANR!K$3)","v":""},{"$f":"IF(ANR!L$3=\"\",\"\",ANR!L$3)","v":""},{"$f":"IF(ANR!M$3=\"\",\"\",ANR!M$3)","v":""},{"$f":"IF(ANR!N$3=\"\",\"\",ANR!N$3)","v":""},{"$f":"IF(ANR!O$3=\"\",\"\",ANR!O$3)","v":""},{"$f":"IF(ANR!P$3=\"\",\"\",ANR!P$3)","v":""},{"$f":"IF(ANR!Q$3=\"\",\"\",ANR!Q$3)","v":""},{"$f":"IF(ANR!R$3=\"\",\"\",ANR!R$3)","v":""},{"$f":"IF(ANR!S$3=\"\",\"\",ANR!S$3)","v":""},{"$f":"IF(ANR!T$3=\"\",\"\",ANR!T$3)","v":""},{"$f":"IF(ANR!U$3=\"\",\"\",ANR!U$3)","v":""},{"$f":"IF(ANR!V$3=\"\",\"\",ANR!V$3)","v":""},{"$f":"IF(ANR!W$3=\"\",\"\",ANR!W$3)","v":""},{"$f":"IF(ANR!X$3=\"\",\"\",ANR!X$3)","v":""},{"$f":"IF(ANR!Y$3=\"\",\"\",ANR!Y$3)","v":""},{"$f":"IF(ANR!Z$3=\"\",\"\",ANR!Z$3)","v":""},{"$f":"IF(ANR!AA$3=\"\",\"\",ANR!AA$3)","v":""},{"$f":"IF(ANR!AB$3=\"\",\"\",ANR!AB$3)","v":""},{"$f":"IF(ANR!AC$3=\"\",\"\",ANR!AC$3)","v":""},{"$f":"IF(ANR!AD$3=\"\",\"\",ANR!AD$3)","v":""},{"$f":"IF(ANR!AE$3=\"\",\"\",ANR!AE$3)","v":""},{"$f":"IF(ANR!AF$3=\"\",\"\",ANR!AF$3)","v":""},{"$f":"IF(ANR!AG$3=\"\",\"\",ANR!AG$3)","v":""},{"$f":"IF(ANR!AH$3=\"\",\"\",ANR!AH$3)","v":""},{"$f":"IF(ANR!AI$3=\"\",\"\",ANR!AI$3)","v":""},{"$f":"IF(ANR!AJ$3=\"\",\"\",ANR!AJ$3)","v":""},{"$f":"IF(ANR!AK$3=\"\",\"\",ANR!AK$3)","v":""},{"$f":"IF(ANR!AL$3=\"\",\"\",ANR!AL$3)","v":""},{"$f":"IF(ANR!AM$3=\"\",\"\",ANR!AM$3)","v":""},{"$f":"IF(ANR!AN$3=\"\",\"\",ANR!AN$3)","v":""},{"$f":"IF(ANR!AO$3=\"\",\"\",ANR!AO$3)","v":""},{"$f":"IF(ANR!AP$3=\"\",\"\",ANR!AP$3)","v":""}]
[null,null,"Comp. Esp. 6","Criterio Evaluación 6.1",{"$f":"IF(ANR!H$3=\"\",\"\",ANR!H$3)","v":""},{"$f":"IF(ANR!I$3=\"\",\"\",ANR!I$3)","v":""},{"$f":"IF(ANR!J$3=\"\",\"\",ANR!J$3)","v":""},{"$f":"IF(ANR!K$3=\"\",\"\",ANR!K$3)","v":""},{"$f":"IF(ANR!L$3=\"\",\"\",ANR!L$3)","v":""},{"$f":"IF(ANR!M$3=\"\",\"\",ANR!M$3)","v":""},{"$f":"IF(ANR!N$3=\"\",\"\",ANR!N$3)","v":""},{"$f":"IF(ANR!O$3=\"\",\"\",ANR!O$3)","v":""},{"$f":"IF(ANR!P$3=\"\",\"\",ANR!P$3)","v":""},{"$f":"IF(ANR!Q$3=\"\",\"\",ANR!Q$3)","v":""},{"$f":"IF(ANR!R$3=\"\",\"\",ANR!R$3)","v":""},{"$f":"IF(ANR!S$3=\"\",\"\",ANR!S$3)","v":""},{"$f":"IF(ANR!T$3=\"\",\"\",ANR!T$3)","v":""},{"$f":"IF(ANR!U$3=\"\",\"\",ANR!U$3)","v":""},{"$f":"IF(ANR!V$3=\"\",\"\",ANR!V$3)","v":""},{"$f":"IF(ANR!W$3=\"\",\"\",ANR!W$3)","v":""},{"$f":"IF(ANR!X$3=\"\",\"\",ANR!X$3)","v":""},{"$f":"IF(ANR!Y$3=\"\",\"\",ANR!Y$3)","v":""},{"$f":"IF(ANR!Z$3=\"\",\"\",ANR!Z$3)","v":""},{"$f":"IF(ANR!AA$3=\"\",\"\",ANR!AA$3)","v":""},{"$f":"IF(ANR!AB$3=\"\",\"\",ANR!AB$3)","v":""},{"$f":"IF(ANR!AC$3=\"\",\"\",ANR!AC$3)","v":""},{"$f":"IF(ANR!AD$3=\"\",\"\",ANR!AD$3)","v":""},{"$f":"IF(ANR!AE$3=\"\",\"\",ANR!AE$3)","v":""},{"$f":"IF(ANR!AF$3=\"\",\"\",ANR!AF$3)","v":""},{"$f":"IF(ANR!AG$3=\"\",\"\",ANR!AG$3)","v":""},{"$f":"IF(ANR!AH$3=\"\",\"\",ANR!AH$3)","v":""},{"$f":"IF(ANR!AI$3=\"\",\"\",ANR!AI$3)","v":""},{"$f":"IF(ANR!AJ$3=\"\",\"\",ANR!AJ$3)","v":""},{"$f":"IF(ANR!AK$3=\"\",\"\",ANR!AK$3)","v":""},{"$f":"IF(ANR!AL$3=\"\",\"\",ANR!AL$3)","v":""},{"$f":"IF(ANR!AM$3=\"\",\"\",ANR!AM$3)","v":""},{"$f":"IF(ANR!AN$3=\"\",\"\",ANR!AN$3)","v":""},{"$f":"IF(ANR!AO$3=\"\",\"\",ANR!AO$3)","v":""},{"$f":"IF(ANR!AP$3=\"\",\"\",ANR!AP$3)","v":""}]
[]
[null,"SÍ"]
[null,"NO"]

{"sheet":"ANR","index":10,"n_rows":3,"n_cols":42,"rows_kept":3,"cut":false,"hidden":false,"merged":[[2,1,2,6],[1,1,1,3]]}
[]
[null,"Área dirigida al alumnado que no recibe enseñanzas de religión\n",null,null,null,null,null,{"$f":"'Calif. de crit.'!E2","v":"Nombre_Alumno_1"},{"$f":"'Calif. de crit.'!F2","v":"Nombre_Alumno_2"},{"$f":"'Calif. de crit.'!G2","v":"Nombre_Alumno_3"},{"$f":"'Calif. de crit.'!H2","v":"Nombre_Alumno_4"},{"$f":"'Calif. de crit.'!I2","v":"Nombre_Alumno_5"},{"$f":"'Calif. de crit.'!J2","v":"Nombre_Alumno_6"},{"$f":"'Calif. de crit.'!K2","v":"Nombre_Alumno_7"},{"$f":"'Calif. de crit.'!L2","v":"Nombre_Alumno_8"},{"$f":"'Calif. de crit.'!M2","v":"Nombre_Alumno_9"},{"$f":"'Calif. de crit.'!N2","v":"Nombre_Alumno_10"},{"$f":"'Calif. de crit.'!O2","v":""},{"$f":"'Calif. de crit.'!P2","v":""},{"$f":"'Calif. de crit.'!Q2","v":""},{"$f":"'Calif. de crit.'!R2","v":""},{"$f":"'Calif. de crit.'!S2","v":""},{"$f":"'Calif. de crit.'!T2","v":""},{"$f":"'Calif. de crit.'!U2","v":""},{"$f":"'Calif. de crit.'!V2","v":""},{"$f":"'Calif. de crit.'!W2","v":""},{"$f":"'Calif. de crit.'!X2","v":""},{"$f":"'Calif. de crit.'!Y2","v":""},{"$f":"'Calif. de crit.'!Z2","v":""},{"$f":"'Calif. de crit.'!AA2","v":""},{"$f":"'Calif. de crit.'!AB2","v":""},{"$f":"'Calif. de crit.'!AC2","v":""},{"$f":"'Calif. de crit.'!AD2","v":""},{"$f":"'Calif. de crit.'!AE2","v":""},{"$f":"'Calif. de crit.'!AF2","v":""},{"$f":"'Calif. de crit.'!AG2","v":""},{"$f":"'Calif. de crit.'!AH2","v":""},{"$f":"'Calif. de crit.'!AI2","v":""},{"$f":"'Calif. de crit.'!AJ2","v":""},{"$f":"'Calif. de crit.'!AK2","v":""},{"$f":"'Calif. de crit.'!AL2","v":""},{"$f":"'Calif. de crit.'!AM2","v":""}]
[null,"CALIFICACIÓN DEL ÁREA"]

{"sheet":"Ciencias de la Naturaleza","index":11,"n_rows":23,"n_cols":43,"rows_kept":23,"cut":false,"hidden":false,"merged":[[1,1,1,3],[2,1,2,3],[3,1,20,1],[3,2,5,2],[6,2,10,2],[11,2,13,2],[14,2,15,2],[16,2,18,2],[19,2,20,2]]}
[]
[null,null,null,null,null,null,null,{"$f":"'Calif. de crit.'!E2","v":"Nombre_Alumno_1"},{"$f":"'Calif. de crit.'!F2","v":"Nombre_Alumno_2"},{"$f":"'Calif. de crit.'!G2","v":"Nombre_Alumno_3"},{"$f":"'Calif. de crit.'!H2","v":"Nombre_Alumno_4"},{"$f":"'Calif. de crit.'!I2","v":"Nombre_Alumno_5"},{"$f":"'Calif. de crit.'!J2","v":"Nombre_Alumno_6"},{"$f":"'Calif. de crit.'!K2","v":"Nombre_Alumno_7"},{"$f":"'Calif. de crit.'!L2","v":"Nombre_Alumno_8"},{"$f":"'Calif. de crit.'!M2","v":"Nombre_Alumno_9"},{"$f":"'Calif. de crit.'!N2","v":"Nombre_Alumno_10"},{"$f":"'Calif. de crit.'!O2","v":""},{"$f":"'Calif. de crit.'!P2","v":""},{"$f":"'Calif. de crit.'!Q2","v":""},{"$f":"'Calif. de crit.'!R2","v":""},{"$f":"'Calif. de crit.'!S2","v":""},{"$f":"'Calif. de crit.'!T2","v":""},{"$f":"'Calif. de crit.'!U2","v":""},{"$f":"'Calif. de crit.'!V2","v":""},{"$f":"'Calif. de crit.'!W2","v":""},{"$f":"'Calif. de crit.'!X2","v":""},{"$f":"'Calif. de crit.'!Y2","v":""},{"$f":"'Calif. de crit.'!Z2","v":""},{"$f":"'Calif. de crit.'!AA2","v":""},{"$f":"'Calif. de crit.'!AB2","v":""},{"$f":"'Calif. de crit.'!AC2","v":""},{"$f":"'Calif. de crit.'!AD2","v":""},{"$f":"'Calif. de crit.'!AE2","v":""},{"$f":"'Calif. de crit.'!AF2","v":""},{"$f":"'Calif. de crit.'!AG2","v":""},{"$f":"'Calif. de crit.'!AH2","v":""},{"$f":"'Calif. de crit.'!AI2","v":""},{"$f":"'Calif. de crit.'!AJ2","v":""},{"$f":"'Calif. de crit.'!AK2","v":""},{"$f":"'Calif. de crit.'!AL2","v":""},{"$f":"'Calif. de crit.'!AM2","v":""}]
[null,null,null,null,"Peso","%","% ajust.",{"$f":"IFERROR(SUMPRODUCT($E$4:$E$21,H4:H21)/SUMIF(H4:H21,\">=0\",$E$4:$E$21),\"\")","v":""},"","","","","","","","","","","","","","","","","","","","","","","","","","","","","","","","","",""]
[null,"Ciencias de la Naturaleza","Comp. Esp. 1","Criterio Evaluación 1.1",1,{"$f":"E4/E$22","v":5.5555555555555552E-2},{"$f":"IF(AQ4<>35,F4/$G$23,\"\")","v":""},null,null,null,null,null,null,null,null,null,null,null,null,null,null,null,null,null,null,null,null,null,null,null,null,null,null,null,null,null,null,null,null,null,null,null,{"$f":"COUNTIF(H4:AP4,\"\")","v":35}]
[null,null,null,"Criterio Evaluación 1.2",1,5.5555555555555552E-2,"",null,null,null,null,null,null,null,null,null,null,null,null,null,null,null,null,null,null,null,null,null,null,null,null,null,null,null,null,null,null,null,null,null,null,null,35]
[null,null,null,"Criterio Evaluación 1.3",1,5.5555555555555552E-2,"",null,null,null,null,null,null,null,null,null,null,null,null,null,null,null,null,null,null,null,null,null,null,null,null,null,null,null,null,null,null,null,null,null,null,null,35]
[null,null,"Comp. Esp. 2","Criterio Evaluación 2.1",1,5.5555555555555552E-2,"",null,null,null,null,null,null,null,null,null,null,null,null,null,null,null,null,null,null,null,null,null,null,null,null,null,null,null,null,null,null,null,null,null,null,null,35]
[null,null,null,"Criterio Evaluación 2.2",1,5.5555555555555552E-2,"",null,null,null,null,null,null,null,null,null,null,null,null,null,null,null,null,null,null,null,null,null,null,null,null,null,null,null,null,null,null,null,null,null,null,null,35]
[null,null,null,"Criterio Evaluación 2.3",1,5.5555555555555552E-2,"",null,null,null,null,null,null,null,null,null,null,null,null,null,null,null,null,null,null,null,null,null,null,null,null,null,null,null,null,null,null,null,null,null,null,null,35]
[null,null,null,"Criterio Evaluación 2.4",1,5.5555555555555552E-2,"",null,null,null,null,null,null,null,null,null,null,null,null,null,null,null,null,null,null,null,null,null,null,null,null,null,null,null,null,null,null,null,null,null,null,null,35]
[null,null,null,"Criterio Evaluación 2.5",1,5.5555555555555552E-2,"",null,null,null,null,null,null,null,null,null,null,null,null,null,null,null,null,null,null,null,null,null,null,null,null,null,null,null,null,null,null,null,null,null,null,null,35]
[null,null,"Comp. Esp. 3","Criterio Evaluación 3.1",1,5.5555555555555552E-2,"",null,null,null,null,null,null,null,null,null,null,null,null,null,null,null,null,null,null,null,null,null,null,null,null,null,null,null,null,null,null,null,null,null,null,null,35]
[null,null,null,"Criterio Evaluación 3.2",1,5.5555555555555552E-2,"",null,null,null,null,null,null,null,null,null,null,null,null,null,null,null,null,null,null,null,null,null,null,null,null,null,null,null,null,null,null,null,null,null,null,null,35]
[null,null,null,"Criterio Evaluación 3.3",1,5.5555555555555552E-2,"",null,null,null,null,null,null,null,null,null,null,null,null,null,null,null,null,null,null,null,null,null,null,null,null,null,null,null,null,null,null,null,null,null,null,null,35]
[null,null,"Comp. Esp. 4","Criterio Evaluación 4.1",1,5.5555555555555552E-2,"",null,null,null,null,null,null,null,null,null,null,null,null,null,null,null,null,null,null,null,null,null,null,null,null,null,null,null,null,null,null,null,null,null,null,null,35]
[null,null,null,"Criterio Evaluación 4.2",1,5.5555555555555552E-2,"",null,null,null,null,null,null,null,null,null,null,null,null,null,null,null,null,null,null,null,null,null,null,null,null,null,null,null,null,null,null,null,null,null,null,null,35]
[null,null,"Comp. Esp. 5","Criterio Evaluación 5.1",1,5.5555555555555552E-2,"",null,null,null,null,null,null,null,null,null,null,null,null,null,null,null,null,null,null,null,null,null,null,null,null,null,null,null,null,null,null,null,null,null,null,null,35]
[null,null,null,"Criterio Evaluación 5.2",1,5.5555555555555552E-2,"",null,null,null,null,null,null,null,null,null,null,null,null,null,null,null,null,null,null,null,null,null,null,null,null,null,null,null,null,null,null,null,null,null,null,null,35]
[null,null,null,"Criterio Evaluación 5.3",1,5.5555555555555552E-2,"",null,null,null,null,null,null,null,null,null,null,null,null,null,null,null,null,null,null,null,null,null,null,null,null,null,null,null,null,null,null,null,null,null,null,null,35]
[null,null,"Comp. Esp. 6","Criterio Evaluación 6.1",1,5.5555555555555552E-2,"",null,null,null,null,null,null,null,null,null,null,null,null,null,null,null,null,null,null,null,null,null,null,null,null,null,null,null,null,null,null,null,null,null,null,null,35]
[null,null,null,"Criterio Evaluación 6.2",1,5.5555555555555552E-2,"",null,null,null,null,null,null,null,null,null,null,null,null,null,null,null,null,null,null,null,null,null,null,null,null,null,null,null,null,null,null,null,null,null,null,null,35]
[null,null,null,null,{"$f":"SUM(E4:E21)","v":18},{"$f":"SUM(F4:F21)","v":1.0000000000000002},{"$f":"SUM(G4:G21)","v":0}]
[null,null,null,null,null,null,{"$f":"SUMIF(AQ4:AQ21,\"<>35\",$F$4:$F$21)","v":0}]

{"sheet":"Ciencias Sociales","index":12,"n_rows":26,"n_cols":43,"rows_kept":26,"cut":false,"hidden":false,"merged":[[1,1,1,3],[2,1,2,3],[3,1,23,1],[3,2,5,2],[6,2,9,2],[10,2,12,2],[13,2,14,2],[15,2,18,2],[19,2,20,2],[21,2,23,2]]}
[]
[null,null,null,null,null,null,null,{"$f":"'Calif. de crit.'!E2","v":"Nombre_Alumno_1"},{"$f":"'Calif. de crit.'!F2","v":"Nombre_Alumno_2"},{"$f":"'Calif. de crit.'!G2","v":"Nombre_Alumno_3"},{"$f":"'Calif. de crit.'!H2","v":"Nombre_Alumno_4"},{"$f":"'Calif. de crit.'!I2","v":"Nombre_Alumno_5"},{"$f":"'Calif. de crit.'!J2","v":"Nombre_Alumno_6"},{"$f":"'Calif. de crit.'!K2","v":"Nombre_Alumno_7"},{"$f":"'Calif. de crit.'!L2","v":"Nombre_Alumno_8"},{"$f":"'Calif. de crit.'!M2","v":"Nombre_Alumno_9"},{"$f":"'Calif. de crit.'!N2","v":"Nombre_Alumno_10"},{"$f":"'Calif. de crit.'!O2","v":""},{"$f":"'Calif. de crit.'!P2","v":""},{"$f":"'Calif. de crit.'!Q2","v":""},{"$f":"'Calif. de crit.'!R2","v":""},{"$f":"'Calif. de crit.'!S2","v":""},{"$f":"'Calif. de crit.'!T2","v":""},{"$f":"'Calif. de crit.'!U2","v":""},{"$f":"'Calif. de crit.'!V2","v":""},{"$f":"'Calif. de crit.'!W2","v":""},{"$f":"'Calif. de crit.'!X2","v":""},{"$f":"'Calif. de crit.'!Y2","v":""},{"$f":"'Calif. de crit.'!Z2","v":""},{"$f":"'Calif. de crit.'!AA2","v":""},{"$f":"'Calif. de crit.'!AB2","v":""},{"$f":"'Calif. de crit.'!AC2","v":""},{"$f":"'Calif. de crit.'!AD2","v":""},{"$f":"'Calif. de crit.'!AE2","v":""},{"$f":"'Calif. de crit.'!AF2","v":""},{"$f":"'Calif. de crit.'!AG2","v":""},{"$f":"'Calif. de crit.'!AH2","v":""},{"$f":"'Calif. de crit.'!AI2","v":""},{"$f":"'Calif. de crit.'!AJ2","v":""},{"$f":"'Calif. de crit.'!AK2","v":""},{"$f":"'Calif. de crit.'!AL2","v":""},{"$f":"'Calif. de crit.'!AM2","v":""}]
[null,null,null,null,"Peso","%","% ajust.",{"$f":"IFERROR(SUMPRODUCT($E$4:$E$24,H4:H24)/SUMIF(H4:H24,\">=0\",$E$4:$E$24),\"\")","v":""},"","","","","","","","","","","","","","","","","","","","","","","","","","","","","","","","","",""]
[null,"Ciencias Sociales","Comp. Esp. 1","Criterio Evaluación 1.1",1,{"$f":"E4/E$25","v":4.7619047619047616E-2},{"$f":"IF(AQ4<>35,F4/$G$26,\"\")","v":""},null,null,null,null,null,null,null,null,null,null,null,null,null,null,null,null,null,null,null,null,null,null,null,null,null,null,null,null,null,null,null,null,null,null,null,{"$f":"COUNTIF(H4:AP4,\"\")","v":35}]
[null,null,null,"Criterio Evaluación 1.2",1,4.7619047619047616E-2,"",null,null,null,null,null,null,null,null,null,null,null,null,null,null,null,null,null,null,null,null,null,null,null,null,null,null,null,null,null,null,null,null,null,null,null,35]
[null,null,null,"Criterio Evaluación 1.3",1,4.7619047619047616E-2,"",null,null,null,null,null,null,null,null,null,null,null,null,null,null,null,null,null,null,null,null,null,null,null,null,null,null,null,null,null,null,null,null,null,null,null,35]
[null,null,"Comp. Esp. 2","Criterio Evaluación 2.1",1,4.7619047619047616E-2,"",null,null,null,null,null,null,null,null,null,null,null,null,null,null,null,null,null,null,null,null,null,null,null,null,null,null,null,null,null,null,null,null,null,null,null,35]
[null,null,null,"Criterio Evaluación 2.2",1,4.7619047619047616E-2,"",null,null,null,null,null,null,null,null,null,null,null,null,null,null,null,null,null,null,null,null,null,null,null,null,null,null,null,null,null,null,null,null,null,null,null,35]
[null,null,null,"Criterio Evaluación 2.3",1,4.7619047619047616E-2,"",null,null,null,null,null,null,null,null,null,null,null,null,null,null,null,null,null,null,null,null,null,null,null,null,null,null,null,null,null,null,null,null,null,null,null,35]
[null,null,null,"Criterio Evaluación 2.4",1,4.7619047619047616E-2,"",null,null,null,null,null,null,null,null,null,null,null,null,null,null,null,null,null,null,null,null,null,null,null,null,null,null,null,null,null,null,null,null,null,null,null,35]
[null,null,"Comp. Esp. 3","Criterio Evaluación 3.1",1,4.7619047619047616E-2,"",null,null,null,null,null,null,null,null,null,null,null,null,null,null,null,null,null,null,null,null,null,null,null,null,null,null,null,null,null,null,null,null,null,null,null,35]
[null,null,null,"Criterio Evaluación 3.2",1,4.7619047619047616E-2,"",null,null,null,null,null,null,null,null,null,null,null,null,null,null,null,null,null,null,null,null,null,null,null,null,null,null,null,null,null,null,null,null,null,null,null,35]
[null,null,null,"Criterio Evaluación 3.3",1,4.7619047619047616E-2,"",null,null,null,null,null,null,null,null,null,null,null,null,null,null,null,null,null,null,null,null,null,null,null,null,null,null,null,null,null,null,null,null,null,null,null,35]
[null,null,"Comp. Esp. 4","Criterio Evaluación 4.1",1,4.7619047619047616E-2,"",null,null,null,null,null,null,null,null,null,null,null,null,null,null,null,null,null,null,null,null,null,null,null,null,null,null,null,null,null,null,null,null,null,null,null,35]
[null,null,null,"Criterio Evaluación 4.2",1,4.7619047619047616E-2,"",null,null,null,null,null,null,null,null,null,null,null,null,null,null,null,null,null,null,null,null,null,null,null,null,null,null,null,null,null,null,null,null,null,null,null,35]
[null,null,"Comp. Esp. 5","Criterio Evaluación 5.1",1,4.7619047619047616E-2,"",null,null,null,null,null,null,null,null,null,null,null,null,null,null,null,null,null,null,null,null,null,null,null,null,null,null,null,null,null,null,null,null,null,null,null,35]
[null,null,null,"Criterio Evaluación 5.2",1,4.7619047619047616E-2,"",null,null,null,null,null,null,null,null,null,null,null,null,null,null,null,null,null,null,null,null,null,null,null,null,null,null,null,null,null,null,null,null,null,null,null,35]
[null,null,null,"Criterio Evaluación 5.3",1,4.7619047619047616E-2,"",null,null,null,null,null,null,null,null,null,null,null,null,null,null,null,null,null,null,null,null,null,null,null,null,null,null,null,null,null,null,null,null,null,null,null,35]
[null,null,null,"Criterio Evaluación 5.4",1,4.7619047619047616E-2,"",null,null,null,null,null,null,null,null,null,null,null,null,null,null,null,null,null,null,null,null,null,null,null,null,null,null,null,null,null,null,null,null,null,null,null,35]
[null,null,"Comp. Esp. 6","Criterio Evaluación 6.1",1,4.7619047619047616E-2,"",null,null,null,null,null,null,null,null,null,null,null,null,null,null,null,null,null,null,null,null,null,null,null,null,null,null,null,null,null,null,null,null,null,null,null,35]
[null,null,null,"Criterio Evaluación 6.2",1,4.7619047619047616E-2,"",null,null,null,null,null,null,null,null,null,null,null,null,null,null,null,null,null,null,null,null,null,null,null,null,null,null,null,null,null,null,null,null,null,null,null,35]
[null,null,"Comp. Esp. 7","Criterio Evaluación 7.1",1,4.7619047619047616E-2,"",null,null,null,null,null,null,null,null,null,null,null,null,null,null,null,null,null,null,null,null,null,null,null,null,null,null,null,null,null,null,null,null,null,null,null,35]
[null,null,null,"Criterio Evaluación 7.2",1,4.7619047619047616E-2,"",null,null,null,null,null,null,null,null,null,null,null,null,null,null,null,null,null,null,null,null,null,null,null,null,null,null,null,null,null,null,null,null,null,null,null,35]
[null,null,null,"Criterio Evaluación 7.3",1,4.7619047619047616E-2,"",null,null,null,null,null,null,null,null,null,null,null,null,null,null,null,null,null,null,null,null,null,null,null,null,null,null,null,null,null,null,null,null,null,null,null,35]
[null,null,null,null,{"$f":"SUM(E3:E24)","v":21},{"$f":"SUM(F3:F24)","v":1.0000000000000004},{"$f":"SUM(G4:G24)","v":0}]
[null,null,null,null,null,null,{"$f":"SUMIF(AQ4:AQ24,\"<>35\",$F$4:$F$24)","v":0}]

{"sheet":"Educacion Fisica","index":13,"n_rows":25,"n_cols":43,"rows_kept":25,"cut":false,"hidden":false,"merged":[[1,1,1,3],[2,1,2,3],[3,1,22,1],[3,2,6,2],[7,2,9,2],[10,2,12,2],[13,2,16,2],[17,2,19,2],[20,2,22,2]]}
[]
[null,null,null,null,null,null,null,{"$f":"'Calif. de crit.'!E2","v":"Nombre_Alumno_1"},{"$f":"'Calif. de crit.'!F2","v":"Nombre_Alumno_2"},{"$f":"'Calif. de crit.'!G2","v":"Nombre_Alumno_3"},{"$f":"'Calif. de crit.'!H2","v":"Nombre_Alumno_4"},{"$f":"'Calif. de crit.'!I2","v":"Nombre_Alumno_5"},{"$f":"'Calif. de crit.'!J2","v":"Nombre_Alumno_6"},{"$f":"'Calif. de crit.'!K2","v":"Nombre_Alumno_7"},{"$f":"'Calif. de crit.'!L2","v":"Nombre_Alumno_8"},{"$f":"'Calif. de crit.'!M2","v":"Nombre_Alumno_9"},{"$f":"'Calif. de crit.'!N2","v":"Nombre_Alumno_10"},{"$f":"'Calif. de crit.'!O2","v":""},{"$f":"'Calif. de crit.'!P2","v":""},{"$f":"'Calif. de crit.'!Q2","v":""},{"$f":"'Calif. de crit.'!R2","v":""},{"$f":"'Calif. de crit.'!S2","v":""},{"$f":"'Calif. de crit.'!T2","v":""},{"$f":"'Calif. de crit.'!U2","v":""},{"$f":"'Calif. de crit.'!V2","v":""},{"$f":"'Calif. de crit.'!W2","v":""},{"$f":"'Calif. de crit.'!X2","v":""},{"$f":"'Calif. de crit.'!Y2","v":""},{"$f":"'Calif. de crit.'!Z2","v":""},{"$f":"'Calif. de crit.'!AA2","v":""},{"$f":"'Calif. de crit.'!AB2","v":""},{"$f":"'Calif. de crit.'!AC2","v":""},{"$f":"'Calif. de crit.'!AD2","v":""},{"$f":"'Calif. de crit.'!AE2","v":""},{"$f":"'Calif. de crit.'!AF2","v":""},{"$f":"'Calif. de crit.'!AG2","v":""},{"$f":"'Calif. de crit.'!AH2","v":""},{"$f":"'Calif. de crit.'!AI2","v":""},{"$f":"'Calif. de crit.'!AJ2","v":""},{"$f":"'Calif. de crit.'!AK2","v":""},{"$f":"'Calif. de crit.'!AL2","v":""},{"$f":"'Calif. de crit.'!AM2","v":""}]
[null,null,null,null,"Peso","%","% ajust.",{"$f":"IFERROR(SUMPRODUCT($E$4:$E$23,H4:H23)/SUMIF(H4:H23,\">=0\",$E$4:$E$23),\"\")","v":""},"","","","","","","","","","","","","","","","","","","","","","","","","","","","","","","","","",""]
[null,"Educación Física","Comp. Esp. 1","Criterio Evaluación 1.1",1,{"$f":"E4/E$24","v":0.05},{"$f":"IF(AQ4<>35,F4/$G$25,\"\")","v":""},null,null,null,null,null,null,null,null,null,null,null,null,null,null,null,null,null,null,null,null,null,null,null,null,null,null,null,null,null,null,null,null,null,null,null,{"$f":"COUNTIF(H4:AP4,\"\")","v":35}]
[null,null,null,"Criterio Evaluación 1.2",1,0.05,"",null,null,null,null,null,null,null,null,null,null,null,null,null,null,null,null,null,null,null,null,null,null,null,null,null,null,null,null,null,null,null,null,null,null,null,35]
[null,null,null,"Criterio Evaluación 1.3",1,0.05,"",null,null,null,null,null,null,null,null,null,null,null,null,null,null,null,null,null,null,null,null,null,null,null,null,null,null,null,null,null,null,null,null,null,null,null,35]
[null,null,null,"Criterio Evaluación 1.4",1,0.05,"",null,null,null,null,null,null,null,null,null,null,null,null,null,null,null,null,null,null,null,null,null,null,null,null,null,null,null,null,null,null,null,null,null,null,null,35]
[null,null,"Comp. Esp. 2","Criterio Evaluación 2.1",1,0.05,"",null,null,null,null,null,null,null,null,null,null,null,null,null,null,null,null,null,null,null,null,null,null,null,null,null,null,null,null,null,null,null,null,null,null,null,35]
[null,null,null,"Criterio Evaluación 2.2",1,0.05,"",null,null,null,null,null,null,null,null,null,null,null,null,null,null,null,null,null,null,null,null,null,null,null,null,null,null,null,null,null,null,null,null,null,null,null,35]
[null,null,null,"Criterio Evaluación 2.3",1,0.05,"",null,null,null,null,null,null,null,null,null,null,null,null,null,null,null,null,null,null,null,null,null,null,null,null,null,null,null,null,null,null,null,null,null,null,null,35]
[null,null,"Comp. Esp. 3","Criterio Evaluación 3.1",1,0.05,"",null,null,null,null,null,null,null,null,null,null,null,null,null,null,null,null,null,null,null,null,null,null,null,null,null,null,null,null,null,null,null,null,null,null,null,35]
[null,null,null,"Criterio Evaluación 3.2",1,0.05,"",null,null,null,null,null,null,null,null,null,null,null,null,null,null,null,null,null,null,null,null,null,null,null,null,null,null,null,null,null,null,null,null,null,null,null,35]
[null,null,null,"Criterio Evaluación 3.3",1,0.05,"",null,null,null,null,null,null,null,null,null,null,null,null,null,null,null,null,null,null,null,null,null,null,null,null,null,null,null,null,null,null,null,null,null,null,null,35]
[null,null,"Comp. Esp. 4","Criterio Evaluación 4.1",1,0.05,"",null,null,null,null,null,null,null,null,null,null,null,null,null,null,null,null,null,null,null,null,null,null,null,null,null,null,null,null,null,null,null,null,null,null,null,35]
[null,null,null,"Criterio Evaluación 4.2",1,0.05,"",null,null,null,null,null,null,null,null,null,null,null,null,null,null,null,null,null,null,null,null,null,null,null,null,null,null,null,null,null,null,null,null,null,null,null,35]
[null,null,null,"Criterio Evaluación 4.3",1,0.05,"",null,null,null,null,null,null,null,null,null,null,null,null,null,null,null,null,null,null,null,null,null,null,null,null,null,null,null,null,null,null,null,null,null,null,null,35]
[null,null,null,"Criterio Evaluación 4.4",1,0.05,"",null,null,null,null,null,null,null,null,null,null,null,null,null,null,null,null,null,null,null,null,null,null,null,null,null,null,null,null,null,null,null,null,null,null,null,35]
[null,null,"Comp. Esp. 5","Criterio Evaluación 5.1",1,0.05,"",null,null,null,null,null,null,null,null,null,null,null,null,null,null,null,null,null,null,null,null,null,null,null,null,null,null,null,null,null,null,null,null,null,null,null,35]
[null,null,null,"Criterio Evaluación 5.2",1,0.05,"",null,null,null,null,null,null,null,null,null,null,null,null,null,null,null,null,null,null,null,null,null,null,null,null,null,null,null,null,null,null,null,null,null,null,null,35]
[null,null,null,"Criterio Evaluación 5.3",1,0.05,"",null,null,null,null,null,null,null,null,null,null,null,null,null,null,null,null,null,null,null,null,null,null,null,null,null,null,null,null,null,null,null,null,null,null,null,35]
[null,null,"Comp. Esp. 6","Criterio Evaluación 6.1",1,0.05,"",null,null,null,null,null,null,null,null,null,null,null,null,null,null,null,null,null,null,null,null,null,null,null,null,null,null,null,null,null,null,null,null,null,null,null,35]
[null,null,null,"Criterio Evaluación 6.2",1,0.05,"",null,null,null,null,null,null,null,null,null,null,null,null,null,null,null,null,null,null,null,null,null,null,null,null,null,null,null,null,null,null,null,null,null,null,null,35]
[null,null,null,"Criterio Evaluación 6.3",1,0.05,"",null,null,null,null,null,null,null,null,null,null,null,null,null,null,null,null,null,null,null,null,null,null,null,null,null,null,null,null,null,null,null,null,null,null,null,35]
[null,null,null,null,{"$f":"SUM(E4:E23)","v":20},{"$f":"SUM(F4:F23)","v":1.0000000000000002},{"$f":"SUM(G4:G23)","v":0}]
[null,null,null,null,null,null,{"$f":"SUMIF(AQ4:AQ23,\"<>35\",$F$4:$F$23)","v":0}]

{"sheet":"EPV","index":14,"n_rows":17,"n_cols":43,"rows_kept":17,"cut":false,"hidden":false,"merged":[[1,1,1,3],[2,1,2,3],[3,1,14,1],[3,2,5,2],[6,2,8,2],[9,2,11,2],[12,2,14,2]]}
[]
[null,null,null,null,null,null,null,{"$f":"'Calif. de crit.'!E2","v":"Nombre_Alumno_1"},{"$f":"'Calif. de crit.'!F2","v":"Nombre_Alumno_2"},{"$f":"'Calif. de crit.'!G2","v":"Nombre_Alumno_3"},{"$f":"'Calif. de crit.'!H2","v":"Nombre_Alumno_4"},{"$f":"'Calif. de crit.'!I2","v":"Nombre_Alumno_5"},{"$f":"'Calif. de crit.'!J2","v":"Nombre_Alumno_6"},{"$f":"'Calif. de crit.'!K2","v":"Nombre_Alumno_7"},{"$f":"'Calif. de crit.'!L2","v":"Nombre_Alumno_8"},{"$f":"'Calif. de crit.'!M2","v":"Nombre_Alumno_9"},{"$f":"'Calif. de crit.'!N2","v":"Nombre_Alumno_10"},{"$f":"'Calif. de crit.'!O2","v":""},{"$f":"'Calif. de crit.'!P2","v":""},{"$f":"'Calif. de crit.'!Q2","v":""},{"$f":"'Calif. de crit.'!R2","v":""},{"$f":"'Calif. de crit.'!S2","v":""},{"$f":"'Calif. de crit.'!T2","v":""},{"$f":"'Calif. de crit.'!U2","v":""},{"$f":"'Calif. de crit.'!V2","v":""},{"$f":"'Calif. de crit.'!W2","v":""},{"$f":"'Calif. de crit.'!X2","v":""},{"$f":"'Calif. de crit.'!Y2","v":""},{"$f":"'Calif. de crit.'!Z2","v":""},{"$f":"'Calif. de crit.'!AA2","v":""},{"$f":"'Calif. de crit.'!AB2","v":""},{"$f":"'Calif. de crit.'!AC2","v":""},{"$f":"'Calif. de crit.'!AD2","v":""},{"$f":"'Calif. de crit.'!AE2","v":""},{"$f":"'Calif. de crit.'!AF2","v":""},{"$f":"'Calif. de crit.'!AG2","v":""},{"$f":"'Calif. de crit.'!AH2","v":""},{"$f":"'Calif. de crit.'!AI2","v":""},{"$f":"'Calif. de crit.'!AJ2","v":""},{"$f":"'Calif. de crit.'!AK2","v":""},{"$f":"'Calif. de crit.'!AL2","v":""},{"$f":"'Calif. de crit.'!AM2","v":""}]
[null,null,null,null,"Peso","%","% ajust.",{"$f":"IFERROR(SUMPRODUCT($E$4:$E$15,H4:H15)/SUMIF(H4:H15,\">=0\",$E$4:$E$15),\"\")","v":""},"","","","","","","","","","","","","","","","","","","","","","","","","","","","","","","","","",""]
[null,"Educación Plástica y Visual","Comp. Esp. 1","Criterio Evaluación 1.1",1,{"$f":"E4/E$16","v":8.3333333333333329E-2},{"$f":"IF(AQ4<>35,F4/$G$17,\"\")","v":""},null,null,null,null,null,null,null,null,null,null,null,null,null,null,null,null,null,null,null,null,null,null,null,null,null,null,null,null,null,null,null,null,null,null,null,{"$f":"COUNTIF(H4:AP4,\"\")","v":35}]
[null,null,null,"Criterio Evaluación 1.2",1,8.3333333333333329E-2,"",null,null,null,null,null,null,null,null,null,null,null,null,null,null,null,null,null,null,null,null,null,null,null,null,null,null,null,null,null,null,null,null,null,null,null,35]
[null,null,null,"Criterio Evaluación 1.3",1,8.3333333333333329E-2,"",null,null,null,null,null,null,null,null,null,null,null,null,null,null,null,null,null,null,null,null,null,null,null,null,null,null,null,null,null,null,null,null,null,null,null,35]
[null,null,"Comp. Esp. 2","Criterio Evaluación 2.1",1,8.3333333333333329E-2,"",null,null,null,null,null,null,null,null,null,null,null,null,null,null,null,null,null,null,null,null,null,null,null,null,null,null,null,null,null,null,null,null,null,null,null,35]
[null,null,null,"Criterio Evaluación 2.2",1,8.3333333333333329E-2,"",null,null,null,null,null,null,null,null,null,null,null,null,null,null,null,null,null,null,null,null,null,null,null,null,null,null,null,null,null,null,null,null,null,null,null,35]
[null,null,null,"Criterio Evaluación 2.3",1,8.3333333333333329E-2,"",null,null,null,null,null,null,null,null,null,null,null,null,null,null,null,null,null,null,null,null,null,null,null,null,null,null,null,null,null,null,null,null,null,null,null,35]
[null,null,"Comp. Esp. 3","Criterio Evaluación 3.1",1,8.3333333333333329E-2,"",null,null,null,null,null,null,null,null,null,null,null,null,null,null,null,null,null,null,null,null,null,null,null,null,null,null,null,null,null,null,null,null,null,null,null,35]
[null,null,null,"Criterio Evaluación 3.2",1,8.3333333333333329E-2,"",null,null,null,null,null,null,null,null,null,null,null,null,null,null,null,null,null,null,null,null,null,null,null,null,null,null,null,null,null,null,null,null,null,null,null,35]
[null,null,null,"Criterio Evaluación 3.3",1,8.3333333333333329E-2,"",null,null,null,null,null,null,null,null,null,null,null,null,null,null,null,null,null,null,null,null,null,null,null,null,null,null,null,null,null,null,null,null,null,null,null,35]
[null,null,"Comp. Esp. 4","Criterio Evaluación 4.1",1,8.3333333333333329E-2,"",null,null,null,null,null,null,null,null,null,null,null,null,null,null,null,null,null,null,null,null,null,null,null,null,null,null,null,null,null,null,null,null,null,null,null,35]
[null,null,null,"Criterio Evaluación 4.2",1,8.3333333333333329E-2,"",null,null,null,null,null,null,null,null,null,null,null,null,null,null,null,null,null,null,null,null,null,null,null,null,null,null,null,null,null,null,null,null,null,null,null,35]
[null,null,null,"Criterio Evaluación 4.3",1,8.3333333333333329E-2,"",null,null,null,null,null,null,null,null,null,null,null,null,null,null,null,null,null,null,null,null,null,null,null,null,null,null,null,null,null,null,null,null,null,null,null,35]
[null,null,null,null,{"$f":"SUM(E3:E15)","v":12},{"$f":"SUM(F3:F15)","v":1},{"$f":"SUM(G4:G15)","v":0}]
[null,null,null,null,null,null,{"$f":"SUMIF(AQ4:AQ15,\"<>35\",$F$4:$F$15)","v":0}]

{"sheet":"Lengua Castellana y Lit.","index":15,"n_rows":31,"n_cols":43,"rows_kept":31,"cut":false,"hidden":false,"merged":[[1,1,1,3],[2,1,2,3],[3,1,28,1],[3,2,4,2],[5,2,6,2],[7,2,9,2],[25,2,26,2],[27,2,28,2],[10,2,12,2],[13,2,14,2],[15,2,18,2],[19,2,21,2],[22,2,24,2]]}
[]
[null,null,null,null,null,null,null,{"$f":"'Calif. de crit.'!E2","v":"Nombre_Alumno_1"},{"$f":"'Calif. de crit.'!F2","v":"Nombre_Alumno_2"},{"$f":"'Calif. de crit.'!G2","v":"Nombre_Alumno_3"},{"$f":"'Calif. de crit.'!H2","v":"Nombre_Alumno_4"},{"$f":"'Calif. de crit.'!I2","v":"Nombre_Alumno_5"},{"$f":"'Calif. de crit.'!J2","v":"Nombre_Alumno_6"},{"$f":"'Calif. de crit.'!K2","v":"Nombre_Alumno_7"},{"$f":"'Calif. de crit.'!L2","v":"Nombre_Alumno_8"},{"$f":"'Calif. de crit.'!M2","v":"Nombre_Alumno_9"},{"$f":"'Calif. de crit.'!N2","v":"Nombre_Alumno_10"},{"$f":"'Calif. de crit.'!O2","v":""},{"$f":"'Calif. de crit.'!P2","v":""},{"$f":"'Calif. de crit.'!Q2","v":""},{"$f":"'Calif. de crit.'!R2","v":""},{"$f":"'Calif. de crit.'!S2","v":""},{"$f":"'Calif. de crit.'!T2","v":""},{"$f":"'Calif. de crit.'!U2","v":""},{"$f":"'Calif. de crit.'!V2","v":""},{"$f":"'Calif. de crit.'!W2","v":""},{"$f":"'Calif. de crit.'!X2","v":""},{"$f":"'Calif. de crit.'!Y2","v":""},{"$f":"'Calif. de crit.'!Z2","v":""},{"$f":"'Calif. de crit.'!AA2","v":""},{"$f":"'Calif. de crit.'!AB2","v":""},{"$f":"'Calif. de crit.'!AC2","v":""},{"$f":"'Calif. de crit.'!AD2","v":""},{"$f":"'Calif. de crit.'!AE2","v":""},{"$f":"'Calif. de crit.'!AF2","v":""},{"$f":"'Calif. de crit.'!AG2","v":""},{"$f":"'Calif. de crit.'!AH2","v":""},{"$f":"'Calif. de crit.'!AI2","v":""},{"$f":"'Calif. de crit.'!AJ2","v":""},{"$f":"'Calif. de crit.'!AK2","v":""},{"$f":"'Calif. de crit.'!AL2","v":""},{"$f":"'Calif. de crit.'!AM2","v":""}]
[null,null,null,null,"Peso","%","% ajust.",{"$f":"IFERROR(SUMPRODUCT($E$4:$E$29,H4:H29)/SUMIF(H4:H29,\">=0\",$E$4:$E$29),\"\")","v":""},"","","","","","","","","","","","","","","","","","","","","","","","","","","","","","","","","",""]
[null,"Lengua Castellana y Literatura","Comp. Esp. 1","Criterio Evaluación 1.1",1,{"$f":"E4/E$30","v":3.8461538461538464E-2},{"$f":"IF(AQ4<>35,F4/$G$31,\"\")","v":""},null,null,null,null,null,null,null,null,null,null,null,null,null,null,null,null,null,null,null,null,null,null,null,null,null,null,null,null,null,null,null,null,null,null,null,{"$f":"COUNTIF(H4:AP4,\"\")","v":35}]
[null,null,null,"Criterio Evaluación 1.2",1,3.8461538461538464E-2,"",null,null,null,null,null,null,null,null,null,null,null,null,null,null,null,null,null,null,null,null,null,null,null,null,null,null,null,null,null,null,null,null,null,null,null,35]
[null,null,"Comp. Esp. 2","Criterio Evaluación 2.1",1,3.8461538461538464E-2,"",null,null,null,null,null,null,null,null,null,null,null,null,null,null,null,null,null,null,null,null,null,null,null,null,null,null,null,null,null,null,null,null,null,null,null,35]
[null,null,null,"Criterio Evaluación 2.2",1,3.8461538461538464E-2,"",null,null,null,null,null,null,null,null,null,null,null,null,null,null,null,null,null,null,null,null,null,null,null,null,null,null,null,null,null,null,null,null,null,null,null,35]
[null,null,"Comp. Esp. 3","Criterio Evaluación 3.1",1,3.8461538461538464E-2,"",null,null,null,null,null,null,null,null,null,null,null,null,null,null,null,null,null,null,null,null,null,null,null,null,null,null,null,null,null,null,null,null,null,null,null,35]
[null,null,null,"Criterio Evaluación 3.2",1,3.8461538461538464E-2,"",null,null,null,null,null,null,null,null,null,null,null,null,null,null,null,null,null,null,null,null,null,null,null,null,null,null,null,null,null,null,null,null,null,null,null,35]
[null,null,null,"Criterio Evaluación 3.3",1,3.8461538461538464E-2,"",null,null,null,null,null,null,null,null,null,null,null,null,null,null,null,null,null,null,null,null,null,null,null,null,null,null,null,null,null,null,null,null,null,null,null,35]
[null,null,"Comp. Esp. 4","Criterio Evaluación 4.1",1,3.8461538461538464E-2,"",null,null,null,null,null,null,null,null,null,null,null,null,null,null,null,null,null,null,null,null,null,null,null,null,null,null,null,null,null,null,null,null,null,null,null,35]
[null,null,null,"Criterio Evaluación 4.2",1,3.8461538461538464E-2,"",null,null,null,null,null,null,null,null,null,null,null,null,null,null,null,null,null,null,null,null,null,null,null,null,null,null,null,null,null,null,null,null,null,null,null,35]
[null,null,null,"Criterio Evaluación 4.3",1,3.8461538461538464E-2,"",null,null,null,null,null,null,null,null,null,null,null,null,null,null,null,null,null,null,null,null,null,null,null,null,null,null,null,null,null,null,null,null,null,null,null,35]
[null,null,"Comp. Esp. 5","Criterio Evaluación 5.1",1,3.8461538461538464E-2,"",null,null,null,null,null,null,null,null,null,null,null,null,null,null,null,null,null,null,null,null,null,null,null,null,null,null,null,null,null,null,null,null,null,null,null,35]
[null,null,null,"Criterio Evaluación 5.2",1,3.8461538461538464E-2,"",null,null,null,null,null,null,null,null,null,null,null,null,null,null,null,null,null,null,null,null,null,null,null,null,null,null,null,null,null,null,null,null,null,null,null,35]
[null,null,"Comp. Esp. 6","Criterio Evaluación 6.1",1,3.8461538461538464E-2,"",null,null,null,null,null,null,null,null,null,null,null,null,null,null,null,null,null,null,null,null,null,null,null,null,null,null,null,null,null,null,null,null,null,null,null,35]
[null,null,null,"Criterio Evaluación 6.2",1,3.8461538461538464E-2,"",null,null,null,null,null,null,null,null,null,null,null,null,null,null,null,null,null,null,null,null,null,null,null,null,null,null,null,null,null,null,null,null,null,null,null,35]
[null,null,null,"Criterio Evaluación 6.3",1,3.8461538461538464E-2,"",null,null,null,null,null,null,null,null,null,null,null,null,null,null,null,null,null,null,null,null,null,null,null,null,null,null,null,null,null,null,null,null,null,null,null,35]
[null,null,null,"Criterio Evaluación 6.4",1,3.8461538461538464E-2,"",null,null,null,null,null,null,null,null,null,null,null,null,null,null,null,null,null,null,null,null,null,null,null,null,null,null,null,null,null,null,null,null,null,null,null,35]
[null,null,"Comp. Esp. 7","Criterio Evaluación 7.1",1,3.8461538461538464E-2,"",null,null,null,null,null,null,null,null,null,null,null,null,null,null,null,null,null,null,null,null,null,null,null,null,null,null,null,null,null,null,null,null,null,null,null,35]
[null,null,null,"Criterio Evaluación 7.2",1,3.8461538461538464E-2,"",null,null,null,null,null,null,null,null,null,null,null,null,null,null,null,null,null,null,null,null,null,null,null,null,null,null,null,null,null,null,null,null,null,null,null,35]
[null,null,null,"Criterio Evaluación 7.3",1,3.8461538461538464E-2,"",null,null,null,null,null,null,null,null,null,null,null,null,null,null,null,null,null,null,null,null,null,null,null,null,null,null,null,null,null,null,null,null,null,null,null,35]
[null,null,"Comp. Esp. 8","Criterio Evaluación 8.1",1,3.8461538461538464E-2,"",null,null,null,null,null,null,null,null,null,null,null,null,null,null,null,null,null,null,null,null,null,null,null,null,null,null,null,null,null,null,null,null,null,null,null,35]
[null,null,null,"Criterio Evaluación 8.2",1,3.8461538461538464E-2,"",null,null,null,null,null,null,null,null,null,null,null,null,null,null,null,null,null,null,null,null,null,null,null,null,null,null,null,null,null,null,null,null,null,null,null,35]
[null,null,null,"Criterio Evaluación 8.3",1,3.8461538461538464E-2,"",null,null,null,null,null,null,null,null,null,null,null,null,null,null,null,null,null,null,null,null,null,null,null,null,null,null,null,null,null,null,null,null,null,null,null,35]
[null,null,"Comp. Esp. 9","Criterio Evaluación 9.1",1,3.8461538461538464E-2,"",null,null,null,null,null,null,null,null,null,null,null,null,null,null,null,null,null,null,null,null,null,null,null,null,null,null,null,null,null,null,null,null,null,null,null,35]
[null,null,null,"Criterio Evaluación 9.2",1,3.8461538461538464E-2,"",null,null,null,null,null,null,null,null,null,null,null,null,null,null,null,null,null,null,null,null,null,null,null,null,null,null,null,null,null,null,null,null,null,null,null,35]
[null,null,"Comp. Esp. 10","Criterio Evaluación 10.1",1,3.8461538461538464E-2,"",null,null,null,null,null,null,null,null,null,null,null,null,null,null,null,null,null,null,null,null,null,null,null,null,null,null,null,null,null,null,null,null,null,null,null,35]
[null,null,null,"Criterio Evaluación 10.2",1,3.8461538461538464E-2,"",null,null,null,null,null,null,null,null,null,null,null,null,null,null,null,null,null,null,null,null,null,null,null,null,null,null,null,null,null,null,null,null,null,null,null,35]
[null,null,null,null,{"$f":"SUM(E4:E29)","v":26},{"$f":"SUM(F4:F29)","v":0.99999999999999956},{"$f":"SUM(G4:G29)","v":0}]
[null,null,null,null,null,null,{"$f":"SUMIF(AQ4:AQ29,\"<>35\",$F$4:$F$29)","v":0}]

{"sheet":"Lengua extranjera","index":16,"n_rows":20,"n_cols":43,"rows_kept":20,"cut":false,"hidden":false,"merged":[[1,1,1,3],[2,1,2,3],[3,1,17,1],[3,2,4,2],[5,2,7,2],[8,2,9,2],[10,2,11,2],[12,2,14,2],[15,2,17,2]]}
[]
[null,null,null,null,null,null,null,{"$f":"'Calif. de crit.'!E2","v":"Nombre_Alumno_1"},{"$f":"'Calif. de crit.'!F2","v":"Nombre_Alumno_2"},{"$f":"'Calif. de crit.'!G2","v":"Nombre_Alumno_3"},{"$f":"'Calif. de crit.'!H2","v":"Nombre_Alumno_4"},{"$f":"'Calif. de crit.'!I2","v":"Nombre_Alumno_5"},{"$f":"'Calif. de crit.'!J2","v":"Nombre_Alumno_6"},{"$f":"'Calif. de crit.'!K2","v":"Nombre_Alumno_7"},{"$f":"'Calif. de crit.'!L2","v":"Nombre_Alumno_8"},{"$f":"'Calif. de crit.'!M2","v":"Nombre_Alumno_9"},{"$f":"'Calif. de crit.'!N2","v":"Nombre_Alumno_10"},{"$f":"'Calif. de crit.'!O2","v":""},{"$f":"'Calif. de crit.'!P2","v":""},{"$f":"'Calif. de crit.'!Q2","v":""},{"$f":"'Calif. de crit.'!R2","v":""},{"$f":"'Calif. de crit.'!S2","v":""},{"$f":"'Calif. de crit.'!T2","v":""},{"$f":"'Calif. de crit.'!U2","v":""},{"$f":"'Calif. de crit.'!V2","v":""},{"$f":"'Calif. de crit.'!W2","v":""},{"$f":"'Calif. de crit.'!X2","v":""},{"$f":"'Calif. de crit.'!Y2","v":""},{"$f":"'Calif. de crit.'!Z2","v":""},{"$f":"'Calif. de crit.'!AA2","v":""},{"$f":"'Calif. de crit.'!AB2","v":""},{"$f":"'Calif. de crit.'!AC2","v":""},{"$f":"'Calif. de crit.'!AD2","v":""},{"$f":"'Calif. de crit.'!AE2","v":""},{"$f":"'Calif. de crit.'!AF2","v":""},{"$f":"'Calif. de crit.'!AG2","v":""},{"$f":"'Calif. de crit.'!AH2","v":""},{"$f":"'Calif. de crit.'!AI2","v":""},{"$f":"'Calif. de crit.'!AJ2","v":""},{"$f":"'Calif. de crit.'!AK2","v":""},{"$f":"'Calif. de crit.'!AL2","v":""},{"$f":"'Calif. de crit.'!AM2","v":""}]
[null,null,null,null,"Peso","%","% ajust.",{"$f":"IFERROR(SUMPRODUCT($E$4:$E$18,H4:H18)/SUMIF(H4:H18,\">=0\",$E$4:$E$18),\"\")","v":""},"","","","","","","","","","","","","","","","","","","","","","","","","","","","","","","","","",""]
[null,"Lengua Extranjera","Comp. Esp. 1","Criterio Evaluación 1.1",1,{"$f":"E4/E$19","v":6.6666666666666666E-2},{"$f":"IF(AQ4<>35,F4/$G$20,\"\")","v":""},null,null,null,null,null,null,null,null,null,null,null,null,null,null,null,null,null,null,null,null,null,null,null,null,null,null,null,null,null,null,null,null,null,null,null,{"$f":"COUNTIF(H4:AP4,\"\")","v":35}]
[null,null,null,"Criterio Evaluación 1.2",1,6.6666666666666666E-2,"",null,null,null,null,null,null,null,null,null,null,null,null,null,null,null,null,null,null,null,null,null,null,null,null,null,null,null,null,null,null,null,null,null,null,null,35]
[null,null,"Comp. Esp. 2","Criterio Evaluación 2.1",1,6.6666666666666666E-2,"",null,null,null,null,null,null,null,null,null,null,null,null,null,null,null,null,null,null,null,null,null,null,null,null,null,null,null,null,null,null,null,null,null,null,null,35]
[null,null,null,"Criterio Evaluación 2.2",1,6.6666666666666666E-2,"",null,null,null,null,null,null,null,null,null,null,null,null,null,null,null,null,null,null,null,null,null,null,null,null,null,null,null,null,null,null,null,null,null,null,null,35]
[null,null,null,"Criterio Evaluación 2.3",1,6.6666666666666666E-2,"",null,null,null,null,null,null,null,null,null,null,null,null,null,null,null,null,null,null,null,null,null,null,null,null,null,null,null,null,null,null,null,null,null,null,null,35]
[null,null,"Comp. Esp. 3","Criterio Evaluación 3.1",1,6.6666666666666666E-2,"",null,null,null,null,null,null,null,null,null,null,null,null,null,null,null,null,null,null,null,null,null,null,null,null,null,null,null,null,null,null,null,null,null,null,null,35]
[null,null,null,"Criterio Evaluación 3.2",1,6.6666666666666666E-2,"",null,null,null,null,null,null,null,null,null,null,null,null,null,null,null,null,null,null,null,null,null,null,null,null,null,null,null,null,null,null,null,null,null,null,null,35]
[null,null,"Comp. Esp. 4","Criterio Evaluación 4.1",1,6.6666666666666666E-2,"",null,null,null,null,null,null,null,null,null,null,null,null,null,null,null,null,null,null,null,null,null,null,null,null,null,null,null,null,null,null,null,null,null,null,null,35]
[null,null,null,"Criterio Evaluación 4.2",1,6.6666666666666666E-2,"",null,null,null,null,null,null,null,null,null,null,null,null,null,null,null,null,null,null,null,null,null,null,null,null,null,null,null,null,null,null,null,null,null,null,null,35]
[null,null,"Comp. Esp. 5","Criterio Evaluación 5.1",1,6.6666666666666666E-2,"",null,null,null,null,null,null,null,null,null,null,null,null,null,null,null,null,null,null,null,null,null,null,null,null,null,null,null,null,null,null,null,null,null,null,null,35]
[null,null,null,"Criterio Evaluación 5.2",1,6.6666666666666666E-2,"",null,null,null,null,null,null,null,null,null,null,null,null,null,null,null,null,null,null,null,null,null,null,null,null,null,null,null,null,null,null,null,null,null,null,null,35]
[null,null,null,"Criterio Evaluación 5.3",1,6.6666666666666666E-2,"",null,null,null,null,null,null,null,null,null,null,null,null,null,null,null,null,null,null,null,null,null,null,null,null,null,null,null,null,null,null,null,null,null,null,null,35]
[null,null,"Comp. Esp. 6","Criterio Evaluación 6.1",1,6.6666666666666666E-2,"",null,null,null,null,null,null,null,null,null,null,null,null,null,null,null,null,null,null,null,null,null,null,null,null,null,null,null,null,null,null,null,null,null,null,null,35]
[null,null,null,"Criterio Evaluación 6.2",1,6.6666666666666666E-2,"",null,null,null,null,null,null,null,null,null,null,null,null,null,null,null,null,null,null,null,null,null,null,null,null,null,null,null,null,null,null,null,null,null,null,null,35]
[null,null,null,"Criterio Evaluación 6.3",1,6.6666666666666666E-2,"",null,null,null,null,null,null,null,null,null,null,null,null,null,null,null,null,null,null,null,null,null,null,null,null,null,null,null,null,null,null,null,null,null,null,null,35]
[null,null,null,null,{"$f":"SUM(E4:E18)","v":15},{"$f":"SUM(F4:F18)","v":0.99999999999999989},{"$f":"SUM(G4:G18)","v":0}]
[null,null,null,null,null,null,{"$f":"SUMIF(AQ4:AQ18,\"<>35\",$F$4:$F$18)","v":0}]

{"sheet":"Matematicas","index":17,"n_rows":23,"n_cols":43,"rows_kept":23,"cut":false,"hidden":false,"merged":[[15,2,16,2],[17,2,18,2],[19,2,20,2],[1,1,1,3],[2,1,2,3],[3,1,20,1],[3,2,4,2],[5,2,8,2],[9,2,10,2],[11,2,12,2],[13,2,14,2]]}
[]
[null,null,null,null,null,null,null,{"$f":"'Calif. de crit.'!E2","v":"Nombre_Alumno_1"},{"$f":"'Calif. de crit.'!F2","v":"Nombre_Alumno_2"},{"$f":"'Calif. de crit.'!G2","v":"Nombre_Alumno_3"},{"$f":"'Calif. de crit.'!H2","v":"Nombre_Alumno_4"},{"$f":"'Calif. de crit.'!I2","v":"Nombre_Alumno_5"},{"$f":"'Calif. de crit.'!J2","v":"Nombre_Alumno_6"},{"$f":"'Calif. de crit.'!K2","v":"Nombre_Alumno_7"},{"$f":"'Calif. de crit.'!L2","v":"Nombre_Alumno_8"},{"$f":"'Calif. de crit.'!M2","v":"Nombre_Alumno_9"},{"$f":"'Calif. de crit.'!N2","v":"Nombre_Alumno_10"},{"$f":"'Calif. de crit.'!O2","v":""},{"$f":"'Calif. de crit.'!P2","v":""},{"$f":"'Calif. de crit.'!Q2","v":""},{"$f":"'Calif. de crit.'!R2","v":""},{"$f":"'Calif. de crit.'!S2","v":""},{"$f":"'Calif. de crit.'!T2","v":""},{"$f":"'Calif. de crit.'!U2","v":""},{"$f":"'Calif. de crit.'!V2","v":""},{"$f":"'Calif. de crit.'!W2","v":""},{"$f":"'Calif. de crit.'!X2","v":""},{"$f":"'Calif. de crit.'!Y2","v":""},{"$f":"'Calif. de crit.'!Z2","v":""},{"$f":"'Calif. de crit.'!AA2","v":""},{"$f":"'Calif. de crit.'!AB2","v":""},{"$f":"'Calif. de crit.'!AC2","v":""},{"$f":"'Calif. de crit.'!AD2","v":""},{"$f":"'Calif. de crit.'!AE2","v":""},{"$f":"'Calif. de crit.'!AF2","v":""},{"$f":"'Calif. de crit.'!AG2","v":""},{"$f":"'Calif. de crit.'!AH2","v":""},{"$f":"'Calif. de crit.'!AI2","v":""},{"$f":"'Calif. de crit.'!AJ2","v":""},{"$f":"'Calif. de crit.'!AK2","v":""},{"$f":"'Calif. de crit.'!AL2","v":""},{"$f":"'Calif. de crit.'!AM2","v":""}]
[null,null,null,null,"Peso","%","% ajust.",{"$f":"IFERROR(SUMPRODUCT($E$4:$E$21,H4:H21)/SUMIF(H4:H21,\">=0\",$E$4:$E$21),\"\")","v":""},"","","","","","","","","","","","","","","","","","","","","","","","","","","","","","","","","",""]
[null,"Matemáticas","Comp. Esp. 1","Criterio Evaluación 1.1",1,{"$f":"E4/E$22","v":5.5555555555555552E-2},{"$f":"IF(AQ4<>35,F4/$G$23,\"\")","v":""},null,null,null,null,null,null,null,null,null,null,null,null,null,null,null,null,null,null,null,null,null,null,null,null,null,null,null,null,null,null,null,null,null,null,null,{"$f":"COUNTIF(H4:AP4,\"\")","v":35}]
[null,null,null,"Criterio Evaluación 1.2",1,5.5555555555555552E-2,"",null,null,null,null,null,null,null,null,null,null,null,null,null,null,null,null,null,null,null,null,null,null,null,null,null,null,null,null,null,null,null,null,null,null,null,35]
[null,null,"Comp. Esp. 2","Criterio Evaluación 2.1",1,5.5555555555555552E-2,"",null,null,null,null,null,null,null,null,null,null,null,null,null,null,null,null,null,null,null,null,null,null,null,null,null,null,null,null,null,null,null,null,null,null,null,35]
[null,null,null,"Criterio Evaluación 2.2",1,5.5555555555555552E-2,"",null,null,null,null,null,null,null,null,null,null,null,null,null,null,null,null,null,null,null,null,null,null,null,null,null,null,null,null,null,null,null,null,null,null,null,35]
[null,null,null,"Criterio Evaluación 2.3",1,5.5555555555555552E-2,"",null,null,null,null,null,null,null,null,null,null,null,null,null,null,null,null,null,null,null,null,null,null,null,null,null,null,null,null,null,null,null,null,null,null,null,35]
[null,null,null,"Criterio Evaluación 2.4",1,5.5555555555555552E-2,"",null,null,null,null,null,null,null,null,null,null,null,null,null,null,null,null,null,null,null,null,null,null,null,null,null,null,null,null,null,null,null,null,null,null,null,35]
[null,null,"Comp. Esp. 3","Criterio Evaluación 3.1",1,5.5555555555555552E-2,"",null,null,null,null,null,null,null,null,null,null,null,null,null,null,null,null,null,null,null,null,null,null,null,null,null,null,null,null,null,null,null,null,null,null,null,35]
[null,null,null,"Criterio Evaluación 3.2",1,5.5555555555555552E-2,"",null,null,null,null,null,null,null,null,null,null,null,null,null,null,null,null,null,null,null,null,null,null,null,null,null,null,null,null,null,null,null,null,null,null,null,35]
[null,null,"Comp. Esp. 4","Criterio Evaluación 4.1",1,5.5555555555555552E-2,"",null,null,null,null,null,null,null,null,null,null,null,null,null,null,null,null,null,null,null,null,null,null,null,null,null,null,null,null,null,null,null,null,null,null,null,35]
[null,null,null,"Criterio Evaluación 4.2",1,5.5555555555555552E-2,"",null,null,null,null,null,null,null,null,null,null,null,null,null,null,null,null,null,null,null,null,null,null,null,null,null,null,null,null,null,null,null,null,null,null,null,35]
[null,null,"Comp. Esp. 5","Criterio Evaluación 5.1",1,5.5555555555555552E-2,"",null,null,null,null,null,null,null,null,null,null,null,null,null,null,null,null,null,null,null,null,null,null,null,null,null,null,null,null,null,null,null,null,null,null,null,35]
[null,null,null,"Criterio Evaluación 5.2",1,5.5555555555555552E-2,"",null,null,null,null,null,null,null,null,null,null,null,null,null,null,null,null,null,null,null,null,null,null,null,null,null,null,null,null,null,null,null,null,null,null,null,35]
[null,null,"Comp. Esp. 6","Criterio Evaluación 6.1",1,5.5555555555555552E-2,"",null,null,null,null,null,null,null,null,null,null,null,null,null,null,null,null,null,null,null,null,null,null,null,null,null,null,null,null,null,null,null,null,null,null,null,35]
[null,null,null,"Criterio Evaluación 6.2",1,5.5555555555555552E-2,"",null,null,null,null,null,null,null,null,null,null,null,null,null,null,null,null,null,null,null,null,null,null,null,null,null,null,null,null,null,null,null,null,null,null,null,35]
[null,null,"Comp. Esp. 7","Criterio Evaluación 7.1",1,5.5555555555555552E-2,"",null,null,null,null,null,null,null,null,null,null,null,null,null,null,null,null,null,null,null,null,null,null,null,null,null,null,null,null,null,null,null,null,null,null,null,35]
[null,null,null,"Criterio Evaluación 7.2",1,5.5555555555555552E-2,"",null,null,null,null,null,null,null,null,null,null,null,null,null,null,null,null,null,null,null,null,null,null,null,null,null,null,null,null,null,null,null,null,null,null,null,35]
[null,null,"Comp. Esp. 8","Criterio Evaluación 8.1",1,5.5555555555555552E-2,"",null,null,null,null,null,null,null,null,null,null,null,null,null,null,null,null,null,null,null,null,null,null,null,null,null,null,null,null,null,null,null,null,null,null,null,35]
[null,null,null,"Criterio Evaluación 8.2",1,5.5555555555555552E-2,"",null,null,null,null,null,null,null,null,null,null,null,null,null,null,null,null,null,null,null,null,null,null,null,null,null,null,null,null,null,null,null,null,null,null,null,35]
[null,null,null,null,{"$f":"SUM(E4:E21)","v":18},{"$f":"SUM(F4:F21)","v":1.0000000000000002},{"$f":"SUM(G4:G21)","v":0}]
[null,null,null,null,null,null,{"$f":"SUMIF(AQ4:AQ21,\"<>35\",$F$4:$F$21)","v":0}]

{"sheet":"Musica y Danza","index":18,"n_rows":22,"n_cols":43,"rows_kept":22,"cut":false,"hidden":false,"merged":[[1,1,1,3],[2,1,2,3],[3,1,19,1],[3,2,5,2],[6,2,8,2],[9,2,11,2],[12,2,14,2],[15,2,19,2]]}
[]
[null,null,null,null,null,null,null,{"$f":"'Calif. de crit.'!E2","v":"Nombre_Alumno_1"},{"$f":"'Calif. de crit.'!F2","v":"Nombre_Alumno_2"},{"$f":"'Calif. de crit.'!G2","v":"Nombre_Alumno_3"},{"$f":"'Calif. de crit.'!H2","v":"Nombre_Alumno_4"},{"$f":"'Calif. de crit.'!I2","v":"Nombre_Alumno_5"},{"$f":"'Calif. de crit.'!J2","v":"Nombre_Alumno_6"},{"$f":"'Calif. de crit.'!K2","v":"Nombre_Alumno_7"},{"$f":"'Calif. de crit.'!L2","v":"Nombre_Alumno_8"},{"$f":"'Calif. de crit.'!M2","v":"Nombre_Alumno_9"},{"$f":"'Calif. de crit.'!N2","v":"Nombre_Alumno_10"},{"$f":"'Calif. de crit.'!O2","v":""},{"$f":"'Calif. de crit.'!P2","v":""},{"$f":"'Calif. de crit.'!Q2","v":""},{"$f":"'Calif. de crit.'!R2","v":""},{"$f":"'Calif. de crit.'!S2","v":""},{"$f":"'Calif. de crit.'!T2","v":""},{"$f":"'Calif. de crit.'!U2","v":""},{"$f":"'Calif. de crit.'!V2","v":""},{"$f":"'Calif. de crit.'!W2","v":""},{"$f":"'Calif. de crit.'!X2","v":""},{"$f":"'Calif. de crit.'!Y2","v":""},{"$f":"'Calif. de crit.'!Z2","v":""},{"$f":"'Calif. de crit.'!AA2","v":""},{"$f":"'Calif. de crit.'!AB2","v":""},{"$f":"'Calif. de crit.'!AC2","v":""},{"$f":"'Calif. de crit.'!AD2","v":""},{"$f":"'Calif. de crit.'!AE2","v":""},{"$f":"'Calif. de crit.'!AF2","v":""},{"$f":"'Calif. de crit.'!AG2","v":""},{"$f":"'Calif. de crit.'!AH2","v":""},{"$f":"'Calif. de crit.'!AI2","v":""},{"$f":"'Calif. de crit.'!AJ2","v":""},{"$f":"'Calif. de crit.'!AK2","v":""},{"$f":"'Calif. de crit.'!AL2","v":""},{"$f":"'Calif. de crit.'!AM2","v":""}]
[null,null,null,null,"Peso","%","% ajust.",{"$f":"IFERROR(SUMPRODUCT($E$4:$E$20,H4:H20)/SUMIF(H4:H20,\">=0\",$E$4:$E$20),\"\")","v":""},"","","","","","","","","","","","","","","","","","","","","","","","","","","","","","","","","",""]
[null,"Música y Danza","Comp. Esp. 1","Criterio Evaluación 1.1",1,{"$f":"E4/E$21","v":5.8823529411764705E-2},{"$f":"IF(AQ4<>35,F4/$G$22,\"\")","v":""},null,null,null,null,null,null,null,null,null,null,null,null,null,null,null,null,null,null,null,null,null,null,null,null,null,null,null,null,null,null,null,null,null,null,null,{"$f":"COUNTIF(H4:AP4,\"\")","v":35}]
[null,null,null,"Criterio Evaluación 1.2",1,5.8823529411764705E-2,"",null,null,null,null,null,null,null,null,null,null,null,null,null,null,null,null,null,null,null,null,null,null,null,null,null,null,null,null,null,null,null,null,null,null,null,35]
[null,null,null,"Criterio Evaluación 1.3",1,5.8823529411764705E-2,"",null,null,null,null,null,null,null,null,null,null,null,null,null,null,null,null,null,null,null,null,null,null,null,null,null,null,null,null,null,null,null,null,null,null,null,35]
[null,null,"Comp. Esp. 2","Criterio Evaluación 2.1",1,5.8823529411764705E-2,"",null,null,null,null,null,null,null,null,null,null,null,null,null,null,null,null,null,null,null,null,null,null,null,null,null,null,null,null,null,null,null,null,null,null,null,35]
[null,null,null,"Criterio Evaluación 2.2",1,5.8823529411764705E-2,"",null,null,null,null,null,null,null,null,null,null,null,null,null,null,null,null,null,null,null,null,null,null,null,null,null,null,null,null,null,null,null,null,null,null,null,35]
[null,null,null,"Criterio Evaluación 2.3",1,5.8823529411764705E-2,"",null,null,null,null,null,null,null,null,null,null,null,null,null,null,null,null,null,null,null,null,null,null,null,null,null,null,null,null,null,null,null,null,null,null,null,35]
[null,null,"Comp. Esp. 3","Criterio Evaluación 3.1",1,5.8823529411764705E-2,"",null,null,null,null,null,null,null,null,null,null,null,null,null,null,null,null,null,null,null,null,null,null,null,null,null,null,null,null,null,null,null,null,null,null,null,35]
[null,null,null,"Criterio Evaluación 3.2",1,5.8823529411764705E-2,"",null,null,null,null,null,null,null,null,null,null,null,null,null,null,null,null,null,null,null,null,null,null,null,null,null,null,null,null,null,null,null,null,null,null,null,35]
[null,null,null,"Criterio Evaluación 3.3",1,5.8823529411764705E-2,"",null,null,null,null,null,null,null,null,null,null,null,null,null,null,null,null,null,null,null,null,null,null,null,null,null,null,null,null,null,null,null,null,null,null,null,35]
[null,null,"Comp. Esp. 4","Criterio Evaluación 4.1",1,5.8823529411764705E-2,"",null,null,null,null,null,null,null,null,null,null,null,null,null,null,null,null,null,null,null,null,null,null,null,null,null,null,null,null,null,null,null,null,null,null,null,35]
[null,null,null,"Criterio Evaluación 4.2",1,5.8823529411764705E-2,"",null,null,null,null,null,null,null,null,null,null,null,null,null,null,null,null,null,null,null,null,null,null,null,null,null,null,null,null,null,null,null,null,null,null,null,35]
[null,null,null,"Criterio Evaluación 4.3",1,5.8823529411764705E-2,"",null,null,null,null,null,null,null,null,null,null,null,null,null,null,null,null,null,null,null,null,null,null,null,null,null,null,null,null,null,null,null,null,null,null,null,35]
[null,null,"Comp. Esp. 5","Criterio Evaluación 5.1",1,5.8823529411764705E-2,"",null,null,null,null,null,null,null,null,null,null,null,null,null,null,null,null,null,null,null,null,null,null,null,null,null,null,null,null,null,null,null,null,null,null,null,35]
[null,null,null,"Criterio Evaluación 5.2",1,5.8823529411764705E-2,"",null,null,null,null,null,null,null,null,null,null,null,null,null,null,null,null,null,null,null,null,null,null,null,null,null,null,null,null,null,null,null,null,null,null,null,35]
[null,null,null,"Criterio Evaluación 5.3",1,5.8823529411764705E-2,"",null,null,null,null,null,null,null,null,null,null,null,null,null,null,null,null,null,null,null,null,null,null,null,null,null,null,null,null,null,null,null,null,null,null,null,35]
[null,null,null,"Criterio Evaluación 5.4",1,5.8823529411764705E-2,"",null,null,null,null,null,null,null,null,null,null,null,null,null,null,null,null,null,null,null,null,null,null,null,null,null,null,null,null,null,null,null,null,null,null,null,35]
[null,null,null,"Criterio Evaluación 5.5",1,5.8823529411764705E-2,"",null,null,null,null,null,null,null,null,null,null,null,null,null,null,null,null,null,null,null,null,null,null,null,null,null,null,null,null,null,null,null,null,null,null,null,35]
[null,null,null,null,{"$f":"SUM(E4:E20)","v":17},{"$f":"SUM(F4:F20)","v":1},{"$f":"SUM(G4:G20)","v":0}]
[null,null,null,null,null,null,{"$f":"SUMIF(AQ4:AQ20,\"<>35\",$F$4:$F$20)","v":0}]

{"sheet":"Religion","index":19,"n_rows":11,"n_cols":43,"rows_kept":11,"cut":false,"hidden":false,"merged":[[1,1,1,3],[2,1,2,3],[3,1,8,1]]}
[]
[null,null,null,null,null,null,null,{"$f":"'Calif. de crit.'!E2","v":"Nombre_Alumno_1"},{"$f":"'Calif. de crit.'!F2","v":"Nombre_Alumno_2"},{"$f":"'Calif. de crit.'!G2","v":"Nombre_Alumno_3"},{"$f":"'Calif. de crit.'!H2","v":"Nombre_Alumno_4"},{"$f":"'Calif. de crit.'!I2","v":"Nombre_Alumno_5"},{"$f":"'Calif. de crit.'!J2","v":"Nombre_Alumno_6"},{"$f":"'Calif. de crit.'!K2","v":"Nombre_Alumno_7"},{"$f":"'Calif. de crit.'!L2","v":"Nombre_Alumno_8"},{"$f":"'Calif. de crit.'!M2","v":"Nombre_Alumno_9"},{"$f":"'Calif. de crit.'!N2","v":"Nombre_Alumno_10"},{"$f":"'Calif. de crit.'!O2","v":""},{"$f":"'Calif. de crit.'!P2","v":""},{"$f":"'Calif. de crit.'!Q2","v":""},{"$f":"'Calif. de crit.'!R2","v":""},{"$f":"'Calif. de crit.'!S2","v":""},{"$f":"'Calif. de crit.'!T2","v":""},{"$f":"'Calif. de crit.'!U2","v":""},{"$f":"'Calif. de crit.'!V2","v":""},{"$f":"'Calif. de crit.'!W2","v":""},{"$f":"'Calif. de crit.'!X2","v":""},{"$f":"'Calif. de crit.'!Y2","v":""},{"$f":"'Calif. de crit.'!Z2","v":""},{"$f":"'Calif. de crit.'!AA2","v":""},{"$f":"'Calif. de crit.'!AB2","v":""},{"$f":"'Calif. de crit.'!AC2","v":""},{"$f":"'Calif. de crit.'!AD2","v":""},{"$f":"'Calif. de crit.'!AE2","v":""},{"$f":"'Calif. de crit.'!AF2","v":""},{"$f":"'Calif. de crit.'!AG2","v":""},{"$f":"'Calif. de crit.'!AH2","v":""},{"$f":"'Calif. de crit.'!AI2","v":""},{"$f":"'Calif. de crit.'!AJ2","v":""},{"$f":"'Calif. de crit.'!AK2","v":""},{"$f":"'Calif. de crit.'!AL2","v":""},{"$f":"'Calif. de crit.'!AM2","v":""}]
[null,null,null,null,"Peso","%","% ajust.",{"$f":"IFERROR(SUMPRODUCT($E$4:$E$9,H4:H9)/SUMIF(H4:H9,\">=0\",$E$4:$E$9),\"\")","v":""},"","","","","","","","","","","","","","","","","","","","","","","","","","","","","","","","","",""]
[null,"Religión","Comp. Esp. 1","Criterio Evaluación 1.4",1,{"$f":"E4/E$10","v":0.16666666666666666},{"$f":"IF(AQ4<>35,F4/$G$11,\"\")","v":""},null,null,null,null,null,null,null,null,null,null,null,null,null,null,null,null,null,null,null,null,null,null,null,null,null,null,null,null,null,null,null,null,null,null,null,{"$f":"COUNTIF(H4:AP4,\"\")","v":35}]
[null,null,"Comp. Esp. 2","Criterio Evaluación 2.4",1,0.16666666666666666,"",null,null,null,null,null,null,null,null,null,null,null,null,null,null,null,null,null,null,null,null,null,null,null,null,null,null,null,null,null,null,null,null,null,null,null,35]
[null,null,"Comp. Esp. 3","Criterio Evaluación 3.4",1,0.16666666666666666,"",null,null,null,null,null,null,null,null,null,null,null,null,null,null,null,null,null,null,null,null,null,null,null,null,null,null,null,null,null,null,null,null,null,null,null,35]
[null,null,"Comp. Esp. 4","Criterio Evaluación 4.4",1,0.16666666666666666,"",null,null,null,null,null,null,null,null,null,null,null,null,null,null,null,null,null,null,null,null,null,null,null,null,null,null,null,null,null,null,null,null,null,null,null,35]
[null,null,"Comp. Esp. 5","Criterio Evaluación 5.4",1,0.16666666666666666,"",null,null,null,null,null,null,null,null,null,null,null,null,null,null,null,null,null,null,null,null,null,null,null,null,null,null,null,null,null,null,null,null,null,null,null,35]
[null,null,"Comp. Esp. 6","Criterio Evaluación 6.4",1,0.16666666666666666,"",null,null,null,null,null,null,null,null,null,null,null,null,null,null,null,null,null,null,null,null,null,null,null,null,null,null,null,null,null,null,null,null,null,null,null,35]
[null,null,null,null,{"$f":"SUM(E4:E9)","v":6},{"$f":"SUM(F4:F9)","v":0.99999999999999989},{"$f":"SUM(G4:G9)","v":0}]
[null,null,null,null,null,null,{"$f":"SUMIF(AQ4:AQ9,\"<>35\",$F$4:$F$9)","v":0}]

{"sheet":"Calificacion de comp,","index":20,"n_rows":41,"n_cols":15,"rows_kept":41,"cut":false,"hidden":false,"merged":[[2,14,2,16],[4,1,4,9]]}
[]
[null,null,null,null,null,null,null,null,null,null,null,null,"EXPORTACIÓN NOTAS COMPETENCIAS A STILUS"]
[null,null,null,null,null,null,null,null,null,null,null,null,"1º_Introduce las centésimas a partir de las que se realizará un redondeo al alza (valor entre 1 y 100):",90,"Ejemplo: si se marca 85, desde el 4,85 (inclusive) se redondeará a 5, Si se marca 100, el 4,99 se redondeará a 4"]
[null,null,null,null,null,null,null,null,null,null,null,null,"2º_Pulsa el siguiente botón:"]
[null,"COMPETENCIAS CLAVE"]
[null,"Apellidos y Nombre","CCL","CP","STEM","CD","CPSAA","CC","CE","CCEC"]
[null,{"$f":"IF(Alumnos!D6=\"\",\"\",Alumnos!D6)","v":"Nombre_Alumno_1"},"","","","","","","",""]
[null,{"$f":"IF(Alumnos!D7=\"\",\"\",Alumnos!D7)","v":"Nombre_Alumno_2"},"","","","","","","",""]
[null,{"$f":"IF(Alumnos!D8=\"\",\"\",Alumnos!D8)","v":"Nombre_Alumno_3"},"","","","","","","",""]
[null,{"$f":"IF(Alumnos!D9=\"\",\"\",Alumnos!D9)","v":"Nombre_Alumno_4"},"","","","","","","",""]
[null,{"$f":"IF(Alumnos!D10=\"\",\"\",Alumnos!D10)","v":"Nombre_Alumno_5"},"","","","","","","",""]
[null,{"$f":"IF(Alumnos!D11=\"\",\"\",Alumnos!D11)","v":"Nombre_Alumno_6"},"","","","","","","",""]
[null,{"$f":"IF(Alumnos!D12=\"\",\"\",Alumnos!D12)","v":"Nombre_Alumno_7"},"","","","","","","",""]
[null,{"$f":"IF(Alumnos!D13=\"\",\"\",Alumnos!D13)","v":"Nombre_Alumno_8"},"","","","","","","",""]
[null,{"$f":"IF(Alumnos!D14=\"\",\"\",Alumnos!D14)","v":"Nombre_Alumno_9"},"","","","","","","",""]
[null,{"$f":"IF(Alumnos!D15=\"\",\"\",Alumnos!D15)","v":"Nombre_Alumno_10"},"","","","","","","",""]
[null,{"$f":"IF(Alumnos!D16=\"\",\"\",Alumnos!D16)","v":""},"","","","","","","",""]
[null,{"$f":"IF(Alumnos!D17=\"\",\"\",Alumnos!D17)","v":""},"","","","","","","",""]
[null,{"$f":"IF(Alumnos!D18=\"\",\"\",Alumnos!D18)","v":""},"","","","","","","",""]
[null,{"$f":"IF(Alumnos!D19=\"\",\"\",Alumnos!D19)","v":""},"","","","","","","",""]
[null,{"$f":"IF(Alumnos!D20=\"\",\"\",Alumnos!D20)","v":""},"","","","","","","",""]
[null,{"$f":"IF(Alumnos!D21=\"\",\"\",Alumnos!D21)","v":""},"","","","","","","",""]
[null,{"$f":"IF(Alumnos!D22=\"\",\"\",Alumnos!D22)","v":""},"","","","","","","",""]
[null,{"$f":"IF(Alumnos!D23=\"\",\"\",Alumnos!D23)","v":""},"","","","","","","",""]
[null,{"$f":"IF(Alumnos!D24=\"\",\"\",Alumnos!D24)","v":""},"","","","","","","",""]
[null,{"$f":"IF(Alumnos!D25=\"\",\"\",Alumnos!D25)","v":""},"","","","","","","",""]
[null,{"$f":"IF(Alumnos!D26=\"\",\"\",Alumnos!D26)","v":""},"","","","","","","",""]
[null,{"$f":"IF(Alumnos!D27=\"\",\"\",Alumnos!D27)","v":""},"","","","","","","",""]
[null,{"$f":"IF(Alumnos!D28=\"\",\"\",Alumnos!D28)","v":""},"","","","","","","",""]
[null,{"$f":"IF(Alumnos!D29=\"\",\"\",Alumnos!D29)","v":""},"","","","","","","",""]
[null,{"$f":"IF(Alumnos!D30=\"\",\"\",Alumnos!D30)","v":""},"","","","","","","",""]
[null,{"$f":"IF(Alumnos!D31=\"\",\"\",Alumnos!D31)","v":""},"","","","","","","",""]
[null,{"$f":"IF(Alumnos!D32=\"\",\"\",Alumnos!D32)","v":""},"","","","","","","",""]
[null,{"$f":"IF(Alumnos!D33=\"\",\"\",Alumnos!D33)","v":""},"","","","","","","",""]
[null,{"$f":"IF(Alumnos!D34=\"\",\"\",Alumnos!D34)","v":""},"","","","","","","",""]
[null,{"$f":"IF(Alumnos!D35=\"\",\"\",Alumnos!D35)","v":""},"","","","","","","",""]
[null,{"$f":"IF(Alumnos!D36=\"\",\"\",Alumnos!D36)","v":""},"","","","","","","",""]
[null,{"$f":"IF(Alumnos!D37=\"\",\"\",Alumnos!D37)","v":""},"","","","","","","",""]
[null,{"$f":"IF(Alumnos!D38=\"\",\"\",Alumnos!D38)","v":""},"","","","","","","",""]
[null,{"$f":"IF(Alumnos!D39=\"\",\"\",Alumnos!D39)","v":""},"","","","","","","",""]
[null,{"$f":"IF(Alumnos!D40=\"\",\"\",Alumnos!D40)","v":""},"","","","","","","",""]

{"sheet":"CSVcomp","index":21,"n_rows":36,"n_cols":9,"rows_kept":36,"cut":false,"hidden":false,"merged":[]}
["C_MATRICULA_ID",10,13,14,15,16,17,18,19]
[{"$f":"IF(Alumnos!E6=\"\",\"\",Alumnos!E6)","v":"0000000_1"},{"$f":"IFERROR(IF('Calificacion de comp,'!$N$3<=('Calificacion de comp,'!C7-INT('Calificacion de comp,'!C7))*100,INT('Calificacion de comp,'!C7)+1,INT('Calificacion de comp,'!C7)),\"\")","v":""},{"$f":"IFERROR(IF('Calificacion de comp,'!$N$3<=('Calificacion de comp,'!D7-INT('Calificacion de comp,'!D7))*100,INT('Calificacion de comp,'!D7)+1,INT('Calificacion de comp,'!D7)),\"\")","v":""},{"$f":"IFERROR(IF('Calificacion de comp,'!$N$3<=('Calificacion de comp,'!E7-INT('Calificacion de comp,'!E7))*100,INT('Calificacion de comp,'!E7)+1,INT('Calificacion de comp,'!E7)),\"\")","v":""},{"$f":"IFERROR(IF('Calificacion de comp,'!$N$3<=('Calificacion de comp,'!F7-INT('Calificacion de comp,'!F7))*100,INT('Calificacion de comp,'!F7)+1,INT('Calificacion de comp,'!F7)),\"\")","v":""},{"$f":"IFERROR(IF('Calificacion de comp,'!$N$3<=('Calificacion de comp,'!G7-INT('Calificacion de comp,'!G7))*100,INT('Calificacion de comp,'!G7)+1,INT('Calificacion de comp,'!G7)),\"\")","v":""},{"$f":"IFERROR(IF('Calificacion de comp,'!$N$3<=('Calificacion de comp,'!H7-INT('Calificacion de comp,'!H7))*100,INT('Calificacion de comp,'!H7)+1,INT('Calificacion de comp,'!H7)),\"\")","v":""},{"$f":"IFERROR(IF('Calificacion de comp,'!$N$3<=('Calificacion de comp,'!I7-INT('Calificacion de comp,'!I7))*100,INT('Calificacion de comp,'!I7)+1,INT('Calificacion de comp,'!I7)),\"\")","v":""},{"$f":"IFERROR(IF('Calificacion de comp,'!$N$3<=('Calificacion de comp,'!J7-INT('Calificacion de comp,'!J7))*100,INT('Calificacion de comp,'!J7)+1,INT('Calificacion de comp,'!J7)),\"\")","v":""}]
[{"$f":"IF(Alumnos!E7=\"\",\"\",Alumnos!E7)","v":"0000000_2"},{"$f":"IFERROR(IF('Calificacion de comp,'!$N$3<=('Calificacion de comp,'!C8-INT('Calificacion de comp,'!C8))*100,INT('Calificacion de comp,'!C8)+1,INT('Calificacion de comp,'!C8)),\"\")","v":""},{"$f":"IFERROR(IF('Calificacion de comp,'!$N$3<=('Calificacion de comp,'!D8-INT('Calificacion de comp,'!D8))*100,INT('Calificacion de comp,'!D8)+1,INT('Calificacion de comp,'!D8)),\"\")","v":""},{"$f":"IFERROR(IF('Calificacion de comp,'!$N$3<=('Calificacion de comp,'!E8-INT('Calificacion de comp,'!E8))*100,INT('Calificacion de comp,'!E8)+1,INT('Calificacion de comp,'!E8)),\"\")","v":""},{"$f":"IFERROR(IF('Calificacion de comp,'!$N$3<=('Calificacion de comp,'!F8-INT('Calificacion de comp,'!F8))*100,INT('Calificacion de comp,'!F8)+1,INT('Calificacion de comp,'!F8)),\"\")","v":""},{"$f":"IFERROR(IF('Calificacion de comp,'!$N$3<=('Calificacion de comp,'!G8-INT('Calificacion de comp,'!G8))*100,INT('Calificacion de comp,'!G8)+1,INT('Calificacion de comp,'!G8)),\"\")","v":""},{"$f":"IFERROR(IF('Calificacion de comp,'!$N$3<=('Calificacion de comp,'!H8-INT('Calificacion de comp,'!H8))*100,INT('Calificacion de comp,'!H8)+1,INT('Calificacion de comp,'!H8)),\"\")","v":""},{"$f":"IFERROR(IF('Calificacion de comp,'!$N$3<=('Calificacion de comp,'!I8-INT('Calificacion de comp,'!I8))*100,INT('Calificacion de comp,'!I8)+1,INT('Calificacion de comp,'!I8)),\"\")","v":""},{"$f":"IFERROR(IF('Calificacion de comp,'!$N$3<=('Calificacion de comp,'!J8-INT('Calificacion de comp,'!J8))*100,INT('Calificacion de comp,'!J8)+1,INT('Calificacion de comp,'!J8)),\"\")","v":""}]
[{"$f":"IF(Alumnos!E8=\"\",\"\",Alumnos!E8)","v":"0000000_3"},{"$f":"IFERROR(IF('Calificacion de comp,'!$N$3<=('Calificacion de comp,'!C9-INT('Calificacion de comp,'!C9))*100,INT('Calificacion de comp,'!C9)+1,INT('Calificacion de comp,'!C9)),\"\")","v":""},{"$f":"IFERROR(IF('Calificacion de comp,'!$N$3<=('Calificacion de comp,'!D9-INT('Calificacion de comp,'!D9))*100,INT('Calificacion de comp,'!D9)+1,INT('Calificacion de comp,'!D9)),\"\")","v":""},{"$f":"IFERROR(IF('Calificacion de comp,'!$N$3<=('Calificacion de comp,'!E9-INT('Calificacion de comp,'!E9))*100,INT('Calificacion de comp,'!E9)+1,INT('Calificacion de comp,'!E9)),\"\")","v":""},{"$f":"IFERROR(IF('Calificacion de comp,'!$N$3<=('Calificacion de comp,'!F9-INT('Calificacion de comp,'!F9))*100,INT('Calificacion de comp,'!F9)+1,INT('Calificacion de comp,'!F9)),\"\")","v":""},{"$f":"IFERROR(IF('Calificacion de comp,'!$N$3<=('Calificacion de comp,'!G9-INT('Calificacion de comp,'!G9))*100,INT('Calificacion de comp,'!G9)+1,INT('Calificacion de comp,'!G9)),\"\")","v":""},{"$f":"IFERROR(IF('Calificacion de comp,'!$N$3<=('Calificacion de comp,'!H9-INT('Calificacion de comp,'!H9))*100,INT('Calificacion de comp,'!H9)+1,INT('Calificacion de comp,'!H9)),\"\")","v":""},{"$f":"IFERROR(IF('Calificacion de comp,'!$N$3<=('Calificacion de comp,'!I9-INT('Calificacion de comp,'!I9))*100,INT('Calificacion de comp,'!I9)+1,INT('Calificacion de comp,'!I9)),\"\")","v":""},{"$f":"IFERROR(IF('Calificacion de comp,'!$N$3<=('Calificacion de comp,'!J9-INT('Calificacion de comp,'!J9))*100,INT('Calificacion de comp,'!J9)+1,INT('Calificacion de comp,'!J9)),\"\")","v":""}]
[{"$f":"IF(Alumnos!E9=\"\",\"\",Alumnos!E9)","v":"0000000_4"},{"$f":"IFERROR(IF('Calificacion de comp,'!$N$3<=('Calificacion de comp,'!C10-INT('Calificacion de comp,'!C10))*100,INT('Calificacion de comp,'!C10)+1,INT('Calificacion de comp,'!C10)),\"\")","v":""},{"$f":"IFERROR(IF('Calificacion de comp,'!$N$3<=('Calificacion de comp,'!D10-INT('Calificacion de comp,'!D10))*100,INT('Calificacion de comp,'!D10)+1,INT('Calificacion de comp,'!D10)),\"\")","v":""},{"$f":"IFERROR(IF('Calificacion de comp,'!$N$3<=('Calificacion de comp,'!E10-INT('Calificacion de comp,'!E10))*100,INT('Calificacion de comp,'!E10)+1,INT('Calificacion de comp,'!E10)),\"\")","v":""},{"$f":"IFERROR(IF('Calificacion de comp,'!$N$3<=('Calificacion de comp,'!F10-INT('Calificacion de comp,'!F10))*100,INT('Calificacion de comp,'!F10)+1,INT('Calificacion de comp,'!F10)),\"\")","v":""},{"$f":"IFERROR(IF('Calificacion de comp,'!$N$3<=('Calificacion de comp,'!G10-INT('Calificacion de comp,'!G10))*100,INT('Calificacion de comp,'!G10)+1,INT('Calificacion de comp,'!G10)),\"\")","v":""},{"$f":"IFERROR(IF('Calificacion de comp,'!$N$3<=('Calificacion de comp,'!H10-INT('Calificacion de comp,'!H10))*100,INT('Calificacion de comp,'!H10)+1,INT('Calificacion de comp,'!H10)),\"\")","v":""},{"$f":"IFERROR(IF('Calificacion de comp,'!$N$3<=('Calificacion de comp,'!I10-INT('Calificacion de comp,'!I10))*100,INT('Calificacion de comp,'!I10)+1,INT('Calificacion de comp,'!I10)),\"\")","v":""},{"$f":"IFERROR(IF('Calificacion de comp,'!$N$3<=('Calificacion de comp,'!J10-INT('Calificacion de comp,'!J10))*100,INT('Calificacion de comp,'!J10)+1,INT('Calificacion de comp,'!J10)),\"\")","v":""}]
[{"$f":"IF(Alumnos!E10=\"\",\"\",Alumnos!E10)","v":"0000000_5"},{"$f":"IFERROR(IF('Calificacion de comp,'!$N$3<=('Calificacion de comp,'!C11-INT('Calificacion de comp,'!C11))*100,INT('Calificacion de comp,'!C11)+1,INT('Calificacion de comp,'!C11)),\"\")","v":""},{"$f":"IFERROR(IF('Calificacion de comp,'!$N$3<=('Calificacion de comp,'!D11-INT('Calificacion de comp,'!D11))*100,INT('Calificacion de comp,'!D11)+1,INT('Calificacion de comp,'!D11)),\"\")","v":""},{"$f":"IFERROR(IF('Calificacion de comp,'!$N$3<=('Calificacion de comp,'!E11-INT('Calificacion de comp,'!E11))*100,INT('Calificacion de comp,'!E11)+1,INT('Calificacion de comp,'!E11)),\"\")","v":""},{"$f":"IFERROR(IF('Calificacion de comp,'!$N$3<=('Calificacion de comp,'!F11-INT('Calificacion de comp,'!F11))*100,INT('Calificacion de comp,'!F11)+1,INT('Calificacion de comp,'!F11)),\"\")","v":""},{"$f":"IFERROR(IF('Calificacion de comp,'!$N$3<=('Calificacion de comp,'!G11-INT('Calificacion de comp,'!G11))*100,INT('Calificacion de comp,'!G11)+1,INT('Calificacion de comp,'!G11)),\"\")","v":""},{"$f":"IFERROR(IF('Calificacion de comp,'!$N$3<=('Calificacion de comp,'!H11-INT('Calificacion de comp,'!H11))*100,INT('Calificacion de comp,'!H11)+1,INT('Calificacion de comp,'!H11)),\"\")","v":""},{"$f":"IFERROR(IF('Calificacion de comp,'!$N$3<=('Calificacion de comp,'!I11-INT('Calificacion de comp,'!I11))*100,INT('Calificacion de comp,'!I11)+1,INT('Calificacion de comp,'!I11)),\"\")","v":""},{"$f":"IFERROR(IF('Calificacion de comp,'!$N$3<=('Calificacion de comp,'!J11-INT('Calificacion de comp,'!J11))*100,INT('Calificacion de comp,'!J11)+1,INT('Calificacion de comp,'!J11)),\"\")","v":""}]
[{"$f":"IF(Alumnos!E11=\"\",\"\",Alumnos!E11)","v":"0000000_6"},{"$f":"IFERROR(IF('Calificacion de comp,'!$N$3<=('Calificacion de comp,'!C12-INT('Calificacion de comp,'!C12))*100,INT('Calificacion de comp,'!C12)+1,INT('Calificacion de comp,'!C12)),\"\")","v":""},{"$f":"IFERROR(IF('Calificacion de comp,'!$N$3<=('Calificacion de comp,'!D12-INT('Calificacion de comp,'!D12))*100,INT('Calificacion de comp,'!D12)+1,INT('Calificacion de comp,'!D12)),\"\")","v":""},{"$f":"IFERROR(IF('Calificacion de comp,'!$N$3<=('Calificacion de comp,'!E12-INT('Calificacion de comp,'!E12))*100,INT('Calificacion de comp,'!E12)+1,INT('Calificacion de comp,'!E12)),\"\")","v":""},{"$f":"IFERROR(IF('Calificacion de comp,'!$N$3<=('Calificacion de comp,'!F12-INT('Calificacion de comp,'!F12))*100,INT('Calificacion de comp,'!F12)+1,INT('Calificacion de comp,'!F12)),\"\")","v":""},{"$f":"IFERROR(IF('Calificacion de comp,'!$N$3<=('Calificacion de comp,'!G12-INT('Calificacion de comp,'!G12))*100,INT('Calificacion de comp,'!G12)+1,INT('Calificacion de comp,'!G12)),\"\")","v":""},{"$f":"IFERROR(IF('Calificacion de comp,'!$N$3<=('Calificacion de comp,'!H12-INT('Calificacion de comp,'!H12))*100,INT('Calificacion de comp,'!H12)+1,INT('Calificacion de comp,'!H12)),\"\")","v":""},{"$f":"IFERROR(IF('Calificacion de comp,'!$N$3<=('Calificacion de comp,'!I12-INT('Calificacion de comp,'!I12))*100,INT('Calificacion de comp,'!I12)+1,INT('Calificacion de comp,'!I12)),\"\")","v":""},{"$f":"IFERROR(IF('Calificacion de comp,'!$N$3<=('Calificacion de comp,'!J12-INT('Calificacion de comp,'!J12))*100,INT('Calificacion de comp,'!J12)+1,INT('Calificacion de comp,'!J12)),\"\")","v":""}]
[{"$f":"IF(Alumnos!E12=\"\",\"\",Alumnos!E12)","v":"0000000_7"},{"$f":"IFERROR(IF('Calificacion de comp,'!$N$3<=('Calificacion de comp,'!C13-INT('Calificacion de comp,'!C13))*100,INT('Calificacion de comp,'!C13)+1,INT('Calificacion de comp,'!C13)),\"\")","v":""},{"$f":"IFERROR(IF('Calificacion de comp,'!$N$3<=('Calificacion de comp,'!D13-INT('Calificacion de comp,'!D13))*100,INT('Calificacion de comp,'!D13)+1,INT('Calificacion de comp,'!D13)),\"\")","v":""},{"$f":"IFERROR(IF('Calificacion de comp,'!$N$3<=('Calificacion de comp,'!E13-INT('Calificacion de comp,'!E13))*100,INT('Calificacion de comp,'!E13)+1,INT('Calificacion de comp,'!E13)),\"\")","v":""},{"$f":"IFERROR(IF('Calificacion de comp,'!$N$3<=('Calificacion de comp,'!F13-INT('Calificacion de comp,'!F13))*100,INT('Calificacion de comp,'!F13)+1,INT('Calificacion de comp,'!F13)),\"\")","v":""},{"$f":"IFERROR(IF('Calificacion de comp,'!$N$3<=('Calificacion de comp,'!G13-INT('Calificacion de comp,'!G13))*100,INT('Calificacion de comp,'!G13)+1,INT('Calificacion de comp,'!G13)),\"\")","v":""},{"$f":"IFERROR(IF('Calificacion de comp,'!$N$3<=('Calificacion de comp,'!H13-INT('Calificacion de comp,'!H13))*100,INT('Calificacion de comp,'!H13)+1,INT('Calificacion de comp,'!H13)),\"\")","v":""},{"$f":"IFERROR(IF('Calificacion de comp,'!$N$3<=('Calificacion de comp,'!I13-INT('Calificacion de comp,'!I13))*100,INT('Calificacion de comp,'!I13)+1,INT('Calificacion de comp,'!I13)),\"\")","v":""},{"$f":"IFERROR(IF('Calificacion de comp,'!$N$3<=('Calificacion de comp,'!J13-INT('Calificacion de comp,'!J13))*100,INT('Calificacion de comp,'!J13)+1,INT('Calificacion de comp,'!J13)),\"\")","v":""}]
[{"$f":"IF(Alumnos!E13=\"\",\"\",Alumnos!E13)","v":"0000000_8"},{"$f":"IFERROR(IF('Calificacion de comp,'!$N$3<=('Calificacion de comp,'!C14-INT('Calificacion de comp,'!C14))*100,INT('Calificacion de comp,'!C14)+1,INT('Calificacion de comp,'!C14)),\"\")","v":""},{"$f":"IFERROR(IF('Calificacion de comp,'!$N$3<=('Calificacion de comp,'!D14-INT('Calificacion de comp,'!D14))*100,INT('Calificacion de comp,'!D14)+1,INT('Calificacion de comp,'!D14)),\"\")","v":""},{"$f":"IFERROR(IF('Calificacion de comp,'!$N$3<=('Calificacion de comp,'!E14-INT('Calificacion de comp,'!E14))*100,INT('Calificacion de comp,'!E14)+1,INT('Calificacion de comp,'!E14)),\"\")","v":""},{"$f":"IFERROR(IF('Calificacion de comp,'!$N$3<=('Calificacion de comp,'!F14-INT('Calificacion de comp,'!F14))*100,INT('Calificacion de comp,'!F14)+1,INT('Calificacion de comp,'!F14)),\"\")","v":""},{"$f":"IFERROR(IF('Calificacion de comp,'!$N$3<=('Calificacion de comp,'!G14-INT('Calificacion de comp,'!G14))*100,INT('Calificacion de comp,'!G14)+1,INT('Calificacion de comp,'!G14)),\"\")","v":""},{"$f":"IFERROR(IF('Calificacion de comp,'!$N$3<=('Calificacion de comp,'!H14-INT('Calificacion de comp,'!H14))*100,INT('Calificacion de comp,'!H14)+1,INT('Calificacion de comp,'!H14)),\"\")","v":""},{"$f":"IFERROR(IF('Calificacion de comp,'!$N$3<=('Calificacion de comp,'!I14-INT('Calificacion de comp,'!I14))*100,INT('Calificacion de comp,'!I14)+1,INT('Calificacion de comp,'!I14)),\"\")","v":""},{"$f":"IFERROR(IF('Calificacion de comp,'!$N$3<=('Calificacion de comp,'!J14-INT('Calificacion de comp,'!J14))*100,INT('Calificacion de comp,'!J14)+1,INT('Calificacion de comp,'!J14)),\"\")","v":""}]
[{"$f":"IF(Alumnos!E14=\"\",\"\",Alumnos!E14)","v":"0000000_9"},{"$f":"IFERROR(IF('Calificacion de comp,'!$N$3<=('Calificacion de comp,'!C15-INT('Calificacion de comp,'!C15))*100,INT('Calificacion de comp,'!C15)+1,INT('Calificacion de comp,'!C15)),\"\")","v":""},{"$f":"IFERROR(IF('Calificacion de comp,'!$N$3<=('Calificacion de comp,'!D15-INT('Calificacion de comp,'!D15))*100,INT('Calificacion de comp,'!D15)+1,INT('Calificacion de comp,'!D15)),\"\")","v":""},{"$f":"IFERROR(IF('Calificacion de comp,'!$N$3<=('Calificacion de comp,'!E15-INT('Calificacion de comp,'!E15))*100,INT('Calificacion de comp,'!E15)+1,INT('Calificacion de comp,'!E15)),\"\")","v":""},{"$f":"IFERROR(IF('Calificacion de comp,'!$N$3<=('Calificacion de comp,'!F15-INT('Calificacion de comp,'!F15))*100,INT('Calificacion de comp,'!F15)+1,INT('Calificacion de comp,'!F15)),\"\")","v":""},{"$f":"IFERROR(IF('Calificacion de comp,'!$N$3<=('Calificacion de comp,'!G15-INT('Calificacion de comp,'!G15))*100,INT('Calificacion de comp,'!G15)+1,INT('Calificacion de comp,'!G15)),\"\")","v":""},{"$f":"IFERROR(IF('Calificacion de comp,'!$N$3<=('Calificacion de comp,'!H15-INT('Calificacion de comp,'!H15))*100,INT('Calificacion de comp,'!H15)+1,INT('Calificacion de comp,'!H15)),\"\")","v":""},{"$f":"IFERROR(IF('Calificacion de comp,'!$N$3<=('Calificacion de comp,'!I15-INT('Calificacion de comp,'!I15))*100,INT('Calificacion de comp,'!I15)+1,INT('Calificacion de comp,'!I15)),\"\")","v":""},{"$f":"IFERROR(IF('Calificacion de comp,'!$N$3<=('Calificacion de comp,'!J15-INT('Calificacion de comp,'!J15))*100,INT('Calificacion de comp,'!J15)+1,INT('Calificacion de comp,'!J15)),\"\")","v":""}]
[{"$f":"IF(Alumnos!E15=\"\",\"\",Alumnos!E15)","v":"0000000_10"},{"$f":"IFERROR(IF('Calificacion de comp,'!$N$3<=('Calificacion de comp,'!C16-INT('Calificacion de comp,'!C16))*100,INT('Calificacion de comp,'!C16)+1,INT('Calificacion de comp,'!C16)),\"\")","v":""},{"$f":"IFERROR(IF('Calificacion de comp,'!$N$3<=('Calificacion de comp,'!D16-INT('Calificacion de comp,'!D16))*100,INT('Calificacion de comp,'!D16)+1,INT('Calificacion de comp,'!D16)),\"\")","v":""},{"$f":"IFERROR(IF('Calificacion de comp,'!$N$3<=('Calificacion de comp,'!E16-INT('Calificacion de comp,'!E16))*100,INT('Calificacion de comp,'!E16)+1,INT('Calificacion de comp,'!E16)),\"\")","v":""},{"$f":"IFERROR(IF('Calificacion de comp,'!$N$3<=('Calificacion de comp,'!F16-INT('Calificacion de comp,'!F16))*100,INT('Calificacion de comp,'!F16)+1,INT('Calificacion de comp,'!F16)),\"\")","v":""},{"$f":"IFERROR(IF('Calificacion de comp,'!$N$3<=('Calificacion de comp,'!G16-INT('Calificacion de comp,'!G16))*100,INT('Calificacion de comp,'!G16)+1,INT('Calificacion de comp,'!G16)),\"\")","v":""},{"$f":"IFERROR(IF('Calificacion de comp,'!$N$3<=('Calificacion de comp,'!H16-INT('Calificacion de comp,'!H16))*100,INT('Calificacion de comp,'!H16)+1,INT('Calificacion de comp,'!H16)),\"\")","v":""},{"$f":"IFERROR(IF('Calificacion de comp,'!$N$3<=('Calificacion de comp,'!I16-INT('Calificacion de comp,'!I16))*100,INT('Calificacion de comp,'!I16)+1,INT('Calificacion de comp,'!I16)),\"\")","v":""},{"$f":"IFERROR(IF('Calificacion de comp,'!$N$3<=('Calificacion de comp,'!J16-INT('Calificacion de comp,'!J16))*100,INT('Calificacion de comp,'!J16)+1,INT('Calificacion de comp,'!J16)),\"\")","v":""}]
[{"$f":"IF(Alumnos!E16=\"\",\"\",Alumnos!E16)","v":""},{"$f":"IFERROR(IF('Calificacion de comp,'!$N$3<=('Calificacion de comp,'!C17-INT('Calificacion de comp,'!C17))*100,INT('Calificacion de comp,'!C17)+1,INT('Calificacion de comp,'!C17)),\"\")","v":""},{"$f":"IFERROR(IF('Calificacion de comp,'!$N$3<=('Calificacion de comp,'!D17-INT('Calificacion de comp,'!D17))*100,INT('Calificacion de comp,'!D17)+1,INT('Calificacion de comp,'!D17)),\"\")","v":""},{"$f":"IFERROR(IF('Calificacion de comp,'!$N$3<=('Calificacion de comp,'!E17-INT('Calificacion de comp,'!E17))*100,INT('Calificacion de comp,'!E17)+1,INT('Calificacion de comp,'!E17)),\"\")","v":""},{"$f":"IFERROR(IF('Calificacion de comp,'!$N$3<=('Calificacion de comp,'!F17-INT('Calificacion de comp,'!F17))*100,INT('Calificacion de comp,'!F17)+1,INT('Calificacion de comp,'!F17)),\"\")","v":""},{"$f":"IFERROR(IF('Calificacion de comp,'!$N$3<=('Calificacion de comp,'!G17-INT('Calificacion de comp,'!G17))*100,INT('Calificacion de comp,'!G17)+1,INT('Calificacion de comp,'!G17)),\"\")","v":""},{"$f":"IFERROR(IF('Calificacion de comp,'!$N$3<=('Calificacion de comp,'!H17-INT('Calificacion de comp,'!H17))*100,INT('Calificacion de comp,'!H17)+1,INT('Calificacion de comp,'!H17)),\"\")","v":""},{"$f":"IFERROR(IF('Calificacion de comp,'!$N$3<=('Calificacion de comp,'!I17-INT('Calificacion de comp,'!I17))*100,INT('Calificacion de comp,'!I17)+1,INT('Calificacion de comp,'!I17)),\"\")","v":""},{"$f":"IFERROR(IF('Calificacion de comp,'!$N$3<=('Calificacion de comp,'!J17-INT('Calificacion de comp,'!J17))*100,INT('Calificacion de comp,'!J17)+1,INT('Calificacion de comp,'!J17)),\"\")","v":""}]
[{"$f":"IF(Alumnos!E17=\"\",\"\",Alumnos!E17)","v":""},{"$f":"IFERROR(IF('Calificacion de comp,'!$N$3<=('Calificacion de comp,'!C18-INT('Calificacion de comp,'!C18))*100,INT('Calificacion de comp,'!C18)+1,INT('Calificacion de comp,'!C18)),\"\")","v":""},{"$f":"IFERROR(IF('Calificacion de comp,'!$N$3<=('Calificacion de comp,'!D18-INT('Calificacion de comp,'!D18))*100,INT('Calificacion de comp,'!D18)+1,INT('Calificacion de comp,'!D18)),\"\")","v":""},{"$f":"IFERROR(IF('Calificacion de comp,'!$N$3<=('Calificacion de comp,'!E18-INT('Calificacion de comp,'!E18))*100,INT('Calificacion de comp,'!E18)+1,INT('Calificacion de comp,'!E18)),\"\")","v":""},{"$f":"IFERROR(IF('Calificacion de comp,'!$N$3<=('Calificacion de comp,'!F18-INT('Calificacion de comp,'!F18))*100,INT('Calificacion de comp,'!F18)+1,INT('Calificacion de comp,'!F18)),\"\")","v":""},{"$f":"IFERROR(IF('Calificacion de comp,'!$N$3<=('Calificacion de comp,'!G18-INT('Calificacion de comp,'!G18))*100,INT('Calificacion de comp,'!G18)+1,INT('Calificacion de comp,'!G18)),\"\")","v":""},{"$f":"IFERROR(IF('Calificacion de comp,'!$N$3<=('Calificacion de comp,'!H18-INT('Calificacion de comp,'!H18))*100,INT('Calificacion de comp,'!H18)+1,INT('Calificacion de comp,'!H18)),\"\")","v":""},{"$f":"IFERROR(IF('Calificacion de comp,'!$N$3<=('Calificacion de comp,'!I18-INT('Calificacion de comp,'!I18))*100,INT('Calificacion de comp,'!I18)+1,INT('Calificacion de comp,'!I18)),\"\")","v":""},{"$f":"IFERROR(IF('Calificacion de comp,'!$N$3<=('Calificacion de comp,'!J18-INT('Calificacion de comp,'!J18))*100,INT('Calificacion de comp,'!J18)+1,INT('Calificacion de comp,'!J18)),\"\")","v":""}]
[{"$f":"IF(Alumnos!E18=\"\",\"\",Alumnos!E18)","v":""},{"$f":"IFERROR(IF('Calificacion de comp,'!$N$3<=('Calificacion de comp,'!C19-INT('Calificacion de comp,'!C19))*100,INT('Calificacion de comp,'!C19)+1,INT('Calificacion de comp,'!C19)),\"\")","v":""},{"$f":"IFERROR(IF('Calificacion de comp,'!$N$3<=('Calificacion de comp,'!D19-INT('Calificacion de comp,'!D19))*100,INT('Calificacion de comp,'!D19)+1,INT('Calificacion de comp,'!D19)),\"\")","v":""},{"$f":"IFERROR(IF('Calificacion de comp,'!$N$3<=('Calificacion de comp,'!E19-INT('Calificacion de comp,'!E19))*100,INT('Calificacion de comp,'!E19)+1,INT('Calificacion de comp,'!E19)),\"\")","v":""},{"$f":"IFERROR(IF('Calificacion de comp,'!$N$3<=('Calificacion de comp,'!F19-INT('Calificacion de comp,'!F19))*100,INT('Calificacion de comp,'!F19)+1,INT('Calificacion de comp,'!F19)),\"\")","v":""},{"$f":"IFERROR(IF('Calificacion de comp,'!$N$3<=('Calificacion de comp,'!G19-INT('Calificacion de comp,'!G19))*100,INT('Calificacion de comp,'!G19)+1,INT('Calificacion de comp,'!G19)),\"\")","v":""},{"$f":"IFERROR(IF('Calificacion de comp,'!$N$3<=('Calificacion de comp,'!H19-INT('Calificacion de comp,'!H19))*100,INT('Calificacion de comp,'!H19)+1,INT('Calificacion de comp,'!H19)),\"\")","v":""},{"$f":"IFERROR(IF('Calificacion de comp,'!$N$3<=('Calificacion de comp,'!I19-INT('Calificacion de comp,'!I19))*100,INT('Calificacion de comp,'!I19)+1,INT('Calificacion de comp,'!I19)),\"\")","v":""},{"$f":"IFERROR(IF('Calificacion de comp,'!$N$3<=('Calificacion de comp,'!J19-INT('Calificacion de comp,'!J19))*100,INT('Calificacion de comp,'!J19)+1,INT('Calificacion de comp,'!J19)),\"\")","v":""}]
[{"$f":"IF(Alumnos!E19=\"\",\"\",Alumnos!E19)","v":""},{"$f":"IFERROR(IF('Calificacion de comp,'!$N$3<=('Calificacion de comp,'!C20-INT('Calificacion de comp,'!C20))*100,INT('Calificacion de comp,'!C20)+1,INT('Calificacion de comp,'!C20)),\"\")","v":""},{"$f":"IFERROR(IF('Calificacion de comp,'!$N$3<=('Calificacion de comp,'!D20-INT('Calificacion de comp,'!D20))*100,INT('Calificacion de comp,'!D20)+1,INT('Calificacion de comp,'!D20)),\"\")","v":""},{"$f":"IFERROR(IF('Calificacion de comp,'!$N$3<=('Calificacion de comp,'!E20-INT('Calificacion de comp,'!E20))*100,INT('Calificacion de comp,'!E20)+1,INT('Calificacion de comp,'!E20)),\"\")","v":""},{"$f":"IFERROR(IF('Calificacion de comp,'!$N$3<=('Calificacion de comp,'!F20-INT('Calificacion de comp,'!F20))*100,INT('Calificacion de comp,'!F20)+1,INT('Calificacion de comp,'!F20)),\"\")","v":""},{"$f":"IFERROR(IF('Calificacion de comp,'!$N$3<=('Calificacion de comp,'!G20-INT('Calificacion de comp,'!G20))*100,INT('Calificacion de comp,'!G20)+1,INT('Calificacion de comp,'!G20)),\"\")","v":""},{"$f":"IFERROR(IF('Calificacion de comp,'!$N$3<=('Calificacion de comp,'!H20-INT('Calificacion de comp,'!H20))*100,INT('Calificacion de comp,'!H20)+1,INT('Calificacion de comp,'!H20)),\"\")","v":""},{"$f":"IFERROR(IF('Calificacion de comp,'!$N$3<=('Calificacion de comp,'!I20-INT('Calificacion de comp,'!I20))*100,INT('Calificacion de comp,'!I20)+1,INT('Calificacion de comp,'!I20)),\"\")","v":""},{"$f":"IFERROR(IF('Calificacion de comp,'!$N$3<=('Calificacion de comp,'!J20-INT('Calificacion de comp,'!J20))*100,INT('Calificacion de comp,'!J20)+1,INT('Calificacion de comp,'!J20)),\"\")","v":""}]
[{"$f":"IF(Alumnos!E20=\"\",\"\",Alumnos!E20)","v":""},{"$f":"IFERROR(IF('Calificacion de comp,'!$N$3<=('Calificacion de comp,'!C21-INT('Calificacion de comp,'!C21))*100,INT('Calificacion de comp,'!C21)+1,INT('Calificacion de comp,'!C21)),\"\")","v":""},{"$f":"IFERROR(IF('Calificacion de comp,'!$N$3<=('Calificacion de comp,'!D21-INT('Calificacion de comp,'!D21))*100,INT('Calificacion de comp,'!D21)+1,INT('Calificacion de comp,'!D21)),\"\")","v":""},{"$f":"IFERROR(IF('Calificacion de comp,'!$N$3<=('Calificacion de comp,'!E21-INT('Calificacion de comp,'!E21))*100,INT('Calificacion de comp,'!E21)+1,INT('Calificacion de comp,'!E21)),\"\")","v":""},{"$f":"IFERROR(IF('Calificacion de comp,'!$N$3<=('Calificacion de comp,'!F21-INT('Calificacion de comp,'!F21))*100,INT('Calificacion de comp,'!F21)+1,INT('Calificacion de comp,'!F21)),\"\")","v":""},{"$f":"IFERROR(IF('Calificacion de comp,'!$N$3<=('Calificacion de comp,'!G21-INT('Calificacion de comp,'!G21))*100,INT('Calificacion de comp,'!G21)+1,INT('Calificacion de comp,'!G21)),\"\")","v":""},{"$f":"IFERROR(IF('Calificacion de comp,'!$N$3<=('Calificacion de comp,'!H21-INT('Calificacion de comp,'!H21))*100,INT('Calificacion de comp,'!H21)+1,INT('Calificacion de comp,'!H21)),\"\")","v":""},{"$f":"IFERROR(IF('Calificacion de comp,'!$N$3<=('Calificacion de comp,'!I21-INT('Calificacion de comp,'!I21))*100,INT('Calificacion de comp,'!I21)+1,INT('Calificacion de comp,'!I21)),\"\")","v":""},{"$f":"IFERROR(IF('Calificacion de comp,'!$N$3<=('Calificacion de comp,'!J21-INT('Calificacion de comp,'!J21))*100,INT('Calificacion de comp,'!J21)+1,INT('Calificacion de comp,'!J21)),\"\")","v":""}]
[{"$f":"IF(Alumnos!E21=\"\",\"\",Alumnos!E21)","v":""},{"$f":"IFERROR(IF('Calificacion de comp,'!$N$3<=('Calificacion de comp,'!C22-INT('Calificacion de comp,'!C22))*100,INT('Calificacion de comp,'!C22)+1,INT('Calificacion de comp,'!C22)),\"\")","v":""},{"$f":"IFERROR(IF('Calificacion de comp,'!$N$3<=('Calificacion de comp,'!D22-INT('Calificacion de comp,'!D22))*100,INT('Calificacion de comp,'!D22)+1,INT('Calificacion de comp,'!D22)),\"\")","v":""},{"$f":"IFERROR(IF('Calificacion de comp,'!$N$3<=('Calificacion de comp,'!E22-INT('Calificacion de comp,'!E22))*100,INT('Calificacion de comp,'!E22)+1,INT('Calificacion de comp,'!E22)),\"\")","v":""},{"$f":"IFERROR(IF('Calificacion de comp,'!$N$3<=('Calificacion de comp,'!F22-INT('Calificacion de comp,'!F22))*100,INT('Calificacion de comp,'!F22)+1,INT('Calificacion de comp,'!F22)),\"\")","v":""},{"$f":"IFERROR(IF('Calificacion de comp,'!$N$3<=('Calificacion de comp,'!G22-INT('Calificacion de comp,'!G22))*100,INT('Calificacion de comp,'!G22)+1,INT('Calificacion de comp,'!G22)),\"\")","v":""},{"$f":"IFERROR(IF('Calificacion de comp,'!$N$3<=('Calificacion de comp,'!H22-INT('Calificacion de comp,'!H22))*100,INT('Calificacion de comp,'!H22)+1,INT('Calificacion de comp,'!H22)),\"\")","v":""},{"$f":"IFERROR(IF('Calificacion de comp,'!$N$3<=('Calificacion de comp,'!I22-INT('Calificacion de comp,'!I22))*100,INT('Calificacion de comp,'!I22)+1,INT('Calificacion de comp,'!I22)),\"\")","v":""},{"$f":"IFERROR(IF('Calificacion de comp,'!$N$3<=('Calificacion de comp,'!J22-INT('Calificacion de comp,'!J22))*100,INT('Calificacion de comp,'!J22)+1,INT('Calificacion de comp,'!J22)),\"\")","v":""}]
[{"$f":"IF(Alumnos!E22=\"\",\"\",Alumnos!E22)","v":""},{"$f":"IFERROR(IF('Calificacion de comp,'!$N$3<=('Calificacion de comp,'!C23-INT('Calificacion de comp,'!C23))*100,INT('Calificacion de comp,'!C23)+1,INT('Calificacion de comp,'!C23)),\"\")","v":""},{"$f":"IFERROR(IF('Calificacion de comp,'!$N$3<=('Calificacion de comp,'!D23-INT('Calificacion de comp,'!D23))*100,INT('Calificacion de comp,'!D23)+1,INT('Calificacion de comp,'!D23)),\"\")","v":""},{"$f":"IFERROR(IF('Calificacion de comp,'!$N$3<=('Calificacion de comp,'!E23-INT('Calificacion de comp,'!E23))*100,INT('Calificacion de comp,'!E23)+1,INT('Calificacion de comp,'!E23)),\"\")","v":""},{"$f":"IFERROR(IF('Calificacion de comp,'!$N$3<=('Calificacion de comp,'!F23-INT('Calificacion de comp,'!F23))*100,INT('Calificacion de comp,'!F23)+1,INT('Calificacion de comp,'!F23)),\"\")","v":""},{"$f":"IFERROR(IF('Calificacion de comp,'!$N$3<=('Calificacion de comp,'!G23-INT('Calificacion de comp,'!G23))*100,INT('Calificacion de comp,'!G23)+1,INT('Calificacion de comp,'!G23)),\"\")","v":""},{"$f":"IFERROR(IF('Calificacion de comp,'!$N$3<=('Calificacion de comp,'!H23-INT('Calificacion de comp,'!H23))*100,INT('Calificacion de comp,'!H23)+1,INT('Calificacion de comp,'!H23)),\"\")","v":""},{"$f":"IFERROR(IF('Calificacion de comp,'!$N$3<=('Calificacion de comp,'!I23-INT('Calificacion de comp,'!I23))*100,INT('Calificacion de comp,'!I23)+1,INT('Calificacion de comp,'!I23)),\"\")","v":""},{"$f":"IFERROR(IF('Calificacion de comp,'!$N$3<=('Calificacion de comp,'!J23-INT('Calificacion de comp,'!J23))*100,INT('Calificacion de comp,'!J23)+1,INT('Calificacion de comp,'!J23)),\"\")","v":""}]
[{"$f":"IF(Alumnos!E23=\"\",\"\",Alumnos!E23)","v":""},{"$f":"IFERROR(IF('Calificacion de comp,'!$N$3<=('Calificacion de comp,'!C24-INT('Calificacion de comp,'!C24))*100,INT('Calificacion de comp,'!C24)+1,INT('Calificacion de comp,'!C24)),\"\")","v":""},{"$f":"IFERROR(IF('Calificacion de comp,'!$N$3<=('Calificacion de comp,'!D24-INT('Calificacion de comp,'!D24))*100,INT('Calificacion de comp,'!D24)+1,INT('Calificacion de comp,'!D24)),\"\")","v":""},{"$f":"IFERROR(IF('Calificacion de comp,'!$N$3<=('Calificacion de comp,'!E24-INT('Calificacion de comp,'!E24))*100,INT('Calificacion de comp,'!E24)+1,INT('Calificacion de comp,'!E24)),\"\")","v":""},{"$f":"IFERROR(IF('Calificacion de comp,'!$N$3<=('Calificacion de comp,'!F24-INT('Calificacion de comp,'!F24))*100,INT('Calificacion de comp,'!F24)+1,INT('Calificacion de comp,'!F24)),\"\")","v":""},{"$f":"IFERROR(IF('Calificacion de comp,'!$N$3<=('Calificacion de comp,'!G24-INT('Calificacion de comp,'!G24))*100,INT('Calificacion de comp,'!G24)+1,INT('Calificacion de comp,'!G24)),\"\")","v":""},{"$f":"IFERROR(IF('Calificacion de comp,'!$N$3<=('Calificacion de comp,'!H24-INT('Calificacion de comp,'!H24))*100,INT('Calificacion de comp,'!H24)+1,INT('Calificacion de comp,'!H24)),\"\")","v":""},{"$f":"IFERROR(IF('Calificacion de comp,'!$N$3<=('Calificacion de comp,'!I24-INT('Calificacion de comp,'!I24))*100,INT('Calificacion de comp,'!I24)+1,INT('Calificacion de comp,'!I24)),\"\")","v":""},{"$f":"IFERROR(IF('Calificacion de comp,'!$N$3<=('Calificacion de comp,'!J24-INT('Calificacion de comp,'!J24))*100,INT('Calificacion de comp,'!J24)+1,INT('Calificacion de comp,'!J24)),\"\")","v":""}]
[{"$f":"IF(Alumnos!E24=\"\",\"\",Alumnos!E24)","v":""},{"$f":"IFERROR(IF('Calificacion de comp,'!$N$3<=('Calificacion de comp,'!C25-INT('Calificacion de comp,'!C25))*100,INT('Calificacion de comp,'!C25)+1,INT('Calificacion de comp,'!C25)),\"\")","v":""},{"$f":"IFERROR(IF('Calificacion de comp,'!$N$3<=('Calificacion de comp,'!D25-INT('Calificacion de comp,'!D25))*100,INT('Calificacion de comp,'!D25)+1,INT('Calificacion de comp,'!D25)),\"\")","v":""},{"$f":"IFERROR(IF('Calificacion de comp,'!$N$3<=('Calificacion de comp,'!E25-INT('Calificacion de comp,'!E25))*100,INT('Calificacion de comp,'!E25)+1,INT('Calificacion de comp,'!E25)),\"\")","v":""},{"$f":"IFERROR(IF('Calificacion de comp,'!$N$3<=('Calificacion de comp,'!F25-INT('Calificacion de comp,'!F25))*100,INT('Calificacion de comp,'!F25)+1,INT('Calificacion de comp,'!F25)),\"\")","v":""},{"$f":"IFERROR(IF('Calificacion de comp,'!$N$3<=('Calificacion de comp,'!G25-INT('Calificacion de comp,'!G25))*100,INT('Calificacion de comp,'!G25)+1,INT('Calificacion de comp,'!G25)),\"\")","v":""},{"$f":"IFERROR(IF('Calificacion de comp,'!$N$3<=('Calificacion de comp,'!H25-INT('Calificacion de comp,'!H25))*100,INT('Calificacion de comp,'!H25)+1,INT('Calificacion de comp,'!H25)),\"\")","v":""},{"$f":"IFERROR(IF('Calificacion de comp,'!$N$3<=('Calificacion de comp,'!I25-INT('Calificacion de comp,'!I25))*100,INT('Calificacion de comp,'!I25)+1,INT('Calificacion de comp,'!I25)),\"\")","v":""},{"$f":"IFERROR(IF('Calificacion de comp,'!$N$3<=('Calificacion de comp,'!J25-INT('Calificacion de comp,'!J25))*100,INT('Calificacion de comp,'!J25)+1,INT('Calificacion de comp,'!J25)),\"\")","v":""}]
[{"$f":"IF(Alumnos!E25=\"\",\"\",Alumnos!E25)","v":""},{"$f":"IFERROR(IF('Calificacion de comp,'!$N$3<=('Calificacion de comp,'!C26-INT('Calificacion de comp,'!C26))*100,INT('Calificacion de comp,'!C26)+1,INT('Calificacion de comp,'!C26)),\"\")","v":""},{"$f":"IFERROR(IF('Calificacion de comp,'!$N$3<=('Calificacion de comp,'!D26-INT('Calificacion de comp,'!D26))*100,INT('Calificacion de comp,'!D26)+1,INT('Calificacion de comp,'!D26)),\"\")","v":""},{"$f":"IFERROR(IF('Calificacion de comp,'!$N$3<=('Calificacion de comp,'!E26-INT('Calificacion de comp,'!E26))*100,INT('Calificacion de comp,'!E26)+1,INT('Calificacion de comp,'!E26)),\"\")","v":""},{"$f":"IFERROR(IF('Calificacion de comp,'!$N$3<=('Calificacion de comp,'!F26-INT('Calificacion de comp,'!F26))*100,INT('Calificacion de comp,'!F26)+1,INT('Calificacion de comp,'!F26)),\"\")","v":""},{"$f":"IFERROR(IF('Calificacion de comp,'!$N$3<=('Calificacion de comp,'!G26-INT('Calificacion de comp,'!G26))*100,INT('Calificacion de comp,'!G26)+1,INT('Calificacion de comp,'!G26)),\"\")","v":""},{"$f":"IFERROR(IF('Calificacion de comp,'!$N$3<=('Calificacion de comp,'!H26-INT('Calificacion de comp,'!H26))*100,INT('Calificacion de comp,'!H26)+1,INT('Calificacion de comp,'!H26)),\"\")","v":""},{"$f":"IFERROR(IF('Calificacion de comp,'!$N$3<=('Calificacion de comp,'!I26-INT('Calificacion de comp,'!I26))*100,INT('Calificacion de comp,'!I26)+1,INT('Calificacion de comp,'!I26)),\"\")","v":""},{"$f":"IFERROR(IF('Calificacion de comp,'!$N$3<=('Calificacion de comp,'!J26-INT('Calificacion de comp,'!J26))*100,INT('Calificacion de comp,'!J26)+1,INT('Calificacion de comp,'!J26)),\"\")","v":""}]
[{"$f":"IF(Alumnos!E26=\"\",\"\",Alumnos!E26)","v":""},{"$f":"IFERROR(IF('Calificacion de comp,'!$N$3<=('Calificacion de comp,'!C27-INT('Calificacion de comp,'!C27))*100,INT('Calificacion de comp,'!C27)+1,INT('Calificacion de comp,'!C27)),\"\")","v":""},{"$f":"IFERROR(IF('Calificacion de comp,'!$N$3<=('Calificacion de comp,'!D27-INT('Calificacion de comp,'!D27))*100,INT('Calificacion de comp,'!D27)+1,INT('Calificacion de comp,'!D27)),\"\")","v":""},{"$f":"IFERROR(IF('Calificacion de comp,'!$N$3<=('Calificacion de comp,'!E27-INT('Calificacion de comp,'!E27))*100,INT('Calificacion de comp,'!E27)+1,INT('Calificacion de comp,'!E27)),\"\")","v":""},{"$f":"IFERROR(IF('Calificacion de comp,'!$N$3<=('Calificacion de comp,'!F27-INT('Calificacion de comp,'!F27))*100,INT('Calificacion de comp,'!F27)+1,INT('Calificacion de comp,'!F27)),\"\")","v":""},{"$f":"IFERROR(IF('Calificacion de comp,'!$N$3<=('Calificacion de comp,'!G27-INT('Calificacion de comp,'!G27))*100,INT('Calificacion de comp,'!G27)+1,INT('Calificacion de comp,'!G27)),\"\")","v":""},{"$f":"IFERROR(IF('Calificacion de comp,'!$N$3<=('Calificacion de comp,'!H27-INT('Calificacion de comp,'!H27))*100,INT('Calificacion de comp,'!H27)+1,INT('Calificacion de comp,'!H27)),\"\")","v":""},{"$f":"IFERROR(IF('Calificacion de comp,'!$N$3<=('Calificacion de comp,'!I27-INT('Calificacion de comp,'!I27))*100,INT('Calificacion de comp,'!I27)+1,INT('Calificacion de comp,'!I27)),\"\")","v":""},{"$f":"IFERROR(IF('Calificacion de comp,'!$N$3<=('Calificacion de comp,'!J27-INT('Calificacion de comp,'!J27))*100,INT('Calificacion de comp,'!J27)+1,INT('Calificacion de comp,'!J27)),\"\")","v":""}]
[{"$f":"IF(Alumnos!E27=\"\",\"\",Alumnos!E27)","v":""},{"$f":"IFERROR(IF('Calificacion de comp,'!$N$3<=('Calificacion de comp,'!C28-INT('Calificacion de comp,'!C28))*100,INT('Calificacion de comp,'!C28)+1,INT('Calificacion de comp,'!C28)),\"\")","v":""},{"$f":"IFERROR(IF('Calificacion de comp,'!$N$3<=('Calificacion de comp,'!D28-INT('Calificacion de comp,'!D28))*100,INT('Calificacion de comp,'!D28)+1,INT('Calificacion de comp,'!D28)),\"\")","v":""},{"$f":"IFERROR(IF('Calificacion de comp,'!$N$3<=('Calificacion de comp,'!E28-INT('Calificacion de comp,'!E28))*100,INT('Calificacion de comp,'!E28)+1,INT('Calificacion de comp,'!E28)),\"\")","v":""},{"$f":"IFERROR(IF('Calificacion de comp,'!$N$3<=('Calificacion de comp,'!F28-INT('Calificacion de comp,'!F28))*100,INT('Calificacion de comp,'!F28)+1,INT('Calificacion de comp,'!F28)),\"\")","v":""},{"$f":"IFERROR(IF('Calificacion de comp,'!$N$3<=('Calificacion de comp,'!G28-INT('Calificacion de comp,'!G28))*100,INT('Calificacion de comp,'!G28)+1,INT('Calificacion de comp,'!G28)),\"\")","v":""},{"$f":"IFERROR(IF('Calificacion de comp,'!$N$3<=('Calificacion de comp,'!H28-INT('Calificacion de comp,'!H28))*100,INT('Calificacion de comp,'!H28)+1,INT('Calificacion de comp,'!H28)),\"\")","v":""},{"$f":"IFERROR(IF('Calificacion de comp,'!$N$3<=('Calificacion de comp,'!I28-INT('Calificacion de comp,'!I28))*100,INT('Calificacion de comp,'!I28)+1,INT('Calificacion de comp,'!I28)),\"\")","v":""},{"$f":"IFERROR(IF('Calificacion de comp,'!$N$3<=('Calificacion de comp,'!J28-INT('Calificacion de comp,'!J28))*100,INT('Calificacion de comp,'!J28)+1,INT('Calificacion de comp,'!J28)),\"\")","v":""}]
[{"$f":"IF(Alumnos!E28=\"\",\"\",Alumnos!E28)","v":""},{"$f":"IFERROR(IF('Calificacion de comp,'!$N$3<=('Calificacion de comp,'!C29-INT('Calificacion de comp,'!C29))*100,INT('Calificacion de comp,'!C29)+1,INT('Calificacion de comp,'!C29)),\"\")","v":""},{"$f":"IFERROR(IF('Calificacion de comp,'!$N$3<=('Calificacion de comp,'!D29-INT('Calificacion de comp,'!D29))*100,INT('Calificacion de comp,'!D29)+1,INT('Calificacion de comp,'!D29)),\"\")","v":""},{"$f":"IFERROR(IF('Calificacion de comp,'!$N$3<=('Calificacion de comp,'!E29-INT('Calificacion de comp,'!E29))*100,INT('Calificacion de comp,'!E29)+1,INT('Calificacion de comp,'!E29)),\"\")","v":""},{"$f":"IFERROR(IF('Calificacion de comp,'!$N$3<=('Calificacion de comp,'!F29-INT('Calificacion de comp,'!F29))*100,INT('Calificacion de comp,'!F29)+1,INT('Calificacion de comp,'!F29)),\"\")","v":""},{"$f":"IFERROR(IF('Calificacion de comp,'!$N$3<=('Calificacion de comp,'!G29-INT('Calificacion de comp,'!G29))*100,INT('Calificacion de comp,'!G29)+1,INT('Calificacion de comp,'!G29)),\"\")","v":""},{"$f":"IFERROR(IF('Calificacion de comp,'!$N$3<=('Calificacion de comp,'!H29-INT('Calificacion de comp,'!H29))*100,INT('Calificacion de comp,'!H29)+1,INT('Calificacion de comp,'!H29)),\"\")","v":""},{"$f":"IFERROR(IF('Calificacion de comp,'!$N$3<=('Calificacion de comp,'!I29-INT('Calificacion de comp,'!I29))*100,INT('Calificacion de comp,'!I29)+1,INT('Calificacion de comp,'!I29)),\"\")","v":""},{"$f":"IFERROR(IF('Calificacion de comp,'!$N$3<=('Calificacion de comp,'!J29-INT('Calificacion de comp,'!J29))*100,INT('Calificacion de comp,'!J29)+1,INT('Calificacion de comp,'!J29)),\"\")","v":""}]
[{"$f":"IF(Alumnos!E29=\"\",\"\",Alumnos!E29)","v":""},{"$f":"IFERROR(IF('Calificacion de comp,'!$N$3<=('Calificacion de comp,'!C30-INT('Calificacion de comp,'!C30))*100,INT('Calificacion de comp,'!C30)+1,INT('Calificacion de comp,'!C30)),\"\")","v":""},{"$f":"IFERROR(IF('Calificacion de comp,'!$N$3<=('Calificacion de comp,'!D30-INT('Calificacion de comp,'!D30))*100,INT('Calificacion de comp,'!D30)+1,INT('Calificacion de comp,'!D30)),\"\")","v":""},{"$f":"IFERROR(IF('Calificacion de comp,'!$N$3<=('Calificacion de comp,'!E30-INT('Calificacion de comp,'!E30))*100,INT('Calificacion de comp,'!E30)+1,INT('Calificacion de comp,'!E30)),\"\")","v":""},{"$f":"IFERROR(IF('Calificacion de comp,'!$N$3<=('Calificacion de comp,'!F30-INT('Calificacion de comp,'!F30))*100,INT('Calificacion de comp,'!F30)+1,INT('Calificacion de comp,'!F30)),\"\")","v":""},{"$f":"IFERROR(IF('Calificacion de comp,'!$N$3<=('Calificacion de comp,'!G30-INT('Calificacion de comp,'!G30))*100,INT('Calificacion de comp,'!G30)+1,INT('Calificacion de comp,'!G30)),\"\")","v":""},{"$f":"IFERROR(IF('Calificacion de comp,'!$N$3<=('Calificacion de comp,'!H30-INT('Calificacion de comp,'!H30))*100,INT('Calificacion de comp,'!H30)+1,INT('Calificacion de comp,'!H30)),\"\")","v":""},{"$f":"IFERROR(IF('Calificacion de comp,'!$N$3<=('Calificacion de comp,'!I30-INT('Calificacion de comp,'!I30))*100,INT('Calificacion de comp,'!I30)+1,INT('Calificacion de comp,'!I30)),\"\")","v":""},{"$f":"IFERROR(IF('Calificacion de comp,'!$N$3<=('Calificacion de comp,'!J30-INT('Calificacion de comp,'!J30))*100,INT('Calificacion de comp,'!J30)+1,INT('Calificacion de comp,'!J30)),\"\")","v":""}]
[{"$f":"IF(Alumnos!E30=\"\",\"\",Alumnos!E30)","v":""},{"$f":"IFERROR(IF('Calificacion de comp,'!$N$3<=('Calificacion de comp,'!C31-INT('Calificacion de comp,'!C31))*100,INT('Calificacion de comp,'!C31)+1,INT('Calificacion de comp,'!C31)),\"\")","v":""},{"$f":"IFERROR(IF('Calificacion de comp,'!$N$3<=('Calificacion de comp,'!D31-INT('Calificacion de comp,'!D31))*100,INT('Calificacion de comp,'!D31)+1,INT('Calificacion de comp,'!D31)),\"\")","v":""},{"$f":"IFERROR(IF('Calificacion de comp,'!$N$3<=('Calificacion de comp,'!E31-INT('Calificacion de comp,'!E31))*100,INT('Calificacion de comp,'!E31)+1,INT('Calificacion de comp,'!E31)),\"\")","v":""},{"$f":"IFERROR(IF('Calificacion de comp,'!$N$3<=('Calificacion de comp,'!F31-INT('Calificacion de comp,'!F31))*100,INT('Calificacion de comp,'!F31)+1,INT('Calificacion de comp,'!F31)),\"\")","v":""},{"$f":"IFERROR(IF('Calificacion de comp,'!$N$3<=('Calificacion de comp,'!G31-INT('Calificacion de comp,'!G31))*100,INT('Calificacion de comp,'!G31)+1,INT('Calificacion de comp,'!G31)),\"\")","v":""},{"$f":"IFERROR(IF('Calificacion de comp,'!$N$3<=('Calificacion de comp,'!H31-INT('Calificacion de comp,'!H31))*100,INT('Calificacion de comp,'!H31)+1,INT('Calificacion de comp,'!H31)),\"\")","v":""},{"$f":"IFERROR(IF('Calificacion de comp,'!$N$3<=('Calificacion de comp,'!I31-INT('Calificacion de comp,'!I31))*100,INT('Calificacion de comp,'!I31)+1,INT('Calificacion de comp,'!I31)),\"\")","v":""},{"$f":"IFERROR(IF('Calificacion de comp,'!$N$3<=('Calificacion de comp,'!J31-INT('Calificacion de comp,'!J31))*100,INT('Calificacion de comp,'!J31)+1,INT('Calificacion de comp,'!J31)),\"\")","v":""}]
[{"$f":"IF(Alumnos!E31=\"\",\"\",Alumnos!E31)","v":""},{"$f":"IFERROR(IF('Calificacion de comp,'!$N$3<=('Calificacion de comp,'!C32-INT('Calificacion de comp,'!C32))*100,INT('Calificacion de comp,'!C32)+1,INT('Calificacion de comp,'!C32)),\"\")","v":""},{"$f":"IFERROR(IF('Calificacion de comp,'!$N$3<=('Calificacion de comp,'!D32-INT('Calificacion de comp,'!D32))*100,INT('Calificacion de comp,'!D32)+1,INT('Calificacion de comp,'!D32)),\"\")","v":""},{"$f":"IFERROR(IF('Calificacion de comp,'!$N$3<=('Calificacion de comp,'!E32-INT('Calificacion de comp,'!E32))*100,INT('Calificacion de comp,'!E32)+1,INT('Calificacion de comp,'!E32)),\"\")","v":""},{"$f":"IFERROR(IF('Calificacion de comp,'!$N$3<=('Calificacion de comp,'!F32-INT('Calificacion de comp,'!F32))*100,INT('Calificacion de comp,'!F32)+1,INT('Calificacion de comp,'!F32)),\"\")","v":""},{"$f":"IFERROR(IF('Calificacion de comp,'!$N$3<=('Calificacion de comp,'!G32-INT('Calificacion de comp,'!G32))*100,INT('Calificacion de comp,'!G32)+1,INT('Calificacion de comp,'!G32)),\"\")","v":""},{"$f":"IFERROR(IF('Calificacion de comp,'!$N$3<=('Calificacion de comp,'!H32-INT('Calificacion de comp,'!H32))*100,INT('Calificacion de comp,'!H32)+1,INT('Calificacion de comp,'!H32)),\"\")","v":""},{"$f":"IFERROR(IF('Calificacion de comp,'!$N$3<=('Calificacion de comp,'!I32-INT('Calificacion de comp,'!I32))*100,INT('Calificacion de comp,'!I32)+1,INT('Calificacion de comp,'!I32)),\"\")","v":""},{"$f":"IFERROR(IF('Calificacion de comp,'!$N$3<=('Calificacion de comp,'!J32-INT('Calificacion de comp,'!J32))*100,INT('Calificacion de comp,'!J32)+1,INT('Calificacion de comp,'!J32)),\"\")","v":""}]
[{"$f":"IF(Alumnos!E32=\"\",\"\",Alumnos!E32)","v":""},{"$f":"IFERROR(IF('Calificacion de comp,'!$N$3<=('Calificacion de comp,'!C33-INT('Calificacion de comp,'!C33))*100,INT('Calificacion de comp,'!C33)+1,INT('Calificacion de comp,'!C33)),\"\")","v":""},{"$f":"IFERROR(IF('Calificacion de comp,'!$N$3<=('Calificacion de comp,'!D33-INT('Calificacion de comp,'!D33))*100,INT('Calificacion de comp,'!D33)+1,INT('Calificacion de comp,'!D33)),\"\")","v":""},{"$f":"IFERROR(IF('Calificacion de comp,'!$N$3<=('Calificacion de comp,'!E33-INT('Calificacion de comp,'!E33))*100,INT('Calificacion de comp,'!E33)+1,INT('Calificacion de comp,'!E33)),\"\")","v":""},{"$f":"IFERROR(IF('Calificacion de comp,'!$N$3<=('Calificacion de comp,'!F33-INT('Calificacion de comp,'!F33))*100,INT('Calificacion de comp,'!F33)+1,INT('Calificacion de comp,'!F33)),\"\")","v":""},{"$f":"IFERROR(IF('Calificacion de comp,'!$N$3<=('Calificacion de comp,'!G33-INT('Calificacion de comp,'!G33))*100,INT('Calificacion de comp,'!G33)+1,INT('Calificacion de comp,'!G33)),\"\")","v":""},{"$f":"IFERROR(IF('Calificacion de comp,'!$N$3<=('Calificacion de comp,'!H33-INT('Calificacion de comp,'!H33))*100,INT('Calificacion de comp,'!H33)+1,INT('Calificacion de comp,'!H33)),\"\")","v":""},{"$f":"IFERROR(IF('Calificacion de comp,'!$N$3<=('Calificacion de comp,'!I33-INT('Calificacion de comp,'!I33))*100,INT('Calificacion de comp,'!I33)+1,INT('Calificacion de comp,'!I33)),\"\")","v":""},{"$f":"IFERROR(IF('Calificacion de comp,'!$N$3<=('Calificacion de comp,'!J33-INT('Calificacion de comp,'!J33))*100,INT('Calificacion de comp,'!J33)+1,INT('Calificacion de comp,'!J33)),\"\")","v":""}]
[{"$f":"IF(Alumnos!E33=\"\",\"\",Alumnos!E33)","v":""},{"$f":"IFERROR(IF('Calificacion de comp,'!$N$3<=('Calificacion de comp,'!C34-INT('Calificacion de comp,'!C34))*100,INT('Calificacion de comp,'!C34)+1,INT('Calificacion de comp,'!C34)),\"\")","v":""},{"$f":"IFERROR(IF('Calificacion de comp,'!$N$3<=('Calificacion de comp,'!D34-INT('Calificacion de comp,'!D34))*100,INT('Calificacion de comp,'!D34)+1,INT('Calificacion de comp,'!D34)),\"\")","v":""},{"$f":"IFERROR(IF('Calificacion de comp,'!$N$3<=('Calificacion de comp,'!E34-INT('Calificacion de comp,'!E34))*100,INT('Calificacion de comp,'!E34)+1,INT('Calificacion de comp,'!E34)),\"\")","v":""},{"$f":"IFERROR(IF('Calificacion de comp,'!$N$3<=('Calificacion de comp,'!F34-INT('Calificacion de comp,'!F34))*100,INT('Calificacion de comp,'!F34)+1,INT('Calificacion de comp,'!F34)),\"\")","v":""},{"$f":"IFERROR(IF('Calificacion de comp,'!$N$3<=('Calificacion de comp,'!G34-INT('Calificacion de comp,'!G34))*100,INT('Calificacion de comp,'!G34)+1,INT('Calificacion de comp,'!G34)),\"\")","v":""},{"$f":"IFERROR(IF('Calificacion de comp,'!$N$3<=('Calificacion de comp,'!H34-INT('Calificacion de comp,'!H34))*100,INT('Calificacion de comp,'!H34)+1,INT('Calificacion de comp,'!H34)),\"\")","v":""},{"$f":"IFERROR(IF('Calificacion de comp,'!$N$3<=('Calificacion de comp,'!I34-INT('Calificacion de comp,'!I34))*100,INT('Calificacion de comp,'!I34)+1,INT('Calificacion de comp,'!I34)),\"\")","v":""},{"$f":"IFERROR(IF('Calificacion de comp,'!$N$3<=('Calificacion de comp,'!J34-INT('Calificacion de comp,'!J34))*100,INT('Calificacion de comp,'!J34)+1,INT('Calificacion de comp,'!J34)),\"\")","v":""}]
[{"$f":"IF(Alumnos!E34=\"\",\"\",Alumnos!E34)","v":""},{"$f":"IFERROR(IF('Calificacion de comp,'!$N$3<=('Calificacion de comp,'!C35-INT('Calificacion de comp,'!C35))*100,INT('Calificacion de comp,'!C35)+1,INT('Calificacion de comp,'!C35)),\"\")","v":""},{"$f":"IFERROR(IF('Calificacion de comp,'!$N$3<=('Calificacion de comp,'!D35-INT('Calificacion de comp,'!D35))*100,INT('Calificacion de comp,'!D35)+1,INT('Calificacion de comp,'!D35)),\"\")","v":""},{"$f":"IFERROR(IF('Calificacion de comp,'!$N$3<=('Calificacion de comp,'!E35-INT('Calificacion de comp,'!E35))*100,INT('Calificacion de comp,'!E35)+1,INT('Calificacion de comp,'!E35)),\"\")","v":""},{"$f":"IFERROR(IF('Calificacion de comp,'!$N$3<=('Calificacion de comp,'!F35-INT('Calificacion de comp,'!F35))*100,INT('Calificacion de comp,'!F35)+1,INT('Calificacion de comp,'!F35)),\"\")","v":""},{"$f":"IFERROR(IF('Calificacion de comp,'!$N$3<=('Calificacion de comp,'!G35-INT('Calificacion de comp,'!G35))*100,INT('Calificacion de comp,'!G35)+1,INT('Calificacion de comp,'!G35)),\"\")","v":""},{"$f":"IFERROR(IF('Calificacion de comp,'!$N$3<=('Calificacion de comp,'!H35-INT('Calificacion de comp,'!H35))*100,INT('Calificacion de comp,'!H35)+1,INT('Calificacion de comp,'!H35)),\"\")","v":""},{"$f":"IFERROR(IF('Calificacion de comp,'!$N$3<=('Calificacion de comp,'!I35-INT('Calificacion de comp,'!I35))*100,INT('Calificacion de comp,'!I35)+1,INT('Calificacion de comp,'!I35)),\"\")","v":""},{"$f":"IFERROR(IF('Calificacion de comp,'!$N$3<=('Calificacion de comp,'!J35-INT('Calificacion de comp,'!J35))*100,INT('Calificacion de comp,'!J35)+1,INT('Calificacion de comp,'!J35)),\"\")","v":""}]
[{"$f":"IF(Alumnos!E35=\"\",\"\",Alumnos!E35)","v":""},{"$f":"IFERROR(IF('Calificacion de comp,'!$N$3<=('Calificacion de comp,'!C36-INT('Calificacion de comp,'!C36))*100,INT('Calificacion de comp,'!C36)+1,INT('Calificacion de comp,'!C36)),\"\")","v":""},{"$f":"IFERROR(IF('Calificacion de comp,'!$N$3<=('Calificacion de comp,'!D36-INT('Calificacion de comp,'!D36))*100,INT('Calificacion de comp,'!D36)+1,INT('Calificacion de comp,'!D36)),\"\")","v":""},{"$f":"IFERROR(IF('Calificacion de comp,'!$N$3<=('Calificacion de comp,'!E36-INT('Calificacion de comp,'!E36))*100,INT('Calificacion de comp,'!E36)+1,INT('Calificacion de comp,'!E36)),\"\")","v":""},{"$f":"IFERROR(IF('Calificacion de comp,'!$N$3<=('Calificacion de comp,'!F36-INT('Calificacion de comp,'!F36))*100,INT('Calificacion de comp,'!F36)+1,INT('Calificacion de comp,'!F36)),\"\")","v":""},{"$f":"IFERROR(IF('Calificacion de comp,'!$N$3<=('Calificacion de comp,'!G36-INT('Calificacion de comp,'!G36))*100,INT('Calificacion de comp,'!G36)+1,INT('Calificacion de comp,'!G36)),\"\")","v":""},{"$f":"IFERROR(IF('Calificacion de comp,'!$N$3<=('Calificacion de comp,'!H36-INT('Calificacion de comp,'!H36))*100,INT('Calificacion de comp,'!H36)+1,INT('Calificacion de comp,'!H36)),\"\")","v":""},{"$f":"IFERROR(IF('Calificacion de comp,'!$N$3<=('Calificacion de comp,'!I36-INT('Calificacion de comp,'!I36))*100,INT('Calificacion de comp,'!I36)+1,INT('Calificacion de comp,'!I36)),\"\")","v":""},{"$f":"IFERROR(IF('Calificacion de comp,'!$N$3<=('Calificacion de comp,'!J36-INT('Calificacion de comp,'!J36))*100,INT('Calificacion de comp,'!J36)+1,INT('Calificacion de comp,'!J36)),\"\")","v":""}]
[{"$f":"IF(Alumnos!E36=\"\",\"\",Alumnos!E36)","v":""},{"$f":"IFERROR(IF('Calificacion de comp,'!$N$3<=('Calificacion de comp,'!C37-INT('Calificacion de comp,'!C37))*100,INT('Calificacion de comp,'!C37)+1,INT('Calificacion de comp,'!C37)),\"\")","v":""},{"$f":"IFERROR(IF('Calificacion de comp,'!$N$3<=('Calificacion de comp,'!D37-INT('Calificacion de comp,'!D37))*100,INT('Calificacion de comp,'!D37)+1,INT('Calificacion de comp,'!D37)),\"\")","v":""},{"$f":"IFERROR(IF('Calificacion de comp,'!$N$3<=('Calificacion de comp,'!E37-INT('Calificacion de comp,'!E37))*100,INT('Calificacion de comp,'!E37)+1,INT('Calificacion de comp,'!E37)),\"\")","v":""},{"$f":"IFERROR(IF('Calificacion de comp,'!$N$3<=('Calificacion de comp,'!F37-INT('Calificacion de comp,'!F37))*100,INT('Calificacion de comp,'!F37)+1,INT('Calificacion de comp,'!F37)),\"\")","v":""},{"$f":"IFERROR(IF('Calificacion de comp,'!$N$3<=('Calificacion de comp,'!G37-INT('Calificacion de comp,'!G37))*100,INT('Calificacion de comp,'!G37)+1,INT('Calificacion de comp,'!G37)),\"\")","v":""},{"$f":"IFERROR(IF('Calificacion de comp,'!$N$3<=('Calificacion de comp,'!H37-INT('Calificacion de comp,'!H37))*100,INT('Calificacion de comp,'!H37)+1,INT('Calificacion de comp,'!H37)),\"\")","v":""},{"$f":"IFERROR(IF('Calificacion de comp,'!$N$3<=('Calificacion de comp,'!I37-INT('Calificacion de comp,'!I37))*100,INT('Calificacion de comp,'!I37)+1,INT('Calificacion de comp,'!I37)),\"\")","v":""},{"$f":"IFERROR(IF('Calificacion de comp,'!$N$3<=('Calificacion de comp,'!J37-INT('Calificacion de comp,'!J37))*100,INT('Calificacion de comp,'!J37)+1,INT('Calificacion de comp,'!J37)),\"\")","v":""}]
[{"$f":"IF(Alumnos!E37=\"\",\"\",Alumnos!E37)","v":""},{"$f":"IFERROR(IF('Calificacion de comp,'!$N$3<=('Calificacion de comp,'!C38-INT('Calificacion de comp,'!C38))*100,INT('Calificacion de comp,'!C38)+1,INT('Calificacion de comp,'!C38)),\"\")","v":""},{"$f":"IFERROR(IF('Calificacion de comp,'!$N$3<=('Calificacion de comp,'!D38-INT('Calificacion de comp,'!D38))*100,INT('Calificacion de comp,'!D38)+1,INT('Calificacion de comp,'!D38)),\"\")","v":""},{"$f":"IFERROR(IF('Calificacion de comp,'!$N$3<=('Calificacion de comp,'!E38-INT('Calificacion de comp,'!E38))*100,INT('Calificacion de comp,'!E38)+1,INT('Calificacion de comp,'!E38)),\"\")","v":""},{"$f":"IFERROR(IF('Calificacion de comp,'!$N$3<=('Calificacion de comp,'!F38-INT('Calificacion de comp,'!F38))*100,INT('Calificacion de comp,'!F38)+1,INT('Calificacion de comp,'!F38)),\"\")","v":""},{"$f":"IFERROR(IF('Calificacion de comp,'!$N$3<=('Calificacion de comp,'!G38-INT('Calificacion de comp,'!G38))*100,INT('Calificacion de comp,'!G38)+1,INT('Calificacion de comp,'!G38)),\"\")","v":""},{"$f":"IFERROR(IF('Calificacion de comp,'!$N$3<=('Calificacion de comp,'!H38-INT('Calificacion de comp,'!H38))*100,INT('Calificacion de comp,'!H38)+1,INT('Calificacion de comp,'!H38)),\"\")","v":""},{"$f":"IFERROR(IF('Calificacion de comp,'!$N$3<=('Calificacion de comp,'!I38-INT('Calificacion de comp,'!I38))*100,INT('Calificacion de comp,'!I38)+1,INT('Calificacion de comp,'!I38)),\"\")","v":""},{"$f":"IFERROR(IF('Calificacion de comp,'!$N$3<=('Calificacion de comp,'!J38-INT('Calificacion de comp,'!J38))*100,INT('Calificacion de comp,'!J38)+1,INT('Calificacion de comp,'!J38)),\"\")","v":""}]
[{"$f":"IF(Alumnos!E38=\"\",\"\",Alumnos!E38)","v":""},{"$f":"IFERROR(IF('Calificacion de comp,'!$N$3<=('Calificacion de comp,'!C39-INT('Calificacion de comp,'!C39))*100,INT('Calificacion de comp,'!C39)+1,INT('Calificacion de comp,'!C39)),\"\")","v":""},{"$f":"IFERROR(IF('Calificacion de comp,'!$N$3<=('Calificacion de comp,'!D39-INT('Calificacion de comp,'!D39))*100,INT('Calificacion de comp,'!D39)+1,INT('Calificacion de comp,'!D39)),\"\")","v":""},{"$f":"IFERROR(IF('Calificacion de comp,'!$N$3<=('Calificacion de comp,'!E39-INT('Calificacion de comp,'!E39))*100,INT('Calificacion de comp,'!E39)+1,INT('Calificacion de comp,'!E39)),\"\")","v":""},{"$f":"IFERROR(IF('Calificacion de comp,'!$N$3<=('Calificacion de comp,'!F39-INT('Calificacion de comp,'!F39))*100,INT('Calificacion de comp,'!F39)+1,INT('Calificacion de comp,'!F39)),\"\")","v":""},{"$f":"IFERROR(IF('Calificacion de comp,'!$N$3<=('Calificacion de comp,'!G39-INT('Calificacion de comp,'!G39))*100,INT('Calificacion de comp,'!G39)+1,INT('Calificacion de comp,'!G39)),\"\")","v":""},{"$f":"IFERROR(IF('Calificacion de comp,'!$N$3<=('Calificacion de comp,'!H39-INT('Calificacion de comp,'!H39))*100,INT('Calificacion de comp,'!H39)+1,INT('Calificacion de comp,'!H39)),\"\")","v":""},{"$f":"IFERROR(IF('Calificacion de comp,'!$N$3<=('Calificacion de comp,'!I39-INT('Calificacion de comp,'!I39))*100,INT('Calificacion de comp,'!I39)+1,INT('Calificacion de comp,'!I39)),\"\")","v":""},{"$f":"IFERROR(IF('Calificacion de comp,'!$N$3<=('Calificacion de comp,'!J39-INT('Calificacion de comp,'!J39))*100,INT('Calificacion de comp,'!J39)+1,INT('Calificacion de comp,'!J39)),\"\")","v":""}]
[{"$f":"IF(Alumnos!E39=\"\",\"\",Alumnos!E39)","v":""},{"$f":"IFERROR(IF('Calificacion de comp,'!$N$3<=('Calificacion de comp,'!C40-INT('Calificacion de comp,'!C40))*100,INT('Calificacion de comp,'!C40)+1,INT('Calificacion de comp,'!C40)),\"\")","v":""},{"$f":"IFERROR(IF('Calificacion de comp,'!$N$3<=('Calificacion de comp,'!D40-INT('Calificacion de comp,'!D40))*100,INT('Calificacion de comp,'!D40)+1,INT('Calificacion de comp,'!D40)),\"\")","v":""},{"$f":"IFERROR(IF('Calificacion de comp,'!$N$3<=('Calificacion de comp,'!E40-INT('Calificacion de comp,'!E40))*100,INT('Calificacion de comp,'!E40)+1,INT('Calificacion de comp,'!E40)),\"\")","v":""},{"$f":"IFERROR(IF('Calificacion de comp,'!$N$3<=('Calificacion de comp,'!F40-INT('Calificacion de comp,'!F40))*100,INT('Calificacion de comp,'!F40)+1,INT('Calificacion de comp,'!F40)),\"\")","v":""},{"$f":"IFERROR(IF('Calificacion de comp,'!$N$3<=('Calificacion de comp,'!G40-INT('Calificacion de comp,'!G40))*100,INT('Calificacion de comp,'!G40)+1,INT('Calificacion de comp,'!G40)),\"\")","v":""},{"$f":"IFERROR(IF('Calificacion de comp,'!$N$3<=('Calificacion de comp,'!H40-INT('Calificacion de comp,'!H40))*100,INT('Calificacion de comp,'!H40)+1,INT('Calificacion de comp,'!H40)),\"\")","v":""},{"$f":"IFERROR(IF('Calificacion de comp,'!$N$3<=('Calificacion de comp,'!I40-INT('Calificacion de comp,'!I40))*100,INT('Calificacion de comp,'!I40)+1,INT('Calificacion de comp,'!I40)),\"\")","v":""},{"$f":"IFERROR(IF('Calificacion de comp,'!$N$3<=('Calificacion de comp,'!J40-INT('Calificacion de comp,'!J40))*100,INT('Calificacion de comp,'!J40)+1,INT('Calificacion de comp,'!J40)),\"\")","v":""}]
[{"$f":"IF(Alumnos!E40=\"\",\"\",Alumnos!E40)","v":""},{"$f":"IFERROR(IF('Calificacion de comp,'!$N$3<=('Calificacion de comp,'!C41-INT('Calificacion de comp,'!C41))*100,INT('Calificacion de comp,'!C41)+1,INT('Calificacion de comp,'!C41)),\"\")","v":""},{"$f":"IFERROR(IF('Calificacion de comp,'!$N$3<=('Calificacion de comp,'!D41-INT('Calificacion de comp,'!D41))*100,INT('Calificacion de comp,'!D41)+1,INT('Calificacion de comp,'!D41)),\"\")","v":""},{"$f":"IFERROR(IF('Calificacion de comp,'!$N$3<=('Calificacion de comp,'!E41-INT('Calificacion de comp,'!E41))*100,INT('Calificacion de comp,'!E41)+1,INT('Calificacion de comp,'!E41)),\"\")","v":""},{"$f":"IFERROR(IF('Calificacion de comp,'!$N$3<=('Calificacion de comp,'!F41-INT('Calificacion de comp,'!F41))*100,INT('Calificacion de comp,'!F41)+1,INT('Calificacion de comp,'!F41)),\"\")","v":""},{"$f":"IFERROR(IF('Calificacion de comp,'!$N$3<=('Calificacion de comp,'!G41-INT('Calificacion de comp,'!G41))*100,INT('Calificacion de comp,'!G41)+1,INT('Calificacion de comp,'!G41)),\"\")","v":""},{"$f":"IFERROR(IF('Calificacion de comp,'!$N$3<=('Calificacion de comp,'!H41-INT('Calificacion de comp,'!H41))*100,INT('Calificacion de comp,'!H41)+1,INT('Calificacion de comp,'!H41)),\"\")","v":""},{"$f":"IFERROR(IF('Calificacion de comp,'!$N$3<=('Calificacion de comp,'!I41-INT('Calificacion de comp,'!I41))*100,INT('Calificacion de comp,'!I41)+1,INT('Calificacion de comp,'!I41)),\"\")","v":""},{"$f":"IFERROR(IF('Calificacion de comp,'!$N$3<=('Calificacion de comp,'!J41-INT('Calificacion de comp,'!J41))*100,INT('Calificacion de comp,'!J41)+1,INT('Calificacion de comp,'!J41)),\"\")","v":""}]

{"sheet":"Calificación materias","index":22,"n_rows":15,"n_cols":37,"rows_kept":15,"cut":false,"hidden":false,"merged":[]}
[]
[]
[]
[]
[null,null,{"$f":"'Calif. de crit.'!E2","v":"Nombre_Alumno_1"},{"$f":"'Calif. de crit.'!F2","v":"Nombre_Alumno_2"},{"$f":"'Calif. de crit.'!G2","v":"Nombre_Alumno_3"},{"$f":"'Calif. de crit.'!H2","v":"Nombre_Alumno_4"},{"$f":"'Calif. de crit.'!I2","v":"Nombre_Alumno_5"},{"$f":"'Calif. de crit.'!J2","v":"Nombre_Alumno_6"},{"$f":"'Calif. de crit.'!K2","v":"Nombre_Alumno_7"},{"$f":"'Calif. de crit.'!L2","v":"Nombre_Alumno_8"},{"$f":"'Calif. de crit.'!M2","v":"Nombre_Alumno_9"},{"$f":"'Calif. de crit.'!N2","v":"Nombre_Alumno_10"},{"$f":"'Calif. de crit.'!O2","v":""},{"$f":"'Calif. de crit.'!P2","v":""},{"$f":"'Calif. de crit.'!Q2","v":""},{"$f":"'Calif. de crit.'!R2","v":""},{"$f":"'Calif. de crit.'!S2","v":""},{"$f":"'Calif. de crit.'!T2","v":""},{"$f":"'Calif. de crit.'!U2","v":""},{"$f":"'Calif. de crit.'!V2","v":""},{"$f":"'Calif. de crit.'!W2","v":""},{"$f":"'Calif. de crit.'!X2","v":""},{"$f":"'Calif. de crit.'!Y2","v":""},{"$f":"'Calif. de crit.'!Z2","v":""},{"$f":"'Calif. de crit.'!AA2","v":""},{"$f":"'Calif. de crit.'!AB2","v":""},{"$f":"'Calif. de crit.'!AC2","v":""},{"$f":"'Calif. de crit.'!AD2","v":""},{"$f":"'Calif. de crit.'!AE2","v":""},{"$f":"'Calif. de crit.'!AF2","v":""},{"$f":"'Calif. de crit.'!AG2","v":""},{"$f":"'Calif. de crit.'!AH2","v":""},{"$f":"'Calif. de crit.'!AI2","v":""},{"$f":"'Calif. de crit.'!AJ2","v":""},{"$f":"'Calif. de crit.'!AK2","v":""},{"$f":"'Calif. de crit.'!AL2","v":""},{"$f":"'Calif. de crit.'!AM2","v":""}]
[null,"Ciencias de la Naturaleza",{"$f":"'Ciencias de la Naturaleza'!H3","v":""},{"$f":"'Ciencias de la Naturaleza'!I3","v":""},{"$f":"'Ciencias de la Naturaleza'!J3","v":""},{"$f":"'Ciencias de la Naturaleza'!K3","v":""},{"$f":"'Ciencias de la Naturaleza'!L3","v":""},{"$f":"'Ciencias de la Naturaleza'!M3","v":""},{"$f":"'Ciencias de la Naturaleza'!N3","v":""},{"$f":"'Ciencias de la Naturaleza'!O3","v":""},{"$f":"'Ciencias de la Naturaleza'!P3","v":""},{"$f":"'Ciencias de la Naturaleza'!Q3","v":""},{"$f":"'Ciencias de la Naturaleza'!R3","v":""},{"$f":"'Ciencias de la Naturaleza'!S3","v":""},{"$f":"'Ciencias de la Naturaleza'!T3","v":""},{"$f":"'Ciencias de la Naturaleza'!U3","v":""},{"$f":"'Ciencias de la Naturaleza'!V3","v":""},{"$f":"'Ciencias de la Naturaleza'!W3","v":""},{"$f":"'Ciencias de la Naturaleza'!X3","v":""},{"$f":"'Ciencias de la Naturaleza'!Y3","v":""},{"$f":"'Ciencias de la Naturaleza'!Z3","v":""},{"$f":"'Ciencias de la Naturaleza'!AA3","v":""},{"$f":"'Ciencias de la Naturaleza'!AB3","v":""},{"$f":"'Ciencias de la Naturaleza'!AC3","v":""},{"$f":"'Ciencias de la Naturaleza'!AD3","v":""},{"$f":"'Ciencias de la Naturaleza'!AE3","v":""},{"$f":"'Ciencias de la Naturaleza'!AF3","v":""},{"$f":"'Ciencias de la Naturaleza'!AG3","v":""},{"$f":"'Ciencias de la Naturaleza'!AH3","v":""},{"$f":"'Ciencias de la Naturaleza'!AI3","v":""},{"$f":"'Ciencias de la Naturaleza'!AJ3","v":""},{"$f":"'Ciencias de la Naturaleza'!AK3","v":""},{"$f":"'Ciencias de la Naturaleza'!AL3","v":""},{"$f":"'Ciencias de la Naturaleza'!AM3","v":""},{"$f":"'Ciencias de la Naturaleza'!AN3","v":""},{"$f":"'Ciencias de la Naturaleza'!AO3","v":""},{"$f":"'Ciencias de la Naturaleza'!AP3","v":""}]
[null,"Ciencias Sociales",{"$f":"'Ciencias Sociales'!H3","v":""},{"$f":"'Ciencias Sociales'!I3","v":""},{"$f":"'Ciencias Sociales'!J3","v":""},{"$f":"'Ciencias Sociales'!K3","v":""},{"$f":"'Ciencias Sociales'!L3","v":""},{"$f":"'Ciencias Sociales'!M3","v":""},{"$f":"'Ciencias Sociales'!N3","v":""},{"$f":"'Ciencias Sociales'!O3","v":""},{"$f":"'Ciencias Sociales'!P3","v":""},{"$f":"'Ciencias Sociales'!Q3","v":""},{"$f":"'Ciencias Sociales'!R3","v":""},{"$f":"'Ciencias Sociales'!S3","v":""},{"$f":"'Ciencias Sociales'!T3","v":""},{"$f":"'Ciencias Sociales'!U3","v":""},{"$f":"'Ciencias Sociales'!V3","v":""},{"$f":"'Ciencias Sociales'!W3","v":""},{"$f":"'Ciencias Sociales'!X3","v":""},{"$f":"'Ciencias Sociales'!Y3","v":""},{"$f":"'Ciencias Sociales'!Z3","v":""},{"$f":"'Ciencias Sociales'!AA3","v":""},{"$f":"'Ciencias Sociales'!AB3","v":""},{"$f":"'Ciencias Sociales'!AC3","v":""},{"$f":"'Ciencias Sociales'!AD3","v":""},{"$f":"'Ciencias Sociales'!AE3","v":""},{"$f":"'Ciencias Sociales'!AF3","v":""},{"$f":"'Ciencias Sociales'!AG3","v":""},{"$f":"'Ciencias Sociales'!AH3","v":""},{"$f":"'Ciencias Sociales'!AI3","v":""},{"$f":"'Ciencias Sociales'!AJ3","v":""},{"$f":"'Ciencias Sociales'!AK3","v":""},{"$f":"'Ciencias Sociales'!AL3","v":""},{"$f":"'Ciencias Sociales'!AM3","v":""},{"$f":"'Ciencias Sociales'!AN3","v":""},{"$f":"'Ciencias Sociales'!AO3","v":""},{"$f":"'Ciencias Sociales'!AP3","v":""}]
[null,"Educación Física",{"$f":"'Educacion Fisica'!H3","v":""},{"$f":"'Educacion Fisica'!I3","v":""},{"$f":"'Educacion Fisica'!J3","v":""},{"$f":"'Educacion Fisica'!K3","v":""},{"$f":"'Educacion Fisica'!L3","v":""},{"$f":"'Educacion Fisica'!M3","v":""},{"$f":"'Educacion Fisica'!N3","v":""},{"$f":"'Educacion Fisica'!O3","v":""},{"$f":"'Educacion Fisica'!P3","v":""},{"$f":"'Educacion Fisica'!Q3","v":""},{"$f":"'Educacion Fisica'!R3","v":""},{"$f":"'Educacion Fisica'!S3","v":""},{"$f":"'Educacion Fisica'!T3","v":""},{"$f":"'Educacion Fisica'!U3","v":""},{"$f":"'Educacion Fisica'!V3","v":""},{"$f":"'Educacion Fisica'!W3","v":""},{"$f":"'Educacion Fisica'!X3","v":""},{"$f":"'Educacion Fisica'!Y3","v":""},{"$f":"'Educacion Fisica'!Z3","v":""},{"$f":"'Educacion Fisica'!AA3","v":""},{"$f":"'Educacion Fisica'!AB3","v":""},{"$f":"'Educacion Fisica'!AC3","v":""},{"$f":"'Educacion Fisica'!AD3","v":""},{"$f":"'Educacion Fisica'!AE3","v":""},{"$f":"'Educacion Fisica'!AF3","v":""},{"$f":"'Educacion Fisica'!AG3","v":""},{"$f":"'Educacion Fisica'!AH3","v":""},{"$f":"'Educacion Fisica'!AI3","v":""},{"$f":"'Educacion Fisica'!AJ3","v":""},{"$f":"'Educacion Fisica'!AK3","v":""},{"$f":"'Educacion Fisica'!AL3","v":""},{"$f":"'Educacion Fisica'!AM3","v":""},{"$f":"'Educacion Fisica'!AN3","v":""},{"$f":"'Educacion Fisica'!AO3","v":""},{"$f":"'Educacion Fisica'!AP3","v":""}]
[null,"Educación Plástica y Visual",{"$f":"EPV!H3","v":""},{"$f":"EPV!I3","v":""},{"$f":"EPV!J3","v":""},{"$f":"EPV!K3","v":""},{"$f":"EPV!L3","v":""},{"$f":"EPV!M3","v":""},{"$f":"EPV!N3","v":""},{"$f":"EPV!O3","v":""},{"$f":"EPV!P3","v":""},{"$f":"EPV!Q3","v":""},{"$f":"EPV!R3","v":""},{"$f":"EPV!S3","v":""},{"$f":"EPV!T3","v":""},{"$f":"EPV!U3","v":""},{"$f":"EPV!V3","v":""},{"$f":"EPV!W3","v":""},{"$f":"EPV!X3","v":""},{"$f":"EPV!Y3","v":""},{"$f":"EPV!Z3","v":""},{"$f":"EPV!AA3","v":""},{"$f":"EPV!AB3","v":""},{"$f":"EPV!AC3","v":""},{"$f":"EPV!AD3","v":""},{"$f":"EPV!AE3","v":""},{"$f":"EPV!AF3","v":""},{"$f":"EPV!AG3","v":""},{"$f":"EPV!AH3","v":""},{"$f":"EPV!AI3","v":""},{"$f":"EPV!AJ3","v":""},{"$f":"EPV!AK3","v":""},{"$f":"EPV!AL3","v":""},{"$f":"EPV!AM3","v":""},{"$f":"EPV!AN3","v":""},{"$f":"EPV!AO3","v":""},{"$f":"EPV!AP3","v":""}]
[null,"Lengua Castellana y Literatura",{"$f":"'Lengua Castellana y Lit.'!H3","v":""},{"$f":"'Lengua Castellana y Lit.'!I3","v":""},{"$f":"'Lengua Castellana y Lit.'!J3","v":""},{"$f":"'Lengua Castellana y Lit.'!K3","v":""},{"$f":"'Lengua Castellana y Lit.'!L3","v":""},{"$f":"'Lengua Castellana y Lit.'!M3","v":""},{"$f":"'Lengua Castellana y Lit.'!N3","v":""},{"$f":"'Lengua Castellana y Lit.'!O3","v":""},{"$f":"'Lengua Castellana y Lit.'!P3","v":""},{"$f":"'Lengua Castellana y Lit.'!Q3","v":""},{"$f":"'Lengua Castellana y Lit.'!R3","v":""},{"$f":"'Lengua Castellana y Lit.'!S3","v":""},{"$f":"'Lengua Castellana y Lit.'!T3","v":""},{"$f":"'Lengua Castellana y Lit.'!U3","v":""},{"$f":"'Lengua Castellana y Lit.'!V3","v":""},{"$f":"'Lengua Castellana y Lit.'!W3","v":""},{"$f":"'Lengua Castellana y Lit.'!X3","v":""},{"$f":"'Lengua Castellana y Lit.'!Y3","v":""},{"$f":"'Lengua Castellana y Lit.'!Z3","v":""},{"$f":"'Lengua Castellana y Lit.'!AA3","v":""},{"$f":"'Lengua Castellana y Lit.'!AB3","v":""},{"$f":"'Lengua Castellana y Lit.'!AC3","v":""},{"$f":"'Lengua Castellana y Lit.'!AD3","v":""},{"$f":"'Lengua Castellana y Lit.'!AE3","v":""},{"$f":"'Lengua Castellana y Lit.'!AF3","v":""},{"$f":"'Lengua Castellana y Lit.'!AG3","v":""},{"$f":"'Lengua Castellana y Lit.'!AH3","v":""},{"$f":"'Lengua Castellana y Lit.'!AI3","v":""},{"$f":"'Lengua Castellana y Lit.'!AJ3","v":""},{"$f":"'Lengua Castellana y Lit.'!AK3","v":""},{"$f":"'Lengua Castellana y Lit.'!AL3","v":""},{"$f":"'Lengua Castellana y Lit.'!AM3","v":""},{"$f":"'Lengua Castellana y Lit.'!AN3","v":""},{"$f":"'Lengua Castellana y Lit.'!AO3","v":""},{"$f":"'Lengua Castellana y Lit.'!AP3","v":""}]
[null,"Lengua Extranjera",{"$f":"'Lengua extranjera'!H3","v":""},{"$f":"'Lengua extranjera'!I3","v":""},{"$f":"'Lengua extranjera'!J3","v":""},{"$f":"'Lengua extranjera'!K3","v":""},{"$f":"'Lengua extranjera'!L3","v":""},{"$f":"'Lengua extranjera'!M3","v":""},{"$f":"'Lengua extranjera'!N3","v":""},{"$f":"'Lengua extranjera'!O3","v":""},{"$f":"'Lengua extranjera'!P3","v":""},{"$f":"'Lengua extranjera'!Q3","v":""},{"$f":"'Lengua extranjera'!R3","v":""},{"$f":"'Lengua extranjera'!S3","v":""},{"$f":"'Lengua extranjera'!T3","v":""},{"$f":"'Lengua extranjera'!U3","v":""},{"$f":"'Lengua extranjera'!V3","v":""},{"$f":"'Lengua extranjera'!W3","v":""},{"$f":"'Lengua extranjera'!X3","v":""},{"$f":"'Lengua extranjera'!Y3","v":""},{"$f":"'Lengua extranjera'!Z3","v":""},{"$f":"'Lengua extranjera'!AA3","v":""},{"$f":"'Lengua extranjera'!AB3","v":""},{"$f":"'Lengua extranjera'!AC3","v":""},{"$f":"'Lengua extranjera'!AD3","v":""},{"$f":"'Lengua extranjera'!AE3","v":""},{"$f":"'Lengua extranjera'!AF3","v":""},{"$f":"'Lengua extranjera'!AG3","v":""},{"$f":"'Lengua extranjera'!AH3","v":""},{"$f":"'Lengua extranjera'!AI3","v":""},{"$f":"'Lengua extranjera'!AJ3","v":""},{"$f":"'Lengua extranjera'!AK3","v":""},{"$f":"'Lengua extranjera'!AL3","v":""},{"$f":"'Lengua extranjera'!AM3","v":""},{"$f":"'Lengua extranjera'!AN3","v":""},{"$f":"'Lengua extranjera'!AO3","v":""},{"$f":"'Lengua extranjera'!AP3","v":""}]
[null,"Matemáticas",{"$f":"Matematicas!H3","v":""},{"$f":"Matematicas!I3","v":""},{"$f":"Matematicas!J3","v":""},{"$f":"Matematicas!K3","v":""},{"$f":"Matematicas!L3","v":""},{"$f":"Matematicas!M3","v":""},{"$f":"Matematicas!N3","v":""},{"$f":"Matematicas!O3","v":""},{"$f":"Matematicas!P3","v":""},{"$f":"Matematicas!Q3","v":""},{"$f":"Matematicas!R3","v":""},{"$f":"Matematicas!S3","v":""},{"$f":"Matematicas!T3","v":""},{"$f":"Matematicas!U3","v":""},{"$f":"Matematicas!V3","v":""},{"$f":"Matematicas!W3","v":""},{"$f":"Matematicas!X3","v":""},{"$f":"Matematicas!Y3","v":""},{"$f":"Matematicas!Z3","v":""},{"$f":"Matematicas!AA3","v":""},{"$f":"Matematicas!AB3","v":""},{"$f":"Matematicas!AC3","v":""},{"$f":"Matematicas!AD3","v":""},{"$f":"Matematicas!AE3","v":""},{"$f":"Matematicas!AF3","v":""},{"$f":"Matematicas!AG3","v":""},{"$f":"Matematicas!AH3","v":""},{"$f":"Matematicas!AI3","v":""},{"$f":"Matematicas!AJ3","v":""},{"$f":"Matematicas!AK3","v":""},{"$f":"Matematicas!AL3","v":""},{"$f":"Matematicas!AM3","v":""},{"$f":"Matematicas!AN3","v":""},{"$f":"Matematicas!AO3","v":""},{"$f":"Matematicas!AP3","v":""}]
[null,"Música y Danza",{"$f":"'Musica y Danza'!H3","v":""},{"$f":"'Musica y Danza'!I3","v":""},{"$f":"'Musica y Danza'!J3","v":""},{"$f":"'Musica y Danza'!K3","v":""},{"$f":"'Musica y Danza'!L3","v":""},{"$f":"'Musica y Danza'!M3","v":""},{"$f":"'Musica y Danza'!N3","v":""},{"$f":"'Musica y Danza'!O3","v":""},{"$f":"'Musica y Danza'!P3","v":""},{"$f":"'Musica y Danza'!Q3","v":""},{"$f":"'Musica y Danza'!R3","v":""},{"$f":"'Musica y Danza'!S3","v":""},{"$f":"'Musica y Danza'!T3","v":""},{"$f":"'Musica y Danza'!U3","v":""},{"$f":"'Musica y Danza'!V3","v":""},{"$f":"'Musica y Danza'!W3","v":""},{"$f":"'Musica y Danza'!X3","v":""},{"$f":"'Musica y Danza'!Y3","v":""},{"$f":"'Musica y Danza'!Z3","v":""},{"$f":"'Musica y Danza'!AA3","v":""},{"$f":"'Musica y Danza'!AB3","v":""},{"$f":"'Musica y Danza'!AC3","v":""},{"$f":"'Musica y Danza'!AD3","v":""},{"$f":"'Musica y Danza'!AE3","v":""},{"$f":"'Musica y Danza'!AF3","v":""},{"$f":"'Musica y Danza'!AG3","v":""},{"$f":"'Musica y Danza'!AH3","v":""},{"$f":"'Musica y Danza'!AI3","v":""},{"$f":"'Musica y Danza'!AJ3","v":""},{"$f":"'Musica y Danza'!AK3","v":""},{"$f":"'Musica y Danza'!AL3","v":""},{"$f":"'Musica y Danza'!AM3","v":""},{"$f":"'Musica y Danza'!AN3","v":""},{"$f":"'Musica y Danza'!AO3","v":""},{"$f":"'Musica y Danza'!AP3","v":""}]
[null,"Área alumnado no Religión",{"$f":"IF(ANR!H3=\"\",\"\",ANR!H3)","v":""},{"$f":"IF(ANR!I3=\"\",\"\",ANR!I3)","v":""},{"$f":"IF(ANR!J3=\"\",\"\",ANR!J3)","v":""},{"$f":"IF(ANR!K3=\"\",\"\",ANR!K3)","v":""},{"$f":"IF(ANR!L3=\"\",\"\",ANR!L3)","v":""},{"$f":"IF(ANR!M3=\"\",\"\",ANR!M3)","v":""},{"$f":"IF(ANR!N3=\"\",\"\",ANR!N3)","v":""},{"$f":"IF(ANR!O3=\"\",\"\",ANR!O3)","v":""},{"$f":"IF(ANR!P3=\"\",\"\",ANR!P3)","v":""},{"$f":"IF(ANR!Q3=\"\",\"\",ANR!Q3)","v":""},{"$f":"IF(ANR!R3=\"\",\"\",ANR!R3)","v":""},{"$f":"IF(ANR!S3=\"\",\"\",ANR!S3)","v":""},{"$f":"IF(ANR!T3=\"\",\"\",ANR!T3)","v":""},{"$f":"IF(ANR!U3=\"\",\"\",ANR!U3)","v":""},{"$f":"IF(ANR!V3=\"\",\"\",ANR!V3)","v":""},{"$f":"IF(ANR!W3=\"\",\"\",ANR!W3)","v":""},{"$f":"IF(ANR!X3=\"\",\"\",ANR!X3)","v":""},{"$f":"IF(ANR!Y3=\"\",\"\",ANR!Y3)","v":""},{"$f":"IF(ANR!Z3=\"\",\"\",ANR!Z3)","v":""},{"$f":"IF(ANR!AA3=\"\",\"\",ANR!AA3)","v":""},{"$f":"IF(ANR!AB3=\"\",\"\",ANR!AB3)","v":""},{"$f":"IF(ANR!AC3=\"\",\"\",ANR!AC3)","v":""},{"$f":"IF(ANR!AD3=\"\",\"\",ANR!AD3)","v":""},{"$f":"IF(ANR!AE3=\"\",\"\",ANR!AE3)","v":""},{"$f":"IF(ANR!AF3=\"\",\"\",ANR!AF3)","v":""},{"$f":"IF(ANR!AG3=\"\",\"\",ANR!AG3)","v":""},{"$f":"IF(ANR!AH3=\"\",\"\",ANR!AH3)","v":""},{"$f":"IF(ANR!AI3=\"\",\"\",ANR!AI3)","v":""},{"$f":"IF(ANR!AJ3=\"\",\"\",ANR!AJ3)","v":""},{"$f":"IF(ANR!AK3=\"\",\"\",ANR!AK3)","v":""},{"$f":"IF(ANR!AL3=\"\",\"\",ANR!AL3)","v":""},{"$f":"IF(ANR!AM3=\"\",\"\",ANR!AM3)","v":""},{"$f":"IF(ANR!AN3=\"\",\"\",ANR!AN3)","v":""},{"$f":"IF(ANR!AO3=\"\",\"\",ANR!AO3)","v":""},{"$f":"IF(ANR!AP3=\"\",\"\",ANR!AP3)","v":""}]
[null,"Religión",{"$f":"Religion!H3","v":""},{"$f":"Religion!I3","v":""},{"$f":"Religion!J3","v":""},{"$f":"Religion!K3","v":""},{"$f":"Religion!L3","v":""},{"$f":"Religion!M3","v":""},{"$f":"Religion!N3","v":""},{"$f":"Religion!O3","v":""},{"$f":"Religion!P3","v":""},{"$f":"Religion!Q3","v":""},{"$f":"Religion!R3","v":""},{"$f":"Religion!S3","v":""},{"$f":"Religion!T3","v":""},{"$f":"Religion!U3","v":""},{"$f":"Religion!V3","v":""},{"$f":"Religion!W3","v":""},{"$f":"Religion!X3","v":""},{"$f":"Religion!Y3","v":""},{"$f":"Religion!Z3","v":""},{"$f":"Religion!AA3","v":""},{"$f":"Religion!AB3","v":""},{"$f":"Religion!AC3","v":""},{"$f":"Religion!AD3","v":""},{"$f":"Religion!AE3","v":""},{"$f":"Religion!AF3","v":""},{"$f":"Religion!AG3","v":""},{"$f":"Religion!AH3","v":""},{"$f":"Religion!AI3","v":""},{"$f":"Religion!AJ3","v":""},{"$f":"Religion!AK3","v":""},{"$f":"Religion!AL3","v":""},{"$f":"Religion!AM3","v":""},{"$f":"Religion!AN3","v":""},{"$f":"Religion!AO3","v":""},{"$f":"Religion!AP3","v":""}]

{"sheet":"CSVmat","index":23,"n_rows":36,"n_cols":11,"rows_kept":36,"cut":false,"hidden":false,"merged":[]}
["C_MATRICULA_ID","CMCNA 4","CMCSO 4","EF 4","EARPV 4","LCL 4","ING 4","MAT 4","EARMD 4","MAE 4","RCA 4"]
[{"$f":"IF(Alumnos!E6=\"\",\"\",Alumnos!E6)","v":"0000000_1"},{"$f":"IFERROR(IF(Redondeo!C$5<=(Redondeo!C7-INT(Redondeo!C7))*100,INT(Redondeo!C7)+1,INT(Redondeo!C7)),\"\")","v":""},{"$f":"IFERROR(IF(Redondeo!D$5<=(Redondeo!D7-INT(Redondeo!D7))*100,INT(Redondeo!D7)+1,INT(Redondeo!D7)),\"\")","v":""},{"$f":"IFERROR(IF(Redondeo!E$5<=(Redondeo!E7-INT(Redondeo!E7))*100,INT(Redondeo!E7)+1,INT(Redondeo!E7)),\"\")","v":""},{"$f":"IFERROR(IF(Redondeo!F$5<=(Redondeo!F7-INT(Redondeo!F7))*100,INT(Redondeo!F7)+1,INT(Redondeo!F7)),\"\")","v":""},{"$f":"IFERROR(IF(Redondeo!G$5<=(Redondeo!G7-INT(Redondeo!G7))*100,INT(Redondeo!G7)+1,INT(Redondeo!G7)),\"\")","v":""},{"$f":"IFERROR(IF(Redondeo!H$5<=(Redondeo!H7-INT(Redondeo!H7))*100,INT(Redondeo!H7)+1,INT(Redondeo!H7)),\"\")","v":""},{"$f":"IFERROR(IF(Redondeo!I$5<=(Redondeo!I7-INT(Redondeo!I7))*100,INT(Redondeo!I7)+1,INT(Redondeo!I7)),\"\")","v":""},{"$f":"IFERROR(IF(Redondeo!J$5<=(Redondeo!J7-INT(Redondeo!J7))*100,INT(Redondeo!J7)+1,INT(Redondeo!J7)),\"\")","v":""},{"$f":"IFERROR(IF(Redondeo!K$5<=(Redondeo!K7-INT(Redondeo!K7))*100,INT(Redondeo!K7)+1,INT(Redondeo!K7)),\"\")","v":""},{"$f":"IFERROR(IF(Redondeo!L$5<=(Redondeo!L7-INT(Redondeo!L7))*100,INT(Redondeo!L7)+1,INT(Redondeo!L7)),\"\")","v":""}]
[{"$f":"IF(Alumnos!E7=\"\",\"\",Alumnos!E7)","v":"0000000_2"},{"$f":"IFERROR(IF(Redondeo!C$5<=(Redondeo!C8-INT(Redondeo!C8))*100,INT(Redondeo!C8)+1,INT(Redondeo!C8)),\"\")","v":""},{"$f":"IFERROR(IF(Redondeo!D$5<=(Redondeo!D8-INT(Redondeo!D8))*100,INT(Redondeo!D8)+1,INT(Redondeo!D8)),\"\")","v":""},{"$f":"IFERROR(IF(Redondeo!E$5<=(Redondeo!E8-INT(Redondeo!E8))*100,INT(Redondeo!E8)+1,INT(Redondeo!E8)),\"\")","v":""},{"$f":"IFERROR(IF(Redondeo!F$5<=(Redondeo!F8-INT(Redondeo!F8))*100,INT(Redondeo!F8)+1,INT(Redondeo!F8)),\"\")","v":""},{"$f":"IFERROR(IF(Redondeo!G$5<=(Redondeo!G8-INT(Redondeo!G8))*100,INT(Redondeo!G8)+1,INT(Redondeo!G8)),\"\")","v":""},{"$f":"IFERROR(IF(Redondeo!H$5<=(Redondeo!H8-INT(Redondeo!H8))*100,INT(Redondeo!H8)+1,INT(Redondeo!H8)),\"\")","v":""},{"$f":"IFERROR(IF(Redondeo!I$5<=(Redondeo!I8-INT(Redondeo!I8))*100,INT(Redondeo!I8)+1,INT(Redondeo!I8)),\"\")","v":""},{"$f":"IFERROR(IF(Redondeo!J$5<=(Redondeo!J8-INT(Redondeo!J8))*100,INT(Redondeo!J8)+1,INT(Redondeo!J8)),\"\")","v":""},{"$f":"IFERROR(IF(Redondeo!K$5<=(Redondeo!K8-INT(Redondeo!K8))*100,INT(Redondeo!K8)+1,INT(Redondeo!K8)),\"\")","v":""},{"$f":"IFERROR(IF(Redondeo!L$5<=(Redondeo!L8-INT(Redondeo!L8))*100,INT(Redondeo!L8)+1,INT(Redondeo!L8)),\"\")","v":""}]
[{"$f":"IF(Alumnos!E8=\"\",\"\",Alumnos!E8)","v":"0000000_3"},{"$f":"IFERROR(IF(Redondeo!C$5<=(Redondeo!C9-INT(Redondeo!C9))*100,INT(Redondeo!C9)+1,INT(Redondeo!C9)),\"\")","v":""},{"$f":"IFERROR(IF(Redondeo!D$5<=(Redondeo!D9-INT(Redondeo!D9))*100,INT(Redondeo!D9)+1,INT(Redondeo!D9)),\"\")","v":""},{"$f":"IFERROR(IF(Redondeo!E$5<=(Redondeo!E9-INT(Redondeo!E9))*100,INT(Redondeo!E9)+1,INT(Redondeo!E9)),\"\")","v":""},{"$f":"IFERROR(IF(Redondeo!F$5<=(Redondeo!F9-INT(Redondeo!F9))*100,INT(Redondeo!F9)+1,INT(Redondeo!F9)),\"\")","v":""},{"$f":"IFERROR(IF(Redondeo!G$5<=(Redondeo!G9-INT(Redondeo!G9))*100,INT(Redondeo!G9)+1,INT(Redondeo!G9)),\"\")","v":""},{"$f":"IFERROR(IF(Redondeo!H$5<=(Redondeo!H9-INT(Redondeo!H9))*100,INT(Redondeo!H9)+1,INT(Redondeo!H9)),\"\")","v":""},{"$f":"IFERROR(IF(Redondeo!I$5<=(Redondeo!I9-INT(Redondeo!I9))*100,INT(Redondeo!I9)+1,INT(Redondeo!I9)),\"\")","v":""},{"$f":"IFERROR(IF(Redondeo!J$5<=(Redondeo!J9-INT(Redondeo!J9))*100,INT(Redondeo!J9)+1,INT(Redondeo!J9)),\"\")","v":""},{"$f":"IFERROR(IF(Redondeo!K$5<=(Redondeo!K9-INT(Redondeo!K9))*100,INT(Redondeo!K9)+1,INT(Redondeo!K9)),\"\")","v":""},{"$f":"IFERROR(IF(Redondeo!L$5<=(Redondeo!L9-INT(Redondeo!L9))*100,INT(Redondeo!L9)+1,INT(Redondeo!L9)),\"\")","v":""}]
[{"$f":"IF(Alumnos!E9=\"\",\"\",Alumnos!E9)","v":"0000000_4"},{"$f":"IFERROR(IF(Redondeo!C$5<=(Redondeo!C10-INT(Redondeo!C10))*100,INT(Redondeo!C10)+1,INT(Redondeo!C10)),\"\")","v":""},{"$f":"IFERROR(IF(Redondeo!D$5<=(Redondeo!D10-INT(Redondeo!D10))*100,INT(Redondeo!D10)+1,INT(Redondeo!D10)),\"\")","v":""},{"$f":"IFERROR(IF(Redondeo!E$5<=(Redondeo!E10-INT(Redondeo!E10))*100,INT(Redondeo!E10)+1,INT(Redondeo!E10)),\"\")","v":""},{"$f":"IFERROR(IF(Redondeo!F$5<=(Redondeo!F10-INT(Redondeo!F10))*100,INT(Redondeo!F10)+1,INT(Redondeo!F10)),\"\")","v":""},{"$f":"IFERROR(IF(Redondeo!G$5<=(Redondeo!G10-INT(Redondeo!G10))*100,INT(Redondeo!G10)+1,INT(Redondeo!G10)),\"\")","v":""},{"$f":"IFERROR(IF(Redondeo!H$5<=(Redondeo!H10-INT(Redondeo!H10))*100,INT(Redondeo!H10)+1,INT(Redondeo!H10)),\"\")","v":""},{"$f":"IFERROR(IF(Redondeo!I$5<=(Redondeo!I10-INT(Redondeo!I10))*100,INT(Redondeo!I10)+1,INT(Redondeo!I10)),\"\")","v":""},{"$f":"IFERROR(IF(Redondeo!J$5<=(Redondeo!J10-INT(Redondeo!J10))*100,INT(Redondeo!J10)+1,INT(Redondeo!J10)),\"\")","v":""},{"$f":"IFERROR(IF(Redondeo!K$5<=(Redondeo!K10-INT(Redondeo!K10))*100,INT(Redondeo!K10)+1,INT(Redondeo!K10)),\"\")","v":""},{"$f":"IFERROR(IF(Redondeo!L$5<=(Redondeo!L10-INT(Redondeo!L10))*100,INT(Redondeo!L10)+1,INT(Redondeo!L10)),\"\")","v":""}]
[{"$f":"IF(Alumnos!E10=\"\",\"\",Alumnos!E10)","v":"0000000_5"},{"$f":"IFERROR(IF(Redondeo!C$5<=(Redondeo!C11-INT(Redondeo!C11))*100,INT(Redondeo!C11)+1,INT(Redondeo!C11)),\"\")","v":""},{"$f":"IFERROR(IF(Redondeo!D$5<=(Redondeo!D11-INT(Redondeo!D11))*100,INT(Redondeo!D11)+1,INT(Redondeo!D11)),\"\")","v":""},{"$f":"IFERROR(IF(Redondeo!E$5<=(Redondeo!E11-INT(Redondeo!E11))*100,INT(Redondeo!E11)+1,INT(Redondeo!E11)),\"\")","v":""},{"$f":"IFERROR(IF(Redondeo!F$5<=(Redondeo!F11-INT(Redondeo!F11))*100,INT(Redondeo!F11)+1,INT(Redondeo!F11)),\"\")","v":""},{"$f":"IFERROR(IF(Redondeo!G$5<=(Redondeo!G11-INT(Redondeo!G11))*100,INT(Redondeo!G11)+1,INT(Redondeo!G11)),\"\")","v":""},{"$f":"IFERROR(IF(Redondeo!H$5<=(Redondeo!H11-INT(Redondeo!H11))*100,INT(Redondeo!H11)+1,INT(Redondeo!H11)),\"\")","v":""},{"$f":"IFERROR(IF(Redondeo!I$5<=(Redondeo!I11-INT(Redondeo!I11))*100,INT(Redondeo!I11)+1,INT(Redondeo!I11)),\"\")","v":""},{"$f":"IFERROR(IF(Redondeo!J$5<=(Redondeo!J11-INT(Redondeo!J11))*100,INT(Redondeo!J11)+1,INT(Redondeo!J11)),\"\")","v":""},{"$f":"IFERROR(IF(Redondeo!K$5<=(Redondeo!K11-INT(Redondeo!K11))*100,INT(Redondeo!K11)+1,INT(Redondeo!K11)),\"\")","v":""},{"$f":"IFERROR(IF(Redondeo!L$5<=(Redondeo!L11-INT(Redondeo!L11))*100,INT(Redondeo!L11)+1,INT(Redondeo!L11)),\"\")","v":""}]
[{"$f":"IF(Alumnos!E11=\"\",\"\",Alumnos!E11)","v":"0000000_6"},{"$f":"IFERROR(IF(Redondeo!C$5<=(Redondeo!C12-INT(Redondeo!C12))*100,INT(Redondeo!C12)+1,INT(Redondeo!C12)),\"\")","v":""},{"$f":"IFERROR(IF(Redondeo!D$5<=(Redondeo!D12-INT(Redondeo!D12))*100,INT(Redondeo!D12)+1,INT(Redondeo!D12)),\"\")","v":""},{"$f":"IFERROR(IF(Redondeo!E$5<=(Redondeo!E12-INT(Redondeo!E12))*100,INT(Redondeo!E12)+1,INT(Redondeo!E12)),\"\")","v":""},{"$f":"IFERROR(IF(Redondeo!F$5<=(Redondeo!F12-INT(Redondeo!F12))*100,INT(Redondeo!F12)+1,INT(Redondeo!F12)),\"\")","v":""},{"$f":"IFERROR(IF(Redondeo!G$5<=(Redondeo!G12-INT(Redondeo!G12))*100,INT(Redondeo!G12)+1,INT(Redondeo!G12)),\"\")","v":""},{"$f":"IFERROR(IF(Redondeo!H$5<=(Redondeo!H12-INT(Redondeo!H12))*100,INT(Redondeo!H12)+1,INT(Redondeo!H12)),\"\")","v":""},{"$f":"IFERROR(IF(Redondeo!I$5<=(Redondeo!I12-INT(Redondeo!I12))*100,INT(Redondeo!I12)+1,INT(Redondeo!I12)),\"\")","v":""},{"$f":"IFERROR(IF(Redondeo!J$5<=(Redondeo!J12-INT(Redondeo!J12))*100,INT(Redondeo!J12)+1,INT(Redondeo!J12)),\"\")","v":""},{"$f":"IFERROR(IF(Redondeo!K$5<=(Redondeo!K12-INT(Redondeo!K12))*100,INT(Redondeo!K12)+1,INT(Redondeo!K12)),\"\")","v":""},{"$f":"IFERROR(IF(Redondeo!L$5<=(Redondeo!L12-INT(Redondeo!L12))*100,INT(Redondeo!L12)+1,INT(Redondeo!L12)),\"\")","v":""}]
[{"$f":"IF(Alumnos!E12=\"\",\"\",Alumnos!E12)","v":"0000000_7"},{"$f":"IFERROR(IF(Redondeo!C$5<=(Redondeo!C13-INT(Redondeo!C13))*100,INT(Redondeo!C13)+1,INT(Redondeo!C13)),\"\")","v":""},{"$f":"IFERROR(IF(Redondeo!D$5<=(Redondeo!D13-INT(Redondeo!D13))*100,INT(Redondeo!D13)+1,INT(Redondeo!D13)),\"\")","v":""},{"$f":"IFERROR(IF(Redondeo!E$5<=(Redondeo!E13-INT(Redondeo!E13))*100,INT(Redondeo!E13)+1,INT(Redondeo!E13)),\"\")","v":""},{"$f":"IFERROR(IF(Redondeo!F$5<=(Redondeo!F13-INT(Redondeo!F13))*100,INT(Redondeo!F13)+1,INT(Redondeo!F13)),\"\")","v":""},{"$f":"IFERROR(IF(Redondeo!G$5<=(Redondeo!G13-INT(Redondeo!G13))*100,INT(Redondeo!G13)+1,INT(Redondeo!G13)),\"\")","v":""},{"$f":"IFERROR(IF(Redondeo!H$5<=(Redondeo!H13-INT(Redondeo!H13))*100,INT(Redondeo!H13)+1,INT(Redondeo!H13)),\"\")","v":""},{"$f":"IFERROR(IF(Redondeo!I$5<=(Redondeo!I13-INT(Redondeo!I13))*100,INT(Redondeo!I13)+1,INT(Redondeo!I13)),\"\")","v":""},{"$f":"IFERROR(IF(Redondeo!J$5<=(Redondeo!J13-INT(Redondeo!J13))*100,INT(Redondeo!J13)+1,INT(Redondeo!J13)),\"\")","v":""},{"$f":"IFERROR(IF(Redondeo!K$5<=(Redondeo!K13-INT(Redondeo!K13))*100,INT(Redondeo!K13)+1,INT(Redondeo!K13)),\"\")","v":""},{"$f":"IFERROR(IF(Redondeo!L$5<=(Redondeo!L13-INT(Redondeo!L13))*100,INT(Redondeo!L13)+1,INT(Redondeo!L13)),\"\")","v":""}]
[{"$f":"IF(Alumnos!E13=\"\",\"\",Alumnos!E13)","v":"0000000_8"},{"$f":"IFERROR(IF(Redondeo!C$5<=(Redondeo!C14-INT(Redondeo!C14))*100,INT(Redondeo!C14)+1,INT(Redondeo!C14)),\"\")","v":""},{"$f":"IFERROR(IF(Redondeo!D$5<=(Redondeo!D14-INT(Redondeo!D14))*100,INT(Redondeo!D14)+1,INT(Redondeo!D14)),\"\")","v":""},{"$f":"IFERROR(IF(Redondeo!E$5<=(Redondeo!E14-INT(Redondeo!E14))*100,INT(Redondeo!E14)+1,INT(Redondeo!E14)),\"\")","v":""},{"$f":"IFERROR(IF(Redondeo!F$5<=(Redondeo!F14-INT(Redondeo!F14))*100,INT(Redondeo!F14)+1,INT(Redondeo!F14)),\"\")","v":""},{"$f":"IFERROR(IF(Redondeo!G$5<=(Redondeo!G14-INT(Redondeo!G14))*100,INT(Redondeo!G14)+1,INT(Redondeo!G14)),\"\")","v":""},{"$f":"IFERROR(IF(Redondeo!H$5<=(Redondeo!H14-INT(Redondeo!H14))*100,INT(Redondeo!H14)+1,INT(Redondeo!H14)),\"\")","v":""},{"$f":"IFERROR(IF(Redondeo!I$5<=(Redondeo!I14-INT(Redondeo!I14))*100,INT(Redondeo!I14)+1,INT(Redondeo!I14)),\"\")","v":""},{"$f":"IFERROR(IF(Redondeo!J$5<=(Redondeo!J14-INT(Redondeo!J14))*100,INT(Redondeo!J14)+1,INT(Redondeo!J14)),\"\")","v":""},{"$f":"IFERROR(IF(Redondeo!K$5<=(Redondeo!K14-INT(Redondeo!K14))*100,INT(Redondeo!K14)+1,INT(Redondeo!K14)),\"\")","v":""},{"$f":"IFERROR(IF(Redondeo!L$5<=(Redondeo!L14-INT(Redondeo!L14))*100,INT(Redondeo!L14)+1,INT(Redondeo!L14)),\"\")","v":""}]
[{"$f":"IF(Alumnos!E14=\"\",\"\",Alumnos!E14)","v":"0000000_9"},{"$f":"IFERROR(IF(Redondeo!C$5<=(Redondeo!C15-INT(Redondeo!C15))*100,INT(Redondeo!C15)+1,INT(Redondeo!C15)),\"\")","v":""},{"$f":"IFERROR(IF(Redondeo!D$5<=(Redondeo!D15-INT(Redondeo!D15))*100,INT(Redondeo!D15)+1,INT(Redondeo!D15)),\"\")","v":""},{"$f":"IFERROR(IF(Redondeo!E$5<=(Redondeo!E15-INT(Redondeo!E15))*100,INT(Redondeo!E15)+1,INT(Redondeo!E15)),\"\")","v":""},{"$f":"IFERROR(IF(Redondeo!F$5<=(Redondeo!F15-INT(Redondeo!F15))*100,INT(Redondeo!F15)+1,INT(Redondeo!F15)),\"\")","v":""},{"$f":"IFERROR(IF(Redondeo!G$5<=(Redondeo!G15-INT(Redondeo!G15))*100,INT(Redondeo!G15)+1,INT(Redondeo!G15)),\"\")","v":""},{"$f":"IFERROR(IF(Redondeo!H$5<=(Redondeo!H15-INT(Redondeo!H15))*100,INT(Redondeo!H15)+1,INT(Redondeo!H15)),\"\")","v":""},{"$f":"IFERROR(IF(Redondeo!I$5<=(Redondeo!I15-INT(Redondeo!I15))*100,INT(Redondeo!I15)+1,INT(Redondeo!I15)),\"\")","v":""},{"$f":"IFERROR(IF(Redondeo!J$5<=(Redondeo!J15-INT(Redondeo!J15))*100,INT(Redondeo!J15)+1,INT(Redondeo!J15)),\"\")","v":""},{"$f":"IFERROR(IF(Redondeo!K$5<=(Redondeo!K15-INT(Redondeo!K15))*100,INT(Redondeo!K15)+1,INT(Redondeo!K15)),\"\")","v":""},{"$f":"IFERROR(IF(Redondeo!L$5<=(Redondeo!L15-INT(Redondeo!L15))*100,INT(Redondeo!L15)+1,INT(Redondeo!L15)),\"\")","v":""}]
[{"$f":"IF(Alumnos!E15=\"\",\"\",Alumnos!E15)","v":"0000000_10"},{"$f":"IFERROR(IF(Redondeo!C$5<=(Redondeo!C16-INT(Redondeo!C16))*100,INT(Redondeo!C16)+1,INT(Redondeo!C16)),\"\")","v":""},{"$f":"IFERROR(IF(Redondeo!D$5<=(Redondeo!D16-INT(Redondeo!D16))*100,INT(Redondeo!D16)+1,INT(Redondeo!D16)),\"\")","v":""},{"$f":"IFERROR(IF(Redondeo!E$5<=(Redondeo!E16-INT(Redondeo!E16))*100,INT(Redondeo!E16)+1,INT(Redondeo!E16)),\"\")","v":""},{"$f":"IFERROR(IF(Redondeo!F$5<=(Redondeo!F16-INT(Redondeo!F16))*100,INT(Redondeo!F16)+1,INT(Redondeo!F16)),\"\")","v":""},{"$f":"IFERROR(IF(Redondeo!G$5<=(Redondeo!G16-INT(Redondeo!G16))*100,INT(Redondeo!G16)+1,INT(Redondeo!G16)),\"\")","v":""},{"$f":"IFERROR(IF(Redondeo!H$5<=(Redondeo!H16-INT(Redondeo!H16))*100,INT(Redondeo!H16)+1,INT(Redondeo!H16)),\"\")","v":""},{"$f":"IFERROR(IF(Redondeo!I$5<=(Redondeo!I16-INT(Redondeo!I16))*100,INT(Redondeo!I16)+1,INT(Redondeo!I16)),\"\")","v":""},{"$f":"IFERROR(IF(Redondeo!J$5<=(Redondeo!J16-INT(Redondeo!J16))*100,INT(Redondeo!J16)+1,INT(Redondeo!J16)),\"\")","v":""},{"$f":"IFERROR(IF(Redondeo!K$5<=(Redondeo!K16-INT(Redondeo!K16))*100,INT(Redondeo!K16)+1,INT(Redondeo!K16)),\"\")","v":""},{"$f":"IFERROR(IF(Redondeo!L$5<=(Redondeo!L16-INT(Redondeo!L16))*100,INT(Redondeo!L16)+1,INT(Redondeo!L16)),\"\")","v":""}]
[{"$f":"IF(Alumnos!E16=\"\",\"\",Alumnos!E16)","v":""},{"$f":"IFERROR(IF(Redondeo!C$5<=(Redondeo!C17-INT(Redondeo!C17))*100,INT(Redondeo!C17)+1,INT(Redondeo!C17)),\"\")","v":""},{"$f":"IFERROR(IF(Redondeo!D$5<=(Redondeo!D17-INT(Redondeo!D17))*100,INT(Redondeo!D17)+1,INT(Redondeo!D17)),\"\")","v":""},{"$f":"IFERROR(IF(Redondeo!E$5<=(Redondeo!E17-INT(Redondeo!E17))*100,INT(Redondeo!E17)+1,INT(Redondeo!E17)),\"\")","v":""},{"$f":"IFERROR(IF(Redondeo!F$5<=(Redondeo!F17-INT(Redondeo!F17))*100,INT(Redondeo!F17)+1,INT(Redondeo!F17)),\"\")","v":""},{"$f":"IFERROR(IF(Redondeo!G$5<=(Redondeo!G17-INT(Redondeo!G17))*100,INT(Redondeo!G17)+1,INT(Redondeo!G17)),\"\")","v":""},{"$f":"IFERROR(IF(Redondeo!H$5<=(Redondeo!H17-INT(Redondeo!H17))*100,INT(Redondeo!H17)+1,INT(Redondeo!H17)),\"\")","v":""},{"$f":"IFERROR(IF(Redondeo!I$5<=(Redondeo!I17-INT(Redondeo!I17))*100,INT(Redondeo!I17)+1,INT(Redondeo!I17)),\"\")","v":""},{"$f":"IFERROR(IF(Redondeo!J$5<=(Redondeo!J17-INT(Redondeo!J17))*100,INT(Redondeo!J17)+1,INT(Redondeo!J17)),\"\")","v":""},{"$f":"IFERROR(IF(Redondeo!K$5<=(Redondeo!K17-INT(Redondeo!K17))*100,INT(Redondeo!K17)+1,INT(Redondeo!K17)),\"\")","v":""},{"$f":"IFERROR(IF(Redondeo!L$5<=(Redondeo!L17-INT(Redondeo!L17))*100,INT(Redondeo!L17)+1,INT(Redondeo!L17)),\"\")","v":""}]
[{"$f":"IF(Alumnos!E17=\"\",\"\",Alumnos!E17)","v":""},{"$f":"IFERROR(IF(Redondeo!C$5<=(Redondeo!C18-INT(Redondeo!C18))*100,INT(Redondeo!C18)+1,INT(Redondeo!C18)),\"\")","v":""},{"$f":"IFERROR(IF(Redondeo!D$5<=(Redondeo!D18-INT(Redondeo!D18))*100,INT(Redondeo!D18)+1,INT(Redondeo!D18)),\"\")","v":""},{"$f":"IFERROR(IF(Redondeo!E$5<=(Redondeo!E18-INT(Redondeo!E18))*100,INT(Redondeo!E18)+1,INT(Redondeo!E18)),\"\")","v":""},{"$f":"IFERROR(IF(Redondeo!F$5<=(Redondeo!F18-INT(Redondeo!F18))*100,INT(Redondeo!F18)+1,INT(Redondeo!F18)),\"\")","v":""},{"$f":"IFERROR(IF(Redondeo!G$5<=(Redondeo!G18-INT(Redondeo!G18))*100,INT(Redondeo!G18)+1,INT(Redondeo!G18)),\"\")","v":""},{"$f":"IFERROR(IF(Redondeo!H$5<=(Redondeo!H18-INT(Redondeo!H18))*100,INT(Redondeo!H18)+1,INT(Redondeo!H18)),\"\")","v":""},{"$f":"IFERROR(IF(Redondeo!I$5<=(Redondeo!I18-INT(Redondeo!I18))*100,INT(Redondeo!I18)+1,INT(Redondeo!I18)),\"\")","v":""},{"$f":"IFERROR(IF(Redondeo!J$5<=(Redondeo!J18-INT(Redondeo!J18))*100,INT(Redondeo!J18)+1,INT(Redondeo!J18)),\"\")","v":""},{"$f":"IFERROR(IF(Redondeo!K$5<=(Redondeo!K18-INT(Redondeo!K18))*100,INT(Redondeo!K18)+1,INT(Redondeo!K18)),\"\")","v":""},{"$f":"IFERROR(IF(Redondeo!L$5<=(Redondeo!L18-INT(Redondeo!L18))*100,INT(Redondeo!L18)+1,INT(Redondeo!L18)),\"\")","v":""}]
[{"$f":"IF(Alumnos!E18=\"\",\"\",Alumnos!E18)","v":""},{"$f":"IFERROR(IF(Redondeo!C$5<=(Redondeo!C19-INT(Redondeo!C19))*100,INT(Redondeo!C19)+1,INT(Redondeo!C19)),\"\")","v":""},{"$f":"IFERROR(IF(Redondeo!D$5<=(Redondeo!D19-INT(Redondeo!D19))*100,INT(Redondeo!D19)+1,INT(Redondeo!D19)),\"\")","v":""},{"$f":"IFERROR(IF(Redondeo!E$5<=(Redondeo!E19-INT(Redondeo!E19))*100,INT(Redondeo!E19)+1,INT(Redondeo!E19)),\"\")","v":""},{"$f":"IFERROR(IF(Redondeo!F$5<=(Redondeo!F19-INT(Redondeo!F19))*100,INT(Redondeo!F19)+1,INT(Redondeo!F19)),\"\")","v":""},{"$f":"IFERROR(IF(Redondeo!G$5<=(Redondeo!G19-INT(Redondeo!G19))*100,INT(Redondeo!G19)+1,INT(Redondeo!G19)),\"\")","v":""},{"$f":"IFERROR(IF(Redondeo!H$5<=(Redondeo!H19-INT(Redondeo!H19))*100,INT(Redondeo!H19)+1,INT(Redondeo!H19)),\"\")","v":""},{"$f":"IFERROR(IF(Redondeo!I$5<=(Redondeo!I19-INT(Redondeo!I19))*100,INT(Redondeo!I19)+1,INT(Redondeo!I19)),\"\")","v":""},{"$f":"IFERROR(IF(Redondeo!J$5<=(Redondeo!J19-INT(Redondeo!J19))*100,INT(Redondeo!J19)+1,INT(Redondeo!J19)),\"\")","v":""},{"$f":"IFERROR(IF(Redondeo!K$5<=(Redondeo!K19-INT(Redondeo!K19))*100,INT(Redondeo!K19)+1,INT(Redondeo!K19)),\"\")","v":""},{"$f":"IFERROR(IF(Redondeo!L$5<=(Redondeo!L19-INT(Redondeo!L19))*100,INT(Redondeo!L19)+1,INT(Redondeo!L19)),\"\")","v":""}]
[{"$f":"IF(Alumnos!E19=\"\",\"\",Alumnos!E19)","v":""},{"$f":"IFERROR(IF(Redondeo!C$5<=(Redondeo!C20-INT(Redondeo!C20))*100,INT(Redondeo!C20)+1,INT(Redondeo!C20)),\"\")","v":""},{"$f":"IFERROR(IF(Redondeo!D$5<=(Redondeo!D20-INT(Redondeo!D20))*100,INT(Redondeo!D20)+1,INT(Redondeo!D20)),\"\")","v":""},{"$f":"IFERROR(IF(Redondeo!E$5<=(Redondeo!E20-INT(Redondeo!E20))*100,INT(Redondeo!E20)+1,INT(Redondeo!E20)),\"\")","v":""},{"$f":"IFERROR(IF(Redondeo!F$5<=(Redondeo!F20-INT(Redondeo!F20))*100,INT(Redondeo!F20)+1,INT(Redondeo!F20)),\"\")","v":""},{"$f":"IFERROR(IF(Redondeo!G$5<=(Redondeo!G20-INT(Redondeo!G20))*100,INT(Redondeo!G20)+1,INT(Redondeo!G20)),\"\")","v":""},{"$f":"IFERROR(IF(Redondeo!H$5<=(Redondeo!H20-INT(Redondeo!H20))*100,INT(Redondeo!H20)+1,INT(Redondeo!H20)),\"\")","v":""},{"$f":"IFERROR(IF(Redondeo!I$5<=(Redondeo!I20-INT(Redondeo!I20))*100,INT(Redondeo!I20)+1,INT(Redondeo!I20)),\"\")","v":""},{"$f":"IFERROR(IF(Redondeo!J$5<=(Redondeo!J20-INT(Redondeo!J20))*100,INT(Redondeo!J20)+1,INT(Redondeo!J20)),\"\")","v":""},{"$f":"IFERROR(IF(Redondeo!K$5<=(Redondeo!K20-INT(Redondeo!K20))*100,INT(Redondeo!K20)+1,INT(Redondeo!K20)),\"\")","v":""},{"$f":"IFERROR(IF(Redondeo!L$5<=(Redondeo!L20-INT(Redondeo!L20))*100,INT(Redondeo!L20)+1,INT(Redondeo!L20)),\"\")","v":""}]
[{"$f":"IF(Alumnos!E20=\"\",\"\",Alumnos!E20)","v":""},{"$f":"IFERROR(IF(Redondeo!C$5<=(Redondeo!C21-INT(Redondeo!C21))*100,INT(Redondeo!C21)+1,INT(Redondeo!C21)),\"\")","v":""},{"$f":"IFERROR(IF(Redondeo!D$5<=(Redondeo!D21-INT(Redondeo!D21))*100,INT(Redondeo!D21)+1,INT(Redondeo!D21)),\"\")","v":""},{"$f":"IFERROR(IF(Redondeo!E$5<=(Redondeo!E21-INT(Redondeo!E21))*100,INT(Redondeo!E21)+1,INT(Redondeo!E21)),\"\")","v":""},{"$f":"IFERROR(IF(Redondeo!F$5<=(Redondeo!F21-INT(Redondeo!F21))*100,INT(Redondeo!F21)+1,INT(Redondeo!F21)),\"\")","v":""},{"$f":"IFERROR(IF(Redondeo!G$5<=(Redondeo!G21-INT(Redondeo!G21))*100,INT(Redondeo!G21)+1,INT(Redondeo!G21)),\"\")","v":""},{"$f":"IFERROR(IF(Redondeo!H$5<=(Redondeo!H21-INT(Redondeo!H21))*100,INT(Redondeo!H21)+1,INT(Redondeo!H21)),\"\")","v":""},{"$f":"IFERROR(IF(Redondeo!I$5<=(Redondeo!I21-INT(Redondeo!I21))*100,INT(Redondeo!I21)+1,INT(Redondeo!I21)),\"\")","v":""},{"$f":"IFERROR(IF(Redondeo!J$5<=(Redondeo!J21-INT(Redondeo!J21))*100,INT(Redondeo!J21)+1,INT(Redondeo!J21)),\"\")","v":""},{"$f":"IFERROR(IF(Redondeo!K$5<=(Redondeo!K21-INT(Redondeo!K21))*100,INT(Redondeo!K21)+1,INT(Redondeo!K21)),\"\")","v":""},{"$f":"IFERROR(IF(Redondeo!L$5<=(Redondeo!L21-INT(Redondeo!L21))*100,INT(Redondeo!L21)+1,INT(Redondeo!L21)),\"\")","v":""}]
[{"$f":"IF(Alumnos!E21=\"\",\"\",Alumnos!E21)","v":""},{"$f":"IFERROR(IF(Redondeo!C$5<=(Redondeo!C22-INT(Redondeo!C22))*100,INT(Redondeo!C22)+1,INT(Redondeo!C22)),\"\")","v":""},{"$f":"IFERROR(IF(Redondeo!D$5<=(Redondeo!D22-INT(Redondeo!D22))*100,INT(Redondeo!D22)+1,INT(Redondeo!D22)),\"\")","v":""},{"$f":"IFERROR(IF(Redondeo!E$5<=(Redondeo!E22-INT(Redondeo!E22))*100,INT(Redondeo!E22)+1,INT(Redondeo!E22)),\"\")","v":""},{"$f":"IFERROR(IF(Redondeo!F$5<=(Redondeo!F22-INT(Redondeo!F22))*100,INT(Redondeo!F22)+1,INT(Redondeo!F22)),\"\")","v":""},{"$f":"IFERROR(IF(Redondeo!G$5<=(Redondeo!G22-INT(Redondeo!G22))*100,INT(Redondeo!G22)+1,INT(Redondeo!G22)),\"\")","v":""},{"$f":"IFERROR(IF(Redondeo!H$5<=(Redondeo!H22-INT(Redondeo!H22))*100,INT(Redondeo!H22)+1,INT(Redondeo!H22)),\"\")","v":""},{"$f":"IFERROR(IF(Redondeo!I$5<=(Redondeo!I22-INT(Redondeo!I22))*100,INT(Redondeo!I22)+1,INT(Redondeo!I22)),\"\")","v":""},{"$f":"IFERROR(IF(Redondeo!J$5<=(Redondeo!J22-INT(Redondeo!J22))*100,INT(Redondeo!J22)+1,INT(Redondeo!J22)),\"\")","v":""},{"$f":"IFERROR(IF(Redondeo!K$5<=(Redondeo!K22-INT(Redondeo!K22))*100,INT(Redondeo!K22)+1,INT(Redondeo!K22)),\"\")","v":""},{"$f":"IFERROR(IF(Redondeo!L$5<=(Redondeo!L22-INT(Redondeo!L22))*100,INT(Redondeo!L22)+1,INT(Redondeo!L22)),\"\")","v":""}]
[{"$f":"IF(Alumnos!E22=\"\",\"\",Alumnos!E22)","v":""},{"$f":"IFERROR(IF(Redondeo!C$5<=(Redondeo!C23-INT(Redondeo!C23))*100,INT(Redondeo!C23)+1,INT(Redondeo!C23)),\"\")","v":""},{"$f":"IFERROR(IF(Redondeo!D$5<=(Redondeo!D23-INT(Redondeo!D23))*100,INT(Redondeo!D23)+1,INT(Redondeo!D23)),\"\")","v":""},{"$f":"IFERROR(IF(Redondeo!E$5<=(Redondeo!E23-INT(Redondeo!E23))*100,INT(Redondeo!E23)+1,INT(Redondeo!E23)),\"\")","v":""},{"$f":"IFERROR(IF(Redondeo!F$5<=(Redondeo!F23-INT(Redondeo!F23))*100,INT(Redondeo!F23)+1,INT(Redondeo!F23)),\"\")","v":""},{"$f":"IFERROR(IF(Redondeo!G$5<=(Redondeo!G23-INT(Redondeo!G23))*100,INT(Redondeo!G23)+1,INT(Redondeo!G23)),\"\")","v":""},{"$f":"IFERROR(IF(Redondeo!H$5<=(Redondeo!H23-INT(Redondeo!H23))*100,INT(Redondeo!H23)+1,INT(Redondeo!H23)),\"\")","v":""},{"$f":"IFERROR(IF(Redondeo!I$5<=(Redondeo!I23-INT(Redondeo!I23))*100,INT(Redondeo!I23)+1,INT(Redondeo!I23)),\"\")","v":""},{"$f":"IFERROR(IF(Redondeo!J$5<=(Redondeo!J23-INT(Redondeo!J23))*100,INT(Redondeo!J23)+1,INT(Redondeo!J23)),\"\")","v":""},{"$f":"IFERROR(IF(Redondeo!K$5<=(Redondeo!K23-INT(Redondeo!K23))*100,INT(Redondeo!K23)+1,INT(Redondeo!K23)),\"\")","v":""},{"$f":"IFERROR(IF(Redondeo!L$5<=(Redondeo!L23-INT(Redondeo!L23))*100,INT(Redondeo!L23)+1,INT(Redondeo!L23)),\"\")","v":""}]
[{"$f":"IF(Alumnos!E23=\"\",\"\",Alumnos!E23)","v":""},{"$f":"IFERROR(IF(Redondeo!C$5<=(Redondeo!C24-INT(Redondeo!C24))*100,INT(Redondeo!C24)+1,INT(Redondeo!C24)),\"\")","v":""},{"$f":"IFERROR(IF(Redondeo!D$5<=(Redondeo!D24-INT(Redondeo!D24))*100,INT(Redondeo!D24)+1,INT(Redondeo!D24)),\"\")","v":""},{"$f":"IFERROR(IF(Redondeo!E$5<=(Redondeo!E24-INT(Redondeo!E24))*100,INT(Redondeo!E24)+1,INT(Redondeo!E24)),\"\")","v":""},{"$f":"IFERROR(IF(Redondeo!F$5<=(Redondeo!F24-INT(Redondeo!F24))*100,INT(Redondeo!F24)+1,INT(Redondeo!F24)),\"\")","v":""},{"$f":"IFERROR(IF(Redondeo!G$5<=(Redondeo!G24-INT(Redondeo!G24))*100,INT(Redondeo!G24)+1,INT(Redondeo!G24)),\"\")","v":""},{"$f":"IFERROR(IF(Redondeo!H$5<=(Redondeo!H24-INT(Redondeo!H24))*100,INT(Redondeo!H24)+1,INT(Redondeo!H24)),\"\")","v":""},{"$f":"IFERROR(IF(Redondeo!I$5<=(Redondeo!I24-INT(Redondeo!I24))*100,INT(Redondeo!I24)+1,INT(Redondeo!I24)),\"\")","v":""},{"$f":"IFERROR(IF(Redondeo!J$5<=(Redondeo!J24-INT(Redondeo!J24))*100,INT(Redondeo!J24)+1,INT(Redondeo!J24)),\"\")","v":""},{"$f":"IFERROR(IF(Redondeo!K$5<=(Redondeo!K24-INT(Redondeo!K24))*100,INT(Redondeo!K24)+1,INT(Redondeo!K24)),\"\")","v":""},{"$f":"IFERROR(IF(Redondeo!L$5<=(Redondeo!L24-INT(Redondeo!L24))*100,INT(Redondeo!L24)+1,INT(Redondeo!L24)),\"\")","v":""}]
[{"$f":"IF(Alumnos!E24=\"\",\"\",Alumnos!E24)","v":""},{"$f":"IFERROR(IF(Redondeo!C$5<=(Redondeo!C25-INT(Redondeo!C25))*100,INT(Redondeo!C25)+1,INT(Redondeo!C25)),\"\")","v":""},{"$f":"IFERROR(IF(Redondeo!D$5<=(Redondeo!D25-INT(Redondeo!D25))*100,INT(Redondeo!D25)+1,INT(Redondeo!D25)),\"\")","v":""},{"$f":"IFERROR(IF(Redondeo!E$5<=(Redondeo!E25-INT(Redondeo!E25))*100,INT(Redondeo!E25)+1,INT(Redondeo!E25)),\"\")","v":""},{"$f":"IFERROR(IF(Redondeo!F$5<=(Redondeo!F25-INT(Redondeo!F25))*100,INT(Redondeo!F25)+1,INT(Redondeo!F25)),\"\")","v":""},{"$f":"IFERROR(IF(Redondeo!G$5<=(Redondeo!G25-INT(Redondeo!G25))*100,INT(Redondeo!G25)+1,INT(Redondeo!G25)),\"\")","v":""},{"$f":"IFERROR(IF(Redondeo!H$5<=(Redondeo!H25-INT(Redondeo!H25))*100,INT(Redondeo!H25)+1,INT(Redondeo!H25)),\"\")","v":""},{"$f":"IFERROR(IF(Redondeo!I$5<=(Redondeo!I25-INT(Redondeo!I25))*100,INT(Redondeo!I25)+1,INT(Redondeo!I25)),\"\")","v":""},{"$f":"IFERROR(IF(Redondeo!J$5<=(Redondeo!J25-INT(Redondeo!J25))*100,INT(Redondeo!J25)+1,INT(Redondeo!J25)),\"\")","v":""},{"$f":"IFERROR(IF(Redondeo!K$5<=(Redondeo!K25-INT(Redondeo!K25))*100,INT(Redondeo!K25)+1,INT(Redondeo!K25)),\"\")","v":""},{"$f":"IFERROR(IF(Redondeo!L$5<=(Redondeo!L25-INT(Redondeo!L25))*100,INT(Redondeo!L25)+1,INT(Redondeo!L25)),\"\")","v":""}]
[{"$f":"IF(Alumnos!E25=\"\",\"\",Alumnos!E25)","v":""},{"$f":"IFERROR(IF(Redondeo!C$5<=(Redondeo!C26-INT(Redondeo!C26))*100,INT(Redondeo!C26)+1,INT(Redondeo!C26)),\"\")","v":""},{"$f":"IFERROR(IF(Redondeo!D$5<=(Redondeo!D26-INT(Redondeo!D26))*100,INT(Redondeo!D26)+1,INT(Redondeo!D26)),\"\")","v":""},{"$f":"IFERROR(IF(Redondeo!E$5<=(Redondeo!E26-INT(Redondeo!E26))*100,INT(Redondeo!E26)+1,INT(Redondeo!E26)),\"\")","v":""},{"$f":"IFERROR(IF(Redondeo!F$5<=(Redondeo!F26-INT(Redondeo!F26))*100,INT(Redondeo!F26)+1,INT(Redondeo!F26)),\"\")","v":""},{"$f":"IFERROR(IF(Redondeo!G$5<=(Redondeo!G26-INT(Redondeo!G26))*100,INT(Redondeo!G26)+1,INT(Redondeo!G26)),\"\")","v":""},{"$f":"IFERROR(IF(Redondeo!H$5<=(Redondeo!H26-INT(Redondeo!H26))*100,INT(Redondeo!H26)+1,INT(Redondeo!H26)),\"\")","v":""},{"$f":"IFERROR(IF(Redondeo!I$5<=(Redondeo!I26-INT(Redondeo!I26))*100,INT(Redondeo!I26)+1,INT(Redondeo!I26)),\"\")","v":""},{"$f":"IFERROR(IF(Redondeo!J$5<=(Redondeo!J26-INT(Redondeo!J26))*100,INT(Redondeo!J26)+1,INT(Redondeo!J26)),\"\")","v":""},{"$f":"IFERROR(IF(Redondeo!K$5<=(Redondeo!K26-INT(Redondeo!K26))*100,INT(Redondeo!K26)+1,INT(Redondeo!K26)),\"\")","v":""},{"$f":"IFERROR(IF(Redondeo!L$5<=(Redondeo!L26-INT(Redondeo!L26))*100,INT(Redondeo!L26)+1,INT(Redondeo!L26)),\"\")","v":""}]
[{"$f":"IF(Alumnos!E26=\"\",\"\",Alumnos!E26)","v":""},{"$f":"IFERROR(IF(Redondeo!C$5<=(Redondeo!C27-INT(Redondeo!C27))*100,INT(Redondeo!C27)+1,INT(Redondeo!C27)),\"\")","v":""},{"$f":"IFERROR(IF(Redondeo!D$5<=(Redondeo!D27-INT(Redondeo!D27))*100,INT(Redondeo!D27)+1,INT(Redondeo!D27)),\"\")","v":""},{"$f":"IFERROR(IF(Redondeo!E$5<=(Redondeo!E27-INT(Redondeo!E27))*100,INT(Redondeo!E27)+1,INT(Redondeo!E27)),\"\")","v":""},{"$f":"IFERROR(IF(Redondeo!F$5<=(Redondeo!F27-INT(Redondeo!F27))*100,INT(Redondeo!F27)+1,INT(Redondeo!F27)),\"\")","v":""},{"$f":"IFERROR(IF(Redondeo!G$5<=(Redondeo!G27-INT(Redondeo!G27))*100,INT(Redondeo!G27)+1,INT(Redondeo!G27)),\"\")","v":""},{"$f":"IFERROR(IF(Redondeo!H$5<=(Redondeo!H27-INT(Redondeo!H27))*100,INT(Redondeo!H27)+1,INT(Redondeo!H27)),\"\")","v":""},{"$f":"IFERROR(IF(Redondeo!I$5<=(Redondeo!I27-INT(Redondeo!I27))*100,INT(Redondeo!I27)+1,INT(Redondeo!I27)),\"\")","v":""},{"$f":"IFERROR(IF(Redondeo!J$5<=(Redondeo!J27-INT(Redondeo!J27))*100,INT(Redondeo!J27)+1,INT(Redondeo!J27)),\"\")","v":""},{"$f":"IFERROR(IF(Redondeo!K$5<=(Redondeo!K27-INT(Redondeo!K27))*100,INT(Redondeo!K27)+1,INT(Redondeo!K27)),\"\")","v":""},{"$f":"IFERROR(IF(Redondeo!L$5<=(Redondeo!L27-INT(Redondeo!L27))*100,INT(Redondeo!L27)+1,INT(Redondeo!L27)),\"\")","v":""}]
[{"$f":"IF(Alumnos!E27=\"\",\"\",Alumnos!E27)","v":""},{"$f":"IFERROR(IF(Redondeo!C$5<=(Redondeo!C28-INT(Redondeo!C28))*100,INT(Redondeo!C28)+1,INT(Redondeo!C28)),\"\")","v":""},{"$f":"IFERROR(IF(Redondeo!D$5<=(Redondeo!D28-INT(Redondeo!D28))*100,INT(Redondeo!D28)+1,INT(Redondeo!D28)),\"\")","v":""},{"$f":"IFERROR(IF(Redondeo!E$5<=(Redondeo!E28-INT(Redondeo!E28))*100,INT(Redondeo!E28)+1,INT(Redondeo!E28)),\"\")","v":""},{"$f":"IFERROR(IF(Redondeo!F$5<=(Redondeo!F28-INT(Redondeo!F28))*100,INT(Redondeo!F28)+1,INT(Redondeo!F28)),\"\")","v":""},{"$f":"IFERROR(IF(Redondeo!G$5<=(Redondeo!G28-INT(Redondeo!G28))*100,INT(Redondeo!G28)+1,INT(Redondeo!G28)),\"\")","v":""},{"$f":"IFERROR(IF(Redondeo!H$5<=(Redondeo!H28-INT(Redondeo!H28))*100,INT(Redondeo!H28)+1,INT(Redondeo!H28)),\"\")","v":""},{"$f":"IFERROR(IF(Redondeo!I$5<=(Redondeo!I28-INT(Redondeo!I28))*100,INT(Redondeo!I28)+1,INT(Redondeo!I28)),\"\")","v":""},{"$f":"IFERROR(IF(Redondeo!J$5<=(Redondeo!J28-INT(Redondeo!J28))*100,INT(Redondeo!J28)+1,INT(Redondeo!J28)),\"\")","v":""},{"$f":"IFERROR(IF(Redondeo!K$5<=(Redondeo!K28-INT(Redondeo!K28))*100,INT(Redondeo!K28)+1,INT(Redondeo!K28)),\"\")","v":""},{"$f":"IFERROR(IF(Redondeo!L$5<=(Redondeo!L28-INT(Redondeo!L28))*100,INT(Redondeo!L28)+1,INT(Redondeo!L28)),\"\")","v":""}]
[{"$f":"IF(Alumnos!E28=\"\",\"\",Alumnos!E28)","v":""},{"$f":"IFERROR(IF(Redondeo!C$5<=(Redondeo!C29-INT(Redondeo!C29))*100,INT(Redondeo!C29)+1,INT(Redondeo!C29)),\"\")","v":""},{"$f":"IFERROR(IF(Redondeo!D$5<=(Redondeo!D29-INT(Redondeo!D29))*100,INT(Redondeo!D29)+1,INT(Redondeo!D29)),\"\")","v":""},{"$f":"IFERROR(IF(Redondeo!E$5<=(Redondeo!E29-INT(Redondeo!E29))*100,INT(Redondeo!E29)+1,INT(Redondeo!E29)),\"\")","v":""},{"$f":"IFERROR(IF(Redondeo!F$5<=(Redondeo!F29-INT(Redondeo!F29))*100,INT(Redondeo!F29)+1,INT(Redondeo!F29)),\"\")","v":""},{"$f":"IFERROR(IF(Redondeo!G$5<=(Redondeo!G29-INT(Redondeo!G29))*100,INT(Redondeo!G29)+1,INT(Redondeo!G29)),\"\")","v":""},{"$f":"IFERROR(IF(Redondeo!H$5<=(Redondeo!H29-INT(Redondeo!H29))*100,INT(Redondeo!H29)+1,INT(Redondeo!H29)),\"\")","v":""},{"$f":"IFERROR(IF(Redondeo!I$5<=(Redondeo!I29-INT(Redondeo!I29))*100,INT(Redondeo!I29)+1,INT(Redondeo!I29)),\"\")","v":""},{"$f":"IFERROR(IF(Redondeo!J$5<=(Redondeo!J29-INT(Redondeo!J29))*100,INT(Redondeo!J29)+1,INT(Redondeo!J29)),\"\")","v":""},{"$f":"IFERROR(IF(Redondeo!K$5<=(Redondeo!K29-INT(Redondeo!K29))*100,INT(Redondeo!K29)+1,INT(Redondeo!K29)),\"\")","v":""},{"$f":"IFERROR(IF(Redondeo!L$5<=(Redondeo!L29-INT(Redondeo!L29))*100,INT(Redondeo!L29)+1,INT(Redondeo!L29)),\"\")","v":""}]
[{"$f":"IF(Alumnos!E29=\"\",\"\",Alumnos!E29)","v":""},{"$f":"IFERROR(IF(Redondeo!C$5<=(Redondeo!C30-INT(Redondeo!C30))*100,INT(Redondeo!C30)+1,INT(Redondeo!C30)),\"\")","v":""},{"$f":"IFERROR(IF(Redondeo!D$5<=(Redondeo!D30-INT(Redondeo!D30))*100,INT(Redondeo!D30)+1,INT(Redondeo!D30)),\"\")","v":""},{"$f":"IFERROR(IF(Redondeo!E$5<=(Redondeo!E30-INT(Redondeo!E30))*100,INT(Redondeo!E30)+1,INT(Redondeo!E30)),\"\")","v":""},{"$f":"IFERROR(IF(Redondeo!F$5<=(Redondeo!F30-INT(Redondeo!F30))*100,INT(Redondeo!F30)+1,INT(Redondeo!F30)),\"\")","v":""},{"$f":"IFERROR(IF(Redondeo!G$5<=(Redondeo!G30-INT(Redondeo!G30))*100,INT(Redondeo!G30)+1,INT(Redondeo!G30)),\"\")","v":""},{"$f":"IFERROR(IF(Redondeo!H$5<=(Redondeo!H30-INT(Redondeo!H30))*100,INT(Redondeo!H30)+1,INT(Redondeo!H30)),\"\")","v":""},{"$f":"IFERROR(IF(Redondeo!I$5<=(Redondeo!I30-INT(Redondeo!I30))*100,INT(Redondeo!I30)+1,INT(Redondeo!I30)),\"\")","v":""},{"$f":"IFERROR(IF(Redondeo!J$5<=(Redondeo!J30-INT(Redondeo!J30))*100,INT(Redondeo!J30)+1,INT(Redondeo!J30)),\"\")","v":""},{"$f":"IFERROR(IF(Redondeo!K$5<=(Redondeo!K30-INT(Redondeo!K30))*100,INT(Redondeo!K30)+1,INT(Redondeo!K30)),\"\")","v":""},{"$f":"IFERROR(IF(Redondeo!L$5<=(Redondeo!L30-INT(Redondeo!L30))*100,INT(Redondeo!L30)+1,INT(Redondeo!L30)),\"\")","v":""}]
[{"$f":"IF(Alumnos!E30=\"\",\"\",Alumnos!E30)","v":""},{"$f":"IFERROR(IF(Redondeo!C$5<=(Redondeo!C31-INT(Redondeo!C31))*100,INT(Redondeo!C31)+1,INT(Redondeo!C31)),\"\")","v":""},{"$f":"IFERROR(IF(Redondeo!D$5<=(Redondeo!D31-INT(Redondeo!D31))*100,INT(Redondeo!D31)+1,INT(Redondeo!D31)),\"\")","v":""},{"$f":"IFERROR(IF(Redondeo!E$5<=(Redondeo!E31-INT(Redondeo!E31))*100,INT(Redondeo!E31)+1,INT(Redondeo!E31)),\"\")","v":""},{"$f":"IFERROR(IF(Redondeo!F$5<=(Redondeo!F31-INT(Redondeo!F31))*100,INT(Redondeo!F31)+1,INT(Redondeo!F31)),\"\")","v":""},{"$f":"IFERROR(IF(Redondeo!G$5<=(Redondeo!G31-INT(Redondeo!G31))*100,INT(Redondeo!G31)+1,INT(Redondeo!G31)),\"\")","v":""},{"$f":"IFERROR(IF(Redondeo!H$5<=(Redondeo!H31-INT(Redondeo!H31))*100,INT(Redondeo!H31)+1,INT(Redondeo!H31)),\"\")","v":""},{"$f":"IFERROR(IF(Redondeo!I$5<=(Redondeo!I31-INT(Redondeo!I31))*100,INT(Redondeo!I31)+1,INT(Redondeo!I31)),\"\")","v":""},{"$f":"IFERROR(IF(Redondeo!J$5<=(Redondeo!J31-INT(Redondeo!J31))*100,INT(Redondeo!J31)+1,INT(Redondeo!J31)),\"\")","v":""},{"$f":"IFERROR(IF(Redondeo!K$5<=(Redondeo!K31-INT(Redondeo!K31))*100,INT(Redondeo!K31)+1,INT(Redondeo!K31)),\"\")","v":""},{"$f":"IFERROR(IF(Redondeo!L$5<=(Redondeo!L31-INT(Redondeo!L31))*100,INT(Redondeo!L31)+1,INT(Redondeo!L31)),\"\")","v":""}]
[{"$f":"IF(Alumnos!E31=\"\",\"\",Alumnos!E31)","v":""},{"$f":"IFERROR(IF(Redondeo!C$5<=(Redondeo!C32-INT(Redondeo!C32))*100,INT(Redondeo!C32)+1,INT(Redondeo!C32)),\"\")","v":""},{"$f":"IFERROR(IF(Redondeo!D$5<=(Redondeo!D32-INT(Redondeo!D32))*100,INT(Redondeo!D32)+1,INT(Redondeo!D32)),\"\")","v":""},{"$f":"IFERROR(IF(Redondeo!E$5<=(Redondeo!E32-INT(Redondeo!E32))*100,INT(Redondeo!E32)+1,INT(Redondeo!E32)),\"\")","v":""},{"$f":"IFERROR(IF(Redondeo!F$5<=(Redondeo!F32-INT(Redondeo!F32))*100,INT(Redondeo!F32)+1,INT(Redondeo!F32)),\"\")","v":""},{"$f":"IFERROR(IF(Redondeo!G$5<=(Redondeo!G32-INT(Redondeo!G32))*100,INT(Redondeo!G32)+1,INT(Redondeo!G32)),\"\")","v":""},{"$f":"IFERROR(IF(Redondeo!H$5<=(Redondeo!H32-INT(Redondeo!H32))*100,INT(Redondeo!H32)+1,INT(Redondeo!H32)),\"\")","v":""},{"$f":"IFERROR(IF(Redondeo!I$5<=(Redondeo!I32-INT(Redondeo!I32))*100,INT(Redondeo!I32)+1,INT(Redondeo!I32)),\"\")","v":""},{"$f":"IFERROR(IF(Redondeo!J$5<=(Redondeo!J32-INT(Redondeo!J32))*100,INT(Redondeo!J32)+1,INT(Redondeo!J32)),\"\")","v":""},{"$f":"IFERROR(IF(Redondeo!K$5<=(Redondeo!K32-INT(Redondeo!K32))*100,INT(Redondeo!K32)+1,INT(Redondeo!K32)),\"\")","v":""},{"$f":"IFERROR(IF(Redondeo!L$5<=(Redondeo!L32-INT(Redondeo!L32))*100,INT(Redondeo!L32)+1,INT(Redondeo!L32)),\"\")","v":""}]
[{"$f":"IF(Alumnos!E32=\"\",\"\",Alumnos!E32)","v":""},{"$f":"IFERROR(IF(Redondeo!C$5<=(Redondeo!C33-INT(Redondeo!C33))*100,INT(Redondeo!C33)+1,INT(Redondeo!C33)),\"\")","v":""},{"$f":"IFERROR(IF(Redondeo!D$5<=(Redondeo!D33-INT(Redondeo!D33))*100,INT(Redondeo!D33)+1,INT(Redondeo!D33)),\"\")","v":""},{"$f":"IFERROR(IF(Redondeo!E$5<=(Redondeo!E33-INT(Redondeo!E33))*100,INT(Redondeo!E33)+1,INT(Redondeo!E33)),\"\")","v":""},{"$f":"IFERROR(IF(Redondeo!F$5<=(Redondeo!F33-INT(Redondeo!F33))*100,INT(Redondeo!F33)+1,INT(Redondeo!F33)),\"\")","v":""},{"$f":"IFERROR(IF(Redondeo!G$5<=(Redondeo!G33-INT(Redondeo!G33))*100,INT(Redondeo!G33)+1,INT(Redondeo!G33)),\"\")","v":""},{"$f":"IFERROR(IF(Redondeo!H$5<=(Redondeo!H33-INT(Redondeo!H33))*100,INT(Redondeo!H33)+1,INT(Redondeo!H33)),\"\")","v":""},{"$f":"IFERROR(IF(Redondeo!I$5<=(Redondeo!I33-INT(Redondeo!I33))*100,INT(Redondeo!I33)+1,INT(Redondeo!I33)),\"\")","v":""},{"$f":"IFERROR(IF(Redondeo!J$5<=(Redondeo!J33-INT(Redondeo!J33))*100,INT(Redondeo!J33)+1,INT(Redondeo!J33)),\"\")","v":""},{"$f":"IFERROR(IF(Redondeo!K$5<=(Redondeo!K33-INT(Redondeo!K33))*100,INT(Redondeo!K33)+1,INT(Redondeo!K33)),\"\")","v":""},{"$f":"IFERROR(IF(Redondeo!L$5<=(Redondeo!L33-INT(Redondeo!L33))*100,INT(Redondeo!L33)+1,INT(Redondeo!L33)),\"\")","v":""}]
[{"$f":"IF(Alumnos!E33=\"\",\"\",Alumnos!E33)","v":""},{"$f":"IFERROR(IF(Redondeo!C$5<=(Redondeo!C34-INT(Redondeo!C34))*100,INT(Redondeo!C34)+1,INT(Redondeo!C34)),\"\")","v":""},{"$f":"IFERROR(IF(Redondeo!D$5<=(Redondeo!D34-INT(Redondeo!D34))*100,INT(Redondeo!D34)+1,INT(Redondeo!D34)),\"\")","v":""},{"$f":"IFERROR(IF(Redondeo!E$5<=(Redondeo!E34-INT(Redondeo!E34))*100,INT(Redondeo!E34)+1,INT(Redondeo!E34)),\"\")","v":""},{"$f":"IFERROR(IF(Redondeo!F$5<=(Redondeo!F34-INT(Redondeo!F34))*100,INT(Redondeo!F34)+1,INT(Redondeo!F34)),\"\")","v":""},{"$f":"IFERROR(IF(Redondeo!G$5<=(Redondeo!G34-INT(Redondeo!G34))*100,INT(Redondeo!G34)+1,INT(Redondeo!G34)),\"\")","v":""},{"$f":"IFERROR(IF(Redondeo!H$5<=(Redondeo!H34-INT(Redondeo!H34))*100,INT(Redondeo!H34)+1,INT(Redondeo!H34)),\"\")","v":""},{"$f":"IFERROR(IF(Redondeo!I$5<=(Redondeo!I34-INT(Redondeo!I34))*100,INT(Redondeo!I34)+1,INT(Redondeo!I34)),\"\")","v":""},{"$f":"IFERROR(IF(Redondeo!J$5<=(Redondeo!J34-INT(Redondeo!J34))*100,INT(Redondeo!J34)+1,INT(Redondeo!J34)),\"\")","v":""},{"$f":"IFERROR(IF(Redondeo!K$5<=(Redondeo!K34-INT(Redondeo!K34))*100,INT(Redondeo!K34)+1,INT(Redondeo!K34)),\"\")","v":""},{"$f":"IFERROR(IF(Redondeo!L$5<=(Redondeo!L34-INT(Redondeo!L34))*100,INT(Redondeo!L34)+1,INT(Redondeo!L34)),\"\")","v":""}]
[{"$f":"IF(Alumnos!E34=\"\",\"\",Alumnos!E34)","v":""},{"$f":"IFERROR(IF(Redondeo!C$5<=(Redondeo!C35-INT(Redondeo!C35))*100,INT(Redondeo!C35)+1,INT(Redondeo!C35)),\"\")","v":""},{"$f":"IFERROR(IF(Redondeo!D$5<=(Redondeo!D35-INT(Redondeo!D35))*100,INT(Redondeo!D35)+1,INT(Redondeo!D35)),\"\")","v":""},{"$f":"IFERROR(IF(Redondeo!E$5<=(Redondeo!E35-INT(Redondeo!E35))*100,INT(Redondeo!E35)+1,INT(Redondeo!E35)),\"\")","v":""},{"$f":"IFERROR(IF(Redondeo!F$5<=(Redondeo!F35-INT(Redondeo!F35))*100,INT(Redondeo!F35)+1,INT(Redondeo!F35)),\"\")","v":""},{"$f":"IFERROR(IF(Redondeo!G$5<=(Redondeo!G35-INT(Redondeo!G35))*100,INT(Redondeo!G35)+1,INT(Redondeo!G35)),\"\")","v":""},{"$f":"IFERROR(IF(Redondeo!H$5<=(Redondeo!H35-INT(Redondeo!H35))*100,INT(Redondeo!H35)+1,INT(Redondeo!H35)),\"\")","v":""},{"$f":"IFERROR(IF(Redondeo!I$5<=(Redondeo!I35-INT(Redondeo!I35))*100,INT(Redondeo!I35)+1,INT(Redondeo!I35)),\"\")","v":""},{"$f":"IFERROR(IF(Redondeo!J$5<=(Redondeo!J35-INT(Redondeo!J35))*100,INT(Redondeo!J35)+1,INT(Redondeo!J35)),\"\")","v":""},{"$f":"IFERROR(IF(Redondeo!K$5<=(Redondeo!K35-INT(Redondeo!K35))*100,INT(Redondeo!K35)+1,INT(Redondeo!K35)),\"\")","v":""},{"$f":"IFERROR(IF(Redondeo!L$5<=(Redondeo!L35-INT(Redondeo!L35))*100,INT(Redondeo!L35)+1,INT(Redondeo!L35)),\"\")","v":""}]
[{"$f":"IF(Alumnos!E35=\"\",\"\",Alumnos!E35)","v":""},{"$f":"IFERROR(IF(Redondeo!C$5<=(Redondeo!C36-INT(Redondeo!C36))*100,INT(Redondeo!C36)+1,INT(Redondeo!C36)),\"\")","v":""},{"$f":"IFERROR(IF(Redondeo!D$5<=(Redondeo!D36-INT(Redondeo!D36))*100,INT(Redondeo!D36)+1,INT(Redondeo!D36)),\"\")","v":""},{"$f":"IFERROR(IF(Redondeo!E$5<=(Redondeo!E36-INT(Redondeo!E36))*100,INT(Redondeo!E36)+1,INT(Redondeo!E36)),\"\")","v":""},{"$f":"IFERROR(IF(Redondeo!F$5<=(Redondeo!F36-INT(Redondeo!F36))*100,INT(Redondeo!F36)+1,INT(Redondeo!F36)),\"\")","v":""},{"$f":"IFERROR(IF(Redondeo!G$5<=(Redondeo!G36-INT(Redondeo!G36))*100,INT(Redondeo!G36)+1,INT(Redondeo!G36)),\"\")","v":""},{"$f":"IFERROR(IF(Redondeo!H$5<=(Redondeo!H36-INT(Redondeo!H36))*100,INT(Redondeo!H36)+1,INT(Redondeo!H36)),\"\")","v":""},{"$f":"IFERROR(IF(Redondeo!I$5<=(Redondeo!I36-INT(Redondeo!I36))*100,INT(Redondeo!I36)+1,INT(Redondeo!I36)),\"\")","v":""},{"$f":"IFERROR(IF(Redondeo!J$5<=(Redondeo!J36-INT(Redondeo!J36))*100,INT(Redondeo!J36)+1,INT(Redondeo!J36)),\"\")","v":""},{"$f":"IFERROR(IF(Redondeo!K$5<=(Redondeo!K36-INT(Redondeo!K36))*100,INT(Redondeo!K36)+1,INT(Redondeo!K36)),\"\")","v":""},{"$f":"IFERROR(IF(Redondeo!L$5<=(Redondeo!L36-INT(Redondeo!L36))*100,INT(Redondeo!L36)+1,INT(Redondeo!L36)),\"\")","v":""}]
[{"$f":"IF(Alumnos!E36=\"\",\"\",Alumnos!E36)","v":""},{"$f":"IFERROR(IF(Redondeo!C$5<=(Redondeo!C37-INT(Redondeo!C37))*100,INT(Redondeo!C37)+1,INT(Redondeo!C37)),\"\")","v":""},{"$f":"IFERROR(IF(Redondeo!D$5<=(Redondeo!D37-INT(Redondeo!D37))*100,INT(Redondeo!D37)+1,INT(Redondeo!D37)),\"\")","v":""},{"$f":"IFERROR(IF(Redondeo!E$5<=(Redondeo!E37-INT(Redondeo!E37))*100,INT(Redondeo!E37)+1,INT(Redondeo!E37)),\"\")","v":""},{"$f":"IFERROR(IF(Redondeo!F$5<=(Redondeo!F37-INT(Redondeo!F37))*100,INT(Redondeo!F37)+1,INT(Redondeo!F37)),\"\")","v":""},{"$f":"IFERROR(IF(Redondeo!G$5<=(Redondeo!G37-INT(Redondeo!G37))*100,INT(Redondeo!G37)+1,INT(Redondeo!G37)),\"\")","v":""},{"$f":"IFERROR(IF(Redondeo!H$5<=(Redondeo!H37-INT(Redondeo!H37))*100,INT(Redondeo!H37)+1,INT(Redondeo!H37)),\"\")","v":""},{"$f":"IFERROR(IF(Redondeo!I$5<=(Redondeo!I37-INT(Redondeo!I37))*100,INT(Redondeo!I37)+1,INT(Redondeo!I37)),\"\")","v":""},{"$f":"IFERROR(IF(Redondeo!J$5<=(Redondeo!J37-INT(Redondeo!J37))*100,INT(Redondeo!J37)+1,INT(Redondeo!J37)),\"\")","v":""},{"$f":"IFERROR(IF(Redondeo!K$5<=(Redondeo!K37-INT(Redondeo!K37))*100,INT(Redondeo!K37)+1,INT(Redondeo!K37)),\"\")","v":""},{"$f":"IFERROR(IF(Redondeo!L$5<=(Redondeo!L37-INT(Redondeo!L37))*100,INT(Redondeo!L37)+1,INT(Redondeo!L37)),\"\")","v":""}]
[{"$f":"IF(Alumnos!E37=\"\",\"\",Alumnos!E37)","v":""},{"$f":"IFERROR(IF(Redondeo!C$5<=(Redondeo!C38-INT(Redondeo!C38))*100,INT(Redondeo!C38)+1,INT(Redondeo!C38)),\"\")","v":""},{"$f":"IFERROR(IF(Redondeo!D$5<=(Redondeo!D38-INT(Redondeo!D38))*100,INT(Redondeo!D38)+1,INT(Redondeo!D38)),\"\")","v":""},{"$f":"IFERROR(IF(Redondeo!E$5<=(Redondeo!E38-INT(Redondeo!E38))*100,INT(Redondeo!E38)+1,INT(Redondeo!E38)),\"\")","v":""},{"$f":"IFERROR(IF(Redondeo!F$5<=(Redondeo!F38-INT(Redondeo!F38))*100,INT(Redondeo!F38)+1,INT(Redondeo!F38)),\"\")","v":""},{"$f":"IFERROR(IF(Redondeo!G$5<=(Redondeo!G38-INT(Redondeo!G38))*100,INT(Redondeo!G38)+1,INT(Redondeo!G38)),\"\")","v":""},{"$f":"IFERROR(IF(Redondeo!H$5<=(Redondeo!H38-INT(Redondeo!H38))*100,INT(Redondeo!H38)+1,INT(Redondeo!H38)),\"\")","v":""},{"$f":"IFERROR(IF(Redondeo!I$5<=(Redondeo!I38-INT(Redondeo!I38))*100,INT(Redondeo!I38)+1,INT(Redondeo!I38)),\"\")","v":""},{"$f":"IFERROR(IF(Redondeo!J$5<=(Redondeo!J38-INT(Redondeo!J38))*100,INT(Redondeo!J38)+1,INT(Redondeo!J38)),\"\")","v":""},{"$f":"IFERROR(IF(Redondeo!K$5<=(Redondeo!K38-INT(Redondeo!K38))*100,INT(Redondeo!K38)+1,INT(Redondeo!K38)),\"\")","v":""},{"$f":"IFERROR(IF(Redondeo!L$5<=(Redondeo!L38-INT(Redondeo!L38))*100,INT(Redondeo!L38)+1,INT(Redondeo!L38)),\"\")","v":""}]
[{"$f":"IF(Alumnos!E38=\"\",\"\",Alumnos!E38)","v":""},{"$f":"IFERROR(IF(Redondeo!C$5<=(Redondeo!C39-INT(Redondeo!C39))*100,INT(Redondeo!C39)+1,INT(Redondeo!C39)),\"\")","v":""},{"$f":"IFERROR(IF(Redondeo!D$5<=(Redondeo!D39-INT(Redondeo!D39))*100,INT(Redondeo!D39)+1,INT(Redondeo!D39)),\"\")","v":""},{"$f":"IFERROR(IF(Redondeo!E$5<=(Redondeo!E39-INT(Redondeo!E39))*100,INT(Redondeo!E39)+1,INT(Redondeo!E39)),\"\")","v":""},{"$f":"IFERROR(IF(Redondeo!F$5<=(Redondeo!F39-INT(Redondeo!F39))*100,INT(Redondeo!F39)+1,INT(Redondeo!F39)),\"\")","v":""},{"$f":"IFERROR(IF(Redondeo!G$5<=(Redondeo!G39-INT(Redondeo!G39))*100,INT(Redondeo!G39)+1,INT(Redondeo!G39)),\"\")","v":""},{"$f":"IFERROR(IF(Redondeo!H$5<=(Redondeo!H39-INT(Redondeo!H39))*100,INT(Redondeo!H39)+1,INT(Redondeo!H39)),\"\")","v":""},{"$f":"IFERROR(IF(Redondeo!I$5<=(Redondeo!I39-INT(Redondeo!I39))*100,INT(Redondeo!I39)+1,INT(Redondeo!I39)),\"\")","v":""},{"$f":"IFERROR(IF(Redondeo!J$5<=(Redondeo!J39-INT(Redondeo!J39))*100,INT(Redondeo!J39)+1,INT(Redondeo!J39)),\"\")","v":""},{"$f":"IFERROR(IF(Redondeo!K$5<=(Redondeo!K39-INT(Redondeo!K39))*100,INT(Redondeo!K39)+1,INT(Redondeo!K39)),\"\")","v":""},{"$f":"IFERROR(IF(Redondeo!L$5<=(Redondeo!L39-INT(Redondeo!L39))*100,INT(Redondeo!L39)+1,INT(Redondeo!L39)),\"\")","v":""}]
[{"$f":"IF(Alumnos!E39=\"\",\"\",Alumnos!E39)","v":""},{"$f":"IFERROR(IF(Redondeo!C$5<=(Redondeo!C40-INT(Redondeo!C40))*100,INT(Redondeo!C40)+1,INT(Redondeo!C40)),\"\")","v":""},{"$f":"IFERROR(IF(Redondeo!D$5<=(Redondeo!D40-INT(Redondeo!D40))*100,INT(Redondeo!D40)+1,INT(Redondeo!D40)),\"\")","v":""},{"$f":"IFERROR(IF(Redondeo!E$5<=(Redondeo!E40-INT(Redondeo!E40))*100,INT(Redondeo!E40)+1,INT(Redondeo!E40)),\"\")","v":""},{"$f":"IFERROR(IF(Redondeo!F$5<=(Redondeo!F40-INT(Redondeo!F40))*100,INT(Redondeo!F40)+1,INT(Redondeo!F40)),\"\")","v":""},{"$f":"IFERROR(IF(Redondeo!G$5<=(Redondeo!G40-INT(Redondeo!G40))*100,INT(Redondeo!G40)+1,INT(Redondeo!G40)),\"\")","v":""},{"$f":"IFERROR(IF(Redondeo!H$5<=(Redondeo!H40-INT(Redondeo!H40))*100,INT(Redondeo!H40)+1,INT(Redondeo!H40)),\"\")","v":""},{"$f":"IFERROR(IF(Redondeo!I$5<=(Redondeo!I40-INT(Redondeo!I40))*100,INT(Redondeo!I40)+1,INT(Redondeo!I40)),\"\")","v":""},{"$f":"IFERROR(IF(Redondeo!J$5<=(Redondeo!J40-INT(Redondeo!J40))*100,INT(Redondeo!J40)+1,INT(Redondeo!J40)),\"\")","v":""},{"$f":"IFERROR(IF(Redondeo!K$5<=(Redondeo!K40-INT(Redondeo!K40))*100,INT(Redondeo!K40)+1,INT(Redondeo!K40)),\"\")","v":""},{"$f":"IFERROR(IF(Redondeo!L$5<=(Redondeo!L40-INT(Redondeo!L40))*100,INT(Redondeo!L40)+1,INT(Redondeo!L40)),\"\")","v":""}]
[{"$f":"IF(Alumnos!E40=\"\",\"\",Alumnos!E40)","v":""},{"$f":"IFERROR(IF(Redondeo!C$5<=(Redondeo!C41-INT(Redondeo!C41))*100,INT(Redondeo!C41)+1,INT(Redondeo!C41)),\"\")","v":""},{"$f":"IFERROR(IF(Redondeo!D$5<=(Redondeo!D41-INT(Redondeo!D41))*100,INT(Redondeo!D41)+1,INT(Redondeo!D41)),\"\")","v":""},{"$f":"IFERROR(IF(Redondeo!E$5<=(Redondeo!E41-INT(Redondeo!E41))*100,INT(Redondeo!E41)+1,INT(Redondeo!E41)),\"\")","v":""},{"$f":"IFERROR(IF(Redondeo!F$5<=(Redondeo!F41-INT(Redondeo!F41))*100,INT(Redondeo!F41)+1,INT(Redondeo!F41)),\"\")","v":""},{"$f":"IFERROR(IF(Redondeo!G$5<=(Redondeo!G41-INT(Redondeo!G41))*100,INT(Redondeo!G41)+1,INT(Redondeo!G41)),\"\")","v":""},{"$f":"IFERROR(IF(Redondeo!H$5<=(Redondeo!H41-INT(Redondeo!H41))*100,INT(Redondeo!H41)+1,INT(Redondeo!H41)),\"\")","v":""},{"$f":"IFERROR(IF(Redondeo!I$5<=(Redondeo!I41-INT(Redondeo!I41))*100,INT(Redondeo!I41)+1,INT(Redondeo!I41)),\"\")","v":""},{"$f":"IFERROR(IF(Redondeo!J$5<=(Redondeo!J41-INT(Redondeo!J41))*100,INT(Redondeo!J41)+1,INT(Redondeo!J41)),\"\")","v":""},{"$f":"IFERROR(IF(Redondeo!K$5<=(Redondeo!K41-INT(Redondeo!K41))*100,INT(Redondeo!K41)+1,INT(Redondeo!K41)),\"\")","v":""},{"$f":"IFERROR(IF(Redondeo!L$5<=(Redondeo!L41-INT(Redondeo!L41))*100,INT(Redondeo!L41)+1,INT(Redondeo!L41)),\"\")","v":""}]

{"sheet":"Reporte","index":24,"n_rows":176,"n_cols":154,"rows_kept":176,"cut":false,"hidden":false,"merged":[[2,18,3,18],[2,20,3,20],[2,21,3,21],[2,22,3,22],[2,24,3,24],[1,18,1,37],[1,38,1,49],[1,50,1,69],[1,70,1,89],[2,33,3,33],[2,34,3,34],[2,36,3,36],[2,37,3,37],[2,38,3,38],[2,40,3,40],[2,56,3,56],[2,41,3,41],[2,42,3,42],[2,19,3,19],[2,23,3,23],[2,29,3,29],[2,30,3,30],[2,32,3,32],[2,49,3,49],[2,54,3,54],[2,25,3,25],[2,26,3,26],[2,28,3,28],[1,138,1,153],[1,90,1,109],[2,50,3,50],[2,52,3,52],[2,53,3,53],[2,44,3,44],[2,45,3,45],[2,46,3,46],[2,48,3,48],[2,27,3,27],[2,31,3,31],[2,35,3,35],[2,43,3,43],[2,39,3,39],[2,91,3,91],[2,71,3,71],[2,105,3,105],[2,106,3,106],[2,108,3,108],[2,109,3,109],[2,74,3,74],[2,76,3,76],[2,77,3,77],[2,78,3,78],[2,80,3,80],[2,97,3,97],[2,98,3,98],[2,81,3,81],[2,82,3,82],[2,84,3,84],[2,85,3,85],[2,86,3,86],[2,88,3,88],[2,87,3,87],[2,83,3,83],[2,79,3,79],[2,75,3,75],[2,90,3,90],[2,92,3,92],[2,93,3,93],[2,62,3,62],[2,64,3,64],[2,65,3,65],[2,66,3,66],[2,68,3,68],[2,69,3,69],[2,70,3,70],[2,72,3,72],[2,73,3,73],[2,67,3,67],[2,63,3,63],[2,134,3,134],[2,136,3,136],[2,121,3,121],[2,122,3,122],[2,124,3,124],[2,125,3,125],[2,126,3,126],[2,128,3,128],[1,110,1,125],[2,113,3,113],[2,114,3,114],[2,116,3,116],[2,117,3,117],[2,118,3,118],[2,120,3,120],[1,126,1,137],[2,110,3,110],[2,112,3,112],[2,129,3,129],[2,130,3,130],[2,132,3,132],[2,133,3,133],[2,135,3,135],[2,131,3,131],[2,153,3,153],[2,145,3,145],[2,146,3,146],[2,148,3,148],[2,149,3,149],[2,150,3,150],[2,152,3,152],[2,137,3,137],[2,138,3,138],[2,140,3,140],[2,141,3,141],[2,142,3,142],[2,144,3,144],[2,151,3,151],[2,147,3,147],[2,143,3,143],[2,139,3,139],[163,20,163,21],[163,24,163,25],[163,28,163,29],[163,32,163,33],[163,36,163,37],[163,40,163,41],[163,76,163,77],[163,80,163,81],[163,84,163,85],[163,88,163,89],[163,44,163,45],[163,48,163,49],[163,52,163,53],[163,56,163,57],[163,60,163,61],[163,64,163,65],[163,140,163,141],[163,144,163,145],[163,148,163,149],[163,152,163,153],[164,11,164,17],[164,18,164,21],[164,22,164,25],[164,26,164,29],[164,30,164,33],[164,34,164,37],[163,116,163,117],[163,120,163,121],[163,124,163,125],[163,128,163,129],[163,132,163,133],[163,136,163,137],[163,92,163,93],[163,96,163,97],[163,100,163,101],[163,104,163,105],[163,108,163,109],[163,112,163,113],[163,68,163,69],[163,72,163,73],[164,146,164,149],[164,150,164,153],[165,11,165,17],[165,18,165,21],[165,22,165,25],[165,26,165,29],[165,30,165,33],[164,110,164,113],[164,114,164,117],[164,118,164,121],[164,122,164,125],[165,34,165,37],[165,38,165,41],[165,42,165,45],[165,46,165,49],[165,50,165,53],[165,54,165,57],[165,82,165,85],[165,86,165,89],[165,90,165,93],[165,94,165,97],[165,98,165,101],[165,102,165,105],[165,58,165,61],[165,62,165,65],[164,134,164,137],[164,138,164,141],[164,142,164,145],[164,82,164,85],[164,38,164,41],[164,42,164,45],[164,46,164,49],[164,50,164,53],[164,54,164,57],[164,58,164,61],[164,126,164,129],[164,130,164,133],[164,86,164,89],[164,90,164,93],[164,94,164,97],[164,98,164,101],[164,102,164,105],[164,106,164,109],[164,62,164,65],[164,66,164,69],[164,70,164,73],[164,74,164,77],[164,78,164,81],[165,150,165,153],[165,106,165,109],[165,110,165,113],[165,114,165,117],[165,118,165,121],[165,122,165,125],[165,126,165,129],[166,50,166,53],[166,54,166,57],[166,58,166,61],[165,66,165,69],[165,70,165,73],[165,74,165,77],[165,78,165,81],[165,130,165,133],[165,134,165,137],[165,138,165,141],[165,142,165,145],[165,146,165,149],[166,11,166,17],[166,18,166,21],[166,22,166,25],[166,26,166,29],[166,30,166,33],[166,34,166,37],[167,11,167,17],[167,18,167,37],[167,38,167,49],[166,38,166,41],[166,42,166,45],[166,46,166,49],[167,50,167,69],[167,70,167,89],[166,110,166,113],[166,114,166,117],[166,118,166,121],[166,122,166,125],[166,86,166,89],[166,90,166,93],[166,94,166,97],[166,98,166,101],[166,102,166,105],[166,106,166,109],[166,62,166,65],[166,66,166,69],[166,70,166,73],[166,74,166,77],[166,78,166,81],[166,82,166,85],[167,90,167,109],[167,110,167,125],[167,126,167,137],[167,138,167,153],[166,134,166,137],[166,138,166,141],[166,142,166,145],[166,146,166,149],[166,150,166,153],[166,126,166,129],[166,130,166,133],[1,5,2,7],[1,10,2,12],[1,0,1,2],[2,0,2,2],[151,0,156,0],[151,10,156,10],[157,0,162,0],[157,10,162,10],[151,7,156,7],[157,7,162,7],[4,0,21,0],[4,1,6,1],[4,10,21,10],[4,11,6,11],[7,1,11,1],[7,11,11,11],[12,1,14,1],[12,11,14,11],[15,1,16,1],[15,11,16,11],[17,1,19,1],[17,11,19,11],[20,1,21,1],[20,11,21,11],[2,59,3,59],[2,55,3,55],[2,51,3,51],[2,47,3,47],[2,127,3,127],[2,123,3,123],[2,119,3,119],[2,115,3,115],[2,111,3,111],[2,107,3,107],[2,103,3,103],[2,99,3,99],[2,95,3,95],[2,57,3,57],[2,58,3,58],[2,60,3,60],[2,100,3,100],[2,101,3,101],[2,102,3,102],[2,104,3,104],[2,89,3,89],[2,94,3,94],[2,96,3,96],[2,61,3,61],[43,10,54,10],[43,11,45,11],[46,1,48,1],[46,11,48,11],[49,1,51,1],[49,11,51,11],[52,1,54,1],[52,11,54,11],[22,0,42,0],[22,1,24,1],[22,10,42,10],[22,11,24,11],[25,1,28,1],[25,11,28,11],[29,1,31,1],[29,11,31,11],[32,1,33,1],[32,11,33,11],[34,1,37,1],[34,11,37,11],[38,1,39,1],[38,11,39,11],[40,1,42,1],[40,11,42,11],[55,10,71,10],[55,11,57,11],[58,1,60,1],[58,11,60,11],[61,1,63,1],[61,11,63,11],[64,1,66,1],[64,11,66,11],[67,1,71,1],[67,11,71,11],[72,10,91,10],[72,11,75,11],[76,1,78,1],[76,11,78,11],[79,1,81,1],[79,11,81,11],[82,1,85,1],[82,11,85,11],[86,1,88,1],[86,11,88,11],[89,1,91,1],[89,11,91,11],[92,10,117,10],[92,11,93,11],[94,1,95,1],[94,11,95,11],[96,1,98,1],[96,11,98,11],[99,1,101,1],[99,11,101,11],[102,1,103,1],[102,11,103,11],[104,1,107,1],[104,11,107,11],[108,1,110,1],[108,11,110,11],[111,1,113,1],[111,11,113,11],[114,1,115,1],[114,11,115,11],[116,1,117,1],[116,11,117,11],[118,10,132,10],[118,11,119,11],[120,1,122,1],[120,11,122,11],[123,1,124,1],[123,11,124,11],[125,1,126,1],[125,11,126,11],[127,1,129,1],[127,11,129,11],[130,1,132,1],[130,11,132,11],[133,10,150,10],[133,11,134,11],[135,1,138,1],[135,11,138,11],[139,1,140,1],[139,11,140,11],[141,1,142,1],[141,11,142,11],[143,1,144,1],[143,11,144,11],[145,1,146,1],[145,11,146,11],[147,1,148,1],[147,11,148,11],[149,1,150,1],[149,11,150,11],[4,7,21,7],[22,7,42,7],[43,7,54,7],[55,7,71,7],[72,7,91,7],[92,7,117,7],[118,7,132,7],[133,7,150,7],[133,0,150,0],[133,1,134,1],[118,0,132,0],[118,1,119,1],[92,0,117,0],[92,1,93,1],[72,0,91,0],[72,1,75,1],[55,0,71,0],[55,1,57,1],[43,0,54,0],[43,1,45,1]]}
[]
[null,null,null,null,null,"ÁREAS",null,null,null,null,"COMPETENCIAS CLAVE",null,null,null,null,null,null,null,"Competencia en Comunicación Lingüística",null,null,null,null,null,null,null,null,null,null,null,null,null,null,null,null,null,null,null,"Competencia Plurilingüe",null,null,null,null,null,null,null,null,null,null,null,"Competencia Matemática y Competencia en Ciencia, Tecnología e Ingeniería",null,null,null,null,null,null,null,null,null,null,null,null,null,null,null,null,null,null,null,"Competencia Digital",null,null,null,null,null,null,null,null,null,null,null,null,null,null,null,null,null,null,null,"Competencia Personal, Social y de Aprender a Aprender",null,null,null,null,null,null,null,null,null,null,null,null,null,null,null,null,null,null,null,"Competencia Ciudadana",null,null,null,null,null,null,null,null,null,null,null,null,null,null,null,"Competencia Emprendedora",null,null,null,null,null,null,null,null,null,null,null,"Competencia en Conciencia y Expresión Culturales"]
[null,null,null,null,null,null,null,null,null,null,null,null,null,null,null,"SÍ",null,null,"CCL 1","PESO CCL1","PESO CCL1 EQ.","PORCENTAJE CCL1","CCL 2","PESO CCL2","PESO CCL2 EQ.","PORCENTAJE CCL2","CCL 3","PESO CCL3","PESO CCL3 EQ.","PORCENTAJE CCL3","CCL 4","PESO CCL4","PESO CCL4 EQ.","PORCENTAJE CCL4","CCL 5","PESO CCL5","PESO CCL5 EQ.","PORCENTAJE CCL5","CP 1","PESO CP1","PESO CP1 EQ.","PORCENTAJE CP1","CP 2","PESO CP2","PESO CP2 EQ.","PORCENTAJE CP2","CP 3","PESO CP3","PESO CP3 EQ.","PORCENTAJE CP3","STEM 1","PESO STEM1","PESO STEM1 EQ.","PORCENTAJE STEM1","STEM 2","PESO STEM2","PESO STEM2 EQ.","PORCENTAJE STEM2","STEM 3","PESO STEM3","PESO STEM3 EQ.","PORCENTAJE STEM3","STEM 4","PESO STEM 4 EQ.","PESO STEM 4","PORCENTAJE STEM4","STEM 5 ","PESO STEM5","PESO STEM5 EQ.","PORCENTAJE STEM5","CD 1","PESO CD1","PESO CD1 EQ.","PORCENTAJE CD1","CD 2","PESO CD2","PESO CD2 EQ.","PORCENTAJE CD2","CD 3","PESO CD3","PESO CD3 EQ.","PORCENTAJE CD3","CD 4","PESO CD4","PESO CD4 EQ.","PORCENTAJE CD4","CD 5","PESO CD5","PESO CD5 EQ.","PORCENJTAJE CD5","CPSAA 1","PESO CPSAA1","PESO CPSAA1 EQ.","PORCENTAJE CPSAA1","CPSAA 2","PESO CPSAA2","PESO CPSAA2 EQ.","PORCENTAJE CPSAA2","CPSAA 3","PESO CPSAA3","PESO CPSAA3 EQ.","PORCENTAJE CPSAA3","CPSAA 4","PESO CPSAA4","PESO CPSAA4 EQ.","PORCENTAJE CPSAA4","CPSAA 5","PESO CPSAA5","PESO CPSAA5 EQ.","PORCENTAJE CPSAA5","CC 1","PESO CC1","PESO CC1 EQ.","PORCENTAJE CC1","CC 2","PESO CC2","PESO CC2 EQ.","PORCENTAJE CC2","CC 3","PESO CC3","PESO CC3 EQ.","PORCENTAJE CC3","CC 4","PESO CC4","PESO CC4 EQ.","PORCENTAJE CC4","CE 1","PESO CE1","PESO CE1 EQ.","PORCENTAJE CE1","CE 2","PESO CE2","PESO CE2 EQ.","PORCENTAJE CE2","CE 3 ","PESO CE3","PESO CE3 EQ.","PORCENTAJE CE3","CCEC 1","PESO CCEC1","PESO CCEC1 EQ.","PORCENTAJE CCEC1","CCEC 2","PESO CCEC2","PESO CCEC2 EQ.","PORCENTAJE CCEC2","CCEC 3","PESO CCEC3","PESO CCEC3 EQ.","PORCENTAJE CCEC3","CCEC 4","PESO CCEC4","PESO CCEC4 EQ.","PORCENTAJE CCEC4"]
[null,null,null,"NOTA CRITERIO","PESO","%","% AJUS","NOTA ÁREA",null,null,null,null,{"$f":"COUNTIF(N5:N163,\">=0\")","v":0},"NOTA CRITERIO","PESO","PESO EQ.","%","% AJUS"]
["Ciencias de la Naturaleza","Comp. Esp. 1","Criterio Evaluación 1.1",{"$f":"N5","v":""},{"$f":"'Ciencias de la Naturaleza'!E4","v":1},{"$f":"'Ciencias de la Naturaleza'!F4","v":5.5555555555555552E-2},{"$f":"'Ciencias de la Naturaleza'!G4","v":""},{"$f":"IFERROR(SUMPRODUCT(D5:D22,E5:E22)/SUMIF(D5:D22,\">=0\",E5:E22),\"\")","v":""},null,null,"Ciencias de la Naturaleza","Comp. Esp. 1","Criterio Evaluación 1.1","",{"$f":"'Peso criterios carga horaria'!F5","v":2},{"$f":"O5*BASE!$AN$165/BASE!AN5","v":1.8215686274509806},{"$f":"IF($P$3=\"SÍ\",O5/SUM($O$5:$O$163),\"\")","v":4.5819014891179842E-3},{"$f":"IF($P$3=\"SÍ\",IF(N5=\"\",\"\",Q5/R$176),\"\")","v":""},{"$f":"IF(BASE!E5=\"\",\"\",Reporte!$N5)","v":""},{"$f":"IF(S5=\"\",\"\",1)","v":""},{"$f":"IFERROR(T5*BASE!$AN$165/BASE!$AN5,\"\")","v":""},{"$f":"IFERROR(T5/SUM(T$5:T$163),\"\")","v":""},{"$f":"IF(BASE!F5=\"\",\"\",Reporte!$N5)","v":""},{"$f":"IF(W5=\"\",\"\",1)","v":""},{"$f":"IFERROR(X5*BASE!$AN$165/BASE!$AN5,\"\")","v":""},{"$f":"IFERROR(X5/SUM(X$5:X$163),\"\")","v":""},{"$f":"IF(BASE!G5=\"\",\"\",Reporte!$N5)","v":""},{"$f":"IF(AA5=\"\",\"\",1)","v":""},{"$f":"IFERROR(AB5*BASE!$AN$165/BASE!$AN5,\"\")","v":""},{"$f":"IFERROR(AB5/SUM(AB$5:AB$163),\"\")","v":""},{"$f":"IF(BASE!H5=\"\",\"\",Reporte!$N5)","v":""},{"$f":"IF(AE5=\"\",\"\",1)","v":""},{"$f":"IFERROR(AF5*BASE!$AN$165/BASE!$AN5,\"\")","v":""},{"$f":"IFERROR(AF5/SUM(AF$5:AF$163),\"\")","v":""},{"$f":"IF(BASE!I5=\"\",\"\",Reporte!$N5)","v":""},{"$f":"IF(AI5=\"\",\"\",1)","v":""},{"$f":"IFERROR(AJ5*BASE!$AN$165/BASE!$AN5,\"\")","v":""},{"$f":"IFERROR(AJ5/SUM(AJ$5:AJ$163),\"\")","v":""},{"$f":"IF(BASE!J5=\"\",\"\",Reporte!$N5)","v":""},{"$f":"IF(AM5=\"\",\"\",1)","v":""},{"$f":"IFERROR(AN5*BASE!$AN$165/BASE!$AN5,\"\")","v":""},{"$f":"IFERROR(AN5/SUM(AN$5:AN$163),\"\")","v":""},{"$f":"IF(BASE!K5=\"\",\"\",Reporte!$N5)","v":""},{"$f":"IF(AQ5=\"\",\"\",1)","v":""},{"$f":"IFERROR(AR5*BASE!$AN$165/BASE!$AN5,\"\")","v":""},{"$f":"IFERROR(AR5/SUM(AR$5:AR$163),\"\")","v":""},{"$f":"IF(BASE!L5=\"\",\"\",Reporte!$N5)","v":""},{"$f":"IF(AU5=\"\",\"\",1)","v":""},{"$f":"IFERROR(AV5*BASE!$AN$165/BASE!$AN5,\"\")","v":""},{"$f":"IFERROR(AV5/SUM(AV$5:AV$163),\"\")","v":""},{"$f":"IF(BASE!M5=\"\",\"\",Reporte!$N5)","v":""},{"$f":"IF(AY5=\"\",\"\",1)","v":""},{"$f":"IFERROR(AZ5*BASE!$AN$165/BASE!$AN5,\"\")","v":""},{"$f":"IFERROR(AZ5/SUM(AZ$5:AZ$163),\"\")","v":""},{"$f":"IF(BASE!N5=\"\",\"\",Reporte!$N5)","v":""},{"$f":"IF(BC5=\"\",\"\",1)","v":""},{"$f":"IFERROR(BD5*BASE!$AN$165/BASE!$AN5,\"\")","v":""},{"$f":"IFERROR(BD5/SUM(BD$5:BD$163),\"\")","v":""},{"$f":"IF(BASE!O5=\"\",\"\",Reporte!$N5)","v":""},{"$f":"IF(BG5=\"\",\"\",1)","v":""},{"$f":"IFERROR(BH5*BASE!$AN$165/BASE!$AN5,\"\")","v":""},{"$f":"IFERROR(BH5/SUM(BH$5:BH$163),\"\")","v":""},{"$f":"IF(BASE!P5=\"\",\"\",Reporte!$N5)","v":""},{"$f":"IF(BK5=\"\",\"\",1)","v":""},{"$f":"IFERROR(BL5*BASE!$AN$165/BASE!$AN5,\"\")","v":""},{"$f":"IFERROR(BL5/SUM(BL$5:BL$163),\"\")","v":""},{"$f":"IF(BASE!Q5=\"\",\"\",Reporte!$N5)","v":""},{"$f":"IF(BO5=\"\",\"\",1)","v":""},{"$f":"IFERROR(BP5*BASE!$AN$165/BASE!$AN5,\"\")","v":""},{"$f":"IFERROR(BP5/SUM(BP$5:BP$163),\"\")","v":""},{"$f":"IF(BASE!R5=\"\",\"\",Reporte!$N5)","v":""},{"$f":"IF(BS5=\"\",\"\",1)","v":""},{"$f":"IFERROR(BT5*BASE!$AN$165/BASE!$AN5,\"\")","v":""},{"$f":"IFERROR(BT5/SUM(BT$5:BT$163),\"\")","v":""},{"$f":"IF(BASE!S5=\"\",\"\",Reporte!$N5)","v":""},{"$f":"IF(BW5=\"\",\"\",1)","v":""},{"$f":"IFERROR(BX5*BASE!$AN$165/BASE!$AN5,\"\")","v":""},{"$f":"IFERROR(BX5/SUM(BX$5:BX$163),\"\")","v":""},{"$f":"IF(BASE!T5=\"\",\"\",Reporte!$N5)","v":""},{"$f":"IF(CA5=\"\",\"\",1)","v":""},{"$f":"IFERROR(CB5*BASE!$AN$165/BASE!$AN5,\"\")","v":""},{"$f":"IFERROR(CB5/SUM(CB$5:CB$163),\"\")","v":""},{"$f":"IF(BASE!U5=\"\",\"\",Reporte!$N5)","v":""},{"$f":"IF(CE5=\"\",\"\",1)","v":""},{"$f":"IFERROR(CF5*BASE!$AN$165/BASE!$AN5,\"\")","v":""},{"$f":"IFERROR(CF5/SUM(CF$5:CF$163),\"\")","v":""},{"$f":"IF(BASE!V5=\"\",\"\",Reporte!$N5)","v":""},{"$f":"IF(CI5=\"\",\"\",1)","v":""},{"$f":"IFERROR(CJ5*BASE!$AN$165/BASE!$AN5,\"\")","v":""},{"$f":"IFERROR(CJ5/SUM(CJ$5:CJ$163),\"\")","v":""},{"$f":"IF(BASE!W5=\"\",\"\",Reporte!$N5)","v":""},{"$f":"IF(CM5=\"\",\"\",1)","v":""},{"$f":"IFERROR(CN5*BASE!$AN$165/BASE!$AN5,\"\")","v":""},{"$f":"IFERROR(CN5/SUM(CN$5:CN$163),\"\")","v":""},{"$f":"IF(BASE!X5=\"\",\"\",Reporte!$N5)","v":""},{"$f":"IF(CQ5=\"\",\"\",1)","v":""},{"$f":"IFERROR(CR5*BASE!$AN$165/BASE!$AN5,\"\")","v":""},{"$f":"IFERROR(CR5/SUM(CR$5:CR$163),\"\")","v":""},{"$f":"IF(BASE!Y5=\"\",\"\",Reporte!$N5)","v":""},{"$f":"IF(CU5=\"\",\"\",1)","v":""},{"$f":"IFERROR(CV5*BASE!$AN$165/BASE!$AN5,\"\")","v":""},{"$f":"IFERROR(CV5/SUM(CV$5:CV$163),\"\")","v":""},{"$f":"IF(BASE!Z5=\"\",\"\",Reporte!$N5)","v":""},{"$f":"IF(CY5=\"\",\"\",1)","v":""},{"$f":"IFERROR(CZ5*BASE!$AN$165/BASE!$AN5,\"\")","v":""},{"$f":"IFERROR(CZ5/SUM(CZ$5:CZ$163),\"\")","v":""},{"$f":"IF(BASE!AA5=\"\",\"\",Reporte!$N5)","v":""},{"$f":"IF(DC5=\"\",\"\",1)","v":""},{"$f":"IFERROR(DD5*BASE!$AN$165/BASE!$AN5,\"\")","v":""},{"$f":"IFERROR(DD5/SUM(DD$5:DD$163),\"\")","v":""},{"$f":"IF(BASE!AB5=\"\",\"\",Reporte!$N5)","v":""},{"$f":"IF(DG5=\"\",\"\",1)","v":""},{"$f":"IFERROR(DH5*BASE!$AN$165/BASE!$AN5,\"\")","v":""},{"$f":"IFERROR(DH5/SUM(DH$5:DH$163),\"\")","v":""},{"$f":"IF(BASE!AC5=\"\",\"\",Reporte!$N5)","v":""},{"$f":"IF(DK5=\"\",\"\",1)","v":""},{"$f":"IFERROR(DL5*BASE!$AN$165/BASE!$AN5,\"\")","v":""},{"$f":"IFERROR(DL5/SUM(DL$5:DL$163),\"\")","v":""},{"$f":"IF(BASE!AD5=\"\",\"\",Reporte!$N5)","v":""},{"$f":"IF(DO5=\"\",\"\",1)","v":""},{"$f":"IFERROR(DP5*BASE!$AN$165/BASE!$AN5,\"\")","v":""},{"$f":"IFERROR(DP5/SUM(DP$5:DP$163),\"\")","v":""},{"$f":"IF(BASE!AE5=\"\",\"\",Reporte!$N5)","v":""},{"$f":"IF(DS5=\"\",\"\",1)","v":""},{"$f":"IFERROR(DT5*BASE!$AN$165/BASE!$AN5,\"\")","v":""},{"$f":"IFERROR(DT5/SUM(DT$5:DT$163),\"\")","v":""},{"$f":"IF(BASE!AF5=\"\",\"\",Reporte!$N5)","v":""},{"$f":"IF(DW5=\"\",\"\",1)","v":""},{"$f":"IFERROR(DX5*BASE!$AN$165/BASE!$AN5,\"\")","v":""},{"$f":"IFERROR(DX5/SUM(DX$5:DX$163),\"\")","v":""},{"$f":"IF(BASE!AG5=\"\",\"\",Reporte!$N5)","v":""},{"$f":"IF(EA5=\"\",\"\",1)","v":""},{"$f":"IFERROR(EB5*BASE!$AN$165/BASE!$AN5,\"\")","v":""},{"$f":"IFERROR(EB5/SUM(EB$5:EB$163),\"\")","v":""},{"$f":"IF(BASE!AH5=\"\",\"\",Reporte!$N5)","v":""},{"$f":"IF(EE5=\"\",\"\",1)","v":""},{"$f":"IFERROR(EF5*BASE!$AN$165/BASE!$AN5,\"\")","v":""},{"$f":"IFERROR(EF5/SUM(EF$5:EF$163),\"\")","v":""},{"$f":"IF(BASE!AI5=\"\",\"\",Reporte!$N5)","v":""},{"$f":"IF(EI5=\"\",\"\",1)","v":""},{"$f":"IFERROR(EJ5*BASE!$AN$165/BASE!$AN5,\"\")","v":""},{"$f":"IFERROR(EJ5/SUM(EJ$5:EJ$163),\"\")","v":""},{"$f":"IF(BASE!AJ5=\"\",\"\",Reporte!$N5)","v":""},{"$f":"IF(EM5=\"\",\"\",1)","v":""},{"$f":"IFERROR(EN5*BASE!$AN$165/BASE!$AN5,\"\")","v":""},{"$f":"IFERROR(EN5/SUM(EN$5:EN$163),\"\")","v":""},{"$f":"IF(BASE!AK5=\"\",\"\",Reporte!$N5)","v":""},{"$f":"IF(EQ5=\"\",\"\",1)","v":""},{"$f":"IFERROR(ER5*BASE!$AN$165/BASE!$AN5,\"\")","v":""},{"$f":"IFERROR(ER5/SUM(ER$5:ER$163),\"\")","v":""},{"$f":"IF(BASE!AL5=\"\",\"\",Reporte!$N5)","v":""},{"$f":"IF(EU5=\"\",\"\",1)","v":""},{"$f":"IFERROR(EV5*BASE!$AN$165/BASE!$AN5,\"\")","v":""},{"$f":"IFERROR(EV5/SUM(EV$5:EV$163),\"\")","v":""}]
[null,null,"Criterio Evaluación 1.2","",{"$f":"'Ciencias de la Naturaleza'!E5","v":1},{"$f":"'Ciencias de la Naturaleza'!F5","v":5.5555555555555552E-2},{"$f":"'Ciencias de la Naturaleza'!G5","v":""},null,null,null,null,null,"Criterio Evaluación 1.2","",{"$f":"'Peso criterios carga horaria'!F6","v":2},{"$f":"O6*BASE!$AN$165/BASE!AN6","v":1.8215686274509806},4.5819014891179842E-3,"",{"$f":"IF(BASE!E6=\"\",\"\",Reporte!$N6)","v":""},{"$f":"IF(S6=\"\",\"\",1)","v":""},{"$f":"IFERROR(T6*BASE!$AN$165/BASE!$AN6,\"\")","v":""},{"$f":"IFERROR(T6/SUM(T$5:T$163),\"\")","v":""},{"$f":"IF(BASE!F6=\"\",\"\",Reporte!$N6)","v":""},{"$f":"IF(W6=\"\",\"\",1)","v":""},{"$f":"IFERROR(X6*BASE!$AN$165/BASE!$AN6,\"\")","v":""},{"$f":"IFERROR(X6/SUM(X$5:X$163),\"\")","v":""},{"$f":"IF(BASE!G6=\"\",\"\",Reporte!$N6)","v":""},{"$f":"IF(AA6=\"\",\"\",1)","v":""},{"$f":"IFERROR(AB6*BASE!$AN$165/BASE!$AN6,\"\")","v":""},{"$f":"IFERROR(AB6/SUM(AB$5:AB$163),\"\")","v":""},{"$f":"IF(BASE!H6=\"\",\"\",Reporte!$N6)","v":""},{"$f":"IF(AE6=\"\",\"\",1)","v":""},{"$f":"IFERROR(AF6*BASE!$AN$165/BASE!$AN6,\"\")","v":""},{"$f":"IFERROR(AF6/SUM(AF$5:AF$163),\"\")","v":""},{"$f":"IF(BASE!I6=\"\",\"\",Reporte!$N6)","v":""},{"$f":"IF(AI6=\"\",\"\",1)","v":""},{"$f":"IFERROR(AJ6*BASE!$AN$165/BASE!$AN6,\"\")","v":""},{"$f":"IFERROR(AJ6/SUM(AJ$5:AJ$163),\"\")","v":""},{"$f":"IF(BASE!J6=\"\",\"\",Reporte!$N6)","v":""},{"$f":"IF(AM6=\"\",\"\",1)","v":""},{"$f":"IFERROR(AN6*BASE!$AN$165/BASE!$AN6,\"\")","v":""},{"$f":"IFERROR(AN6/SUM(AN$5:AN$163),\"\")","v":""},{"$f":"IF(BASE!K6=\"\",\"\",Reporte!$N6)","v":""},{"$f":"IF(AQ6=\"\",\"\",1)","v":""},{"$f":"IFERROR(AR6*BASE!$AN$165/BASE!$AN6,\"\")","v":""},{"$f":"IFERROR(AR6/SUM(AR$5:AR$163),\"\")","v":""},{"$f":"IF(BASE!L6=\"\",\"\",Reporte!$N6)","v":""},{"$f":"IF(AU6=\"\",\"\",1)","v":""},{"$f":"IFERROR(AV6*BASE!$AN$165/BASE!$AN6,\"\")","v":""},{"$f":"IFERROR(AV6/SUM(AV$5:AV$163),\"\")","v":""},{"$f":"IF(BASE!M6=\"\",\"\",Reporte!$N6)","v":""},{"$f":"IF(AY6=\"\",\"\",1)","v":""},{"$f":"IFERROR(AZ6*BASE!$AN$165/BASE!$AN6,\"\")","v":""},{"$f":"IFERROR(AZ6/SUM(AZ$5:AZ$163),\"\")","v":""},{"$f":"IF(BASE!N6=\"\",\"\",Reporte!$N6)","v":""},{"$f":"IF(BC6=\"\",\"\",1)","v":""},{"$f":"IFERROR(BD6*BASE!$AN$165/BASE!$AN6,\"\")","v":""},{"$f":"IFERROR(BD6/SUM(BD$5:BD$163),\"\")","v":""},{"$f":"IF(BASE!O6=\"\",\"\",Reporte!$N6)","v":""},{"$f":"IF(BG6=\"\",\"\",1)","v":""},{"$f":"IFERROR(BH6*BASE!$AN$165/BASE!$AN6,\"\")","v":""},{"$f":"IFERROR(BH6/SUM(BH$5:BH$163),\"\")","v":""},{"$f":"IF(BASE!P6=\"\",\"\",Reporte!$N6)","v":""},{"$f":"IF(BK6=\"\",\"\",1)","v":""},{"$f":"IFERROR(BL6*BASE!$AN$165/BASE!$AN6,\"\")","v":""},{"$f":"IFERROR(BL6/SUM(BL$5:BL$163),\"\")","v":""},{"$f":"IF(BASE!Q6=\"\",\"\",Reporte!$N6)","v":""},{"$f":"IF(BO6=\"\",\"\",1)","v":""},{"$f":"IFERROR(BP6*BASE!$AN$165/BASE!$AN6,\"\")","v":""},{"$f":"IFERROR(BP6/SUM(BP$5:BP$163),\"\")","v":""},{"$f":"IF(BASE!R6=\"\",\"\",Reporte!$N6)","v":""},{"$f":"IF(BS6=\"\",\"\",1)","v":""},{"$f":"IFERROR(BT6*BASE!$AN$165/BASE!$AN6,\"\")","v":""},{"$f":"IFERROR(BT6/SUM(BT$5:BT$163),\"\")","v":""},{"$f":"IF(BASE!S6=\"\",\"\",Reporte!$N6)","v":""},{"$f":"IF(BW6=\"\",\"\",1)","v":""},{"$f":"IFERROR(BX6*BASE!$AN$165/BASE!$AN6,\"\")","v":""},{"$f":"IFERROR(BX6/SUM(BX$5:BX$163),\"\")","v":""},{"$f":"IF(BASE!T6=\"\",\"\",Reporte!$N6)","v":""},{"$f":"IF(CA6=\"\",\"\",1)","v":""},{"$f":"IFERROR(CB6*BASE!$AN$165/BASE!$AN6,\"\")","v":""},{"$f":"IFERROR(CB6/SUM(CB$5:CB$163),\"\")","v":""},{"$f":"IF(BASE!U6=\"\",\"\",Reporte!$N6)","v":""},{"$f":"IF(CE6=\"\",\"\",1)","v":""},{"$f":"IFERROR(CF6*BASE!$AN$165/BASE!$AN6,\"\")","v":""},{"$f":"IFERROR(CF6/SUM(CF$5:CF$163),\"\")","v":""},{"$f":"IF(BASE!V6=\"\",\"\",Reporte!$N6)","v":""},{"$f":"IF(CI6=\"\",\"\",1)","v":""},{"$f":"IFERROR(CJ6*BASE!$AN$165/BASE!$AN6,\"\")","v":""},{"$f":"IFERROR(CJ6/SUM(CJ$5:CJ$163),\"\")","v":""},{"$f":"IF(BASE!W6=\"\",\"\",Reporte!$N6)","v":""},{"$f":"IF(CM6=\"\",\"\",1)","v":""},{"$f":"IFERROR(CN6*BASE!$AN$165/BASE!$AN6,\"\")","v":""},{"$f":"IFERROR(CN6/SUM(CN$5:CN$163),\"\")","v":""},{"$f":"IF(BASE!X6=\"\",\"\",Reporte!$N6)","v":""},{"$f":"IF(CQ6=\"\",\"\",1)","v":""},{"$f":"IFERROR(CR6*BASE!$AN$165/BASE!$AN6,\"\")","v":""},{"$f":"IFERROR(CR6/SUM(CR$5:CR$163),\"\")","v":""},{"$f":"IF(BASE!Y6=\"\",\"\",Reporte!$N6)","v":""},{"$f":"IF(CU6=\"\",\"\",1)","v":""},{"$f":"IFERROR(CV6*BASE!$AN$165/BASE!$AN6,\"\")","v":""},{"$f":"IFERROR(CV6/SUM(CV$5:CV$163),\"\")","v":""},{"$f":"IF(BASE!Z6=\"\",\"\",Reporte!$N6)","v":""},{"$f":"IF(CY6=\"\",\"\",1)","v":""},{"$f":"IFERROR(CZ6*BASE!$AN$165/BASE!$AN6,\"\")","v":""},{"$f":"IFERROR(CZ6/SUM(CZ$5:CZ$163),\"\")","v":""},{"$f":"IF(BASE!AA6=\"\",\"\",Reporte!$N6)","v":""},{"$f":"IF(DC6=\"\",\"\",1)","v":""},{"$f":"IFERROR(DD6*BASE!$AN$165/BASE!$AN6,\"\")","v":""},{"$f":"IFERROR(DD6/SUM(DD$5:DD$163),\"\")","v":""},{"$f":"IF(BASE!AB6=\"\",\"\",Reporte!$N6)","v":""},{"$f":"IF(DG6=\"\",\"\",1)","v":""},{"$f":"IFERROR(DH6*BASE!$AN$165/BASE!$AN6,\"\")","v":""},{"$f":"IFERROR(DH6/SUM(DH$5:DH$163),\"\")","v":""},{"$f":"IF(BASE!AC6=\"\",\"\",Reporte!$N6)","v":""},{"$f":"IF(DK6=\"\",\"\",1)","v":""},{"$f":"IFERROR(DL6*BASE!$AN$165/BASE!$AN6,\"\")","v":""},{"$f":"IFERROR(DL6/SUM(DL$5:DL$163),\"\")","v":""},{"$f":"IF(BASE!AD6=\"\",\"\",Reporte!$N6)","v":""},{"$f":"IF(DO6=\"\",\"\",1)","v":""},{"$f":"IFERROR(DP6*BASE!$AN$165/BASE!$AN6,\"\")","v":""},{"$f":"IFERROR(DP6/SUM(DP$5:DP$163),\"\")","v":""},{"$f":"IF(BASE!AE6=\"\",\"\",Reporte!$N6)","v":""},{"$f":"IF(DS6=\"\",\"\",1)","v":""},{"$f":"IFERROR(DT6*BASE!$AN$165/BASE!$AN6,\"\")","v":""},{"$f":"IFERROR(DT6/SUM(DT$5:DT$163),\"\")","v":""},{"$f":"IF(BASE!AF6=\"\",\"\",Reporte!$N6)","v":""},{"$f":"IF(DW6=\"\",\"\",1)","v":""},{"$f":"IFERROR(DX6*BASE!$AN$165/BASE!$AN6,\"\")","v":""},{"$f":"IFERROR(DX6/SUM(DX$5:DX$163),\"\")","v":""},{"$f":"IF(BASE!AG6=\"\",\"\",Reporte!$N6)","v":""},{"$f":"IF(EA6=\"\",\"\",1)","v":""},{"$f":"IFERROR(EB6*BASE!$AN$165/BASE!$AN6,\"\")","v":""},{"$f":"IFERROR(EB6/SUM(EB$5:EB$163),\"\")","v":""},{"$f":"IF(BASE!AH6=\"\",\"\",Reporte!$N6)","v":""},{"$f":"IF(EE6=\"\",\"\",1)","v":""},{"$f":"IFERROR(EF6*BASE!$AN$165/BASE!$AN6,\"\")","v":""},{"$f":"IFERROR(EF6/SUM(EF$5:EF$163),\"\")","v":""},{"$f":"IF(BASE!AI6=\"\",\"\",Reporte!$N6)","v":""},{"$f":"IF(EI6=\"\",\"\",1)","v":""},{"$f":"IFERROR(EJ6*BASE!$AN$165/BASE!$AN6,\"\")","v":""},{"$f":"IFERROR(EJ6/SUM(EJ$5:EJ$163),\"\")","v":""},{"$f":"IF(BASE!AJ6=\"\",\"\",Reporte!$N6)","v":""},{"$f":"IF(EM6=\"\",\"\",1)","v":""},{"$f":"IFERROR(EN6*BASE!$AN$165/BASE!$AN6,\"\")","v":""},{"$f":"IFERROR(EN6/SUM(EN$5:EN$163),\"\")","v":""},{"$f":"IF(BASE!AK6=\"\",\"\",Reporte!$N6)","v":""},{"$f":"IF(EQ6=\"\",\"\",1)","v":""},{"$f":"IFERROR(ER6*BASE!$AN$165/BASE!$AN6,\"\")","v":""},{"$f":"IFERROR(ER6/SUM(ER$5:ER$163),\"\")","v":""},{"$f":"IF(BASE!AL6=\"\",\"\",Reporte!$N6)","v":""},{"$f":"IF(EU6=\"\",\"\",1)","v":""},{"$f":"IFERROR(EV6*BASE!$AN$165/BASE!$AN6,\"\")","v":""},{"$f":"IFERROR(EV6/SUM(EV$5:EV$163),\"\")","v":""}]
[null,null,"Criterio Evaluación 1.3","",{"$f":"'Ciencias de la Naturaleza'!E6","v":1},{"$f":"'Ciencias de la Naturaleza'!F6","v":5.5555555555555552E-2},{"$f":"'Ciencias de la Naturaleza'!G6","v":""},null,null,null,null,null,"Criterio Evaluación 1.3","",{"$f":"'Peso criterios carga horaria'!F7","v":2},{"$f":"O7*BASE!$AN$165/BASE!AN7","v":1.8215686274509806},4.5819014891179842E-3,"",{"$f":"IF(BASE!E7=\"\",\"\",Reporte!$N7)","v":""},"",{"$f":"IFERROR(T7*BASE!$AN$165/BASE!$AN7,\"\")","v":""},"",{"$f":"IF(BASE!F7=\"\",\"\",Reporte!$N7)","v":""},"",{"$f":"IFERROR(X7*BASE!$AN$165/BASE!$AN7,\"\")","v":""},"",{"$f":"IF(BASE!G7=\"\",\"\",Reporte!$N7)","v":""},"",{"$f":"IFERROR(AB7*BASE!$AN$165/BASE!$AN7,\"\")","v":""},"",{"$f":"IF(BASE!H7=\"\",\"\",Reporte!$N7)","v":""},"",{"$f":"IFERROR(AF7*BASE!$AN$165/BASE!$AN7,\"\")","v":""},"",{"$f":"IF(BASE!I7=\"\",\"\",Reporte!$N7)","v":""},"",{"$f":"IFERROR(AJ7*BASE!$AN$165/BASE!$AN7,\"\")","v":""},"",{"$f":"IF(BASE!J7=\"\",\"\",Reporte!$N7)","v":""},"",{"$f":"IFERROR(AN7*BASE!$AN$165/BASE!$AN7,\"\")","v":""},"",{"$f":"IF(BASE!K7=\"\",\"\",Reporte!$N7)","v":""},"",{"$f":"IFERROR(AR7*BASE!$AN$165/BASE!$AN7,\"\")","v":""},"",{"$f":"IF(BASE!L7=\"\",\"\",Reporte!$N7)","v":""},"",{"$f":"IFERROR(AV7*BASE!$AN$165/BASE!$AN7,\"\")","v":""},"",{"$f":"IF(BASE!M7=\"\",\"\",Reporte!$N7)","v":""},"",{"$f":"IFERROR(AZ7*BASE!$AN$165/BASE!$AN7,\"\")","v":""},"",{"$f":"IF(BASE!N7=\"\",\"\",Reporte!$N7)","v":""},"",{"$f":"IFERROR(BD7*BASE!$AN$165/BASE!$AN7,\"\")","v":""},"",{"$f":"IF(BASE!O7=\"\",\"\",Reporte!$N7)","v":""},"",{"$f":"IFERROR(BH7*BASE!$AN$165/BASE!$AN7,\"\")","v":""},"",{"$f":"IF(BASE!P7=\"\",\"\",Reporte!$N7)","v":""},"",{"$f":"IFERROR(BL7*BASE!$AN$165/BASE!$AN7,\"\")","v":""},"",{"$f":"IF(BASE!Q7=\"\",\"\",Reporte!$N7)","v":""},"",{"$f":"IFERROR(BP7*BASE!$AN$165/BASE!$AN7,\"\")","v":""},"",{"$f":"IF(BASE!R7=\"\",\"\",Reporte!$N7)","v":""},"",{"$f":"IFERROR(BT7*BASE!$AN$165/BASE!$AN7,\"\")","v":""},"",{"$f":"IF(BASE!S7=\"\",\"\",Reporte!$N7)","v":""},"",{"$f":"IFERROR(BX7*BASE!$AN$165/BASE!$AN7,\"\")","v":""},"",{"$f":"IF(BASE!T7=\"\",\"\",Reporte!$N7)","v":""},"",{"$f":"IFERROR(CB7*BASE!$AN$165/BASE!$AN7,\"\")","v":""},"",{"$f":"IF(BASE!U7=\"\",\"\",Reporte!$N7)","v":""},"",{"$f":"IFERROR(CF7*BASE!$AN$165/BASE!$AN7,\"\")","v":""},"",{"$f":"IF(BASE!V7=\"\",\"\",Reporte!$N7)","v":""},"",{"$f":"IFERROR(CJ7*BASE!$AN$165/BASE!$AN7,\"\")","v":""},"",{"$f":"IF(BASE!W7=\"\",\"\",Reporte!$N7)","v":""},"",{"$f":"IFERROR(CN7*BASE!$AN$165/BASE!$AN7,\"\")","v":""},"",{"$f":"IF(BASE!X7=\"\",\"\",Reporte!$N7)","v":""},"",{"$f":"IFERROR(CR7*BASE!$AN$165/BASE!$AN7,\"\")","v":""},"",{"$f":"IF(BASE!Y7=\"\",\"\",Reporte!$N7)","v":""},"",{"$f":"IFERROR(CV7*BASE!$AN$165/BASE!$AN7,\"\")","v":""},"",{"$f":"IF(BASE!Z7=\"\",\"\",Reporte!$N7)","v":""},"",{"$f":"IFERROR(CZ7*BASE!$AN$165/BASE!$AN7,\"\")","v":""},"",{"$f":"IF(BASE!AA7=\"\",\"\",Reporte!$N7)","v":""},"",{"$f":"IFERROR(DD7*BASE!$AN$165/BASE!$AN7,\"\")","v":""},"",{"$f":"IF(BASE!AB7=\"\",\"\",Reporte!$N7)","v":""},"",{"$f":"IFERROR(DH7*BASE!$AN$165/BASE!$AN7,\"\")","v":""},"",{"$f":"IF(BASE!AC7=\"\",\"\",Reporte!$N7)","v":""},"",{"$f":"IFERROR(DL7*BASE!$AN$165/BASE!$AN7,\"\")","v":""},"",{"$f":"IF(BASE!AD7=\"\",\"\",Reporte!$N7)","v":""},"",{"$f":"IFERROR(DP7*BASE!$AN$165/BASE!$AN7,\"\")","v":""},"",{"$f":"IF(BASE!AE7=\"\",\"\",Reporte!$N7)","v":""},"",{"$f":"IFERROR(DT7*BASE!$AN$165/BASE!$AN7,\"\")","v":""},"",{"$f":"IF(BASE!AF7=\"\",\"\",Reporte!$N7)","v":""},"",{"$f":"IFERROR(DX7*BASE!$AN$165/BASE!$AN7,\"\")","v":""},"",{"$f":"IF(BASE!AG7=\"\",\"\",Reporte!$N7)","v":""},"",{"$f":"IFERROR(EB7*BASE!$AN$165/BASE!$AN7,\"\")","v":""},"",{"$f":"IF(BASE!AH7=\"\",\"\",Reporte!$N7)","v":""},"",{"$f":"IFERROR(EF7*BASE!$AN$165/BASE!$AN7,\"\")","v":""},"",{"$f":"IF(BASE!AI7=\"\",\"\",Reporte!$N7)","v":""},"",{"$f":"IFERROR(EJ7*BASE!$AN$165/BASE!$AN7,\"\")","v":""},"",{"$f":"IF(BASE!AJ7=\"\",\"\",Reporte!$N7)","v":""},"",{"$f":"IFERROR(EN7*BASE!$AN$165/BASE!$AN7,\"\")","v":""},"",{"$f":"IF(BASE!AK7=\"\",\"\",Reporte!$N7)","v":""},"",{"$f":"IFERROR(ER7*BASE!$AN$165/BASE!$AN7,\"\")","v":""},"",{"$f":"IF(BASE!AL7=\"\",\"\",Reporte!$N7)","v":""},"",{"$f":"IFERROR(EV7*BASE!$AN$165/BASE!$AN7,\"\")","v":""},""]
[null,"Comp. Esp. 2","Criterio Evaluación 2.1","",{"$f":"'Ciencias de la Naturaleza'!E7","v":1},{"$f":"'Ciencias de la Naturaleza'!F7","v":5.5555555555555552E-2},{"$f":"'Ciencias de la Naturaleza'!G7","v":""},null,null,null,null,"Comp. Esp. 2","Criterio Evaluación 2.1","",{"$f":"'Peso criterios carga horaria'!F8","v":2},{"$f":"O8*BASE!$AN$165/BASE!AN8","v":1.8215686274509806},4.5819014891179842E-3,"",{"$f":"IF(BASE!E8=\"\",\"\",Reporte!$N8)","v":""},"",{"$f":"IFERROR(T8*BASE!$AN$165/BASE!$AN8,\"\")","v":""},"",{"$f":"IF(BASE!F8=\"\",\"\",Reporte!$N8)","v":""},"",{"$f":"IFERROR(X8*BASE!$AN$165/BASE!$AN8,\"\")","v":""},"",{"$f":"IF(BASE!G8=\"\",\"\",Reporte!$N8)","v":""},"",{"$f":"IFERROR(AB8*BASE!$AN$165/BASE!$AN8,\"\")","v":""},"",{"$f":"IF(BASE!H8=\"\",\"\",Reporte!$N8)","v":""},"",{"$f":"IFERROR(AF8*BASE!$AN$165/BASE!$AN8,\"\")","v":""},"",{"$f":"IF(BASE!I8=\"\",\"\",Reporte!$N8)","v":""},"",{"$f":"IFERROR(AJ8*BASE!$AN$165/BASE!$AN8,\"\")","v":""},"",{"$f":"IF(BASE!J8=\"\",\"\",Reporte!$N8)","v":""},"",{"$f":"IFERROR(AN8*BASE!$AN$165/BASE!$AN8,\"\")","v":""},"",{"$f":"IF(BASE!K8=\"\",\"\",Reporte!$N8)","v":""},"",{"$f":"IFERROR(AR8*BASE!$AN$165/BASE!$AN8,\"\")","v":""},"",{"$f":"IF(BASE!L8=\"\",\"\",Reporte!$N8)","v":""},"",{"$f":"IFERROR(AV8*BASE!$AN$165/BASE!$AN8,\"\")","v":""},"",{"$f":"IF(BASE!M8=\"\",\"\",Reporte!$N8)","v":""},"",{"$f":"IFERROR(AZ8*BASE!$AN$165/BASE!$AN8,\"\")","v":""},"",{"$f":"IF(BASE!N8=\"\",\"\",Reporte!$N8)","v":""},"",{"$f":"IFERROR(BD8*BASE!$AN$165/BASE!$AN8,\"\")","v":""},"",{"$f":"IF(BASE!O8=\"\",\"\",Reporte!$N8)","v":""},"",{"$f":"IFERROR(BH8*BASE!$AN$165/BASE!$AN8,\"\")","v":""},"",{"$f":"IF(BASE!P8=\"\",\"\",Reporte!$N8)","v":""},"",{"$f":"IFERROR(BL8*BASE!$AN$165/BASE!$AN8,\"\")","v":""},"",{"$f":"IF(BASE!Q8=\"\",\"\",Reporte!$N8)","v":""},"",{"$f":"IFERROR(BP8*BASE!$AN$165/BASE!$AN8,\"\")","v":""},"",{"$f":"IF(BASE!R8=\"\",\"\",Reporte!$N8)","v":""},"",{"$f":"IFERROR(BT8*BASE!$AN$165/BASE!$AN8,\"\")","v":""},"",{"$f":"IF(BASE!S8=\"\",\"\",Reporte!$N8)","v":""},"",{"$f":"IFERROR(BX8*BASE!$AN$165/BASE!$AN8,\"\")","v":""},"",{"$f":"IF(BASE!T8=\"\",\"\",Reporte!$N8)","v":""},"",{"$f":"IFERROR(CB8*BASE!$AN$165/BASE!$AN8,\"\")","v":""},"",{"$f":"IF(BASE!U8=\"\",\"\",Reporte!$N8)","v":""},"",{"$f":"IFERROR(CF8*BASE!$AN$165/BASE!$AN8,\"\")","v":""},"",{"$f":"IF(BASE!V8=\"\",\"\",Reporte!$N8)","v":""},"",{"$f":"IFERROR(CJ8*BASE!$AN$165/BASE!$AN8,\"\")","v":""},"",{"$f":"IF(BASE!W8=\"\",\"\",Reporte!$N8)","v":""},"",{"$f":"IFERROR(CN8*BASE!$AN$165/BASE!$AN8,\"\")","v":""},"",{"$f":"IF(BASE!X8=\"\",\"\",Reporte!$N8)","v":""},"",{"$f":"IFERROR(CR8*BASE!$AN$165/BASE!$AN8,\"\")","v":""},"",{"$f":"IF(BASE!Y8=\"\",\"\",Reporte!$N8)","v":""},"",{"$f":"IFERROR(CV8*BASE!$AN$165/BASE!$AN8,\"\")","v":""},"",{"$f":"IF(BASE!Z8=\"\",\"\",Reporte!$N8)","v":""},"",{"$f":"IFERROR(CZ8*BASE!$AN$165/BASE!$AN8,\"\")","v":""},"",{"$f":"IF(BASE!AA8=\"\",\"\",Reporte!$N8)","v":""},"",{"$f":"IFERROR(DD8*BASE!$AN$165/BASE!$AN8,\"\")","v":""},"",{"$f":"IF(BASE!AB8=\"\",\"\",Reporte!$N8)","v":""},"",{"$f":"IFERROR(DH8*BASE!$AN$165/BASE!$AN8,\"\")","v":""},"",{"$f":"IF(BASE!AC8=\"\",\"\",Reporte!$N8)","v":""},"",{"$f":"IFERROR(DL8*BASE!$AN$165/BASE!$AN8,\"\")","v":""},"",{"$f":"IF(BASE!AD8=\"\",\"\",Reporte!$N8)","v":""},"",{"$f":"IFERROR(DP8*BASE!$AN$165/BASE!$AN8,\"\")","v":""},"",{"$f":"IF(BASE!AE8=\"\",\"\",Reporte!$N8)","v":""},"",{"$f":"IFERROR(DT8*BASE!$AN$165/BASE!$AN8,\"\")","v":""},"",{"$f":"IF(BASE!AF8=\"\",\"\",Reporte!$N8)","v":""},"",{"$f":"IFERROR(DX8*BASE!$AN$165/BASE!$AN8,\"\")","v":""},"",{"$f":"IF(BASE!AG8=\"\",\"\",Reporte!$N8)","v":""},"",{"$f":"IFERROR(EB8*BASE!$AN$165/BASE!$AN8,\"\")","v":""},"",{"$f":"IF(BASE!AH8=\"\",\"\",Reporte!$N8)","v":""},"",{"$f":"IFERROR(EF8*BASE!$AN$165/BASE!$AN8,\"\")","v":""},"",{"$f":"IF(BASE!AI8=\"\",\"\",Reporte!$N8)","v":""},"",{"$f":"IFERROR(EJ8*BASE!$AN$165/BASE!$AN8,\"\")","v":""},"",{"$f":"IF(BASE!AJ8=\"\",\"\",Reporte!$N8)","v":""},"",{"$f":"IFERROR(EN8*BASE!$AN$165/BASE!$AN8,\"\")","v":""},"",{"$f":"IF(BASE!AK8=\"\",\"\",Reporte!$N8)","v":""},"",{"$f":"IFERROR(ER8*BASE!$AN$165/BASE!$AN8,\"\")","v":""},"",{"$f":"IF(BASE!AL8=\"\",\"\",Reporte!$N8)","v":""},"",{"$f":"IFERROR(EV8*BASE!$AN$165/BASE!$AN8,\"\")","v":""},""]
[null,null,"Criterio Evaluación 2.2","",{"$f":"'Ciencias de la Naturaleza'!E8","v":1},{"$f":"'Ciencias de la Naturaleza'!F8","v":5.5555555555555552E-2},{"$f":"'Ciencias de la Naturaleza'!G8","v":""},null,null,null,null,null,"Criterio Evaluación 2.2","",{"$f":"'Peso criterios carga horaria'!F9","v":2},{"$f":"O9*BASE!$AN$165/BASE!AN9","v":1.8215686274509806},4.5819014891179842E-3,"",{"$f":"IF(BASE!E9=\"\",\"\",Reporte!$N9)","v":""},"",{"$f":"IFERROR(T9*BASE!$AN$165/BASE!$AN9,\"\")","v":""},"",{"$f":"IF(BASE!F9=\"\",\"\",Reporte!$N9)","v":""},"",{"$f":"IFERROR(X9*BASE!$AN$165/BASE!$AN9,\"\")","v":""},"",{"$f":"IF(BASE!G9=\"\",\"\",Reporte!$N9)","v":""},"",{"$f":"IFERROR(AB9*BASE!$AN$165/BASE!$AN9,\"\")","v":""},"",{"$f":"IF(BASE!H9=\"\",\"\",Reporte!$N9)","v":""},"",{"$f":"IFERROR(AF9*BASE!$AN$165/BASE!$AN9,\"\")","v":""},"",{"$f":"IF(BASE!I9=\"\",\"\",Reporte!$N9)","v":""},"",{"$f":"IFERROR(AJ9*BASE!$AN$165/BASE!$AN9,\"\")","v":""},"",{"$f":"IF(BASE!J9=\"\",\"\",Reporte!$N9)","v":""},"",{"$f":"IFERROR(AN9*BASE!$AN$165/BASE!$AN9,\"\")","v":""},"",{"$f":"IF(BASE!K9=\"\",\"\",Reporte!$N9)","v":""},"",{"$f":"IFERROR(AR9*BASE!$AN$165/BASE!$AN9,\"\")","v":""},"",{"$f":"IF(BASE!L9=\"\",\"\",Reporte!$N9)","v":""},"",{"$f":"IFERROR(AV9*BASE!$AN$165/BASE!$AN9,\"\")","v":""},"",{"$f":"IF(BASE!M9=\"\",\"\",Reporte!$N9)","v":""},"",{"$f":"IFERROR(AZ9*BASE!$AN$165/BASE!$AN9,\"\")","v":""},"",{"$f":"IF(BASE!N9=\"\",\"\",Reporte!$N9)","v":""},"",{"$f":"IFERROR(BD9*BASE!$AN$165/BASE!$AN9,\"\")","v":""},"",{"$f":"IF(BASE!O9=\"\",\"\",Reporte!$N9)","v":""},"",{"$f":"IFERROR(BH9*BASE!$AN$165/BASE!$AN9,\"\")","v":""},"",{"$f":"IF(BASE!P9=\"\",\"\",Reporte!$N9)","v":""},"",{"$f":"IFERROR(BL9*BASE!$AN$165/BASE!$AN9,\"\")","v":""},"",{"$f":"IF(BASE!Q9=\"\",\"\",Reporte!$N9)","v":""},"",{"$f":"IFERROR(BP9*BASE!$AN$165/BASE!$AN9,\"\")","v":""},"",{"$f":"IF(BASE!R9=\"\",\"\",Reporte!$N9)","v":""},"",{"$f":"IFERROR(BT9*BASE!$AN$165/BASE!$AN9,\"\")","v":""},"",{"$f":"IF(BASE!S9=\"\",\"\",Reporte!$N9)","v":""},"",{"$f":"IFERROR(BX9*BASE!$AN$165/BASE!$AN9,\"\")","v":""},"",{"$f":"IF(BASE!T9=\"\",\"\",Reporte!$N9)","v":""},"",{"$f":"IFERROR(CB9*BASE!$AN$165/BASE!$AN9,\"\")","v":""},"",{"$f":"IF(BASE!U9=\"\",\"\",Reporte!$N9)","v":""},"",{"$f":"IFERROR(CF9*BASE!$AN$165/BASE!$AN9,\"\")","v":""},"",{"$f":"IF(BASE!V9=\"\",\"\",Reporte!$N9)","v":""},"",{"$f":"IFERROR(CJ9*BASE!$AN$165/BASE!$AN9,\"\")","v":""},"",{"$f":"IF(BASE!W9=\"\",\"\",Reporte!$N9)","v":""},"",{"$f":"IFERROR(CN9*BASE!$AN$165/BASE!$AN9,\"\")","v":""},"",{"$f":"IF(BASE!X9=\"\",\"\",Reporte!$N9)","v":""},"",{"$f":"IFERROR(CR9*BASE!$AN$165/BASE!$AN9,\"\")","v":""},"",{"$f":"IF(BASE!Y9=\"\",\"\",Reporte!$N9)","v":""},"",{"$f":"IFERROR(CV9*BASE!$AN$165/BASE!$AN9,\"\")","v":""},"",{"$f":"IF(BASE!Z9=\"\",\"\",Reporte!$N9)","v":""},"",{"$f":"IFERROR(CZ9*BASE!$AN$165/BASE!$AN9,\"\")","v":""},"",{"$f":"IF(BASE!AA9=\"\",\"\",Reporte!$N9)","v":""},"",{"$f":"IFERROR(DD9*BASE!$AN$165/BASE!$AN9,\"\")","v":""},"",{"$f":"IF(BASE!AB9=\"\",\"\",Reporte!$N9)","v":""},"",{"$f":"IFERROR(DH9*BASE!$AN$165/BASE!$AN9,\"\")","v":""},"",{"$f":"IF(BASE!AC9=\"\",\"\",Reporte!$N9)","v":""},"",{"$f":"IFERROR(DL9*BASE!$AN$165/BASE!$AN9,\"\")","v":""},"",{"$f":"IF(BASE!AD9=\"\",\"\",Reporte!$N9)","v":""},"",{"$f":"IFERROR(DP9*BASE!$AN$165/BASE!$AN9,\"\")","v":""},"",{"$f":"IF(BASE!AE9=\"\",\"\",Reporte!$N9)","v":""},"",{"$f":"IFERROR(DT9*BASE!$AN$165/BASE!$AN9,\"\")","v":""},"",{"$f":"IF(BASE!AF9=\"\",\"\",Reporte!$N9)","v":""},"",{"$f":"IFERROR(DX9*BASE!$AN$165/BASE!$AN9,\"\")","v":""},"",{"$f":"IF(BASE!AG9=\"\",\"\",Reporte!$N9)","v":""},"",{"$f":"IFERROR(EB9*BASE!$AN$165/BASE!$AN9,\"\")","v":""},"",{"$f":"IF(BASE!AH9=\"\",\"\",Reporte!$N9)","v":""},"",{"$f":"IFERROR(EF9*BASE!$AN$165/BASE!$AN9,\"\")","v":""},"",{"$f":"IF(BASE!AI9=\"\",\"\",Reporte!$N9)","v":""},"",{"$f":"IFERROR(EJ9*BASE!$AN$165/BASE!$AN9,\"\")","v":""},"",{"$f":"IF(BASE!AJ9=\"\",\"\",Reporte!$N9)","v":""},"",{"$f":"IFERROR(EN9*BASE!$AN$165/BASE!$AN9,\"\")","v":""},"",{"$f":"IF(BASE!AK9=\"\",\"\",Reporte!$N9)","v":""},"",{"$f":"IFERROR(ER9*BASE!$AN$165/BASE!$AN9,\"\")","v":""},"",{"$f":"IF(BASE!AL9=\"\",\"\",Reporte!$N9)","v":""},"",{"$f":"IFERROR(EV9*BASE!$AN$165/BASE!$AN9,\"\")","v":""},""]
[null,null,"Criterio Evaluación 2.3","",{"$f":"'Ciencias de la Naturaleza'!E9","v":1},{"$f":"'Ciencias de la Naturaleza'!F9","v":5.5555555555555552E-2},{"$f":"'Ciencias de la Naturaleza'!G9","v":""},null,null,null,null,null,"Criterio Evaluación 2.3","",{"$f":"'Peso criterios carga horaria'!F10","v":2},{"$f":"O10*BASE!$AN$165/BASE!AN10","v":1.8215686274509806},4.5819014891179842E-3,"",{"$f":"IF(BASE!E10=\"\",\"\",Reporte!$N10)","v":""},"",{"$f":"IFERROR(T10*BASE!$AN$165/BASE!$AN10,\"\")","v":""},"",{"$f":"IF(BASE!F10=\"\",\"\",Reporte!$N10)","v":""},"",{"$f":"IFERROR(X10*BASE!$AN$165/BASE!$AN10,\"\")","v":""},"",{"$f":"IF(BASE!G10=\"\",\"\",Reporte!$N10)","v":""},"",{"$f":"IFERROR(AB10*BASE!$AN$165/BASE!$AN10,\"\")","v":""},"",{"$f":"IF(BASE!H10=\"\",\"\",Reporte!$N10)","v":""},"",{"$f":"IFERROR(AF10*BASE!$AN$165/BASE!$AN10,\"\")","v":""},"",{"$f":"IF(BASE!I10=\"\",\"\",Reporte!$N10)","v":""},"",{"$f":"IFERROR(AJ10*BASE!$AN$165/BASE!$AN10,\"\")","v":""},"",{"$f":"IF(BASE!J10=\"\",\"\",Reporte!$N10)","v":""},"",{"$f":"IFERROR(AN10*BASE!$AN$165/BASE!$AN10,\"\")","v":""},"",{"$f":"IF(BASE!K10=\"\",\"\",Reporte!$N10)","v":""},"",{"$f":"IFERROR(AR10*BASE!$AN$165/BASE!$AN10,\"\")","v":""},"",{"$f":"IF(BASE!L10=\"\",\"\",Reporte!$N10)","v":""},"",{"$f":"IFERROR(AV10*BASE!$AN$165/BASE!$AN10,\"\")","v":""},"",{"$f":"IF(BASE!M10=\"\",\"\",Reporte!$N10)","v":""},"",{"$f":"IFERROR(AZ10*BASE!$AN$165/BASE!$AN10,\"\")","v":""},"",{"$f":"IF(BASE!N10=\"\",\"\",Reporte!$N10)","v":""},"",{"$f":"IFERROR(BD10*BASE!$AN$165/BASE!$AN10,\"\")","v":""},"",{"$f":"IF(BASE!O10=\"\",\"\",Reporte!$N10)","v":""},"",{"$f":"IFERROR(BH10*BASE!$AN$165/BASE!$AN10,\"\")","v":""},"",{"$f":"IF(BASE!P10=\"\",\"\",Reporte!$N10)","v":""},"",{"$f":"IFERROR(BL10*BASE!$AN$165/BASE!$AN10,\"\")","v":""},"",{"$f":"IF(BASE!Q10=\"\",\"\",Reporte!$N10)","v":""},"",{"$f":"IFERROR(BP10*BASE!$AN$165/BASE!$AN10,\"\")","v":""},"",{"$f":"IF(BASE!R10=\"\",\"\",Reporte!$N10)","v":""},"",{"$f":"IFERROR(BT10*BASE!$AN$165/BASE!$AN10,\"\")","v":""},"",{"$f":"IF(BASE!S10=\"\",\"\",Reporte!$N10)","v":""},"",{"$f":"IFERROR(BX10*BASE!$AN$165/BASE!$AN10,\"\")","v":""},"",{"$f":"IF(BASE!T10=\"\",\"\",Reporte!$N10)","v":""},"",{"$f":"IFERROR(CB10*BASE!$AN$165/BASE!$AN10,\"\")","v":""},"",{"$f":"IF(BASE!U10=\"\",\"\",Reporte!$N10)","v":""},"",{"$f":"IFERROR(CF10*BASE!$AN$165/BASE!$AN10,\"\")","v":""},"",{"$f":"IF(BASE!V10=\"\",\"\",Reporte!$N10)","v":""},"",{"$f":"IFERROR(CJ10*BASE!$AN$165/BASE!$AN10,\"\")","v":""},"",{"$f":"IF(BASE!W10=\"\",\"\",Reporte!$N10)","v":""},"",{"$f":"IFERROR(CN10*BASE!$AN$165/BASE!$AN10,\"\")","v":""},"",{"$f":"IF(BASE!X10=\"\",\"\",Reporte!$N10)","v":""},"",{"$f":"IFERROR(CR10*BASE!$AN$165/BASE!$AN10,\"\")","v":""},"",{"$f":"IF(BASE!Y10=\"\",\"\",Reporte!$N10)","v":""},"",{"$f":"IFERROR(CV10*BASE!$AN$165/BASE!$AN10,\"\")","v":""},"",{"$f":"IF(BASE!Z10=\"\",\"\",Reporte!$N10)","v":""},"",{"$f":"IFERROR(CZ10*BASE!$AN$165/BASE!$AN10,\"\")","v":""},"",{"$f":"IF(BASE!AA10=\"\",\"\",Reporte!$N10)","v":""},"",{"$f":"IFERROR(DD10*BASE!$AN$165/BASE!$AN10,\"\")","v":""},"",{"$f":"IF(BASE!AB10=\"\",\"\",Reporte!$N10)","v":""},"",{"$f":"IFERROR(DH10*BASE!$AN$165/BASE!$AN10,\"\")","v":""},"",{"$f":"IF(BASE!AC10=\"\",\"\",Reporte!$N10)","v":""},"",{"$f":"IFERROR(DL10*BASE!$AN$165/BASE!$AN10,\"\")","v":""},"",{"$f":"IF(BASE!AD10=\"\",\"\",Reporte!$N10)","v":""},"",{"$f":"IFERROR(DP10*BASE!$AN$165/BASE!$AN10,\"\")","v":""},"",{"$f":"IF(BASE!AE10=\"\",\"\",Reporte!$N10)","v":""},"",{"$f":"IFERROR(DT10*BASE!$AN$165/BASE!$AN10,\"\")","v":""},"",{"$f":"IF(BASE!AF10=\"\",\"\",Reporte!$N10)","v":""},"",{"$f":"IFERROR(DX10*BASE!$AN$165/BASE!$AN10,\"\")","v":""},"",{"$f":"IF(BASE!AG10=\"\",\"\",Reporte!$N10)","v":""},"",{"$f":"IFERROR(EB10*BASE!$AN$165/BASE!$AN10,\"\")","v":""},"",{"$f":"IF(BASE!AH10=\"\",\"\",Reporte!$N10)","v":""},"",{"$f":"IFERROR(EF10*BASE!$AN$165/BASE!$AN10,\"\")","v":""},"",{"$f":"IF(BASE!AI10=\"\",\"\",Reporte!$N10)","v":""},"",{"$f":"IFERROR(EJ10*BASE!$AN$165/BASE!$AN10,\"\")","v":""},"",{"$f":"IF(BASE!AJ10=\"\",\"\",Reporte!$N10)","v":""},"",{"$f":"IFERROR(EN10*BASE!$AN$165/BASE!$AN10,\"\")","v":""},"",{"$f":"IF(BASE!AK10=\"\",\"\",Reporte!$N10)","v":""},"",{"$f":"IFERROR(ER10*BASE!$AN$165/BASE!$AN10,\"\")","v":""},"",{"$f":"IF(BASE!AL10=\"\",\"\",Reporte!$N10)","v":""},"",{"$f":"IFERROR(EV10*BASE!$AN$165/BASE!$AN10,\"\")","v":""},""]
[null,null,"Criterio Evaluación 2.4","",{"$f":"'Ciencias de la Naturaleza'!E10","v":1},{"$f":"'Ciencias de la Naturaleza'!F10","v":5.5555555555555552E-2},{"$f":"'Ciencias de la Naturaleza'!G10","v":""},null,null,null,null,null,"Criterio Evaluación 2.4","",{"$f":"'Peso criterios carga horaria'!F11","v":2},{"$f":"O11*BASE!$AN$165/BASE!AN11","v":1.8215686274509806},4.5819014891179842E-3,"",{"$f":"IF(BASE!E11=\"\",\"\",Reporte!$N11)","v":""},"",{"$f":"IFERROR(T11*BASE!$AN$165/BASE!$AN11,\"\")","v":""},"",{"$f":"IF(BASE!F11=\"\",\"\",Reporte!$N11)","v":""},"",{"$f":"IFERROR(X11*BASE!$AN$165/BASE!$AN11,\"\")","v":""},"",{"$f":"IF(BASE!G11=\"\",\"\",Reporte!$N11)","v":""},"",{"$f":"IFERROR(AB11*BASE!$AN$165/BASE!$AN11,\"\")","v":""},"",{"$f":"IF(BASE!H11=\"\",\"\",Reporte!$N11)","v":""},"",{"$f":"IFERROR(AF11*BASE!$AN$165/BASE!$AN11,\"\")","v":""},"",{"$f":"IF(BASE!I11=\"\",\"\",Reporte!$N11)","v":""},"",{"$f":"IFERROR(AJ11*BASE!$AN$165/BASE!$AN11,\"\")","v":""},"",{"$f":"IF(BASE!J11=\"\",\"\",Reporte!$N11)","v":""},"",{"$f":"IFERROR(AN11*BASE!$AN$165/BASE!$AN11,\"\")","v":""},"",{"$f":"IF(BASE!K11=\"\",\"\",Reporte!$N11)","v":""},"",{"$f":"IFERROR(AR11*BASE!$AN$165/BASE!$AN11,\"\")","v":""},"",{"$f":"IF(BASE!L11=\"\",\"\",Reporte!$N11)","v":""},"",{"$f":"IFERROR(AV11*BASE!$AN$165/BASE!$AN11,\"\")","v":""},"",{"$f":"IF(BASE!M11=\"\",\"\",Reporte!$N11)","v":""},"",{"$f":"IFERROR(AZ11*BASE!$AN$165/BASE!$AN11,\"\")","v":""},"",{"$f":"IF(BASE!N11=\"\",\"\",Reporte!$N11)","v":""},"",{"$f":"IFERROR(BD11*BASE!$AN$165/BASE!$AN11,\"\")","v":""},"",{"$f":"IF(BASE!O11=\"\",\"\",Reporte!$N11)","v":""},"",{"$f":"IFERROR(BH11*BASE!$AN$165/BASE!$AN11,\"\")","v":""},"",{"$f":"IF(BASE!P11=\"\",\"\",Reporte!$N11)","v":""},"",{"$f":"IFERROR(BL11*BASE!$AN$165/BASE!$AN11,\"\")","v":""},"",{"$f":"IF(BASE!Q11=\"\",\"\",Reporte!$N11)","v":""},"",{"$f":"IFERROR(BP11*BASE!$AN$165/BASE!$AN11,\"\")","v":""},"",{"$f":"IF(BASE!R11=\"\",\"\",Reporte!$N11)","v":""},"",{"$f":"IFERROR(BT11*BASE!$AN$165/BASE!$AN11,\"\")","v":""},"",{"$f":"IF(BASE!S11=\"\",\"\",Reporte!$N11)","v":""},"",{"$f":"IFERROR(BX11*BASE!$AN$165/BASE!$AN11,\"\")","v":""},"",{"$f":"IF(BASE!T11=\"\",\"\",Reporte!$N11)","v":""},"",{"$f":"IFERROR(CB11*BASE!$AN$165/BASE!$AN11,\"\")","v":""},"",{"$f":"IF(BASE!U11=\"\",\"\",Reporte!$N11)","v":""},"",{"$f":"IFERROR(CF11*BASE!$AN$165/BASE!$AN11,\"\")","v":""},"",{"$f":"IF(BASE!V11=\"\",\"\",Reporte!$N11)","v":""},"",{"$f":"IFERROR(CJ11*BASE!$AN$165/BASE!$AN11,\"\")","v":""},"",{"$f":"IF(BASE!W11=\"\",\"\",Reporte!$N11)","v":""},"",{"$f":"IFERROR(CN11*BASE!$AN$165/BASE!$AN11,\"\")","v":""},"",{"$f":"IF(BASE!X11=\"\",\"\",Reporte!$N11)","v":""},"",{"$f":"IFERROR(CR11*BASE!$AN$165/BASE!$AN11,\"\")","v":""},"",{"$f":"IF(BASE!Y11=\"\",\"\",Reporte!$N11)","v":""},"",{"$f":"IFERROR(CV11*BASE!$AN$165/BASE!$AN11,\"\")","v":""},"",{"$f":"IF(BASE!Z11=\"\",\"\",Reporte!$N11)","v":""},"",{"$f":"IFERROR(CZ11*BASE!$AN$165/BASE!$AN11,\"\")","v":""},"",{"$f":"IF(BASE!AA11=\"\",\"\",Reporte!$N11)","v":""},"",{"$f":"IFERROR(DD11*BASE!$AN$165/BASE!$AN11,\"\")","v":""},"",{"$f":"IF(BASE!AB11=\"\",\"\",Reporte!$N11)","v":""},"",{"$f":"IFERROR(DH11*BASE!$AN$165/BASE!$AN11,\"\")","v":""},"",{"$f":"IF(BASE!AC11=\"\",\"\",Reporte!$N11)","v":""},"",{"$f":"IFERROR(DL11*BASE!$AN$165/BASE!$AN11,\"\")","v":""},"",{"$f":"IF(BASE!AD11=\"\",\"\",Reporte!$N11)","v":""},"",{"$f":"IFERROR(DP11*BASE!$AN$165/BASE!$AN11,\"\")","v":""},"",{"$f":"IF(BASE!AE11=\"\",\"\",Reporte!$N11)","v":""},"",{"$f":"IFERROR(DT11*BASE!$AN$165/BASE!$AN11,\"\")","v":""},"",{"$f":"IF(BASE!AF11=\"\",\"\",Reporte!$N11)","v":""},"",{"$f":"IFERROR(DX11*BASE!$AN$165/BASE!$AN11,\"\")","v":""},"",{"$f":"IF(BASE!AG11=\"\",\"\",Reporte!$N11)","v":""},"",{"$f":"IFERROR(EB11*BASE!$AN$165/BASE!$AN11,\"\")","v":""},"",{"$f":"IF(BASE!AH11=\"\",\"\",Reporte!$N11)","v":""},"",{"$f":"IFERROR(EF11*BASE!$AN$165/BASE!$AN11,\"\")","v":""},"",{"$f":"IF(BASE!AI11=\"\",\"\",Reporte!$N11)","v":""},"",{"$f":"IFERROR(EJ11*BASE!$AN$165/BASE!$AN11,\"\")","v":""},"",{"$f":"IF(BASE!AJ11=\"\",\"\",Reporte!$N11)","v":""},"",{"$f":"IFERROR(EN11*BASE!$AN$165/BASE!$AN11,\"\")","v":""},"",{"$f":"IF(BASE!AK11=\"\",\"\",Reporte!$N11)","v":""},"",{"$f":"IFERROR(ER11*BASE!$AN$165/BASE!$AN11,\"\")","v":""},"",{"$f":"IF(BASE!AL11=\"\",\"\",Reporte!$N11)","v":""},"",{"$f":"IFERROR(EV11*BASE!$AN$165/BASE!$AN11,\"\")","v":""},""]
[null,null,"Criterio Evaluación 2.5","",{"$f":"'Ciencias de la Naturaleza'!E11","v":1},{"$f":"'Ciencias de la Naturaleza'!F11","v":5.5555555555555552E-2},{"$f":"'Ciencias de la Naturaleza'!G11","v":""},null,null,null,null,null,"Criterio Evaluación 2.5","",{"$f":"'Peso criterios carga horaria'!F12","v":2},{"$f":"O12*BASE!$AN$165/BASE!AN12","v":1.8215686274509806},4.5819014891179842E-3,"",{"$f":"IF(BASE!E12=\"\",\"\",Reporte!$N12)","v":""},"",{"$f":"IFERROR(T12*BASE!$AN$165/BASE!$AN12,\"\")","v":""},"",{"$f":"IF(BASE!F12=\"\",\"\",Reporte!$N12)","v":""},"",{"$f":"IFERROR(X12*BASE!$AN$165/BASE!$AN12,\"\")","v":""},"",{"$f":"IF(BASE!G12=\"\",\"\",Reporte!$N12)","v":""},"",{"$f":"IFERROR(AB12*BASE!$AN$165/BASE!$AN12,\"\")","v":""},"",{"$f":"IF(BASE!H12=\"\",\"\",Reporte!$N12)","v":""},"",{"$f":"IFERROR(AF12*BASE!$AN$165/BASE!$AN12,\"\")","v":""},"",{"$f":"IF(BASE!I12=\"\",\"\",Reporte!$N12)","v":""},"",{"$f":"IFERROR(AJ12*BASE!$AN$165/BASE!$AN12,\"\")","v":""},"",{"$f":"IF(BASE!J12=\"\",\"\",Reporte!$N12)","v":""},"",{"$f":"IFERROR(AN12*BASE!$AN$165/BASE!$AN12,\"\")","v":""},"",{"$f":"IF(BASE!K12=\"\",\"\",Reporte!$N12)","v":""},"",{"$f":"IFERROR(AR12*BASE!$AN$165/BASE!$AN12,\"\")","v":""},"",{"$f":"IF(BASE!L12=\"\",\"\",Reporte!$N12)","v":""},"",{"$f":"IFERROR(AV12*BASE!$AN$165/BASE!$AN12,\"\")","v":""},"",{"$f":"IF(BASE!M12=\"\",\"\",Reporte!$N12)","v":""},"",{"$f":"IFERROR(AZ12*BASE!$AN$165/BASE!$AN12,\"\")","v":""},"",{"$f":"IF(BASE!N12=\"\",\"\",Reporte!$N12)","v":""},"",{"$f":"IFERROR(BD12*BASE!$AN$165/BASE!$AN12,\"\")","v":""},"",{"$f":"IF(BASE!O12=\"\",\"\",Reporte!$N12)","v":""},"",{"$f":"IFERROR(BH12*BASE!$AN$165/BASE!$AN12,\"\")","v":""},"",{"$f":"IF(BASE!P12=\"\",\"\",Reporte!$N12)","v":""},"",{"$f":"IFERROR(BL12*BASE!$AN$165/BASE!$AN12,\"\")","v":""},"",{"$f":"IF(BASE!Q12=\"\",\"\",Reporte!$N12)","v":""},"",{"$f":"IFERROR(BP12*BASE!$AN$165/BASE!$AN12,\"\")","v":""},"",{"$f":"IF(BASE!R12=\"\",\"\",Reporte!$N12)","v":""},"",{"$f":"IFERROR(BT12*BASE!$AN$165/BASE!$AN12,\"\")","v":""},"",{"$f":"IF(BASE!S12=\"\",\"\",Reporte!$N12)","v":""},"",{"$f":"IFERROR(BX12*BASE!$AN$165/BASE!$AN12,\"\")","v":""},"",{"$f":"IF(BASE!T12=\"\",\"\",Reporte!$N12)","v":""},"",{"$f":"IFERROR(CB12*BASE!$AN$165/BASE!$AN12,\"\")","v":""},"",{"$f":"IF(BASE!U12=\"\",\"\",Reporte!$N12)","v":""},"",{"$f":"IFERROR(CF12*BASE!$AN$165/BASE!$AN12,\"\")","v":""},"",{"$f":"IF(BASE!V12=\"\",\"\",Reporte!$N12)","v":""},"",{"$f":"IFERROR(CJ12*BASE!$AN$165/BASE!$AN12,\"\")","v":""},"",{"$f":"IF(BASE!W12=\"\",\"\",Reporte!$N12)","v":""},"",{"$f":"IFERROR(CN12*BASE!$AN$165/BASE!$AN12,\"\")","v":""},"",{"$f":"IF(BASE!X12=\"\",\"\",Reporte!$N12)","v":""},"",{"$f":"IFERROR(CR12*BASE!$AN$165/BASE!$AN12,\"\")","v":""},"",{"$f":"IF(BASE!Y12=\"\",\"\",Reporte!$N12)","v":""},"",{"$f":"IFERROR(CV12*BASE!$AN$165/BASE!$AN12,\"\")","v":""},"",{"$f":"IF(BASE!Z12=\"\",\"\",Reporte!$N12)","v":""},"",{"$f":"IFERROR(CZ12*BASE!$AN$165/BASE!$AN12,\"\")","v":""},"",{"$f":"IF(BASE!AA12=\"\",\"\",Reporte!$N12)","v":""},"",{"$f":"IFERROR(DD12*BASE!$AN$165/BASE!$AN12,\"\")","v":""},"",{"$f":"IF(BASE!AB12=\"\",\"\",Reporte!$N12)","v":""},"",{"$f":"IFERROR(DH12*BASE!$AN$165/BASE!$AN12,\"\")","v":""},"",{"$f":"IF(BASE!AC12=\"\",\"\",Reporte!$N12)","v":""},"",{"$f":"IFERROR(DL12*BASE!$AN$165/BASE!$AN12,\"\")","v":""},"",{"$f":"IF(BASE!AD12=\"\",\"\",Reporte!$N12)","v":""},"",{"$f":"IFERROR(DP12*BASE!$AN$165/BASE!$AN12,\"\")","v":""},"",{"$f":"IF(BASE!AE12=\"\",\"\",Reporte!$N12)","v":""},"",{"$f":"IFERROR(DT12*BASE!$AN$165/BASE!$AN12,\"\")","v":""},"",{"$f":"IF(BASE!AF12=\"\",\"\",Reporte!$N12)","v":""},"",{"$f":"IFERROR(DX12*BASE!$AN$165/BASE!$AN12,\"\")","v":""},"",{"$f":"IF(BASE!AG12=\"\",\"\",Reporte!$N12)","v":""},"",{"$f":"IFERROR(EB12*BASE!$AN$165/BASE!$AN12,\"\")","v":""},"",{"$f":"IF(BASE!AH12=\"\",\"\",Reporte!$N12)","v":""},"",{"$f":"IFERROR(EF12*BASE!$AN$165/BASE!$AN12,\"\")","v":""},"",{"$f":"IF(BASE!AI12=\"\",\"\",Reporte!$N12)","v":""},"",{"$f":"IFERROR(EJ12*BASE!$AN$165/BASE!$AN12,\"\")","v":""},"",{"$f":"IF(BASE!AJ12=\"\",\"\",Reporte!$N12)","v":""},"",{"$f":"IFERROR(EN12*BASE!$AN$165/BASE!$AN12,\"\")","v":""},"",{"$f":"IF(BASE!AK12=\"\",\"\",Reporte!$N12)","v":""},"",{"$f":"IFERROR(ER12*BASE!$AN$165/BASE!$AN12,\"\")","v":""},"",{"$f":"IF(BASE!AL12=\"\",\"\",Reporte!$N12)","v":""},"",{"$f":"IFERROR(EV12*BASE!$AN$165/BASE!$AN12,\"\")","v":""},""]
[null,"Comp. Esp. 3","Criterio Evaluación 3.1","",{"$f":"'Ciencias de la Naturaleza'!E12","v":1},{"$f":"'Ciencias de la Naturaleza'!F12","v":5.5555555555555552E-2},{"$f":"'Ciencias de la Naturaleza'!G12","v":""},null,null,null,null,"Comp. Esp. 3","Criterio Evaluación 3.1","",{"$f":"'Peso criterios carga horaria'!F13","v":2},{"$f":"O13*BASE!$AN$165/BASE!AN13","v":1.8215686274509806},4.5819014891179842E-3,"",{"$f":"IF(BASE!E13=\"\",\"\",Reporte!$N13)","v":""},"",{"$f":"IFERROR(T13*BASE!$AN$165/BASE!$AN13,\"\")","v":""},"",{"$f":"IF(BASE!F13=\"\",\"\",Reporte!$N13)","v":""},"",{"$f":"IFERROR(X13*BASE!$AN$165/BASE!$AN13,\"\")","v":""},"",{"$f":"IF(BASE!G13=\"\",\"\",Reporte!$N13)","v":""},"",{"$f":"IFERROR(AB13*BASE!$AN$165/BASE!$AN13,\"\")","v":""},"",{"$f":"IF(BASE!H13=\"\",\"\",Reporte!$N13)","v":""},"",{"$f":"IFERROR(AF13*BASE!$AN$165/BASE!$AN13,\"\")","v":""},"",{"$f":"IF(BASE!I13=\"\",\"\",Reporte!$N13)","v":""},"",{"$f":"IFERROR(AJ13*BASE!$AN$165/BASE!$AN13,\"\")","v":""},"",{"$f":"IF(BASE!J13=\"\",\"\",Reporte!$N13)","v":""},"",{"$f":"IFERROR(AN13*BASE!$AN$165/BASE!$AN13,\"\")","v":""},"",{"$f":"IF(BASE!K13=\"\",\"\",Reporte!$N13)","v":""},"",{"$f":"IFERROR(AR13*BASE!$AN$165/BASE!$AN13,\"\")","v":""},"",{"$f":"IF(BASE!L13=\"\",\"\",Reporte!$N13)","v":""},"",{"$f":"IFERROR(AV13*BASE!$AN$165/BASE!$AN13,\"\")","v":""},"",{"$f":"IF(BASE!M13=\"\",\"\",Reporte!$N13)","v":""},"",{"$f":"IFERROR(AZ13*BASE!$AN$165/BASE!$AN13,\"\")","v":""},"",{"$f":"IF(BASE!N13=\"\",\"\",Reporte!$N13)","v":""},"",{"$f":"IFERROR(BD13*BASE!$AN$165/BASE!$AN13,\"\")","v":""},"",{"$f":"IF(BASE!O13=\"\",\"\",Reporte!$N13)","v":""},"",{"$f":"IFERROR(BH13*BASE!$AN$165/BASE!$AN13,\"\")","v":""},"",{"$f":"IF(BASE!P13=\"\",\"\",Reporte!$N13)","v":""},"",{"$f":"IFERROR(BL13*BASE!$AN$165/BASE!$AN13,\"\")","v":""},"",{"$f":"IF(BASE!Q13=\"\",\"\",Reporte!$N13)","v":""},"",{"$f":"IFERROR(BP13*BASE!$AN$165/BASE!$AN13,\"\")","v":""},"",{"$f":"IF(BASE!R13=\"\",\"\",Reporte!$N13)","v":""},"",{"$f":"IFERROR(BT13*BASE!$AN$165/BASE!$AN13,\"\")","v":""},"",{"$f":"IF(BASE!S13=\"\",\"\",Reporte!$N13)","v":""},"",{"$f":"IFERROR(BX13*BASE!$AN$165/BASE!$AN13,\"\")","v":""},"",{"$f":"IF(BASE!T13=\"\",\"\",Reporte!$N13)","v":""},"",{"$f":"IFERROR(CB13*BASE!$AN$165/BASE!$AN13,\"\")","v":""},"",{"$f":"IF(BASE!U13=\"\",\"\",Reporte!$N13)","v":""},"",{"$f":"IFERROR(CF13*BASE!$AN$165/BASE!$AN13,\"\")","v":""},"",{"$f":"IF(BASE!V13=\"\",\"\",Reporte!$N13)","v":""},"",{"$f":"IFERROR(CJ13*BASE!$AN$165/BASE!$AN13,\"\")","v":""},"",{"$f":"IF(BASE!W13=\"\",\"\",Reporte!$N13)","v":""},"",{"$f":"IFERROR(CN13*BASE!$AN$165/BASE!$AN13,\"\")","v":""},"",{"$f":"IF(BASE!X13=\"\",\"\",Reporte!$N13)","v":""},"",{"$f":"IFERROR(CR13*BASE!$AN$165/BASE!$AN13,\"\")","v":""},"",{"$f":"IF(BASE!Y13=\"\",\"\",Reporte!$N13)","v":""},"",{"$f":"IFERROR(CV13*BASE!$AN$165/BASE!$AN13,\"\")","v":""},"",{"$f":"IF(BASE!Z13=\"\",\"\",Reporte!$N13)","v":""},"",{"$f":"IFERROR(CZ13*BASE!$AN$165/BASE!$AN13,\"\")","v":""},"",{"$f":"IF(BASE!AA13=\"\",\"\",Reporte!$N13)","v":""},"",{"$f":"IFERROR(DD13*BASE!$AN$165/BASE!$AN13,\"\")","v":""},"",{"$f":"IF(BASE!AB13=\"\",\"\",Reporte!$N13)","v":""},"",{"$f":"IFERROR(DH13*BASE!$AN$165/BASE!$AN13,\"\")","v":""},"",{"$f":"IF(BASE!AC13=\"\",\"\",Reporte!$N13)","v":""},"",{"$f":"IFERROR(DL13*BASE!$AN$165/BASE!$AN13,\"\")","v":""},"",{"$f":"IF(BASE!AD13=\"\",\"\",Reporte!$N13)","v":""},"",{"$f":"IFERROR(DP13*BASE!$AN$165/BASE!$AN13,\"\")","v":""},"",{"$f":"IF(BASE!AE13=\"\",\"\",Reporte!$N13)","v":""},"",{"$f":"IFERROR(DT13*BASE!$AN$165/BASE!$AN13,\"\")","v":""},"",{"$f":"IF(BASE!AF13=\"\",\"\",Reporte!$N13)","v":""},"",{"$f":"IFERROR(DX13*BASE!$AN$165/BASE!$AN13,\"\")","v":""},"",{"$f":"IF(BASE!AG13=\"\",\"\",Reporte!$N13)","v":""},"",{"$f":"IFERROR(EB13*BASE!$AN$165/BASE!$AN13,\"\")","v":""},"",{"$f":"IF(BASE!AH13=\"\",\"\",Reporte!$N13)","v":""},"",{"$f":"IFERROR(EF13*BASE!$AN$165/BASE!$AN13,\"\")","v":""},"",{"$f":"IF(BASE!AI13=\"\",\"\",Reporte!$N13)","v":""},"",{"$f":"IFERROR(EJ13*BASE!$AN$165/BASE!$AN13,\"\")","v":""},"",{"$f":"IF(BASE!AJ13=\"\",\"\",Reporte!$N13)","v":""},"",{"$f":"IFERROR(EN13*BASE!$AN$165/BASE!$AN13,\"\")","v":""},"",{"$f":"IF(BASE!AK13=\"\",\"\",Reporte!$N13)","v":""},"",{"$f":"IFERROR(ER13*BASE!$AN$165/BASE!$AN13,\"\")","v":""},"",{"$f":"IF(BASE!AL13=\"\",\"\",Reporte!$N13)","v":""},"",{"$f":"IFERROR(EV13*BASE!$AN$165/BASE!$AN13,\"\")","v":""},""]
[null,null,"Criterio Evaluación 3.2","",{"$f":"'Ciencias de la Naturaleza'!E13","v":1},{"$f":"'Ciencias de la Naturaleza'!F13","v":5.5555555555555552E-2},{"$f":"'Ciencias de la Naturaleza'!G13","v":""},null,null,null,null,null,"Criterio Evaluación 3.2","",{"$f":"'Peso criterios carga horaria'!F14","v":2},{"$f":"O14*BASE!$AN$165/BASE!AN14","v":1.8215686274509806},4.5819014891179842E-3,"",{"$f":"IF(BASE!E14=\"\",\"\",Reporte!$N14)","v":""},"",{"$f":"IFERROR(T14*BASE!$AN$165/BASE!$AN14,\"\")","v":""},"",{"$f":"IF(BASE!F14=\"\",\"\",Reporte!$N14)","v":""},"",{"$f":"IFERROR(X14*BASE!$AN$165/BASE!$AN14,\"\")","v":""},"",{"$f":"IF(BASE!G14=\"\",\"\",Reporte!$N14)","v":""},"",{"$f":"IFERROR(AB14*BASE!$AN$165/BASE!$AN14,\"\")","v":""},"",{"$f":"IF(BASE!H14=\"\",\"\",Reporte!$N14)","v":""},"",{"$f":"IFERROR(AF14*BASE!$AN$165/BASE!$AN14,\"\")","v":""},"",{"$f":"IF(BASE!I14=\"\",\"\",Reporte!$N14)","v":""},"",{"$f":"IFERROR(AJ14*BASE!$AN$165/BASE!$AN14,\"\")","v":""},"",{"$f":"IF(BASE!J14=\"\",\"\",Reporte!$N14)","v":""},"",{"$f":"IFERROR(AN14*BASE!$AN$165/BASE!$AN14,\"\")","v":""},"",{"$f":"IF(BASE!K14=\"\",\"\",Reporte!$N14)","v":""},"",{"$f":"IFERROR(AR14*BASE!$AN$165/BASE!$AN14,\"\")","v":""},"",{"$f":"IF(BASE!L14=\"\",\"\",Reporte!$N14)","v":""},"",{"$f":"IFERROR(AV14*BASE!$AN$165/BASE!$AN14,\"\")","v":""},"",{"$f":"IF(BASE!M14=\"\",\"\",Reporte!$N14)","v":""},"",{"$f":"IFERROR(AZ14*BASE!$AN$165/BASE!$AN14,\"\")","v":""},"",{"$f":"IF(BASE!N14=\"\",\"\",Reporte!$N14)","v":""},"",{"$f":"IFERROR(BD14*BASE!$AN$165/BASE!$AN14,\"\")","v":""},"",{"$f":"IF(BASE!O14=\"\",\"\",Reporte!$N14)","v":""},"",{"$f":"IFERROR(BH14*BASE!$AN$165/BASE!$AN14,\"\")","v":""},"",{"$f":"IF(BASE!P14=\"\",\"\",Reporte!$N14)","v":""},"",{"$f":"IFERROR(BL14*BASE!$AN$165/BASE!$AN14,\"\")","v":""},"",{"$f":"IF(BASE!Q14=\"\",\"\",Reporte!$N14)","v":""},"",{"$f":"IFERROR(BP14*BASE!$AN$165/BASE!$AN14,\"\")","v":""},"",{"$f":"IF(BASE!R14=\"\",\"\",Reporte!$N14)","v":""},"",{"$f":"IFERROR(BT14*BASE!$AN$165/BASE!$AN14,\"\")","v":""},"",{"$f":"IF(BASE!S14=\"\",\"\",Reporte!$N14)","v":""},"",{"$f":"IFERROR(BX14*BASE!$AN$165/BASE!$AN14,\"\")","v":""},"",{"$f":"IF(BASE!T14=\"\",\"\",Reporte!$N14)","v":""},"",{"$f":"IFERROR(CB14*BASE!$AN$165/BASE!$AN14,\"\")","v":""},"",{"$f":"IF(BASE!U14=\"\",\"\",Reporte!$N14)","v":""},"",{"$f":"IFERROR(CF14*BASE!$AN$165/BASE!$AN14,\"\")","v":""},"",{"$f":"IF(BASE!V14=\"\",\"\",Reporte!$N14)","v":""},"",{"$f":"IFERROR(CJ14*BASE!$AN$165/BASE!$AN14,\"\")","v":""},"",{"$f":"IF(BASE!W14=\"\",\"\",Reporte!$N14)","v":""},"",{"$f":"IFERROR(CN14*BASE!$AN$165/BASE!$AN14,\"\")","v":""},"",{"$f":"IF(BASE!X14=\"\",\"\",Reporte!$N14)","v":""},"",{"$f":"IFERROR(CR14*BASE!$AN$165/BASE!$AN14,\"\")","v":""},"",{"$f":"IF(BASE!Y14=\"\",\"\",Reporte!$N14)","v":""},"",{"$f":"IFERROR(CV14*BASE!$AN$165/BASE!$AN14,\"\")","v":""},"",{"$f":"IF(BASE!Z14=\"\",\"\",Reporte!$N14)","v":""},"",{"$f":"IFERROR(CZ14*BASE!$AN$165/BASE!$AN14,\"\")","v":""},"",{"$f":"IF(BASE!AA14=\"\",\"\",Reporte!$N14)","v":""},"",{"$f":"IFERROR(DD14*BASE!$AN$165/BASE!$AN14,\"\")","v":""},"",{"$f":"IF(BASE!AB14=\"\",\"\",Reporte!$N14)","v":""},"",{"$f":"IFERROR(DH14*BASE!$AN$165/BASE!$AN14,\"\")","v":""},"",{"$f":"IF(BASE!AC14=\"\",\"\",Reporte!$N14)","v":""},"",{"$f":"IFERROR(DL14*BASE!$AN$165/BASE!$AN14,\"\")","v":""},"",{"$f":"IF(BASE!AD14=\"\",\"\",Reporte!$N14)","v":""},"",{"$f":"IFERROR(DP14*BASE!$AN$165/BASE!$AN14,\"\")","v":""},"",{"$f":"IF(BASE!AE14=\"\",\"\",Reporte!$N14)","v":""},"",{"$f":"IFERROR(DT14*BASE!$AN$165/BASE!$AN14,\"\")","v":""},"",{"$f":"IF(BASE!AF14=\"\",\"\",Reporte!$N14)","v":""},"",{"$f":"IFERROR(DX14*BASE!$AN$165/BASE!$AN14,\"\")","v":""},"",{"$f":"IF(BASE!AG14=\"\",\"\",Reporte!$N14)","v":""},"",{"$f":"IFERROR(EB14*BASE!$AN$165/BASE!$AN14,\"\")","v":""},"",{"$f":"IF(BASE!AH14=\"\",\"\",Reporte!$N14)","v":""},"",{"$f":"IFERROR(EF14*BASE!$AN$165/BASE!$AN14,\"\")","v":""},"",{"$f":"IF(BASE!AI14=\"\",\"\",Reporte!$N14)","v":""},"",{"$f":"IFERROR(EJ14*BASE!$AN$165/BASE!$AN14,\"\")","v":""},"",{"$f":"IF(BASE!AJ14=\"\",\"\",Reporte!$N14)","v":""},"",{"$f":"IFERROR(EN14*BASE!$AN$165/BASE!$AN14,\"\")","v":""},"",{"$f":"IF(BASE!AK14=\"\",\"\",Reporte!$N14)","v":""},"",{"$f":"IFERROR(ER14*BASE!$AN$165/BASE!$AN14,\"\")","v":""},"",{"$f":"IF(BASE!AL14=\"\",\"\",Reporte!$N14)","v":""},"",{"$f":"IFERROR(EV14*BASE!$AN$165/BASE!$AN14,\"\")","v":""},""]
[null,null,"Criterio Evaluación 3.3","",{"$f":"'Ciencias de la Naturaleza'!E14","v":1},{"$f":"'Ciencias de la Naturaleza'!F14","v":5.5555555555555552E-2},{"$f":"'Ciencias de la Naturaleza'!G14","v":""},null,null,null,null,null,"Criterio Evaluación 3.3","",{"$f":"'Peso criterios carga horaria'!F15","v":2},{"$f":"O15*BASE!$AN$165/BASE!AN15","v":1.8215686274509806},4.5819014891179842E-3,"",{"$f":"IF(BASE!E15=\"\",\"\",Reporte!$N15)","v":""},"",{"$f":"IFERROR(T15*BASE!$AN$165/BASE!$AN15,\"\")","v":""},"",{"$f":"IF(BASE!F15=\"\",\"\",Reporte!$N15)","v":""},"",{"$f":"IFERROR(X15*BASE!$AN$165/BASE!$AN15,\"\")","v":""},"",{"$f":"IF(BASE!G15=\"\",\"\",Reporte!$N15)","v":""},"",{"$f":"IFERROR(AB15*BASE!$AN$165/BASE!$AN15,\"\")","v":""},"",{"$f":"IF(BASE!H15=\"\",\"\",Reporte!$N15)","v":""},"",{"$f":"IFERROR(AF15*BASE!$AN$165/BASE!$AN15,\"\")","v":""},"",{"$f":"IF(BASE!I15=\"\",\"\",Reporte!$N15)","v":""},"",{"$f":"IFERROR(AJ15*BASE!$AN$165/BASE!$AN15,\"\")","v":""},"",{"$f":"IF(BASE!J15=\"\",\"\",Reporte!$N15)","v":""},"",{"$f":"IFERROR(AN15*BASE!$AN$165/BASE!$AN15,\"\")","v":""},"",{"$f":"IF(BASE!K15=\"\",\"\",Reporte!$N15)","v":""},"",{"$f":"IFERROR(AR15*BASE!$AN$165/BASE!$AN15,\"\")","v":""},"",{"$f":"IF(BASE!L15=\"\",\"\",Reporte!$N15)","v":""},"",{"$f":"IFERROR(AV15*BASE!$AN$165/BASE!$AN15,\"\")","v":""},"",{"$f":"IF(BASE!M15=\"\",\"\",Reporte!$N15)","v":""},"",{"$f":"IFERROR(AZ15*BASE!$AN$165/BASE!$AN15,\"\")","v":""},"",{"$f":"IF(BASE!N15=\"\",\"\",Reporte!$N15)","v":""},"",{"$f":"IFERROR(BD15*BASE!$AN$165/BASE!$AN15,\"\")","v":""},"",{"$f":"IF(BASE!O15=\"\",\"\",Reporte!$N15)","v":""},"",{"$f":"IFERROR(BH15*BASE!$AN$165/BASE!$AN15,\"\")","v":""},"",{"$f":"IF(BASE!P15=\"\",\"\",Reporte!$N15)","v":""},"",{"$f":"IFERROR(BL15*BASE!$AN$165/BASE!$AN15,\"\")","v":""},"",{"$f":"IF(BASE!Q15=\"\",\"\",Reporte!$N15)","v":""},"",{"$f":"IFERROR(BP15*BASE!$AN$165/BASE!$AN15,\"\")","v":""},"",{"$f":"IF(BASE!R15=\"\",\"\",Reporte!$N15)","v":""},"",{"$f":"IFERROR(BT15*BASE!$AN$165/BASE!$AN15,\"\")","v":""},"",{"$f":"IF(BASE!S15=\"\",\"\",Reporte!$N15)","v":""},"",{"$f":"IFERROR(BX15*BASE!$AN$165/BASE!$AN15,\"\")","v":""},"",{"$f":"IF(BASE!T15=\"\",\"\",Reporte!$N15)","v":""},"",{"$f":"IFERROR(CB15*BASE!$AN$165/BASE!$AN15,\"\")","v":""},"",{"$f":"IF(BASE!U15=\"\",\"\",Reporte!$N15)","v":""},"",{"$f":"IFERROR(CF15*BASE!$AN$165/BASE!$AN15,\"\")","v":""},"",{"$f":"IF(BASE!V15=\"\",\"\",Reporte!$N15)","v":""},"",{"$f":"IFERROR(CJ15*BASE!$AN$165/BASE!$AN15,\"\")","v":""},"",{"$f":"IF(BASE!W15=\"\",\"\",Reporte!$N15)","v":""},"",{"$f":"IFERROR(CN15*BASE!$AN$165/BASE!$AN15,\"\")","v":""},"",{"$f":"IF(BASE!X15=\"\",\"\",Reporte!$N15)","v":""},"",{"$f":"IFERROR(CR15*BASE!$AN$165/BASE!$AN15,\"\")","v":""},"",{"$f":"IF(BASE!Y15=\"\",\"\",Reporte!$N15)","v":""},"",{"$f":"IFERROR(CV15*BASE!$AN$165/BASE!$AN15,\"\")","v":""},"",{"$f":"IF(BASE!Z15=\"\",\"\",Reporte!$N15)","v":""},"",{"$f":"IFERROR(CZ15*BASE!$AN$165/BASE!$AN15,\"\")","v":""},"",{"$f":"IF(BASE!AA15=\"\",\"\",Reporte!$N15)","v":""},"",{"$f":"IFERROR(DD15*BASE!$AN$165/BASE!$AN15,\"\")","v":""},"",{"$f":"IF(BASE!AB15=\"\",\"\",Reporte!$N15)","v":""},"",{"$f":"IFERROR(DH15*BASE!$AN$165/BASE!$AN15,\"\")","v":""},"",{"$f":"IF(BASE!AC15=\"\",\"\",Reporte!$N15)","v":""},"",{"$f":"IFERROR(DL15*BASE!$AN$165/BASE!$AN15,\"\")","v":""},"",{"$f":"IF(BASE!AD15=\"\",\"\",Reporte!$N15)","v":""},"",{"$f":"IFERROR(DP15*BASE!$AN$165/BASE!$AN15,\"\")","v":""},"",{"$f":"IF(BASE!AE15=\"\",\"\",Reporte!$N15)","v":""},"",{"$f":"IFERROR(DT15*BASE!$AN$165/BASE!$AN15,\"\")","v":""},"",{"$f":"IF(BASE!AF15=\"\",\"\",Reporte!$N15)","v":""},"",{"$f":"IFERROR(DX15*BASE!$AN$165/BASE!$AN15,\"\")","v":""},"",{"$f":"IF(BASE!AG15=\"\",\"\",Reporte!$N15)","v":""},"",{"$f":"IFERROR(EB15*BASE!$AN$165/BASE!$AN15,\"\")","v":""},"",{"$f":"IF(BASE!AH15=\"\",\"\",Reporte!$N15)","v":""},"",{"$f":"IFERROR(EF15*BASE!$AN$165/BASE!$AN15,\"\")","v":""},"",{"$f":"IF(BASE!AI15=\"\",\"\",Reporte!$N15)","v":""},"",{"$f":"IFERROR(EJ15*BASE!$AN$165/BASE!$AN15,\"\")","v":""},"",{"$f":"IF(BASE!AJ15=\"\",\"\",Reporte!$N15)","v":""},"",{"$f":"IFERROR(EN15*BASE!$AN$165/BASE!$AN15,\"\")","v":""},"",{"$f":"IF(BASE!AK15=\"\",\"\",Reporte!$N15)","v":""},"",{"$f":"IFERROR(ER15*BASE!$AN$165/BASE!$AN15,\"\")","v":""},"",{"$f":"IF(BASE!AL15=\"\",\"\",Reporte!$N15)","v":""},"",{"$f":"IFERROR(EV15*BASE!$AN$165/BASE!$AN15,\"\")","v":""},""]
[null,"Comp. Esp. 4","Criterio Evaluación 4.1","",{"$f":"'Ciencias de la Naturaleza'!E15","v":1},{"$f":"'Ciencias de la Naturaleza'!F15","v":5.5555555555555552E-2},{"$f":"'Ciencias de la Naturaleza'!G15","v":""},null,null,null,null,"Comp. Esp. 4","Criterio Evaluación 4.1","",{"$f":"'Peso criterios carga horaria'!F16","v":2},{"$f":"O16*BASE!$AN$165/BASE!AN16","v":1.8215686274509806},4.5819014891179842E-3,"",{"$f":"IF(BASE!E16=\"\",\"\",Reporte!$N16)","v":""},"",{"$f":"IFERROR(T16*BASE!$AN$165/BASE!$AN16,\"\")","v":""},"",{"$f":"IF(BASE!F16=\"\",\"\",Reporte!$N16)","v":""},"",{"$f":"IFERROR(X16*BASE!$AN$165/BASE!$AN16,\"\")","v":""},"",{"$f":"IF(BASE!G16=\"\",\"\",Reporte!$N16)","v":""},"",{"$f":"IFERROR(AB16*BASE!$AN$165/BASE!$AN16,\"\")","v":""},"",{"$f":"IF(BASE!H16=\"\",\"\",Reporte!$N16)","v":""},"",{"$f":"IFERROR(AF16*BASE!$AN$165/BASE!$AN16,\"\")","v":""},"",{"$f":"IF(BASE!I16=\"\",\"\",Reporte!$N16)","v":""},"",{"$f":"IFERROR(AJ16*BASE!$AN$165/BASE!$AN16,\"\")","v":""},"",{"$f":"IF(BASE!J16=\"\",\"\",Reporte!$N16)","v":""},"",{"$f":"IFERROR(AN16*BASE!$AN$165/BASE!$AN16,\"\")","v":""},"",{"$f":"IF(BASE!K16=\"\",\"\",Reporte!$N16)","v":""},"",{"$f":"IFERROR(AR16*BASE!$AN$165/BASE!$AN16,\"\")","v":""},"",{"$f":"IF(BASE!L16=\"\",\"\",Reporte!$N16)","v":""},"",{"$f":"IFERROR(AV16*BASE!$AN$165/BASE!$AN16,\"\")","v":""},"",{"$f":"IF(BASE!M16=\"\",\"\",Reporte!$N16)","v":""},"",{"$f":"IFERROR(AZ16*BASE!$AN$165/BASE!$AN16,\"\")","v":""},"",{"$f":"IF(BASE!N16=\"\",\"\",Reporte!$N16)","v":""},"",{"$f":"IFERROR(BD16*BASE!$AN$165/BASE!$AN16,\"\")","v":""},"",{"$f":"IF(BASE!O16=\"\",\"\",Reporte!$N16)","v":""},"",{"$f":"IFERROR(BH16*BASE!$AN$165/BASE!$AN16,\"\")","v":""},"",{"$f":"IF(BASE!P16=\"\",\"\",Reporte!$N16)","v":""},"",{"$f":"IFERROR(BL16*BASE!$AN$165/BASE!$AN16,\"\")","v":""},"",{"$f":"IF(BASE!Q16=\"\",\"\",Reporte!$N16)","v":""},"",{"$f":"IFERROR(BP16*BASE!$AN$165/BASE!$AN16,\"\")","v":""},"",{"$f":"IF(BASE!R16=\"\",\"\",Reporte!$N16)","v":""},"",{"$f":"IFERROR(BT16*BASE!$AN$165/BASE!$AN16,\"\")","v":""},"",{"$f":"IF(BASE!S16=\"\",\"\",Reporte!$N16)","v":""},"",{"$f":"IFERROR(BX16*BASE!$AN$165/BASE!$AN16,\"\")","v":""},"",{"$f":"IF(BASE!T16=\"\",\"\",Reporte!$N16)","v":""},"",{"$f":"IFERROR(CB16*BASE!$AN$165/BASE!$AN16,\"\")","v":""},"",{"$f":"IF(BASE!U16=\"\",\"\",Reporte!$N16)","v":""},"",{"$f":"IFERROR(CF16*BASE!$AN$165/BASE!$AN16,\"\")","v":""},"",{"$f":"IF(BASE!V16=\"\",\"\",Reporte!$N16)","v":""},"",{"$f":"IFERROR(CJ16*BASE!$AN$165/BASE!$AN16,\"\")","v":""},"",{"$f":"IF(BASE!W16=\"\",\"\",Reporte!$N16)","v":""},"",{"$f":"IFERROR(CN16*BASE!$AN$165/BASE!$AN16,\"\")","v":""},"",{"$f":"IF(BASE!X16=\"\",\"\",Reporte!$N16)","v":""},"",{"$f":"IFERROR(CR16*BASE!$AN$165/BASE!$AN16,\"\")","v":""},"",{"$f":"IF(BASE!Y16=\"\",\"\",Reporte!$N16)","v":""},"",{"$f":"IFERROR(CV16*BASE!$AN$165/BASE!$AN16,\"\")","v":""},"",{"$f":"IF(BASE!Z16=\"\",\"\",Reporte!$N16)","v":""},"",{"$f":"IFERROR(CZ16*BASE!$AN$165/BASE!$AN16,\"\")","v":""},"",{"$f":"IF(BASE!AA16=\"\",\"\",Reporte!$N16)","v":""},"",{"$f":"IFERROR(DD16*BASE!$AN$165/BASE!$AN16,\"\")","v":""},"",{"$f":"IF(BASE!AB16=\"\",\"\",Reporte!$N16)","v":""},"",{"$f":"IFERROR(DH16*BASE!$AN$165/BASE!$AN16,\"\")","v":""},"",{"$f":"IF(BASE!AC16=\"\",\"\",Reporte!$N16)","v":""},"",{"$f":"IFERROR(DL16*BASE!$AN$165/BASE!$AN16,\"\")","v":""},"",{"$f":"IF(BASE!AD16=\"\",\"\",Reporte!$N16)","v":""},"",{"$f":"IFERROR(DP16*BASE!$AN$165/BASE!$AN16,\"\")","v":""},"",{"$f":"IF(BASE!AE16=\"\",\"\",Reporte!$N16)","v":""},"",{"$f":"IFERROR(DT16*BASE!$AN$165/BASE!$AN16,\"\")","v":""},"",{"$f":"IF(BASE!AF16=\"\",\"\",Reporte!$N16)","v":""},"",{"$f":"IFERROR(DX16*BASE!$AN$165/BASE!$AN16,\"\")","v":""},"",{"$f":"IF(BASE!AG16=\"\",\"\",Reporte!$N16)","v":""},"",{"$f":"IFERROR(EB16*BASE!$AN$165/BASE!$AN16,\"\")","v":""},"",{"$f":"IF(BASE!AH16=\"\",\"\",Reporte!$N16)","v":""},"",{"$f":"IFERROR(EF16*BASE!$AN$165/BASE!$AN16,\"\")","v":""},"",{"$f":"IF(BASE!AI16=\"\",\"\",Reporte!$N16)","v":""},"",{"$f":"IFERROR(EJ16*BASE!$AN$165/BASE!$AN16,\"\")","v":""},"",{"$f":"IF(BASE!AJ16=\"\",\"\",Reporte!$N16)","v":""},"",{"$f":"IFERROR(EN16*BASE!$AN$165/BASE!$AN16,\"\")","v":""},"",{"$f":"IF(BASE!AK16=\"\",\"\",Reporte!$N16)","v":""},"",{"$f":"IFERROR(ER16*BASE!$AN$165/BASE!$AN16,\"\")","v":""},"",{"$f":"IF(BASE!AL16=\"\",\"\",Reporte!$N16)","v":""},"",{"$f":"IFERROR(EV16*BASE!$AN$165/BASE!$AN16,\"\")","v":""},""]
[null,null,"Criterio Evaluación 4.2","",{"$f":"'Ciencias de la Naturaleza'!E16","v":1},{"$f":"'Ciencias de la Naturaleza'!F16","v":5.5555555555555552E-2},{"$f":"'Ciencias de la Naturaleza'!G16","v":""},null,null,null,null,null,"Criterio Evaluación 4.2","",{"$f":"'Peso criterios carga horaria'!F17","v":2},{"$f":"O17*BASE!$AN$165/BASE!AN17","v":1.8215686274509806},4.5819014891179842E-3,"",{"$f":"IF(BASE!E17=\"\",\"\",Reporte!$N17)","v":""},"",{"$f":"IFERROR(T17*BASE!$AN$165/BASE!$AN17,\"\")","v":""},"",{"$f":"IF(BASE!F17=\"\",\"\",Reporte!$N17)","v":""},"",{"$f":"IFERROR(X17*BASE!$AN$165/BASE!$AN17,\"\")","v":""},"",{"$f":"IF(BASE!G17=\"\",\"\",Reporte!$N17)","v":""},"",{"$f":"IFERROR(AB17*BASE!$AN$165/BASE!$AN17,\"\")","v":""},"",{"$f":"IF(BASE!H17=\"\",\"\",Reporte!$N17)","v":""},"",{"$f":"IFERROR(AF17*BASE!$AN$165/BASE!$AN17,\"\")","v":""},"",{"$f":"IF(BASE!I17=\"\",\"\",Reporte!$N17)","v":""},"",{"$f":"IFERROR(AJ17*BASE!$AN$165/BASE!$AN17,\"\")","v":""},"",{"$f":"IF(BASE!J17=\"\",\"\",Reporte!$N17)","v":""},"",{"$f":"IFERROR(AN17*BASE!$AN$165/BASE!$AN17,\"\")","v":""},"",{"$f":"IF(BASE!K17=\"\",\"\",Reporte!$N17)","v":""},"",{"$f":"IFERROR(AR17*BASE!$AN$165/BASE!$AN17,\"\")","v":""},"",{"$f":"IF(BASE!L17=\"\",\"\",Reporte!$N17)","v":""},"",{"$f":"IFERROR(AV17*BASE!$AN$165/BASE!$AN17,\"\")","v":""},"",{"$f":"IF(BASE!M17=\"\",\"\",Reporte!$N17)","v":""},"",{"$f":"IFERROR(AZ17*BASE!$AN$165/BASE!$AN17,\"\")","v":""},"",{"$f":"IF(BASE!N17=\"\",\"\",Reporte!$N17)","v":""},"",{"$f":"IFERROR(BD17*BASE!$AN$165/BASE!$AN17,\"\")","v":""},"",{"$f":"IF(BASE!O17=\"\",\"\",Reporte!$N17)","v":""},"",{"$f":"IFERROR(BH17*BASE!$AN$165/BASE!$AN17,\"\")","v":""},"",{"$f":"IF(BASE!P17=\"\",\"\",Reporte!$N17)","v":""},"",{"$f":"IFERROR(BL17*BASE!$AN$165/BASE!$AN17,\"\")","v":""},"",{"$f":"IF(BASE!Q17=\"\",\"\",Reporte!$N17)","v":""},"",{"$f":"IFERROR(BP17*BASE!$AN$165/BASE!$AN17,\"\")","v":""},"",{"$f":"IF(BASE!R17=\"\",\"\",Reporte!$N17)","v":""},"",{"$f":"IFERROR(BT17*BASE!$AN$165/BASE!$AN17,\"\")","v":""},"",{"$f":"IF(BASE!S17=\"\",\"\",Reporte!$N17)","v":""},"",{"$f":"IFERROR(BX17*BASE!$AN$165/BASE!$AN17,\"\")","v":""},"",{"$f":"IF(BASE!T17=\"\",\"\",Reporte!$N17)","v":""},"",{"$f":"IFERROR(CB17*BASE!$AN$165/BASE!$AN17,\"\")","v":""},"",{"$f":"IF(BASE!U17=\"\",\"\",Reporte!$N17)","v":""},"",{"$f":"IFERROR(CF17*BASE!$AN$165/BASE!$AN17,\"\")","v":""},"",{"$f":"IF(BASE!V17=\"\",\"\",Reporte!$N17)","v":""},"",{"$f":"IFERROR(CJ17*BASE!$AN$165/BASE!$AN17,\"\")","v":""},"",{"$f":"IF(BASE!W17=\"\",\"\",Reporte!$N17)","v":""},"",{"$f":"IFERROR(CN17*BASE!$AN$165/BASE!$AN17,\"\")","v":""},"",{"$f":"IF(BASE!X17=\"\",\"\",Reporte!$N17)","v":""},"",{"$f":"IFERROR(CR17*BASE!$AN$165/BASE!$AN17,\"\")","v":""},"",{"$f":"IF(BASE!Y17=\"\",\"\",Reporte!$N17)","v":""},"",{"$f":"IFERROR(CV17*BASE!$AN$165/BASE!$AN17,\"\")","v":""},"",{"$f":"IF(BASE!Z17=\"\",\"\",Reporte!$N17)","v":""},"",{"$f":"IFERROR(CZ17*BASE!$AN$165/BASE!$AN17,\"\")","v":""},"",{"$f":"IF(BASE!AA17=\"\",\"\",Reporte!$N17)","v":""},"",{"$f":"IFERROR(DD17*BASE!$AN$165/BASE!$AN17,\"\")","v":""},"",{"$f":"IF(BASE!AB17=\"\",\"\",Reporte!$N17)","v":""},"",{"$f":"IFERROR(DH17*BASE!$AN$165/BASE!$AN17,\"\")","v":""},"",{"$f":"IF(BASE!AC17=\"\",\"\",Reporte!$N17)","v":""},"",{"$f":"IFERROR(DL17*BASE!$AN$165/BASE!$AN17,\"\")","v":""},"",{"$f":"IF(BASE!AD17=\"\",\"\",Reporte!$N17)","v":""},"",{"$f":"IFERROR(DP17*BASE!$AN$165/BASE!$AN17,\"\")","v":""},"",{"$f":"IF(BASE!AE17=\"\",\"\",Reporte!$N17)","v":""},"",{"$f":"IFERROR(DT17*BASE!$AN$165/BASE!$AN17,\"\")","v":""},"",{"$f":"IF(BASE!AF17=\"\",\"\",Reporte!$N17)","v":""},"",{"$f":"IFERROR(DX17*BASE!$AN$165/BASE!$AN17,\"\")","v":""},"",{"$f":"IF(BASE!AG17=\"\",\"\",Reporte!$N17)","v":""},"",{"$f":"IFERROR(EB17*BASE!$AN$165/BASE!$AN17,\"\")","v":""},"",{"$f":"IF(BASE!AH17=\"\",\"\",Reporte!$N17)","v":""},"",{"$f":"IFERROR(EF17*BASE!$AN$165/BASE!$AN17,\"\")","v":""},"",{"$f":"IF(BASE!AI17=\"\",\"\",Reporte!$N17)","v":""},"",{"$f":"IFERROR(EJ17*BASE!$AN$165/BASE!$AN17,\"\")","v":""},"",{"$f":"IF(BASE!AJ17=\"\",\"\",Reporte!$N17)","v":""},"",{"$f":"IFERROR(EN17*BASE!$AN$165/BASE!$AN17,\"\")","v":""},"",{"$f":"IF(BASE!AK17=\"\",\"\",Reporte!$N17)","v":""},"",{"$f":"IFERROR(ER17*BASE!$AN$165/BASE!$AN17,\"\")","v":""},"",{"$f":"IF(BASE!AL17=\"\",\"\",Reporte!$N17)","v":""},"",{"$f":"IFERROR(EV17*BASE!$AN$165/BASE!$AN17,\"\")","v":""},""]
[null,"Comp. Esp. 5","Criterio Evaluación 5.1","",{"$f":"'Ciencias de la Naturaleza'!E17","v":1},{"$f":"'Ciencias de la Naturaleza'!F17","v":5.5555555555555552E-2},{"$f":"'Ciencias de la Naturaleza'!G17","v":""},null,null,null,null,"Comp. Esp. 5","Criterio Evaluación 5.1","",{"$f":"'Peso criterios carga horaria'!F18","v":2},{"$f":"O18*BASE!$AN$165/BASE!AN18","v":1.8215686274509806},4.5819014891179842E-3,"",{"$f":"IF(BASE!E18=\"\",\"\",Reporte!$N18)","v":""},"",{"$f":"IFERROR(T18*BASE!$AN$165/BASE!$AN18,\"\")","v":""},"",{"$f":"IF(BASE!F18=\"\",\"\",Reporte!$N18)","v":""},"",{"$f":"IFERROR(X18*BASE!$AN$165/BASE!$AN18,\"\")","v":""},"",{"$f":"IF(BASE!G18=\"\",\"\",Reporte!$N18)","v":""},"",{"$f":"IFERROR(AB18*BASE!$AN$165/BASE!$AN18,\"\")","v":""},"",{"$f":"IF(BASE!H18=\"\",\"\",Reporte!$N18)","v":""},"",{"$f":"IFERROR(AF18*BASE!$AN$165/BASE!$AN18,\"\")","v":""},"",{"$f":"IF(BASE!I18=\"\",\"\",Reporte!$N18)","v":""},"",{"$f":"IFERROR(AJ18*BASE!$AN$165/BASE!$AN18,\"\")","v":""},"",{"$f":"IF(BASE!J18=\"\",\"\",Reporte!$N18)","v":""},"",{"$f":"IFERROR(AN18*BASE!$AN$165/BASE!$AN18,\"\")","v":""},"",{"$f":"IF(BASE!K18=\"\",\"\",Reporte!$N18)","v":""},"",{"$f":"IFERROR(AR18*BASE!$AN$165/BASE!$AN18,\"\")","v":""},"",{"$f":"IF(BASE!L18=\"\",\"\",Reporte!$N18)","v":""},"",{"$f":"IFERROR(AV18*BASE!$AN$165/BASE!$AN18,\"\")","v":""},"",{"$f":"IF(BASE!M18=\"\",\"\",Reporte!$N18)","v":""},"",{"$f":"IFERROR(AZ18*BASE!$AN$165/BASE!$AN18,\"\")","v":""},"",{"$f":"IF(BASE!N18=\"\",\"\",Reporte!$N18)","v":""},"",{"$f":"IFERROR(BD18*BASE!$AN$165/BASE!$AN18,\"\")","v":""},"",{"$f":"IF(BASE!O18=\"\",\"\",Reporte!$N18)","v":""},"",{"$f":"IFERROR(BH18*BASE!$AN$165/BASE!$AN18,\"\")","v":""},"",{"$f":"IF(BASE!P18=\"\",\"\",Reporte!$N18)","v":""},"",{"$f":"IFERROR(BL18*BASE!$AN$165/BASE!$AN18,\"\")","v":""},"",{"$f":"IF(BASE!Q18=\"\",\"\",Reporte!$N18)","v":""},"",{"$f":"IFERROR(BP18*BASE!$AN$165/BASE!$AN18,\"\")","v":""},"",{"$f":"IF(BASE!R18=\"\",\"\",Reporte!$N18)","v":""},"",{"$f":"IFERROR(BT18*BASE!$AN$165/BASE!$AN18,\"\")","v":""},"",{"$f":"IF(BASE!S18=\"\",\"\",Reporte!$N18)","v":""},"",{"$f":"IFERROR(BX18*BASE!$AN$165/BASE!$AN18,\"\")","v":""},"",{"$f":"IF(BASE!T18=\"\",\"\",Reporte!$N18)","v":""},"",{"$f":"IFERROR(CB18*BASE!$AN$165/BASE!$AN18,\"\")","v":""},"",{"$f":"IF(BASE!U18=\"\",\"\",Reporte!$N18)","v":""},"",{"$f":"IFERROR(CF18*BASE!$AN$165/BASE!$AN18,\"\")","v":""},"",{"$f":"IF(BASE!V18=\"\",\"\",Reporte!$N18)","v":""},"",{"$f":"IFERROR(CJ18*BASE!$AN$165/BASE!$AN18,\"\")","v":""},"",{"$f":"IF(BASE!W18=\"\",\"\",Reporte!$N18)","v":""},"",{"$f":"IFERROR(CN18*BASE!$AN$165/BASE!$AN18,\"\")","v":""},"",{"$f":"IF(BASE!X18=\"\",\"\",Reporte!$N18)","v":""},"",{"$f":"IFERROR(CR18*BASE!$AN$165/BASE!$AN18,\"\")","v":""},"",{"$f":"IF(BASE!Y18=\"\",\"\",Reporte!$N18)","v":""},"",{"$f":"IFERROR(CV18*BASE!$AN$165/BASE!$AN18,\"\")","v":""},"",{"$f":"IF(BASE!Z18=\"\",\"\",Reporte!$N18)","v":""},"",{"$f":"IFERROR(CZ18*BASE!$AN$165/BASE!$AN18,\"\")","v":""},"",{"$f":"IF(BASE!AA18=\"\",\"\",Reporte!$N18)","v":""},"",{"$f":"IFERROR(DD18*BASE!$AN$165/BASE!$AN18,\"\")","v":""},"",{"$f":"IF(BASE!AB18=\"\",\"\",Reporte!$N18)","v":""},"",{"$f":"IFERROR(DH18*BASE!$AN$165/BASE!$AN18,\"\")","v":""},"",{"$f":"IF(BASE!AC18=\"\",\"\",Reporte!$N18)","v":""},"",{"$f":"IFERROR(DL18*BASE!$AN$165/BASE!$AN18,\"\")","v":""},"",{"$f":"IF(BASE!AD18=\"\",\"\",Reporte!$N18)","v":""},"",{"$f":"IFERROR(DP18*BASE!$AN$165/BASE!$AN18,\"\")","v":""},"",{"$f":"IF(BASE!AE18=\"\",\"\",Reporte!$N18)","v":""},"",{"$f":"IFERROR(DT18*BASE!$AN$165/BASE!$AN18,\"\")","v":""},"",{"$f":"IF(BASE!AF18=\"\",\"\",Reporte!$N18)","v":""},"",{"$f":"IFERROR(DX18*BASE!$AN$165/BASE!$AN18,\"\")","v":""},"",{"$f":"IF(BASE!AG18=\"\",\"\",Reporte!$N18)","v":""},"",{"$f":"IFERROR(EB18*BASE!$AN$165/BASE!$AN18,\"\")","v":""},"",{"$f":"IF(BASE!AH18=\"\",\"\",Reporte!$N18)","v":""},"",{"$f":"IFERROR(EF18*BASE!$AN$165/BASE!$AN18,\"\")","v":""},"",{"$f":"IF(BASE!AI18=\"\",\"\",Reporte!$N18)","v":""},"",{"$f":"IFERROR(EJ18*BASE!$AN$165/BASE!$AN18,\"\")","v":""},"",{"$f":"IF(BASE!AJ18=\"\",\"\",Reporte!$N18)","v":""},"",{"$f":"IFERROR(EN18*BASE!$AN$165/BASE!$AN18,\"\")","v":""},"",{"$f":"IF(BASE!AK18=\"\",\"\",Reporte!$N18)","v":""},"",{"$f":"IFERROR(ER18*BASE!$AN$165/BASE!$AN18,\"\")","v":""},"",{"$f":"IF(BASE!AL18=\"\",\"\",Reporte!$N18)","v":""},"",{"$f":"IFERROR(EV18*BASE!$AN$165/BASE!$AN18,\"\")","v":""},""]
[null,null,"Criterio Evaluación 5.2","",{"$f":"'Ciencias de la Naturaleza'!E18","v":1},{"$f":"'Ciencias de la Naturaleza'!F18","v":5.5555555555555552E-2},{"$f":"'Ciencias de la Naturaleza'!G18","v":""},null,null,null,null,null,"Criterio Evaluación 5.2","",{"$f":"'Peso criterios carga horaria'!F19","v":2},{"$f":"O19*BASE!$AN$165/BASE!AN19","v":1.8215686274509806},4.5819014891179842E-3,"",{"$f":"IF(BASE!E19=\"\",\"\",Reporte!$N19)","v":""},"",{"$f":"IFERROR(T19*BASE!$AN$165/BASE!$AN19,\"\")","v":""},"",{"$f":"IF(BASE!F19=\"\",\"\",Reporte!$N19)","v":""},"",{"$f":"IFERROR(X19*BASE!$AN$165/BASE!$AN19,\"\")","v":""},"",{"$f":"IF(BASE!G19=\"\",\"\",Reporte!$N19)","v":""},"",{"$f":"IFERROR(AB19*BASE!$AN$165/BASE!$AN19,\"\")","v":""},"",{"$f":"IF(BASE!H19=\"\",\"\",Reporte!$N19)","v":""},"",{"$f":"IFERROR(AF19*BASE!$AN$165/BASE!$AN19,\"\")","v":""},"",{"$f":"IF(BASE!I19=\"\",\"\",Reporte!$N19)","v":""},"",{"$f":"IFERROR(AJ19*BASE!$AN$165/BASE!$AN19,\"\")","v":""},"",{"$f":"IF(BASE!J19=\"\",\"\",Reporte!$N19)","v":""},"",{"$f":"IFERROR(AN19*BASE!$AN$165/BASE!$AN19,\"\")","v":""},"",{"$f":"IF(BASE!K19=\"\",\"\",Reporte!$N19)","v":""},"",{"$f":"IFERROR(AR19*BASE!$AN$165/BASE!$AN19,\"\")","v":""},"",{"$f":"IF(BASE!L19=\"\",\"\",Reporte!$N19)","v":""},"",{"$f":"IFERROR(AV19*BASE!$AN$165/BASE!$AN19,\"\")","v":""},"",{"$f":"IF(BASE!M19=\"\",\"\",Reporte!$N19)","v":""},"",{"$f":"IFERROR(AZ19*BASE!$AN$165/BASE!$AN19,\"\")","v":""},"",{"$f":"IF(BASE!N19=\"\",\"\",Reporte!$N19)","v":""},"",{"$f":"IFERROR(BD19*BASE!$AN$165/BASE!$AN19,\"\")","v":""},"",{"$f":"IF(BASE!O19=\"\",\"\",Reporte!$N19)","v":""},"",{"$f":"IFERROR(BH19*BASE!$AN$165/BASE!$AN19,\"\")","v":""},"",{"$f":"IF(BASE!P19=\"\",\"\",Reporte!$N19)","v":""},"",{"$f":"IFERROR(BL19*BASE!$AN$165/BASE!$AN19,\"\")","v":""},"",{"$f":"IF(BASE!Q19=\"\",\"\",Reporte!$N19)","v":""},"",{"$f":"IFERROR(BP19*BASE!$AN$165/BASE!$AN19,\"\")","v":""},"",{"$f":"IF(BASE!R19=\"\",\"\",Reporte!$N19)","v":""},"",{"$f":"IFERROR(BT19*BASE!$AN$165/BASE!$AN19,\"\")","v":""},"",{"$f":"IF(BASE!S19=\"\",\"\",Reporte!$N19)","v":""},"",{"$f":"IFERROR(BX19*BASE!$AN$165/BASE!$AN19,\"\")","v":""},"",{"$f":"IF(BASE!T19=\"\",\"\",Reporte!$N19)","v":""},"",{"$f":"IFERROR(CB19*BASE!$AN$165/BASE!$AN19,\"\")","v":""},"",{"$f":"IF(BASE!U19=\"\",\"\",Reporte!$N19)","v":""},"",{"$f":"IFERROR(CF19*BASE!$AN$165/BASE!$AN19,\"\")","v":""},"",{"$f":"IF(BASE!V19=\"\",\"\",Reporte!$N19)","v":""},"",{"$f":"IFERROR(CJ19*BASE!$AN$165/BASE!$AN19,\"\")","v":""},"",{"$f":"IF(BASE!W19=\"\",\"\",Reporte!$N19)","v":""},"",{"$f":"IFERROR(CN19*BASE!$AN$165/BASE!$AN19,\"\")","v":""},"",{"$f":"IF(BASE!X19=\"\",\"\",Reporte!$N19)","v":""},"",{"$f":"IFERROR(CR19*BASE!$AN$165/BASE!$AN19,\"\")","v":""},"",{"$f":"IF(BASE!Y19=\"\",\"\",Reporte!$N19)","v":""},"",{"$f":"IFERROR(CV19*BASE!$AN$165/BASE!$AN19,\"\")","v":""},"",{"$f":"IF(BASE!Z19=\"\",\"\",Reporte!$N19)","v":""},"",{"$f":"IFERROR(CZ19*BASE!$AN$165/BASE!$AN19,\"\")","v":""},"",{"$f":"IF(BASE!AA19=\"\",\"\",Reporte!$N19)","v":""},"",{"$f":"IFERROR(DD19*BASE!$AN$165/BASE!$AN19,\"\")","v":""},"",{"$f":"IF(BASE!AB19=\"\",\"\",Reporte!$N19)","v":""},"",{"$f":"IFERROR(DH19*BASE!$AN$165/BASE!$AN19,\"\")","v":""},"",{"$f":"IF(BASE!AC19=\"\",\"\",Reporte!$N19)","v":""},"",{"$f":"IFERROR(DL19*BASE!$AN$165/BASE!$AN19,\"\")","v":""},"",{"$f":"IF(BASE!AD19=\"\",\"\",Reporte!$N19)","v":""},"",{"$f":"IFERROR(DP19*BASE!$AN$165/BASE!$AN19,\"\")","v":""},"",{"$f":"IF(BASE!AE19=\"\",\"\",Reporte!$N19)","v":""},"",{"$f":"IFERROR(DT19*BASE!$AN$165/BASE!$AN19,\"\")","v":""},"",{"$f":"IF(BASE!AF19=\"\",\"\",Reporte!$N19)","v":""},"",{"$f":"IFERROR(DX19*BASE!$AN$165/BASE!$AN19,\"\")","v":""},"",{"$f":"IF(BASE!AG19=\"\",\"\",Reporte!$N19)","v":""},"",{"$f":"IFERROR(EB19*BASE!$AN$165/BASE!$AN19,\"\")","v":""},"",{"$f":"IF(BASE!AH19=\"\",\"\",Reporte!$N19)","v":""},"",{"$f":"IFERROR(EF19*BASE!$AN$165/BASE!$AN19,\"\")","v":""},"",{"$f":"IF(BASE!AI19=\"\",\"\",Reporte!$N19)","v":""},"",{"$f":"IFERROR(EJ19*BASE!$AN$165/BASE!$AN19,\"\")","v":""},"",{"$f":"IF(BASE!AJ19=\"\",\"\",Reporte!$N19)","v":""},"",{"$f":"IFERROR(EN19*BASE!$AN$165/BASE!$AN19,\"\")","v":""},"",{"$f":"IF(BASE!AK19=\"\",\"\",Reporte!$N19)","v":""},"",{"$f":"IFERROR(ER19*BASE!$AN$165/BASE!$AN19,\"\")","v":""},"",{"$f":"IF(BASE!AL19=\"\",\"\",Reporte!$N19)","v":""},"",{"$f":"IFERROR(EV19*BASE!$AN$165/BASE!$AN19,\"\")","v":""},""]
[null,null,"Criterio Evaluación 5.3","",{"$f":"'Ciencias de la Naturaleza'!E19","v":1},{"$f":"'Ciencias de la Naturaleza'!F19","v":5.5555555555555552E-2},{"$f":"'Ciencias de la Naturaleza'!G19","v":""},null,null,null,null,null,"Criterio Evaluación 5.3","",{"$f":"'Peso criterios carga horaria'!F20","v":2},{"$f":"O20*BASE!$AN$165/BASE!AN20","v":1.8215686274509806},4.5819014891179842E-3,"",{"$f":"IF(BASE!E20=\"\",\"\",Reporte!$N20)","v":""},"",{"$f":"IFERROR(T20*BASE!$AN$165/BASE!$AN20,\"\")","v":""},"",{"$f":"IF(BASE!F20=\"\",\"\",Reporte!$N20)","v":""},"",{"$f":"IFERROR(X20*BASE!$AN$165/BASE!$AN20,\"\")","v":""},"",{"$f":"IF(BASE!G20=\"\",\"\",Reporte!$N20)","v":""},"",{"$f":"IFERROR(AB20*BASE!$AN$165/BASE!$AN20,\"\")","v":""},"",{"$f":"IF(BASE!H20=\"\",\"\",Reporte!$N20)","v":""},"",{"$f":"IFERROR(AF20*BASE!$AN$165/BASE!$AN20,\"\")","v":""},"",{"$f":"IF(BASE!I20=\"\",\"\",Reporte!$N20)","v":""},"",{"$f":"IFERROR(AJ20*BASE!$AN$165/BASE!$AN20,\"\")","v":""},"",{"$f":"IF(BASE!J20=\"\",\"\",Reporte!$N20)","v":""},"",{"$f":"IFERROR(AN20*BASE!$AN$165/BASE!$AN20,\"\")","v":""},"",{"$f":"IF(BASE!K20=\"\",\"\",Reporte!$N20)","v":""},"",{"$f":"IFERROR(AR20*BASE!$AN$165/BASE!$AN20,\"\")","v":""},"",{"$f":"IF(BASE!L20=\"\",\"\",Reporte!$N20)","v":""},"",{"$f":"IFERROR(AV20*BASE!$AN$165/BASE!$AN20,\"\")","v":""},"",{"$f":"IF(BASE!M20=\"\",\"\",Reporte!$N20)","v":""},"",{"$f":"IFERROR(AZ20*BASE!$AN$165/BASE!$AN20,\"\")","v":""},"",{"$f":"IF(BASE!N20=\"\",\"\",Reporte!$N20)","v":""},"",{"$f":"IFERROR(BD20*BASE!$AN$165/BASE!$AN20,\"\")","v":""},"",{"$f":"IF(BASE!O20=\"\",\"\",Reporte!$N20)","v":""},"",{"$f":"IFERROR(BH20*BASE!$AN$165/BASE!$AN20,\"\")","v":""},"",{"$f":"IF(BASE!P20=\"\",\"\",Reporte!$N20)","v":""},"",{"$f":"IFERROR(BL20*BASE!$AN$165/BASE!$AN20,\"\")","v":""},"",{"$f":"IF(BASE!Q20=\"\",\"\",Reporte!$N20)","v":""},"",{"$f":"IFERROR(BP20*BASE!$AN$165/BASE!$AN20,\"\")","v":""},"",{"$f":"IF(BASE!R20=\"\",\"\",Reporte!$N20)","v":""},"",{"$f":"IFERROR(BT20*BASE!$AN$165/BASE!$AN20,\"\")","v":""},"",{"$f":"IF(BASE!S20=\"\",\"\",Reporte!$N20)","v":""},"",{"$f":"IFERROR(BX20*BASE!$AN$165/BASE!$AN20,\"\")","v":""},"",{"$f":"IF(BASE!T20=\"\",\"\",Reporte!$N20)","v":""},"",{"$f":"IFERROR(CB20*BASE!$AN$165/BASE!$AN20,\"\")","v":""},"",{"$f":"IF(BASE!U20=\"\",\"\",Reporte!$N20)","v":""},"",{"$f":"IFERROR(CF20*BASE!$AN$165/BASE!$AN20,\"\")","v":""},"",{"$f":"IF(BASE!V20=\"\",\"\",Reporte!$N20)","v":""},"",{"$f":"IFERROR(CJ20*BASE!$AN$165/BASE!$AN20,\"\")","v":""},"",{"$f":"IF(BASE!W20=\"\",\"\",Reporte!$N20)","v":""},"",{"$f":"IFERROR(CN20*BASE!$AN$165/BASE!$AN20,\"\")","v":""},"",{"$f":"IF(BASE!X20=\"\",\"\",Reporte!$N20)","v":""},"",{"$f":"IFERROR(CR20*BASE!$AN$165/BASE!$AN20,\"\")","v":""},"",{"$f":"IF(BASE!Y20=\"\",\"\",Reporte!$N20)","v":""},"",{"$f":"IFERROR(CV20*BASE!$AN$165/BASE!$AN20,\"\")","v":""},"",{"$f":"IF(BASE!Z20=\"\",\"\",Reporte!$N20)","v":""},"",{"$f":"IFERROR(CZ20*BASE!$AN$165/BASE!$AN20,\"\")","v":""},"",{"$f":"IF(BASE!AA20=\"\",\"\",Reporte!$N20)","v":""},"",{"$f":"IFERROR(DD20*BASE!$AN$165/BASE!$AN20,\"\")","v":""},"",{"$f":"IF(BASE!AB20=\"\",\"\",Reporte!$N20)","v":""},"",{"$f":"IFERROR(DH20*BASE!$AN$165/BASE!$AN20,\"\")","v":""},"",{"$f":"IF(BASE!AC20=\"\",\"\",Reporte!$N20)","v":""},"",{"$f":"IFERROR(DL20*BASE!$AN$165/BASE!$AN20,\"\")","v":""},"",{"$f":"IF(BASE!AD20=\"\",\"\",Reporte!$N20)","v":""},"",{"$f":"IFERROR(DP20*BASE!$AN$165/BASE!$AN20,\"\")","v":""},"",{"$f":"IF(BASE!AE20=\"\",\"\",Reporte!$N20)","v":""},"",{"$f":"IFERROR(DT20*BASE!$AN$165/BASE!$AN20,\"\")","v":""},"",{"$f":"IF(BASE!AF20=\"\",\"\",Reporte!$N20)","v":""},"",{"$f":"IFERROR(DX20*BASE!$AN$165/BASE!$AN20,\"\")","v":""},"",{"$f":"IF(BASE!AG20=\"\",\"\",Reporte!$N20)","v":""},"",{"$f":"IFERROR(EB20*BASE!$AN$165/BASE!$AN20,\"\")","v":""},"",{"$f":"IF(BASE!AH20=\"\",\"\",Reporte!$N20)","v":""},"",{"$f":"IFERROR(EF20*BASE!$AN$165/BASE!$AN20,\"\")","v":""},"",{"$f":"IF(BASE!AI20=\"\",\"\",Reporte!$N20)","v":""},"",{"$f":"IFERROR(EJ20*BASE!$AN$165/BASE!$AN20,\"\")","v":""},"",{"$f":"IF(BASE!AJ20=\"\",\"\",Reporte!$N20)","v":""},"",{"$f":"IFERROR(EN20*BASE!$AN$165/BASE!$AN20,\"\")","v":""},"",{"$f":"IF(BASE!AK20=\"\",\"\",Reporte!$N20)","v":""},"",{"$f":"IFERROR(ER20*BASE!$AN$165/BASE!$AN20,\"\")","v":""},"",{"$f":"IF(BASE!AL20=\"\",\"\",Reporte!$N20)","v":""},"",{"$f":"IFERROR(EV20*BASE!$AN$165/BASE!$AN20,\"\")","v":""},""]
[null,"Comp. Esp. 6","Criterio Evaluación 6.1","",{"$f":"'Ciencias de la Naturaleza'!E20","v":1},{"$f":"'Ciencias de la Naturaleza'!F20","v":5.5555555555555552E-2},{"$f":"'Ciencias de la Naturaleza'!G20","v":""},null,null,null,null,"Comp. Esp. 6","Criterio Evaluación 6.1","",{"$f":"'Peso criterios carga horaria'!F21","v":2},{"$f":"O21*BASE!$AN$165/BASE!AN21","v":1.8215686274509806},4.5819014891179842E-3,"",{"$f":"IF(BASE!E21=\"\",\"\",Reporte!$N21)","v":""},"",{"$f":"IFERROR(T21*BASE!$AN$165/BASE!$AN21,\"\")","v":""},"",{"$f":"IF(BASE!F21=\"\",\"\",Reporte!$N21)","v":""},"",{"$f":"IFERROR(X21*BASE!$AN$165/BASE!$AN21,\"\")","v":""},"",{"$f":"IF(BASE!G21=\"\",\"\",Reporte!$N21)","v":""},"",{"$f":"IFERROR(AB21*BASE!$AN$165/BASE!$AN21,\"\")","v":""},"",{"$f":"IF(BASE!H21=\"\",\"\",Reporte!$N21)","v":""},"",{"$f":"IFERROR(AF21*BASE!$AN$165/BASE!$AN21,\"\")","v":""},"",{"$f":"IF(BASE!I21=\"\",\"\",Reporte!$N21)","v":""},"",{"$f":"IFERROR(AJ21*BASE!$AN$165/BASE!$AN21,\"\")","v":""},"",{"$f":"IF(BASE!J21=\"\",\"\",Reporte!$N21)","v":""},"",{"$f":"IFERROR(AN21*BASE!$AN$165/BASE!$AN21,\"\")","v":""},"",{"$f":"IF(BASE!K21=\"\",\"\",Reporte!$N21)","v":""},"",{"$f":"IFERROR(AR21*BASE!$AN$165/BASE!$AN21,\"\")","v":""},"",{"$f":"IF(BASE!L21=\"\",\"\",Reporte!$N21)","v":""},"",{"$f":"IFERROR(AV21*BASE!$AN$165/BASE!$AN21,\"\")","v":""},"",{"$f":"IF(BASE!M21=\"\",\"\",Reporte!$N21)","v":""},"",{"$f":"IFERROR(AZ21*BASE!$AN$165/BASE!$AN21,\"\")","v":""},"",{"$f":"IF(BASE!N21=\"\",\"\",Reporte!$N21)","v":""},"",{"$f":"IFERROR(BD21*BASE!$AN$165/BASE!$AN21,\"\")","v":""},"",{"$f":"IF(BASE!O21=\"\",\"\",Reporte!$N21)","v":""},"",{"$f":"IFERROR(BH21*BASE!$AN$165/BASE!$AN21,\"\")","v":""},"",{"$f":"IF(BASE!P21=\"\",\"\",Reporte!$N21)","v":""},"",{"$f":"IFERROR(BL21*BASE!$AN$165/BASE!$AN21,\"\")","v":""},"",{"$f":"IF(BASE!Q21=\"\",\"\",Reporte!$N21)","v":""},"",{"$f":"IFERROR(BP21*BASE!$AN$165/BASE!$AN21,\"\")","v":""},"",{"$f":"IF(BASE!R21=\"\",\"\",Reporte!$N21)","v":""},"",{"$f":"IFERROR(BT21*BASE!$AN$165/BASE!$AN21,\"\")","v":""},"",{"$f":"IF(BASE!S21=\"\",\"\",Reporte!$N21)","v":""},"",{"$f":"IFERROR(BX21*BASE!$AN$165/BASE!$AN21,\"\")","v":""},"",{"$f":"IF(BASE!T21=\"\",\"\",Reporte!$N21)","v":""},"",{"$f":"IFERROR(CB21*BASE!$AN$165/BASE!$AN21,\"\")","v":""},"",{"$f":"IF(BASE!U21=\"\",\"\",Reporte!$N21)","v":""},"",{"$f":"IFERROR(CF21*BASE!$AN$165/BASE!$AN21,\"\")","v":""},"",{"$f":"IF(BASE!V21=\"\",\"\",Reporte!$N21)","v":""},"",{"$f":"IFERROR(CJ21*BASE!$AN$165/BASE!$AN21,\"\")","v":""},"",{"$f":"IF(BASE!W21=\"\",\"\",Reporte!$N21)","v":""},"",{"$f":"IFERROR(CN21*BASE!$AN$165/BASE!$AN21,\"\")","v":""},"",{"$f":"IF(BASE!X21=\"\",\"\",Reporte!$N21)","v":""},"",{"$f":"IFERROR(CR21*BASE!$AN$165/BASE!$AN21,\"\")","v":""},"",{"$f":"IF(BASE!Y21=\"\",\"\",Reporte!$N21)","v":""},"",{"$f":"IFERROR(CV21*BASE!$AN$165/BASE!$AN21,\"\")","v":""},"",{"$f":"IF(BASE!Z21=\"\",\"\",Reporte!$N21)","v":""},"",{"$f":"IFERROR(CZ21*BASE!$AN$165/BASE!$AN21,\"\")","v":""},"",{"$f":"IF(BASE!AA21=\"\",\"\",Reporte!$N21)","v":""},"",{"$f":"IFERROR(DD21*BASE!$AN$165/BASE!$AN21,\"\")","v":""},"",{"$f":"IF(BASE!AB21=\"\",\"\",Reporte!$N21)","v":""},"",{"$f":"IFERROR(DH21*BASE!$AN$165/BASE!$AN21,\"\")","v":""},"",{"$f":"IF(BASE!AC21=\"\",\"\",Reporte!$N21)","v":""},"",{"$f":"IFERROR(DL21*BASE!$AN$165/BASE!$AN21,\"\")","v":""},"",{"$f":"IF(BASE!AD21=\"\",\"\",Reporte!$N21)","v":""},"",{"$f":"IFERROR(DP21*BASE!$AN$165/BASE!$AN21,\"\")","v":""},"",{"$f":"IF(BASE!AE21=\"\",\"\",Reporte!$N21)","v":""},"",{"$f":"IFERROR(DT21*BASE!$AN$165/BASE!$AN21,\"\")","v":""},"",{"$f":"IF(BASE!AF21=\"\",\"\",Reporte!$N21)","v":""},"",{"$f":"IFERROR(DX21*BASE!$AN$165/BASE!$AN21,\"\")","v":""},"",{"$f":"IF(BASE!AG21=\"\",\"\",Reporte!$N21)","v":""},"",{"$f":"IFERROR(EB21*BASE!$AN$165/BASE!$AN21,\"\")","v":""},"",{"$f":"IF(BASE!AH21=\"\",\"\",Reporte!$N21)","v":""},"",{"$f":"IFERROR(EF21*BASE!$AN$165/BASE!$AN21,\"\")","v":""},"",{"$f":"IF(BASE!AI21=\"\",\"\",Reporte!$N21)","v":""},"",{"$f":"IFERROR(EJ21*BASE!$AN$165/BASE!$AN21,\"\")","v":""},"",{"$f":"IF(BASE!AJ21=\"\",\"\",Reporte!$N21)","v":""},"",{"$f":"IFERROR(EN21*BASE!$AN$165/BASE!$AN21,\"\")","v":""},"",{"$f":"IF(BASE!AK21=\"\",\"\",Reporte!$N21)","v":""},"",{"$f":"IFERROR(ER21*BASE!$AN$165/BASE!$AN21,\"\")","v":""},"",{"$f":"IF(BASE!AL21=\"\",\"\",Reporte!$N21)","v":""},"",{"$f":"IFERROR(EV21*BASE!$AN$165/BASE!$AN21,\"\")","v":""},""]
[null,null,"Criterio Evaluación 6.2","",{"$f":"'Ciencias de la Naturaleza'!E21","v":1},{"$f":"'Ciencias de la Naturaleza'!F21","v":5.5555555555555552E-2},{"$f":"'Ciencias de la Naturaleza'!G21","v":""},null,null,null,null,null,"Criterio Evaluación 6.2","",{"$f":"'Peso criterios carga horaria'!F22","v":2},{"$f":"O22*BASE!$AN$165/BASE!AN22","v":1.8215686274509806},4.5819014891179842E-3,"",{"$f":"IF(BASE!E22=\"\",\"\",Reporte!$N22)","v":""},"",{"$f":"IFERROR(T22*BASE!$AN$165/BASE!$AN22,\"\")","v":""},"",{"$f":"IF(BASE!F22=\"\",\"\",Reporte!$N22)","v":""},"",{"$f":"IFERROR(X22*BASE!$AN$165/BASE!$AN22,\"\")","v":""},"",{"$f":"IF(BASE!G22=\"\",\"\",Reporte!$N22)","v":""},"",{"$f":"IFERROR(AB22*BASE!$AN$165/BASE!$AN22,\"\")","v":""},"",{"$f":"IF(BASE!H22=\"\",\"\",Reporte!$N22)","v":""},"",{"$f":"IFERROR(AF22*BASE!$AN$165/BASE!$AN22,\"\")","v":""},"",{"$f":"IF(BASE!I22=\"\",\"\",Reporte!$N22)","v":""},"",{"$f":"IFERROR(AJ22*BASE!$AN$165/BASE!$AN22,\"\")","v":""},"",{"$f":"IF(BASE!J22=\"\",\"\",Reporte!$N22)","v":""},"",{"$f":"IFERROR(AN22*BASE!$AN$165/BASE!$AN22,\"\")","v":""},"",{"$f":"IF(BASE!K22=\"\",\"\",Reporte!$N22)","v":""},"",{"$f":"IFERROR(AR22*BASE!$AN$165/BASE!$AN22,\"\")","v":""},"",{"$f":"IF(BASE!L22=\"\",\"\",Reporte!$N22)","v":""},"",{"$f":"IFERROR(AV22*BASE!$AN$165/BASE!$AN22,\"\")","v":""},"",{"$f":"IF(BASE!M22=\"\",\"\",Reporte!$N22)","v":""},"",{"$f":"IFERROR(AZ22*BASE!$AN$165/BASE!$AN22,\"\")","v":""},"",{"$f":"IF(BASE!N22=\"\",\"\",Reporte!$N22)","v":""},"",{"$f":"IFERROR(BD22*BASE!$AN$165/BASE!$AN22,\"\")","v":""},"",{"$f":"IF(BASE!O22=\"\",\"\",Reporte!$N22)","v":""},"",{"$f":"IFERROR(BH22*BASE!$AN$165/BASE!$AN22,\"\")","v":""},"",{"$f":"IF(BASE!P22=\"\",\"\",Reporte!$N22)","v":""},"",{"$f":"IFERROR(BL22*BASE!$AN$165/BASE!$AN22,\"\")","v":""},"",{"$f":"IF(BASE!Q22=\"\",\"\",Reporte!$N22)","v":""},"",{"$f":"IFERROR(BP22*BASE!$AN$165/BASE!$AN22,\"\")","v":""},"",{"$f":"IF(BASE!R22=\"\",\"\",Reporte!$N22)","v":""},"",{"$f":"IFERROR(BT22*BASE!$AN$165/BASE!$AN22,\"\")","v":""},"",{"$f":"IF(BASE!S22=\"\",\"\",Reporte!$N22)","v":""},"",{"$f":"IFERROR(BX22*BASE!$AN$165/BASE!$AN22,\"\")","v":""},"",{"$f":"IF(BASE!T22=\"\",\"\",Reporte!$N22)","v":""},"",{"$f":"IFERROR(CB22*BASE!$AN$165/BASE!$AN22,\"\")","v":""},"",{"$f":"IF(BASE!U22=\"\",\"\",Reporte!$N22)","v":""},"",{"$f":"IFERROR(CF22*BASE!$AN$165/BASE!$AN22,\"\")","v":""},"",{"$f":"IF(BASE!V22=\"\",\"\",Reporte!$N22)","v":""},"",{"$f":"IFERROR(CJ22*BASE!$AN$165/BASE!$AN22,\"\")","v":""},"",{"$f":"IF(BASE!W22=\"\",\"\",Reporte!$N22)","v":""},"",{"$f":"IFERROR(CN22*BASE!$AN$165/BASE!$AN22,\"\")","v":""},"",{"$f":"IF(BASE!X22=\"\",\"\",Reporte!$N22)","v":""},"",{"$f":"IFERROR(CR22*BASE!$AN$165/BASE!$AN22,\"\")","v":""},"",{"$f":"IF(BASE!Y22=\"\",\"\",Reporte!$N22)","v":""},"",{"$f":"IFERROR(CV22*BASE!$AN$165/BASE!$AN22,\"\")","v":""},"",{"$f":"IF(BASE!Z22=\"\",\"\",Reporte!$N22)","v":""},"",{"$f":"IFERROR(CZ22*BASE!$AN$165/BASE!$AN22,\"\")","v":""},"",{"$f":"IF(BASE!AA22=\"\",\"\",Reporte!$N22)","v":""},"",{"$f":"IFERROR(DD22*BASE!$AN$165/BASE!$AN22,\"\")","v":""},"",{"$f":"IF(BASE!AB22=\"\",\"\",Reporte!$N22)","v":""},"",{"$f":"IFERROR(DH22*BASE!$AN$165/BASE!$AN22,\"\")","v":""},"",{"$f":"IF(BASE!AC22=\"\",\"\",Reporte!$N22)","v":""},"",{"$f":"IFERROR(DL22*BASE!$AN$165/BASE!$AN22,\"\")","v":""},"",{"$f":"IF(BASE!AD22=\"\",\"\",Reporte!$N22)","v":""},"",{"$f":"IFERROR(DP22*BASE!$AN$165/BASE!$AN22,\"\")","v":""},"",{"$f":"IF(BASE!AE22=\"\",\"\",Reporte!$N22)","v":""},"",{"$f":"IFERROR(DT22*BASE!$AN$165/BASE!$AN22,\"\")","v":""},"",{"$f":"IF(BASE!AF22=\"\",\"\",Reporte!$N22)","v":""},"",{"$f":"IFERROR(DX22*BASE!$AN$165/BASE!$AN22,\"\")","v":""},"",{"$f":"IF(BASE!AG22=\"\",\"\",Reporte!$N22)","v":""},"",{"$f":"IFERROR(EB22*BASE!$AN$165/BASE!$AN22,\"\")","v":""},"",{"$f":"IF(BASE!AH22=\"\",\"\",Reporte!$N22)","v":""},"",{"$f":"IFERROR(EF22*BASE!$AN$165/BASE!$AN22,\"\")","v":""},"",{"$f":"IF(BASE!AI22=\"\",\"\",Reporte!$N22)","v":""},"",{"$f":"IFERROR(EJ22*BASE!$AN$165/BASE!$AN22,\"\")","v":""},"",{"$f":"IF(BASE!AJ22=\"\",\"\",Reporte!$N22)","v":""},"",{"$f":"IFERROR(EN22*BASE!$AN$165/BASE!$AN22,\"\")","v":""},"",{"$f":"IF(BASE!AK22=\"\",\"\",Reporte!$N22)","v":""},"",{"$f":"IFERROR(ER22*BASE!$AN$165/BASE!$AN22,\"\")","v":""},"",{"$f":"IF(BASE!AL22=\"\",\"\",Reporte!$N22)","v":""},"",{"$f":"IFERROR(EV22*BASE!$AN$165/BASE!$AN22,\"\")","v":""},""]
["Ciencias Sociales","Comp. Esp. 1","Criterio Evaluación 1.1","",{"$f":"'Ciencias Sociales'!E4","v":1},{"$f":"'Ciencias Sociales'!F4","v":4.7619047619047616E-2},{"$f":"'Ciencias Sociales'!G4","v":""},{"$f":"IFERROR(SUMPRODUCT(D23:D43,E23:E43)/SUMIF(D23:D43,\">=0\",E23:E43),\"\")","v":""},null,null,"Ciencias Sociales","Comp. Esp. 1","Criterio Evaluación 1.1","",{"$f":"'Peso criterios carga horaria'!F23","v":2},{"$f":"O23*BASE!$AN$165/BASE!AN23","v":1.5880341880341882},4.5819014891179842E-3,"",{"$f":"IF(BASE!E23=\"\",\"\",Reporte!$N23)","v":""},"",{"$f":"IFERROR(T23*BASE!$AN$165/BASE!$AN23,\"\")","v":""},"",{"$f":"IF(BASE!F23=\"\",\"\",Reporte!$N23)","v":""},"",{"$f":"IFERROR(X23*BASE!$AN$165/BASE!$AN23,\"\")","v":""},"",{"$f":"IF(BASE!G23=\"\",\"\",Reporte!$N23)","v":""},"",{"$f":"IFERROR(AB23*BASE!$AN$165/BASE!$AN23,\"\")","v":""},"",{"$f":"IF(BASE!H23=\"\",\"\",Reporte!$N23)","v":""},"",{"$f":"IFERROR(AF23*BASE!$AN$165/BASE!$AN23,\"\")","v":""},"",{"$f":"IF(BASE!I23=\"\",\"\",Reporte!$N23)","v":""},"",{"$f":"IFERROR(AJ23*BASE!$AN$165/BASE!$AN23,\"\")","v":""},"",{"$f":"IF(BASE!J23=\"\",\"\",Reporte!$N23)","v":""},"",{"$f":"IFERROR(AN23*BASE!$AN$165/BASE!$AN23,\"\")","v":""},"",{"$f":"IF(BASE!K23=\"\",\"\",Reporte!$N23)","v":""},"",{"$f":"IFERROR(AR23*BASE!$AN$165/BASE!$AN23,\"\")","v":""},"",{"$f":"IF(BASE!L23=\"\",\"\",Reporte!$N23)","v":""},"",{"$f":"IFERROR(AV23*BASE!$AN$165/BASE!$AN23,\"\")","v":""},"",{"$f":"IF(BASE!M23=\"\",\"\",Reporte!$N23)","v":""},"",{"$f":"IFERROR(AZ23*BASE!$AN$165/BASE!$AN23,\"\")","v":""},"",{"$f":"IF(BASE!N23=\"\",\"\",Reporte!$N23)","v":""},"",{"$f":"IFERROR(BD23*BASE!$AN$165/BASE!$AN23,\"\")","v":""},"",{"$f":"IF(BASE!O23=\"\",\"\",Reporte!$N23)","v":""},"",{"$f":"IFERROR(BH23*BASE!$AN$165/BASE!$AN23,\"\")","v":""},"",{"$f":"IF(BASE!P23=\"\",\"\",Reporte!$N23)","v":""},"",{"$f":"IFERROR(BL23*BASE!$AN$165/BASE!$AN23,\"\")","v":""},"",{"$f":"IF(BASE!Q23=\"\",\"\",Reporte!$N23)","v":""},"",{"$f":"IFERROR(BP23*BASE!$AN$165/BASE!$AN23,\"\")","v":""},"",{"$f":"IF(BASE!R23=\"\",\"\",Reporte!$N23)","v":""},"",{"$f":"IFERROR(BT23*BASE!$AN$165/BASE!$AN23,\"\")","v":""},"",{"$f":"IF(BASE!S23=\"\",\"\",Reporte!$N23)","v":""},"",{"$f":"IFERROR(BX23*BASE!$AN$165/BASE!$AN23,\"\")","v":""},"",{"$f":"IF(BASE!T23=\"\",\"\",Reporte!$N23)","v":""},"",{"$f":"IFERROR(CB23*BASE!$AN$165/BASE!$AN23,\"\")","v":""},"",{"$f":"IF(BASE!U23=\"\",\"\",Reporte!$N23)","v":""},"",{"$f":"IFERROR(CF23*BASE!$AN$165/BASE!$AN23,\"\")","v":""},"",{"$f":"IF(BASE!V23=\"\",\"\",Reporte!$N23)","v":""},"",{"$f":"IFERROR(CJ23*BASE!$AN$165/BASE!$AN23,\"\")","v":""},"",{"$f":"IF(BASE!W23=\"\",\"\",Reporte!$N23)","v":""},"",{"$f":"IFERROR(CN23*BASE!$AN$165/BASE!$AN23,\"\")","v":""},"",{"$f":"IF(BASE!X23=\"\",\"\",Reporte!$N23)","v":""},"",{"$f":"IFERROR(CR23*BASE!$AN$165/BASE!$AN23,\"\")","v":""},"",{"$f":"IF(BASE!Y23=\"\",\"\",Reporte!$N23)","v":""},"",{"$f":"IFERROR(CV23*BASE!$AN$165/BASE!$AN23,\"\")","v":""},"",{"$f":"IF(BASE!Z23=\"\",\"\",Reporte!$N23)","v":""},"",{"$f":"IFERROR(CZ23*BASE!$AN$165/BASE!$AN23,\"\")","v":""},"",{"$f":"IF(BASE!AA23=\"\",\"\",Reporte!$N23)","v":""},"",{"$f":"IFERROR(DD23*BASE!$AN$165/BASE!$AN23,\"\")","v":""},"",{"$f":"IF(BASE!AB23=\"\",\"\",Reporte!$N23)","v":""},"",{"$f":"IFERROR(DH23*BASE!$AN$165/BASE!$AN23,\"\")","v":""},"",{"$f":"IF(BASE!AC23=\"\",\"\",Reporte!$N23)","v":""},"",{"$f":"IFERROR(DL23*BASE!$AN$165/BASE!$AN23,\"\")","v":""},"",{"$f":"IF(BASE!AD23=\"\",\"\",Reporte!$N23)","v":""},"",{"$f":"IFERROR(DP23*BASE!$AN$165/BASE!$AN23,\"\")","v":""},"",{"$f":"IF(BASE!AE23=\"\",\"\",Reporte!$N23)","v":""},"",{"$f":"IFERROR(DT23*BASE!$AN$165/BASE!$AN23,\"\")","v":""},"",{"$f":"IF(BASE!AF23=\"\",\"\",Reporte!$N23)","v":""},"",{"$f":"IFERROR(DX23*BASE!$AN$165/BASE!$AN23,\"\")","v":""},"",{"$f":"IF(BASE!AG23=\"\",\"\",Reporte!$N23)","v":""},"",{"$f":"IFERROR(EB23*BASE!$AN$165/BASE!$AN23,\"\")","v":""},"",{"$f":"IF(BASE!AH23=\"\",\"\",Reporte!$N23)","v":""},"",{"$f":"IFERROR(EF23*BASE!$AN$165/BASE!$AN23,\"\")","v":""},"",{"$f":"IF(BASE!AI23=\"\",\"\",Reporte!$N23)","v":""},"",{"$f":"IFERROR(EJ23*BASE!$AN$165/BASE!$AN23,\"\")","v":""},"",{"$f":"IF(BASE!AJ23=\"\",\"\",Reporte!$N23)","v":""},"",{"$f":"IFERROR(EN23*BASE!$AN$165/BASE!$AN23,\"\")","v":""},"",{"$f":"IF(BASE!AK23=\"\",\"\",Reporte!$N23)","v":""},"",{"$f":"IFERROR(ER23*BASE!$AN$165/BASE!$AN23,\"\")","v":""},"",{"$f":"IF(BASE!AL23=\"\",\"\",Reporte!$N23)","v":""},"",{"$f":"IFERROR(EV23*BASE!$AN$165/BASE!$AN23,\"\")","v":""},""]
[null,null,"Criterio Evaluación 1.2","",{"$f":"'Ciencias Sociales'!E5","v":1},{"$f":"'Ciencias Sociales'!F5","v":4.7619047619047616E-2},{"$f":"'Ciencias Sociales'!G5","v":""},null,null,null,null,null,"Criterio Evaluación 1.2","",{"$f":"'Peso criterios carga horaria'!F24","v":2},{"$f":"O24*BASE!$AN$165/BASE!AN24","v":1.5880341880341882},4.5819014891179842E-3,"",{"$f":"IF(BASE!E24=\"\",\"\",Reporte!$N24)","v":""},"",{"$f":"IFERROR(T24*BASE!$AN$165/BASE!$AN24,\"\")","v":""},"",{"$f":"IF(BASE!F24=\"\",\"\",Reporte!$N24)","v":""},"",{"$f":"IFERROR(X24*BASE!$AN$165/BASE!$AN24,\"\")","v":""},"",{"$f":"IF(BASE!G24=\"\",\"\",Reporte!$N24)","v":""},"",{"$f":"IFERROR(AB24*BASE!$AN$165/BASE!$AN24,\"\")","v":""},"",{"$f":"IF(BASE!H24=\"\",\"\",Reporte!$N24)","v":""},"",{"$f":"IFERROR(AF24*BASE!$AN$165/BASE!$AN24,\"\")","v":""},"",{"$f":"IF(BASE!I24=\"\",\"\",Reporte!$N24)","v":""},"",{"$f":"IFERROR(AJ24*BASE!$AN$165/BASE!$AN24,\"\")","v":""},"",{"$f":"IF(BASE!J24=\"\",\"\",Reporte!$N24)","v":""},"",{"$f":"IFERROR(AN24*BASE!$AN$165/BASE!$AN24,\"\")","v":""},"",{"$f":"IF(BASE!K24=\"\",\"\",Reporte!$N24)","v":""},"",{"$f":"IFERROR(AR24*BASE!$AN$165/BASE!$AN24,\"\")","v":""},"",{"$f":"IF(BASE!L24=\"\",\"\",Reporte!$N24)","v":""},"",{"$f":"IFERROR(AV24*BASE!$AN$165/BASE!$AN24,\"\")","v":""},"",{"$f":"IF(BASE!M24=\"\",\"\",Reporte!$N24)","v":""},"",{"$f":"IFERROR(AZ24*BASE!$AN$165/BASE!$AN24,\"\")","v":""},"",{"$f":"IF(BASE!N24=\"\",\"\",Reporte!$N24)","v":""},"",{"$f":"IFERROR(BD24*BASE!$AN$165/BASE!$AN24,\"\")","v":""},"",{"$f":"IF(BASE!O24=\"\",\"\",Reporte!$N24)","v":""},"",{"$f":"IFERROR(BH24*BASE!$AN$165/BASE!$AN24,\"\")","v":""},"",{"$f":"IF(BASE!P24=\"\",\"\",Reporte!$N24)","v":""},"",{"$f":"IFERROR(BL24*BASE!$AN$165/BASE!$AN24,\"\")","v":""},"",{"$f":"IF(BASE!Q24=\"\",\"\",Reporte!$N24)","v":""},"",{"$f":"IFERROR(BP24*BASE!$AN$165/BASE!$AN24,\"\")","v":""},"",{"$f":"IF(BASE!R24=\"\",\"\",Reporte!$N24)","v":""},"",{"$f":"IFERROR(BT24*BASE!$AN$165/BASE!$AN24,\"\")","v":""},"",{"$f":"IF(BASE!S24=\"\",\"\",Reporte!$N24)","v":""},"",{"$f":"IFERROR(BX24*BASE!$AN$165/BASE!$AN24,\"\")","v":""},"",{"$f":"IF(BASE!T24=\"\",\"\",Reporte!$N24)","v":""},"",{"$f":"IFERROR(CB24*BASE!$AN$165/BASE!$AN24,\"\")","v":""},"",{"$f":"IF(BASE!U24=\"\",\"\",Reporte!$N24)","v":""},"",{"$f":"IFERROR(CF24*BASE!$AN$165/BASE!$AN24,\"\")","v":""},"",{"$f":"IF(BASE!V24=\"\",\"\",Reporte!$N24)","v":""},"",{"$f":"IFERROR(CJ24*BASE!$AN$165/BASE!$AN24,\"\")","v":""},"",{"$f":"IF(BASE!W24=\"\",\"\",Reporte!$N24)","v":""},"",{"$f":"IFERROR(CN24*BASE!$AN$165/BASE!$AN24,\"\")","v":""},"",{"$f":"IF(BASE!X24=\"\",\"\",Reporte!$N24)","v":""},"",{"$f":"IFERROR(CR24*BASE!$AN$165/BASE!$AN24,\"\")","v":""},"",{"$f":"IF(BASE!Y24=\"\",\"\",Reporte!$N24)","v":""},"",{"$f":"IFERROR(CV24*BASE!$AN$165/BASE!$AN24,\"\")","v":""},"",{"$f":"IF(BASE!Z24=\"\",\"\",Reporte!$N24)","v":""},"",{"$f":"IFERROR(CZ24*BASE!$AN$165/BASE!$AN24,\"\")","v":""},"",{"$f":"IF(BASE!AA24=\"\",\"\",Reporte!$N24)","v":""},"",{"$f":"IFERROR(DD24*BASE!$AN$165/BASE!$AN24,\"\")","v":""},"",{"$f":"IF(BASE!AB24=\"\",\"\",Reporte!$N24)","v":""},"",{"$f":"IFERROR(DH24*BASE!$AN$165/BASE!$AN24,\"\")","v":""},"",{"$f":"IF(BASE!AC24=\"\",\"\",Reporte!$N24)","v":""},"",{"$f":"IFERROR(DL24*BASE!$AN$165/BASE!$AN24,\"\")","v":""},"",{"$f":"IF(BASE!AD24=\"\",\"\",Reporte!$N24)","v":""},"",{"$f":"IFERROR(DP24*BASE!$AN$165/BASE!$AN24,\"\")","v":""},"",{"$f":"IF(BASE!AE24=\"\",\"\",Reporte!$N24)","v":""},"",{"$f":"IFERROR(DT24*BASE!$AN$165/BASE!$AN24,\"\")","v":""},"",{"$f":"IF(BASE!AF24=\"\",\"\",Reporte!$N24)","v":""},"",{"$f":"IFERROR(DX24*BASE!$AN$165/BASE!$AN24,\"\")","v":""},"",{"$f":"IF(BASE!AG24=\"\",\"\",Reporte!$N24)","v":""},"",{"$f":"IFERROR(EB24*BASE!$AN$165/BASE!$AN24,\"\")","v":""},"",{"$f":"IF(BASE!AH24=\"\",\"\",Reporte!$N24)","v":""},"",{"$f":"IFERROR(EF24*BASE!$AN$165/BASE!$AN24,\"\")","v":""},"",{"$f":"IF(BASE!AI24=\"\",\"\",Reporte!$N24)","v":""},"",{"$f":"IFERROR(EJ24*BASE!$AN$165/BASE!$AN24,\"\")","v":""},"",{"$f":"IF(BASE!AJ24=\"\",\"\",Reporte!$N24)","v":""},"",{"$f":"IFERROR(EN24*BASE!$AN$165/BASE!$AN24,\"\")","v":""},"",{"$f":"IF(BASE!AK24=\"\",\"\",Reporte!$N24)","v":""},"",{"$f":"IFERROR(ER24*BASE!$AN$165/BASE!$AN24,\"\")","v":""},"",{"$f":"IF(BASE!AL24=\"\",\"\",Reporte!$N24)","v":""},"",{"$f":"IFERROR(EV24*BASE!$AN$165/BASE!$AN24,\"\")","v":""},""]
[null,null,"Criterio Evaluación 1.3","",{"$f":"'Ciencias Sociales'!E6","v":1},{"$f":"'Ciencias Sociales'!F6","v":4.7619047619047616E-2},{"$f":"'Ciencias Sociales'!G6","v":""},null,null,null,null,null,"Criterio Evaluación 1.3","",{"$f":"'Peso criterios carga horaria'!F25","v":2},{"$f":"O25*BASE!$AN$165/BASE!AN25","v":1.5880341880341882},4.5819014891179842E-3,"",{"$f":"IF(BASE!E25=\"\",\"\",Reporte!$N25)","v":""},"",{"$f":"IFERROR(T25*BASE!$AN$165/BASE!$AN25,\"\")","v":""},"",{"$f":"IF(BASE!F25=\"\",\"\",Reporte!$N25)","v":""},"",{"$f":"IFERROR(X25*BASE!$AN$165/BASE!$AN25,\"\")","v":""},"",{"$f":"IF(BASE!G25=\"\",\"\",Reporte!$N25)","v":""},"",{"$f":"IFERROR(AB25*BASE!$AN$165/BASE!$AN25,\"\")","v":""},"",{"$f":"IF(BASE!H25=\"\",\"\",Reporte!$N25)","v":""},"",{"$f":"IFERROR(AF25*BASE!$AN$165/BASE!$AN25,\"\")","v":""},"",{"$f":"IF(BASE!I25=\"\",\"\",Reporte!$N25)","v":""},"",{"$f":"IFERROR(AJ25*BASE!$AN$165/BASE!$AN25,\"\")","v":""},"",{"$f":"IF(BASE!J25=\"\",\"\",Reporte!$N25)","v":""},"",{"$f":"IFERROR(AN25*BASE!$AN$165/BASE!$AN25,\"\")","v":""},"",{"$f":"IF(BASE!K25=\"\",\"\",Reporte!$N25)","v":""},"",{"$f":"IFERROR(AR25*BASE!$AN$165/BASE!$AN25,\"\")","v":""},"",{"$f":"IF(BASE!L25=\"\",\"\",Reporte!$N25)","v":""},"",{"$f":"IFERROR(AV25*BASE!$AN$165/BASE!$AN25,\"\")","v":""},"",{"$f":"IF(BASE!M25=\"\",\"\",Reporte!$N25)","v":""},"",{"$f":"IFERROR(AZ25*BASE!$AN$165/BASE!$AN25,\"\")","v":""},"",{"$f":"IF(BASE!N25=\"\",\"\",Reporte!$N25)","v":""},"",{"$f":"IFERROR(BD25*BASE!$AN$165/BASE!$AN25,\"\")","v":""},"",{"$f":"IF(BASE!O25=\"\",\"\",Reporte!$N25)","v":""},"",{"$f":"IFERROR(BH25*BASE!$AN$165/BASE!$AN25,\"\")","v":""},"",{"$f":"IF(BASE!P25=\"\",\"\",Reporte!$N25)","v":""},"",{"$f":"IFERROR(BL25*BASE!$AN$165/BASE!$AN25,\"\")","v":""},"",{"$f":"IF(BASE!Q25=\"\",\"\",Reporte!$N25)","v":""},"",{"$f":"IFERROR(BP25*BASE!$AN$165/BASE!$AN25,\"\")","v":""},"",{"$f":"IF(BASE!R25=\"\",\"\",Reporte!$N25)","v":""},"",{"$f":"IFERROR(BT25*BASE!$AN$165/BASE!$AN25,\"\")","v":""},"",{"$f":"IF(BASE!S25=\"\",\"\",Reporte!$N25)","v":""},"",{"$f":"IFERROR(BX25*BASE!$AN$165/BASE!$AN25,\"\")","v":""},"",{"$f":"IF(BASE!T25=\"\",\"\",Reporte!$N25)","v":""},"",{"$f":"IFERROR(CB25*BASE!$AN$165/BASE!$AN25,\"\")","v":""},"",{"$f":"IF(BASE!U25=\"\",\"\",Reporte!$N25)","v":""},"",{"$f":"IFERROR(CF25*BASE!$AN$165/BASE!$AN25,\"\")","v":""},"",{"$f":"IF(BASE!V25=\"\",\"\",Reporte!$N25)","v":""},"",{"$f":"IFERROR(CJ25*BASE!$AN$165/BASE!$AN25,\"\")","v":""},"",{"$f":"IF(BASE!W25=\"\",\"\",Reporte!$N25)","v":""},"",{"$f":"IFERROR(CN25*BASE!$AN$165/BASE!$AN25,\"\")","v":""},"",{"$f":"IF(BASE!X25=\"\",\"\",Reporte!$N25)","v":""},"",{"$f":"IFERROR(CR25*BASE!$AN$165/BASE!$AN25,\"\")","v":""},"",{"$f":"IF(BASE!Y25=\"\",\"\",Reporte!$N25)","v":""},"",{"$f":"IFERROR(CV25*BASE!$AN$165/BASE!$AN25,\"\")","v":""},"",{"$f":"IF(BASE!Z25=\"\",\"\",Reporte!$N25)","v":""},"",{"$f":"IFERROR(CZ25*BASE!$AN$165/BASE!$AN25,\"\")","v":""},"",{"$f":"IF(BASE!AA25=\"\",\"\",Reporte!$N25)","v":""},"",{"$f":"IFERROR(DD25*BASE!$AN$165/BASE!$AN25,\"\")","v":""},"",{"$f":"IF(BASE!AB25=\"\",\"\",Reporte!$N25)","v":""},"",{"$f":"IFERROR(DH25*BASE!$AN$165/BASE!$AN25,\"\")","v":""},"",{"$f":"IF(BASE!AC25=\"\",\"\",Reporte!$N25)","v":""},"",{"$f":"IFERROR(DL25*BASE!$AN$165/BASE!$AN25,\"\")","v":""},"",{"$f":"IF(BASE!AD25=\"\",\"\",Reporte!$N25)","v":""},"",{"$f":"IFERROR(DP25*BASE!$AN$165/BASE!$AN25,\"\")","v":""},"",{"$f":"IF(BASE!AE25=\"\",\"\",Reporte!$N25)","v":""},"",{"$f":"IFERROR(DT25*BASE!$AN$165/BASE!$AN25,\"\")","v":""},"",{"$f":"IF(BASE!AF25=\"\",\"\",Reporte!$N25)","v":""},"",{"$f":"IFERROR(DX25*BASE!$AN$165/BASE!$AN25,\"\")","v":""},"",{"$f":"IF(BASE!AG25=\"\",\"\",Reporte!$N25)","v":""},"",{"$f":"IFERROR(EB25*BASE!$AN$165/BASE!$AN25,\"\")","v":""},"",{"$f":"IF(BASE!AH25=\"\",\"\",Reporte!$N25)","v":""},"",{"$f":"IFERROR(EF25*BASE!$AN$165/BASE!$AN25,\"\")","v":""},"",{"$f":"IF(BASE!AI25=\"\",\"\",Reporte!$N25)","v":""},"",{"$f":"IFERROR(EJ25*BASE!$AN$165/BASE!$AN25,\"\")","v":""},"",{"$f":"IF(BASE!AJ25=\"\",\"\",Reporte!$N25)","v":""},"",{"$f":"IFERROR(EN25*BASE!$AN$165/BASE!$AN25,\"\")","v":""},"",{"$f":"IF(BASE!AK25=\"\",\"\",Reporte!$N25)","v":""},"",{"$f":"IFERROR(ER25*BASE!$AN$165/BASE!$AN25,\"\")","v":""},"",{"$f":"IF(BASE!AL25=\"\",\"\",Reporte!$N25)","v":""},"",{"$f":"IFERROR(EV25*BASE!$AN$165/BASE!$AN25,\"\")","v":""},""]
[null,"Comp. Esp. 2","Criterio Evaluación 2.1","",{"$f":"'Ciencias Sociales'!E7","v":1},{"$f":"'Ciencias Sociales'!F7","v":4.7619047619047616E-2},{"$f":"'Ciencias Sociales'!G7","v":""},null,null,null,null,"Comp. Esp. 2","Criterio Evaluación 2.1","",{"$f":"'Peso criterios carga horaria'!F26","v":2},{"$f":"O26*BASE!$AN$165/BASE!AN26","v":1.5880341880341882},4.5819014891179842E-3,"",{"$f":"IF(BASE!E26=\"\",\"\",Reporte!$N26)","v":""},"",{"$f":"IFERROR(T26*BASE!$AN$165/BASE!$AN26,\"\")","v":""},"",{"$f":"IF(BASE!F26=\"\",\"\",Reporte!$N26)","v":""},"",{"$f":"IFERROR(X26*BASE!$AN$165/BASE!$AN26,\"\")","v":""},"",{"$f":"IF(BASE!G26=\"\",\"\",Reporte!$N26)","v":""},"",{"$f":"IFERROR(AB26*BASE!$AN$165/BASE!$AN26,\"\")","v":""},"",{"$f":"IF(BASE!H26=\"\",\"\",Reporte!$N26)","v":""},"",{"$f":"IFERROR(AF26*BASE!$AN$165/BASE!$AN26,\"\")","v":""},"",{"$f":"IF(BASE!I26=\"\",\"\",Reporte!$N26)","v":""},"",{"$f":"IFERROR(AJ26*BASE!$AN$165/BASE!$AN26,\"\")","v":""},"",{"$f":"IF(BASE!J26=\"\",\"\",Reporte!$N26)","v":""},"",{"$f":"IFERROR(AN26*BASE!$AN$165/BASE!$AN26,\"\")","v":""},"",{"$f":"IF(BASE!K26=\"\",\"\",Reporte!$N26)","v":""},"",{"$f":"IFERROR(AR26*BASE!$AN$165/BASE!$AN26,\"\")","v":""},"",{"$f":"IF(BASE!L26=\"\",\"\",Reporte!$N26)","v":""},"",{"$f":"IFERROR(AV26*BASE!$AN$165/BASE!$AN26,\"\")","v":""},"",{"$f":"IF(BASE!M26=\"\",\"\",Reporte!$N26)","v":""},"",{"$f":"IFERROR(AZ26*BASE!$AN$165/BASE!$AN26,\"\")","v":""},"",{"$f":"IF(BASE!N26=\"\",\"\",Reporte!$N26)","v":""},"",{"$f":"IFERROR(BD26*BASE!$AN$165/BASE!$AN26,\"\")","v":""},"",{"$f":"IF(BASE!O26=\"\",\"\",Reporte!$N26)","v":""},"",{"$f":"IFERROR(BH26*BASE!$AN$165/BASE!$AN26,\"\")","v":""},"",{"$f":"IF(BASE!P26=\"\",\"\",Reporte!$N26)","v":""},"",{"$f":"IFERROR(BL26*BASE!$AN$165/BASE!$AN26,\"\")","v":""},"",{"$f":"IF(BASE!Q26=\"\",\"\",Reporte!$N26)","v":""},"",{"$f":"IFERROR(BP26*BASE!$AN$165/BASE!$AN26,\"\")","v":""},"",{"$f":"IF(BASE!R26=\"\",\"\",Reporte!$N26)","v":""},"",{"$f":"IFERROR(BT26*BASE!$AN$165/BASE!$AN26,\"\")","v":""},"",{"$f":"IF(BASE!S26=\"\",\"\",Reporte!$N26)","v":""},"",{"$f":"IFERROR(BX26*BASE!$AN$165/BASE!$AN26,\"\")","v":""},"",{"$f":"IF(BASE!T26=\"\",\"\",Reporte!$N26)","v":""},"",{"$f":"IFERROR(CB26*BASE!$AN$165/BASE!$AN26,\"\")","v":""},"",{"$f":"IF(BASE!U26=\"\",\"\",Reporte!$N26)","v":""},"",{"$f":"IFERROR(CF26*BASE!$AN$165/BASE!$AN26,\"\")","v":""},"",{"$f":"IF(BASE!V26=\"\",\"\",Reporte!$N26)","v":""},"",{"$f":"IFERROR(CJ26*BASE!$AN$165/BASE!$AN26,\"\")","v":""},"",{"$f":"IF(BASE!W26=\"\",\"\",Reporte!$N26)","v":""},"",{"$f":"IFERROR(CN26*BASE!$AN$165/BASE!$AN26,\"\")","v":""},"",{"$f":"IF(BASE!X26=\"\",\"\",Reporte!$N26)","v":""},"",{"$f":"IFERROR(CR26*BASE!$AN$165/BASE!$AN26,\"\")","v":""},"",{"$f":"IF(BASE!Y26=\"\",\"\",Reporte!$N26)","v":""},"",{"$f":"IFERROR(CV26*BASE!$AN$165/BASE!$AN26,\"\")","v":""},"",{"$f":"IF(BASE!Z26=\"\",\"\",Reporte!$N26)","v":""},"",{"$f":"IFERROR(CZ26*BASE!$AN$165/BASE!$AN26,\"\")","v":""},"",{"$f":"IF(BASE!AA26=\"\",\"\",Reporte!$N26)","v":""},"",{"$f":"IFERROR(DD26*BASE!$AN$165/BASE!$AN26,\"\")","v":""},"",{"$f":"IF(BASE!AB26=\"\",\"\",Reporte!$N26)","v":""},"",{"$f":"IFERROR(DH26*BASE!$AN$165/BASE!$AN26,\"\")","v":""},"",{"$f":"IF(BASE!AC26=\"\",\"\",Reporte!$N26)","v":""},"",{"$f":"IFERROR(DL26*BASE!$AN$165/BASE!$AN26,\"\")","v":""},"",{"$f":"IF(BASE!AD26=\"\",\"\",Reporte!$N26)","v":""},"",{"$f":"IFERROR(DP26*BASE!$AN$165/BASE!$AN26,\"\")","v":""},"",{"$f":"IF(BASE!AE26=\"\",\"\",Reporte!$N26)","v":""},"",{"$f":"IFERROR(DT26*BASE!$AN$165/BASE!$AN26,\"\")","v":""},"",{"$f":"IF(BASE!AF26=\"\",\"\",Reporte!$N26)","v":""},"",{"$f":"IFERROR(DX26*BASE!$AN$165/BASE!$AN26,\"\")","v":""},"",{"$f":"IF(BASE!AG26=\"\",\"\",Reporte!$N26)","v":""},"",{"$f":"IFERROR(EB26*BASE!$AN$165/BASE!$AN26,\"\")","v":""},"",{"$f":"IF(BASE!AH26=\"\",\"\",Reporte!$N26)","v":""},"",{"$f":"IFERROR(EF26*BASE!$AN$165/BASE!$AN26,\"\")","v":""},"",{"$f":"IF(BASE!AI26=\"\",\"\",Reporte!$N26)","v":""},"",{"$f":"IFERROR(EJ26*BASE!$AN$165/BASE!$AN26,\"\")","v":""},"",{"$f":"IF(BASE!AJ26=\"\",\"\",Reporte!$N26)","v":""},"",{"$f":"IFERROR(EN26*BASE!$AN$165/BASE!$AN26,\"\")","v":""},"",{"$f":"IF(BASE!AK26=\"\",\"\",Reporte!$N26)","v":""},"",{"$f":"IFERROR(ER26*BASE!$AN$165/BASE!$AN26,\"\")","v":""},"",{"$f":"IF(BASE!AL26=\"\",\"\",Reporte!$N26)","v":""},"",{"$f":"IFERROR(EV26*BASE!$AN$165/BASE!$AN26,\"\")","v":""},""]
[null,null,"Criterio Evaluación 2.2","",{"$f":"'Ciencias Sociales'!E8","v":1},{"$f":"'Ciencias Sociales'!F8","v":4.7619047619047616E-2},{"$f":"'Ciencias Sociales'!G8","v":""},null,null,null,null,null,"Criterio Evaluación 2.2","",{"$f":"'Peso criterios carga horaria'!F27","v":2},{"$f":"O27*BASE!$AN$165/BASE!AN27","v":1.5880341880341882},4.5819014891179842E-3,"",{"$f":"IF(BASE!E27=\"\",\"\",Reporte!$N27)","v":""},"",{"$f":"IFERROR(T27*BASE!$AN$165/BASE!$AN27,\"\")","v":""},"",{"$f":"IF(BASE!F27=\"\",\"\",Reporte!$N27)","v":""},"",{"$f":"IFERROR(X27*BASE!$AN$165/BASE!$AN27,\"\")","v":""},"",{"$f":"IF(BASE!G27=\"\",\"\",Reporte!$N27)","v":""},"",{"$f":"IFERROR(AB27*BASE!$AN$165/BASE!$AN27,\"\")","v":""},"",{"$f":"IF(BASE!H27=\"\",\"\",Reporte!$N27)","v":""},"",{"$f":"IFERROR(AF27*BASE!$AN$165/BASE!$AN27,\"\")","v":""},"",{"$f":"IF(BASE!I27=\"\",\"\",Reporte!$N27)","v":""},"",{"$f":"IFERROR(AJ27*BASE!$AN$165/BASE!$AN27,\"\")","v":""},"",{"$f":"IF(BASE!J27=\"\",\"\",Reporte!$N27)","v":""},"",{"$f":"IFERROR(AN27*BASE!$AN$165/BASE!$AN27,\"\")","v":""},"",{"$f":"IF(BASE!K27=\"\",\"\",Reporte!$N27)","v":""},"",{"$f":"IFERROR(AR27*BASE!$AN$165/BASE!$AN27,\"\")","v":""},"",{"$f":"IF(BASE!L27=\"\",\"\",Reporte!$N27)","v":""},"",{"$f":"IFERROR(AV27*BASE!$AN$165/BASE!$AN27,\"\")","v":""},"",{"$f":"IF(BASE!M27=\"\",\"\",Reporte!$N27)","v":""},"",{"$f":"IFERROR(AZ27*BASE!$AN$165/BASE!$AN27,\"\")","v":""},"",{"$f":"IF(BASE!N27=\"\",\"\",Reporte!$N27)","v":""},"",{"$f":"IFERROR(BD27*BASE!$AN$165/BASE!$AN27,\"\")","v":""},"",{"$f":"IF(BASE!O27=\"\",\"\",Reporte!$N27)","v":""},"",{"$f":"IFERROR(BH27*BASE!$AN$165/BASE!$AN27,\"\")","v":""},"",{"$f":"IF(BASE!P27=\"\",\"\",Reporte!$N27)","v":""},"",{"$f":"IFERROR(BL27*BASE!$AN$165/BASE!$AN27,\"\")","v":""},"",{"$f":"IF(BASE!Q27=\"\",\"\",Reporte!$N27)","v":""},"",{"$f":"IFERROR(BP27*BASE!$AN$165/BASE!$AN27,\"\")","v":""},"",{"$f":"IF(BASE!R27=\"\",\"\",Reporte!$N27)","v":""},"",{"$f":"IFERROR(BT27*BASE!$AN$165/BASE!$AN27,\"\")","v":""},"",{"$f":"IF(BASE!S27=\"\",\"\",Reporte!$N27)","v":""},"",{"$f":"IFERROR(BX27*BASE!$AN$165/BASE!$AN27,\"\")","v":""},"",{"$f":"IF(BASE!T27=\"\",\"\",Reporte!$N27)","v":""},"",{"$f":"IFERROR(CB27*BASE!$AN$165/BASE!$AN27,\"\")","v":""},"",{"$f":"IF(BASE!U27=\"\",\"\",Reporte!$N27)","v":""},"",{"$f":"IFERROR(CF27*BASE!$AN$165/BASE!$AN27,\"\")","v":""},"",{"$f":"IF(BASE!V27=\"\",\"\",Reporte!$N27)","v":""},"",{"$f":"IFERROR(CJ27*BASE!$AN$165/BASE!$AN27,\"\")","v":""},"",{"$f":"IF(BASE!W27=\"\",\"\",Reporte!$N27)","v":""},"",{"$f":"IFERROR(CN27*BASE!$AN$165/BASE!$AN27,\"\")","v":""},"",{"$f":"IF(BASE!X27=\"\",\"\",Reporte!$N27)","v":""},"",{"$f":"IFERROR(CR27*BASE!$AN$165/BASE!$AN27,\"\")","v":""},"",{"$f":"IF(BASE!Y27=\"\",\"\",Reporte!$N27)","v":""},"",{"$f":"IFERROR(CV27*BASE!$AN$165/BASE!$AN27,\"\")","v":""},"",{"$f":"IF(BASE!Z27=\"\",\"\",Reporte!$N27)","v":""},"",{"$f":"IFERROR(CZ27*BASE!$AN$165/BASE!$AN27,\"\")","v":""},"",{"$f":"IF(BASE!AA27=\"\",\"\",Reporte!$N27)","v":""},"",{"$f":"IFERROR(DD27*BASE!$AN$165/BASE!$AN27,\"\")","v":""},"",{"$f":"IF(BASE!AB27=\"\",\"\",Reporte!$N27)","v":""},"",{"$f":"IFERROR(DH27*BASE!$AN$165/BASE!$AN27,\"\")","v":""},"",{"$f":"IF(BASE!AC27=\"\",\"\",Reporte!$N27)","v":""},"",{"$f":"IFERROR(DL27*BASE!$AN$165/BASE!$AN27,\"\")","v":""},"",{"$f":"IF(BASE!AD27=\"\",\"\",Reporte!$N27)","v":""},"",{"$f":"IFERROR(DP27*BASE!$AN$165/BASE!$AN27,\"\")","v":""},"",{"$f":"IF(BASE!AE27=\"\",\"\",Reporte!$N27)","v":""},"",{"$f":"IFERROR(DT27*BASE!$AN$165/BASE!$AN27,\"\")","v":""},"",{"$f":"IF(BASE!AF27=\"\",\"\",Reporte!$N27)","v":""},"",{"$f":"IFERROR(DX27*BASE!$AN$165/BASE!$AN27,\"\")","v":""},"",{"$f":"IF(BASE!AG27=\"\",\"\",Reporte!$N27)","v":""},"",{"$f":"IFERROR(EB27*BASE!$AN$165/BASE!$AN27,\"\")","v":""},"",{"$f":"IF(BASE!AH27=\"\",\"\",Reporte!$N27)","v":""},"",{"$f":"IFERROR(EF27*BASE!$AN$165/BASE!$AN27,\"\")","v":""},"",{"$f":"IF(BASE!AI27=\"\",\"\",Reporte!$N27)","v":""},"",{"$f":"IFERROR(EJ27*BASE!$AN$165/BASE!$AN27,\"\")","v":""},"",{"$f":"IF(BASE!AJ27=\"\",\"\",Reporte!$N27)","v":""},"",{"$f":"IFERROR(EN27*BASE!$AN$165/BASE!$AN27,\"\")","v":""},"",{"$f":"IF(BASE!AK27=\"\",\"\",Reporte!$N27)","v":""},"",{"$f":"IFERROR(ER27*BASE!$AN$165/BASE!$AN27,\"\")","v":""},"",{"$f":"IF(BASE!AL27=\"\",\"\",Reporte!$N27)","v":""},"",{"$f":"IFERROR(EV27*BASE!$AN$165/BASE!$AN27,\"\")","v":""},""]
[null,null,"Criterio Evaluación 2.3","",{"$f":"'Ciencias Sociales'!E9","v":1},{"$f":"'Ciencias Sociales'!F9","v":4.7619047619047616E-2},{"$f":"'Ciencias Sociales'!G9","v":""},null,null,null,null,null,"Criterio Evaluación 2.3","",{"$f":"'Peso criterios carga horaria'!F28","v":2},{"$f":"O28*BASE!$AN$165/BASE!AN28","v":1.5880341880341882},4.5819014891179842E-3,"",{"$f":"IF(BASE!E28=\"\",\"\",Reporte!$N28)","v":""},"",{"$f":"IFERROR(T28*BASE!$AN$165/BASE!$AN28,\"\")","v":""},"",{"$f":"IF(BASE!F28=\"\",\"\",Reporte!$N28)","v":""},"",{"$f":"IFERROR(X28*BASE!$AN$165/BASE!$AN28,\"\")","v":""},"",{"$f":"IF(BASE!G28=\"\",\"\",Reporte!$N28)","v":""},"",{"$f":"IFERROR(AB28*BASE!$AN$165/BASE!$AN28,\"\")","v":""},"",{"$f":"IF(BASE!H28=\"\",\"\",Reporte!$N28)","v":""},"",{"$f":"IFERROR(AF28*BASE!$AN$165/BASE!$AN28,\"\")","v":""},"",{"$f":"IF(BASE!I28=\"\",\"\",Reporte!$N28)","v":""},"",{"$f":"IFERROR(AJ28*BASE!$AN$165/BASE!$AN28,\"\")","v":""},"",{"$f":"IF(BASE!J28=\"\",\"\",Reporte!$N28)","v":""},"",{"$f":"IFERROR(AN28*BASE!$AN$165/BASE!$AN28,\"\")","v":""},"",{"$f":"IF(BASE!K28=\"\",\"\",Reporte!$N28)","v":""},"",{"$f":"IFERROR(AR28*BASE!$AN$165/BASE!$AN28,\"\")","v":""},"",{"$f":"IF(BASE!L28=\"\",\"\",Reporte!$N28)","v":""},"",{"$f":"IFERROR(AV28*BASE!$AN$165/BASE!$AN28,\"\")","v":""},"",{"$f":"IF(BASE!M28=\"\",\"\",Reporte!$N28)","v":""},"",{"$f":"IFERROR(AZ28*BASE!$AN$165/BASE!$AN28,\"\")","v":""},"",{"$f":"IF(BASE!N28=\"\",\"\",Reporte!$N28)","v":""},"",{"$f":"IFERROR(BD28*BASE!$AN$165/BASE!$AN28,\"\")","v":""},"",{"$f":"IF(BASE!O28=\"\",\"\",Reporte!$N28)","v":""},"",{"$f":"IFERROR(BH28*BASE!$AN$165/BASE!$AN28,\"\")","v":""},"",{"$f":"IF(BASE!P28=\"\",\"\",Reporte!$N28)","v":""},"",{"$f":"IFERROR(BL28*BASE!$AN$165/BASE!$AN28,\"\")","v":""},"",{"$f":"IF(BASE!Q28=\"\",\"\",Reporte!$N28)","v":""},"",{"$f":"IFERROR(BP28*BASE!$AN$165/BASE!$AN28,\"\")","v":""},"",{"$f":"IF(BASE!R28=\"\",\"\",Reporte!$N28)","v":""},"",{"$f":"IFERROR(BT28*BASE!$AN$165/BASE!$AN28,\"\")","v":""},"",{"$f":"IF(BASE!S28=\"\",\"\",Reporte!$N28)","v":""},"",{"$f":"IFERROR(BX28*BASE!$AN$165/BASE!$AN28,\"\")","v":""},"",{"$f":"IF(BASE!T28=\"\",\"\",Reporte!$N28)","v":""},"",{"$f":"IFERROR(CB28*BASE!$AN$165/BASE!$AN28,\"\")","v":""},"",{"$f":"IF(BASE!U28=\"\",\"\",Reporte!$N28)","v":""},"",{"$f":"IFERROR(CF28*BASE!$AN$165/BASE!$AN28,\"\")","v":""},"",{"$f":"IF(BASE!V28=\"\",\"\",Reporte!$N28)","v":""},"",{"$f":"IFERROR(CJ28*BASE!$AN$165/BASE!$AN28,\"\")","v":""},"",{"$f":"IF(BASE!W28=\"\",\"\",Reporte!$N28)","v":""},"",{"$f":"IFERROR(CN28*BASE!$AN$165/BASE!$AN28,\"\")","v":""},"",{"$f":"IF(BASE!X28=\"\",\"\",Reporte!$N28)","v":""},"",{"$f":"IFERROR(CR28*BASE!$AN$165/BASE!$AN28,\"\")","v":""},"",{"$f":"IF(BASE!Y28=\"\",\"\",Reporte!$N28)","v":""},"",{"$f":"IFERROR(CV28*BASE!$AN$165/BASE!$AN28,\"\")","v":""},"",{"$f":"IF(BASE!Z28=\"\",\"\",Reporte!$N28)","v":""},"",{"$f":"IFERROR(CZ28*BASE!$AN$165/BASE!$AN28,\"\")","v":""},"",{"$f":"IF(BASE!AA28=\"\",\"\",Reporte!$N28)","v":""},"",{"$f":"IFERROR(DD28*BASE!$AN$165/BASE!$AN28,\"\")","v":""},"",{"$f":"IF(BASE!AB28=\"\",\"\",Reporte!$N28)","v":""},"",{"$f":"IFERROR(DH28*BASE!$AN$165/BASE!$AN28,\"\")","v":""},"",{"$f":"IF(BASE!AC28=\"\",\"\",Reporte!$N28)","v":""},"",{"$f":"IFERROR(DL28*BASE!$AN$165/BASE!$AN28,\"\")","v":""},"",{"$f":"IF(BASE!AD28=\"\",\"\",Reporte!$N28)","v":""},"",{"$f":"IFERROR(DP28*BASE!$AN$165/BASE!$AN28,\"\")","v":""},"",{"$f":"IF(BASE!AE28=\"\",\"\",Reporte!$N28)","v":""},"",{"$f":"IFERROR(DT28*BASE!$AN$165/BASE!$AN28,\"\")","v":""},"",{"$f":"IF(BASE!AF28=\"\",\"\",Reporte!$N28)","v":""},"",{"$f":"IFERROR(DX28*BASE!$AN$165/BASE!$AN28,\"\")","v":""},"",{"$f":"IF(BASE!AG28=\"\",\"\",Reporte!$N28)","v":""},"",{"$f":"IFERROR(EB28*BASE!$AN$165/BASE!$AN28,\"\")","v":""},"",{"$f":"IF(BASE!AH28=\"\",\"\",Reporte!$N28)","v":""},"",{"$f":"IFERROR(EF28*BASE!$AN$165/BASE!$AN28,\"\")","v":""},"",{"$f":"IF(BASE!AI28=\"\",\"\",Reporte!$N28)","v":""},"",{"$f":"IFERROR(EJ28*BASE!$AN$165/BASE!$AN28,\"\")","v":""},"",{"$f":"IF(BASE!AJ28=\"\",\"\",Reporte!$N28)","v":""},"",{"$f":"IFERROR(EN28*BASE!$AN$165/BASE!$AN28,\"\")","v":""},"",{"$f":"IF(BASE!AK28=\"\",\"\",Reporte!$N28)","v":""},"",{"$f":"IFERROR(ER28*BASE!$AN$165/BASE!$AN28,\"\")","v":""},"",{"$f":"IF(BASE!AL28=\"\",\"\",Reporte!$N28)","v":""},"",{"$f":"IFERROR(EV28*BASE!$AN$165/BASE!$AN28,\"\")","v":""},""]
[null,null,"Criterio Evaluación 2.4","",{"$f":"'Ciencias Sociales'!E10","v":1},{"$f":"'Ciencias Sociales'!F10","v":4.7619047619047616E-2},{"$f":"'Ciencias Sociales'!G10","v":""},null,null,null,null,null,"Criterio Evaluación 2.4","",{"$f":"'Peso criterios carga horaria'!F29","v":2},{"$f":"O29*BASE!$AN$165/BASE!AN29","v":1.5880341880341882},4.5819014891179842E-3,"",{"$f":"IF(BASE!E29=\"\",\"\",Reporte!$N29)","v":""},"",{"$f":"IFERROR(T29*BASE!$AN$165/BASE!$AN29,\"\")","v":""},"",{"$f":"IF(BASE!F29=\"\",\"\",Reporte!$N29)","v":""},"",{"$f":"IFERROR(X29*BASE!$AN$165/BASE!$AN29,\"\")","v":""},"",{"$f":"IF(BASE!G29=\"\",\"\",Reporte!$N29)","v":""},"",{"$f":"IFERROR(AB29*BASE!$AN$165/BASE!$AN29,\"\")","v":""},"",{"$f":"IF(BASE!H29=\"\",\"\",Reporte!$N29)","v":""},"",{"$f":"IFERROR(AF29*BASE!$AN$165/BASE!$AN29,\"\")","v":""},"",{"$f":"IF(BASE!I29=\"\",\"\",Reporte!$N29)","v":""},"",{"$f":"IFERROR(AJ29*BASE!$AN$165/BASE!$AN29,\"\")","v":""},"",{"$f":"IF(BASE!J29=\"\",\"\",Reporte!$N29)","v":""},"",{"$f":"IFERROR(AN29*BASE!$AN$165/BASE!$AN29,\"\")","v":""},"",{"$f":"IF(BASE!K29=\"\",\"\",Reporte!$N29)","v":""},"",{"$f":"IFERROR(AR29*BASE!$AN$165/BASE!$AN29,\"\")","v":""},"",{"$f":"IF(BASE!L29=\"\",\"\",Reporte!$N29)","v":""},"",{"$f":"IFERROR(AV29*BASE!$AN$165/BASE!$AN29,\"\")","v":""},"",{"$f":"IF(BASE!M29=\"\",\"\",Reporte!$N29)","v":""},"",{"$f":"IFERROR(AZ29*BASE!$AN$165/BASE!$AN29,\"\")","v":""},"",{"$f":"IF(BASE!N29=\"\",\"\",Reporte!$N29)","v":""},"",{"$f":"IFERROR(BD29*BASE!$AN$165/BASE!$AN29,\"\")","v":""},"",{"$f":"IF(BASE!O29=\"\",\"\",Reporte!$N29)","v":""},"",{"$f":"IFERROR(BH29*BASE!$AN$165/BASE!$AN29,\"\")","v":""},"",{"$f":"IF(BASE!P29=\"\",\"\",Reporte!$N29)","v":""},"",{"$f":"IFERROR(BL29*BASE!$AN$165/BASE!$AN29,\"\")","v":""},"",{"$f":"IF(BASE!Q29=\"\",\"\",Reporte!$N29)","v":""},"",{"$f":"IFERROR(BP29*BASE!$AN$165/BASE!$AN29,\"\")","v":""},"",{"$f":"IF(BASE!R29=\"\",\"\",Reporte!$N29)","v":""},"",{"$f":"IFERROR(BT29*BASE!$AN$165/BASE!$AN29,\"\")","v":""},"",{"$f":"IF(BASE!S29=\"\",\"\",Reporte!$N29)","v":""},"",{"$f":"IFERROR(BX29*BASE!$AN$165/BASE!$AN29,\"\")","v":""},"",{"$f":"IF(BASE!T29=\"\",\"\",Reporte!$N29)","v":""},"",{"$f":"IFERROR(CB29*BASE!$AN$165/BASE!$AN29,\"\")","v":""},"",{"$f":"IF(BASE!U29=\"\",\"\",Reporte!$N29)","v":""},"",{"$f":"IFERROR(CF29*BASE!$AN$165/BASE!$AN29,\"\")","v":""},"",{"$f":"IF(BASE!V29=\"\",\"\",Reporte!$N29)","v":""},"",{"$f":"IFERROR(CJ29*BASE!$AN$165/BASE!$AN29,\"\")","v":""},"",{"$f":"IF(BASE!W29=\"\",\"\",Reporte!$N29)","v":""},"",{"$f":"IFERROR(CN29*BASE!$AN$165/BASE!$AN29,\"\")","v":""},"",{"$f":"IF(BASE!X29=\"\",\"\",Reporte!$N29)","v":""},"",{"$f":"IFERROR(CR29*BASE!$AN$165/BASE!$AN29,\"\")","v":""},"",{"$f":"IF(BASE!Y29=\"\",\"\",Reporte!$N29)","v":""},"",{"$f":"IFERROR(CV29*BASE!$AN$165/BASE!$AN29,\"\")","v":""},"",{"$f":"IF(BASE!Z29=\"\",\"\",Reporte!$N29)","v":""},"",{"$f":"IFERROR(CZ29*BASE!$AN$165/BASE!$AN29,\"\")","v":""},"",{"$f":"IF(BASE!AA29=\"\",\"\",Reporte!$N29)","v":""},"",{"$f":"IFERROR(DD29*BASE!$AN$165/BASE!$AN29,\"\")","v":""},"",{"$f":"IF(BASE!AB29=\"\",\"\",Reporte!$N29)","v":""},"",{"$f":"IFERROR(DH29*BASE!$AN$165/BASE!$AN29,\"\")","v":""},"",{"$f":"IF(BASE!AC29=\"\",\"\",Reporte!$N29)","v":""},"",{"$f":"IFERROR(DL29*BASE!$AN$165/BASE!$AN29,\"\")","v":""},"",{"$f":"IF(BASE!AD29=\"\",\"\",Reporte!$N29)","v":""},"",{"$f":"IFERROR(DP29*BASE!$AN$165/BASE!$AN29,\"\")","v":""},"",{"$f":"IF(BASE!AE29=\"\",\"\",Reporte!$N29)","v":""},"",{"$f":"IFERROR(DT29*BASE!$AN$165/BASE!$AN29,\"\")","v":""},"",{"$f":"IF(BASE!AF29=\"\",\"\",Reporte!$N29)","v":""},"",{"$f":"IFERROR(DX29*BASE!$AN$165/BASE!$AN29,\"\")","v":""},"",{"$f":"IF(BASE!AG29=\"\",\"\",Reporte!$N29)","v":""},"",{"$f":"IFERROR(EB29*BASE!$AN$165/BASE!$AN29,\"\")","v":""},"",{"$f":"IF(BASE!AH29=\"\",\"\",Reporte!$N29)","v":""},"",{"$f":"IFERROR(EF29*BASE!$AN$165/BASE!$AN29,\"\")","v":""},"",{"$f":"IF(BASE!AI29=\"\",\"\",Reporte!$N29)","v":""},"",{"$f":"IFERROR(EJ29*BASE!$AN$165/BASE!$AN29,\"\")","v":""},"",{"$f":"IF(BASE!AJ29=\"\",\"\",Reporte!$N29)","v":""},"",{"$f":"IFERROR(EN29*BASE!$AN$165/BASE!$AN29,\"\")","v":""},"",{"$f":"IF(BASE!AK29=\"\",\"\",Reporte!$N29)","v":""},"",{"$f":"IFERROR(ER29*BASE!$AN$165/BASE!$AN29,\"\")","v":""},"",{"$f":"IF(BASE!AL29=\"\",\"\",Reporte!$N29)","v":""},"",{"$f":"IFERROR(EV29*BASE!$AN$165/BASE!$AN29,\"\")","v":""},""]
[null,"Comp. Esp. 3","Criterio Evaluación 3.1","",{"$f":"'Ciencias Sociales'!E11","v":1},{"$f":"'Ciencias Sociales'!F11","v":4.7619047619047616E-2},{"$f":"'Ciencias Sociales'!G11","v":""},null,null,null,null,"Comp. Esp. 3","Criterio Evaluación 3.1","",{"$f":"'Peso criterios carga horaria'!F30","v":2},{"$f":"O30*BASE!$AN$165/BASE!AN30","v":1.5880341880341882},4.5819014891179842E-3,"",{"$f":"IF(BASE!E30=\"\",\"\",Reporte!$N30)","v":""},"",{"$f":"IFERROR(T30*BASE!$AN$165/BASE!$AN30,\"\")","v":""},"",{"$f":"IF(BASE!F30=\"\",\"\",Reporte!$N30)","v":""},"",{"$f":"IFERROR(X30*BASE!$AN$165/BASE!$AN30,\"\")","v":""},"",{"$f":"IF(BASE!G30=\"\",\"\",Reporte!$N30)","v":""},"",{"$f":"IFERROR(AB30*BASE!$AN$165/BASE!$AN30,\"\")","v":""},"",{"$f":"IF(BASE!H30=\"\",\"\",Reporte!$N30)","v":""},"",{"$f":"IFERROR(AF30*BASE!$AN$165/BASE!$AN30,\"\")","v":""},"",{"$f":"IF(BASE!I30=\"\",\"\",Reporte!$N30)","v":""},"",{"$f":"IFERROR(AJ30*BASE!$AN$165/BASE!$AN30,\"\")","v":""},"",{"$f":"IF(BASE!J30=\"\",\"\",Reporte!$N30)","v":""},"",{"$f":"IFERROR(AN30*BASE!$AN$165/BASE!$AN30,\"\")","v":""},"",{"$f":"IF(BASE!K30=\"\",\"\",Reporte!$N30)","v":""},"",{"$f":"IFERROR(AR30*BASE!$AN$165/BASE!$AN30,\"\")","v":""},"",{"$f":"IF(BASE!L30=\"\",\"\",Reporte!$N30)","v":""},"",{"$f":"IFERROR(AV30*BASE!$AN$165/BASE!$AN30,\"\")","v":""},"",{"$f":"IF(BASE!M30=\"\",\"\",Reporte!$N30)","v":""},"",{"$f":"IFERROR(AZ30*BASE!$AN$165/BASE!$AN30,\"\")","v":""},"",{"$f":"IF(BASE!N30=\"\",\"\",Reporte!$N30)","v":""},"",{"$f":"IFERROR(BD30*BASE!$AN$165/BASE!$AN30,\"\")","v":""},"",{"$f":"IF(BASE!O30=\"\",\"\",Reporte!$N30)","v":""},"",{"$f":"IFERROR(BH30*BASE!$AN$165/BASE!$AN30,\"\")","v":""},"",{"$f":"IF(BASE!P30=\"\",\"\",Reporte!$N30)","v":""},"",{"$f":"IFERROR(BL30*BASE!$AN$165/BASE!$AN30,\"\")","v":""},"",{"$f":"IF(BASE!Q30=\"\",\"\",Reporte!$N30)","v":""},"",{"$f":"IFERROR(BP30*BASE!$AN$165/BASE!$AN30,\"\")","v":""},"",{"$f":"IF(BASE!R30=\"\",\"\",Reporte!$N30)","v":""},"",{"$f":"IFERROR(BT30*BASE!$AN$165/BASE!$AN30,\"\")","v":""},"",{"$f":"IF(BASE!S30=\"\",\"\",Reporte!$N30)","v":""},"",{"$f":"IFERROR(BX30*BASE!$AN$165/BASE!$AN30,\"\")","v":""},"",{"$f":"IF(BASE!T30=\"\",\"\",Reporte!$N30)","v":""},"",{"$f":"IFERROR(CB30*BASE!$AN$165/BASE!$AN30,\"\")","v":""},"",{"$f":"IF(BASE!U30=\"\",\"\",Reporte!$N30)","v":""},"",{"$f":"IFERROR(CF30*BASE!$AN$165/BASE!$AN30,\"\")","v":""},"",{"$f":"IF(BASE!V30=\"\",\"\",Reporte!$N30)","v":""},"",{"$f":"IFERROR(CJ30*BASE!$AN$165/BASE!$AN30,\"\")","v":""},"",{"$f":"IF(BASE!W30=\"\",\"\",Reporte!$N30)","v":""},"",{"$f":"IFERROR(CN30*BASE!$AN$165/BASE!$AN30,\"\")","v":""},"",{"$f":"IF(BASE!X30=\"\",\"\",Reporte!$N30)","v":""},"",{"$f":"IFERROR(CR30*BASE!$AN$165/BASE!$AN30,\"\")","v":""},"",{"$f":"IF(BASE!Y30=\"\",\"\",Reporte!$N30)","v":""},"",{"$f":"IFERROR(CV30*BASE!$AN$165/BASE!$AN30,\"\")","v":""},"",{"$f":"IF(BASE!Z30=\"\",\"\",Reporte!$N30)","v":""},"",{"$f":"IFERROR(CZ30*BASE!$AN$165/BASE!$AN30,\"\")","v":""},"",{"$f":"IF(BASE!AA30=\"\",\"\",Reporte!$N30)","v":""},"",{"$f":"IFERROR(DD30*BASE!$AN$165/BASE!$AN30,\"\")","v":""},"",{"$f":"IF(BASE!AB30=\"\",\"\",Reporte!$N30)","v":""},"",{"$f":"IFERROR(DH30*BASE!$AN$165/BASE!$AN30,\"\")","v":""},"",{"$f":"IF(BASE!AC30=\"\",\"\",Reporte!$N30)","v":""},"",{"$f":"IFERROR(DL30*BASE!$AN$165/BASE!$AN30,\"\")","v":""},"",{"$f":"IF(BASE!AD30=\"\",\"\",Reporte!$N30)","v":""},"",{"$f":"IFERROR(DP30*BASE!$AN$165/BASE!$AN30,\"\")","v":""},"",{"$f":"IF(BASE!AE30=\"\",\"\",Reporte!$N30)","v":""},"",{"$f":"IFERROR(DT30*BASE!$AN$165/BASE!$AN30,\"\")","v":""},"",{"$f":"IF(BASE!AF30=\"\",\"\",Reporte!$N30)","v":""},"",{"$f":"IFERROR(DX30*BASE!$AN$165/BASE!$AN30,\"\")","v":""},"",{"$f":"IF(BASE!AG30=\"\",\"\",Reporte!$N30)","v":""},"",{"$f":"IFERROR(EB30*BASE!$AN$165/BASE!$AN30,\"\")","v":""},"",{"$f":"IF(BASE!AH30=\"\",\"\",Reporte!$N30)","v":""},"",{"$f":"IFERROR(EF30*BASE!$AN$165/BASE!$AN30,\"\")","v":""},"",{"$f":"IF(BASE!AI30=\"\",\"\",Reporte!$N30)","v":""},"",{"$f":"IFERROR(EJ30*BASE!$AN$165/BASE!$AN30,\"\")","v":""},"",{"$f":"IF(BASE!AJ30=\"\",\"\",Reporte!$N30)","v":""},"",{"$f":"IFERROR(EN30*BASE!$AN$165/BASE!$AN30,\"\")","v":""},"",{"$f":"IF(BASE!AK30=\"\",\"\",Reporte!$N30)","v":""},"",{"$f":"IFERROR(ER30*BASE!$AN$165/BASE!$AN30,\"\")","v":""},"",{"$f":"IF(BASE!AL30=\"\",\"\",Reporte!$N30)","v":""},"",{"$f":"IFERROR(EV30*BASE!$AN$165/BASE!$AN30,\"\")","v":""},""]
[null,null,"Criterio Evaluación 3.2","",{"$f":"'Ciencias Sociales'!E12","v":1},{"$f":"'Ciencias Sociales'!F12","v":4.7619047619047616E-2},{"$f":"'Ciencias Sociales'!G12","v":""},null,null,null,null,null,"Criterio Evaluación 3.2","",{"$f":"'Peso criterios carga horaria'!F31","v":2},{"$f":"O31*BASE!$AN$165/BASE!AN31","v":1.5880341880341882},4.5819014891179842E-3,"",{"$f":"IF(BASE!E31=\"\",\"\",Reporte!$N31)","v":""},"",{"$f":"IFERROR(T31*BASE!$AN$165/BASE!$AN31,\"\")","v":""},"",{"$f":"IF(BASE!F31=\"\",\"\",Reporte!$N31)","v":""},"",{"$f":"IFERROR(X31*BASE!$AN$165/BASE!$AN31,\"\")","v":""},"",{"$f":"IF(BASE!G31=\"\",\"\",Reporte!$N31)","v":""},"",{"$f":"IFERROR(AB31*BASE!$AN$165/BASE!$AN31,\"\")","v":""},"",{"$f":"IF(BASE!H31=\"\",\"\",Reporte!$N31)","v":""},"",{"$f":"IFERROR(AF31*BASE!$AN$165/BASE!$AN31,\"\")","v":""},"",{"$f":"IF(BASE!I31=\"\",\"\",Reporte!$N31)","v":""},"",{"$f":"IFERROR(AJ31*BASE!$AN$165/BASE!$AN31,\"\")","v":""},"",{"$f":"IF(BASE!J31=\"\",\"\",Reporte!$N31)","v":""},"",{"$f":"IFERROR(AN31*BASE!$AN$165/BASE!$AN31,\"\")","v":""},"",{"$f":"IF(BASE!K31=\"\",\"\",Reporte!$N31)","v":""},"",{"$f":"IFERROR(AR31*BASE!$AN$165/BASE!$AN31,\"\")","v":""},"",{"$f":"IF(BASE!L31=\"\",\"\",Reporte!$N31)","v":""},"",{"$f":"IFERROR(AV31*BASE!$AN$165/BASE!$AN31,\"\")","v":""},"",{"$f":"IF(BASE!M31=\"\",\"\",Reporte!$N31)","v":""},"",{"$f":"IFERROR(AZ31*BASE!$AN$165/BASE!$AN31,\"\")","v":""},"",{"$f":"IF(BASE!N31=\"\",\"\",Reporte!$N31)","v":""},"",{"$f":"IFERROR(BD31*BASE!$AN$165/BASE!$AN31,\"\")","v":""},"",{"$f":"IF(BASE!O31=\"\",\"\",Reporte!$N31)","v":""},"",{"$f":"IFERROR(BH31*BASE!$AN$165/BASE!$AN31,\"\")","v":""},"",{"$f":"IF(BASE!P31=\"\",\"\",Reporte!$N31)","v":""},"",{"$f":"IFERROR(BL31*BASE!$AN$165/BASE!$AN31,\"\")","v":""},"",{"$f":"IF(BASE!Q31=\"\",\"\",Reporte!$N31)","v":""},"",{"$f":"IFERROR(BP31*BASE!$AN$165/BASE!$AN31,\"\")","v":""},"",{"$f":"IF(BASE!R31=\"\",\"\",Reporte!$N31)","v":""},"",{"$f":"IFERROR(BT31*BASE!$AN$165/BASE!$AN31,\"\")","v":""},"",{"$f":"IF(BASE!S31=\"\",\"\",Reporte!$N31)","v":""},"",{"$f":"IFERROR(BX31*BASE!$AN$165/BASE!$AN31,\"\")","v":""},"",{"$f":"IF(BASE!T31=\"\",\"\",Reporte!$N31)","v":""},"",{"$f":"IFERROR(CB31*BASE!$AN$165/BASE!$AN31,\"\")","v":""},"",{"$f":"IF(BASE!U31=\"\",\"\",Reporte!$N31)","v":""},"",{"$f":"IFERROR(CF31*BASE!$AN$165/BASE!$AN31,\"\")","v":""},"",{"$f":"IF(BASE!V31=\"\",\"\",Reporte!$N31)","v":""},"",{"$f":"IFERROR(CJ31*BASE!$AN$165/BASE!$AN31,\"\")","v":""},"",{"$f":"IF(BASE!W31=\"\",\"\",Reporte!$N31)","v":""},"",{"$f":"IFERROR(CN31*BASE!$AN$165/BASE!$AN31,\"\")","v":""},"",{"$f":"IF(BASE!X31=\"\",\"\",Reporte!$N31)","v":""},"",{"$f":"IFERROR(CR31*BASE!$AN$165/BASE!$AN31,\"\")","v":""},"",{"$f":"IF(BASE!Y31=\"\",\"\",Reporte!$N31)","v":""},"",{"$f":"IFERROR(CV31*BASE!$AN$165/BASE!$AN31,\"\")","v":""},"",{"$f":"IF(BASE!Z31=\"\",\"\",Reporte!$N31)","v":""},"",{"$f":"IFERROR(CZ31*BASE!$AN$165/BASE!$AN31,\"\")","v":""},"",{"$f":"IF(BASE!AA31=\"\",\"\",Reporte!$N31)","v":""},"",{"$f":"IFERROR(DD31*BASE!$AN$165/BASE!$AN31,\"\")","v":""},"",{"$f":"IF(BASE!AB31=\"\",\"\",Reporte!$N31)","v":""},"",{"$f":"IFERROR(DH31*BASE!$AN$165/BASE!$AN31,\"\")","v":""},"",{"$f":"IF(BASE!AC31=\"\",\"\",Reporte!$N31)","v":""},"",{"$f":"IFERROR(DL31*BASE!$AN$165/BASE!$AN31,\"\")","v":""},"",{"$f":"IF(BASE!AD31=\"\",\"\",Reporte!$N31)","v":""},"",{"$f":"IFERROR(DP31*BASE!$AN$165/BASE!$AN31,\"\")","v":""},"",{"$f":"IF(BASE!AE31=\"\",\"\",Reporte!$N31)","v":""},"",{"$f":"IFERROR(DT31*BASE!$AN$165/BASE!$AN31,\"\")","v":""},"",{"$f":"IF(BASE!AF31=\"\",\"\",Reporte!$N31)","v":""},"",{"$f":"IFERROR(DX31*BASE!$AN$165/BASE!$AN31,\"\")","v":""},"",{"$f":"IF(BASE!AG31=\"\",\"\",Reporte!$N31)","v":""},"",{"$f":"IFERROR(EB31*BASE!$AN$165/BASE!$AN31,\"\")","v":""},"",{"$f":"IF(BASE!AH31=\"\",\"\",Reporte!$N31)","v":""},"",{"$f":"IFERROR(EF31*BASE!$AN$165/BASE!$AN31,\"\")","v":""},"",{"$f":"IF(BASE!AI31=\"\",\"\",Reporte!$N31)","v":""},"",{"$f":"IFERROR(EJ31*BASE!$AN$165/BASE!$AN31,\"\")","v":""},"",{"$f":"IF(BASE!AJ31=\"\",\"\",Reporte!$N31)","v":""},"",{"$f":"IFERROR(EN31*BASE!$AN$165/BASE!$AN31,\"\")","v":""},"",{"$f":"IF(BASE!AK31=\"\",\"\",Reporte!$N31)","v":""},"",{"$f":"IFERROR(ER31*BASE!$AN$165/BASE!$AN31,\"\")","v":""},"",{"$f":"IF(BASE!AL31=\"\",\"\",Reporte!$N31)","v":""},"",{"$f":"IFERROR(EV31*BASE!$AN$165/BASE!$AN31,\"\")","v":""},""]
[null,null,"Criterio Evaluación 3.3","",{"$f":"'Ciencias Sociales'!E13","v":1},{"$f":"'Ciencias Sociales'!F13","v":4.7619047619047616E-2},{"$f":"'Ciencias Sociales'!G13","v":""},null,null,null,null,null,"Criterio Evaluación 3.3","",{"$f":"'Peso criterios carga horaria'!F32","v":2},{"$f":"O32*BASE!$AN$165/BASE!AN32","v":1.5880341880341882},4.5819014891179842E-3,"",{"$f":"IF(BASE!E32=\"\",\"\",Reporte!$N32)","v":""},"",{"$f":"IFERROR(T32*BASE!$AN$165/BASE!$AN32,\"\")","v":""},"",{"$f":"IF(BASE!F32=\"\",\"\",Reporte!$N32)","v":""},"",{"$f":"IFERROR(X32*BASE!$AN$165/BASE!$AN32,\"\")","v":""},"",{"$f":"IF(BASE!G32=\"\",\"\",Reporte!$N32)","v":""},"",{"$f":"IFERROR(AB32*BASE!$AN$165/BASE!$AN32,\"\")","v":""},"",{"$f":"IF(BASE!H32=\"\",\"\",Reporte!$N32)","v":""},"",{"$f":"IFERROR(AF32*BASE!$AN$165/BASE!$AN32,\"\")","v":""},"",{"$f":"IF(BASE!I32=\"\",\"\",Reporte!$N32)","v":""},"",{"$f":"IFERROR(AJ32*BASE!$AN$165/BASE!$AN32,\"\")","v":""},"",{"$f":"IF(BASE!J32=\"\",\"\",Reporte!$N32)","v":""},"",{"$f":"IFERROR(AN32*BASE!$AN$165/BASE!$AN32,\"\")","v":""},"",{"$f":"IF(BASE!K32=\"\",\"\",Reporte!$N32)","v":""},"",{"$f":"IFERROR(AR32*BASE!$AN$165/BASE!$AN32,\"\")","v":""},"",{"$f":"IF(BASE!L32=\"\",\"\",Reporte!$N32)","v":""},"",{"$f":"IFERROR(AV32*BASE!$AN$165/BASE!$AN32,\"\")","v":""},"",{"$f":"IF(BASE!M32=\"\",\"\",Reporte!$N32)","v":""},"",{"$f":"IFERROR(AZ32*BASE!$AN$165/BASE!$AN32,\"\")","v":""},"",{"$f":"IF(BASE!N32=\"\",\"\",Reporte!$N32)","v":""},"",{"$f":"IFERROR(BD32*BASE!$AN$165/BASE!$AN32,\"\")","v":""},"",{"$f":"IF(BASE!O32=\"\",\"\",Reporte!$N32)","v":""},"",{"$f":"IFERROR(BH32*BASE!$AN$165/BASE!$AN32,\"\")","v":""},"",{"$f":"IF(BASE!P32=\"\",\"\",Reporte!$N32)","v":""},"",{"$f":"IFERROR(BL32*BASE!$AN$165/BASE!$AN32,\"\")","v":""},"",{"$f":"IF(BASE!Q32=\"\",\"\",Reporte!$N32)","v":""},"",{"$f":"IFERROR(BP32*BASE!$AN$165/BASE!$AN32,\"\")","v":""},"",{"$f":"IF(BASE!R32=\"\",\"\",Reporte!$N32)","v":""},"",{"$f":"IFERROR(BT32*BASE!$AN$165/BASE!$AN32,\"\")","v":""},"",{"$f":"IF(BASE!S32=\"\",\"\",Reporte!$N32)","v":""},"",{"$f":"IFERROR(BX32*BASE!$AN$165/BASE!$AN32,\"\")","v":""},"",{"$f":"IF(BASE!T32=\"\",\"\",Reporte!$N32)","v":""},"",{"$f":"IFERROR(CB32*BASE!$AN$165/BASE!$AN32,\"\")","v":""},"",{"$f":"IF(BASE!U32=\"\",\"\",Reporte!$N32)","v":""},"",{"$f":"IFERROR(CF32*BASE!$AN$165/BASE!$AN32,\"\")","v":""},"",{"$f":"IF(BASE!V32=\"\",\"\",Reporte!$N32)","v":""},"",{"$f":"IFERROR(CJ32*BASE!$AN$165/BASE!$AN32,\"\")","v":""},"",{"$f":"IF(BASE!W32=\"\",\"\",Reporte!$N32)","v":""},"",{"$f":"IFERROR(CN32*BASE!$AN$165/BASE!$AN32,\"\")","v":""},"",{"$f":"IF(BASE!X32=\"\",\"\",Reporte!$N32)","v":""},"",{"$f":"IFERROR(CR32*BASE!$AN$165/BASE!$AN32,\"\")","v":""},"",{"$f":"IF(BASE!Y32=\"\",\"\",Reporte!$N32)","v":""},"",{"$f":"IFERROR(CV32*BASE!$AN$165/BASE!$AN32,\"\")","v":""},"",{"$f":"IF(BASE!Z32=\"\",\"\",Reporte!$N32)","v":""},"",{"$f":"IFERROR(CZ32*BASE!$AN$165/BASE!$AN32,\"\")","v":""},"",{"$f":"IF(BASE!AA32=\"\",\"\",Reporte!$N32)","v":""},"",{"$f":"IFERROR(DD32*BASE!$AN$165/BASE!$AN32,\"\")","v":""},"",{"$f":"IF(BASE!AB32=\"\",\"\",Reporte!$N32)","v":""},"",{"$f":"IFERROR(DH32*BASE!$AN$165/BASE!$AN32,\"\")","v":""},"",{"$f":"IF(BASE!AC32=\"\",\"\",Reporte!$N32)","v":""},"",{"$f":"IFERROR(DL32*BASE!$AN$165/BASE!$AN32,\"\")","v":""},"",{"$f":"IF(BASE!AD32=\"\",\"\",Reporte!$N32)","v":""},"",{"$f":"IFERROR(DP32*BASE!$AN$165/BASE!$AN32,\"\")","v":""},"",{"$f":"IF(BASE!AE32=\"\",\"\",Reporte!$N32)","v":""},"",{"$f":"IFERROR(DT32*BASE!$AN$165/BASE!$AN32,\"\")","v":""},"",{"$f":"IF(BASE!AF32=\"\",\"\",Reporte!$N32)","v":""},"",{"$f":"IFERROR(DX32*BASE!$AN$165/BASE!$AN32,\"\")","v":""},"",{"$f":"IF(BASE!AG32=\"\",\"\",Reporte!$N32)","v":""},"",{"$f":"IFERROR(EB32*BASE!$AN$165/BASE!$AN32,\"\")","v":""},"",{"$f":"IF(BASE!AH32=\"\",\"\",Reporte!$N32)","v":""},"",{"$f":"IFERROR(EF32*BASE!$AN$165/BASE!$AN32,\"\")","v":""},"",{"$f":"IF(BASE!AI32=\"\",\"\",Reporte!$N32)","v":""},"",{"$f":"IFERROR(EJ32*BASE!$AN$165/BASE!$AN32,\"\")","v":""},"",{"$f":"IF(BASE!AJ32=\"\",\"\",Reporte!$N32)","v":""},"",{"$f":"IFERROR(EN32*BASE!$AN$165/BASE!$AN32,\"\")","v":""},"",{"$f":"IF(BASE!AK32=\"\",\"\",Reporte!$N32)","v":""},"",{"$f":"IFERROR(ER32*BASE!$AN$165/BASE!$AN32,\"\")","v":""},"",{"$f":"IF(BASE!AL32=\"\",\"\",Reporte!$N32)","v":""},"",{"$f":"IFERROR(EV32*BASE!$AN$165/BASE!$AN32,\"\")","v":""},""]
[null,"Comp. Esp. 4","Criterio Evaluación 4.1","",{"$f":"'Ciencias Sociales'!E14","v":1},{"$f":"'Ciencias Sociales'!F14","v":4.7619047619047616E-2},{"$f":"'Ciencias Sociales'!G14","v":""},null,null,null,null,"Comp. Esp. 4","Criterio Evaluación 4.1","",{"$f":"'Peso criterios carga horaria'!F33","v":2},{"$f":"O33*BASE!$AN$165/BASE!AN33","v":1.5880341880341882},4.5819014891179842E-3,"",{"$f":"IF(BASE!E33=\"\",\"\",Reporte!$N33)","v":""},"",{"$f":"IFERROR(T33*BASE!$AN$165/BASE!$AN33,\"\")","v":""},"",{"$f":"IF(BASE!F33=\"\",\"\",Reporte!$N33)","v":""},"",{"$f":"IFERROR(X33*BASE!$AN$165/BASE!$AN33,\"\")","v":""},"",{"$f":"IF(BASE!G33=\"\",\"\",Reporte!$N33)","v":""},"",{"$f":"IFERROR(AB33*BASE!$AN$165/BASE!$AN33,\"\")","v":""},"",{"$f":"IF(BASE!H33=\"\",\"\",Reporte!$N33)","v":""},"",{"$f":"IFERROR(AF33*BASE!$AN$165/BASE!$AN33,\"\")","v":""},"",{"$f":"IF(BASE!I33=\"\",\"\",Reporte!$N33)","v":""},"",{"$f":"IFERROR(AJ33*BASE!$AN$165/BASE!$AN33,\"\")","v":""},"",{"$f":"IF(BASE!J33=\"\",\"\",Reporte!$N33)","v":""},"",{"$f":"IFERROR(AN33*BASE!$AN$165/BASE!$AN33,\"\")","v":""},"",{"$f":"IF(BASE!K33=\"\",\"\",Reporte!$N33)","v":""},"",{"$f":"IFERROR(AR33*BASE!$AN$165/BASE!$AN33,\"\")","v":""},"",{"$f":"IF(BASE!L33=\"\",\"\",Reporte!$N33)","v":""},"",{"$f":"IFERROR(AV33*BASE!$AN$165/BASE!$AN33,\"\")","v":""},"",{"$f":"IF(BASE!M33=\"\",\"\",Reporte!$N33)","v":""},"",{"$f":"IFERROR(AZ33*BASE!$AN$165/BASE!$AN33,\"\")","v":""},"",{"$f":"IF(BASE!N33=\"\",\"\",Reporte!$N33)","v":""},"",{"$f":"IFERROR(BD33*BASE!$AN$165/BASE!$AN33,\"\")","v":""},"",{"$f":"IF(BASE!O33=\"\",\"\",Reporte!$N33)","v":""},"",{"$f":"IFERROR(BH33*BASE!$AN$165/BASE!$AN33,\"\")","v":""},"",{"$f":"IF(BASE!P33=\"\",\"\",Reporte!$N33)","v":""},"",{"$f":"IFERROR(BL33*BASE!$AN$165/BASE!$AN33,\"\")","v":""},"",{"$f":"IF(BASE!Q33=\"\",\"\",Reporte!$N33)","v":""},"",{"$f":"IFERROR(BP33*BASE!$AN$165/BASE!$AN33,\"\")","v":""},"",{"$f":"IF(BASE!R33=\"\",\"\",Reporte!$N33)","v":""},"",{"$f":"IFERROR(BT33*BASE!$AN$165/BASE!$AN33,\"\")","v":""},"",{"$f":"IF(BASE!S33=\"\",\"\",Reporte!$N33)","v":""},"",{"$f":"IFERROR(BX33*BASE!$AN$165/BASE!$AN33,\"\")","v":""},"",{"$f":"IF(BASE!T33=\"\",\"\",Reporte!$N33)","v":""},"",{"$f":"IFERROR(CB33*BASE!$AN$165/BASE!$AN33,\"\")","v":""},"",{"$f":"IF(BASE!U33=\"\",\"\",Reporte!$N33)","v":""},"",{"$f":"IFERROR(CF33*BASE!$AN$165/BASE!$AN33,\"\")","v":""},"",{"$f":"IF(BASE!V33=\"\",\"\",Reporte!$N33)","v":""},"",{"$f":"IFERROR(CJ33*BASE!$AN$165/BASE!$AN33,\"\")","v":""},"",{"$f":"IF(BASE!W33=\"\",\"\",Reporte!$N33)","v":""},"",{"$f":"IFERROR(CN33*BASE!$AN$165/BASE!$AN33,\"\")","v":""},"",{"$f":"IF(BASE!X33=\"\",\"\",Reporte!$N33)","v":""},"",{"$f":"IFERROR(CR33*BASE!$AN$165/BASE!$AN33,\"\")","v":""},"",{"$f":"IF(BASE!Y33=\"\",\"\",Reporte!$N33)","v":""},"",{"$f":"IFERROR(CV33*BASE!$AN$165/BASE!$AN33,\"\")","v":""},"",{"$f":"IF(BASE!Z33=\"\",\"\",Reporte!$N33)","v":""},"",{"$f":"IFERROR(CZ33*BASE!$AN$165/BASE!$AN33,\"\")","v":""},"",{"$f":"IF(BASE!AA33=\"\",\"\",Reporte!$N33)","v":""},"",{"$f":"IFERROR(DD33*BASE!$AN$165/BASE!$AN33,\"\")","v":""},"",{"$f":"IF(BASE!AB33=\"\",\"\",Reporte!$N33)","v":""},"",{"$f":"IFERROR(DH33*BASE!$AN$165/BASE!$AN33,\"\")","v":""},"",{"$f":"IF(BASE!AC33=\"\",\"\",Reporte!$N33)","v":""},"",{"$f":"IFERROR(DL33*BASE!$AN$165/BASE!$AN33,\"\")","v":""},"",{"$f":"IF(BASE!AD33=\"\",\"\",Reporte!$N33)","v":""},"",{"$f":"IFERROR(DP33*BASE!$AN$165/BASE!$AN33,\"\")","v":""},"",{"$f":"IF(BASE!AE33=\"\",\"\",Reporte!$N33)","v":""},"",{"$f":"IFERROR(DT33*BASE!$AN$165/BASE!$AN33,\"\")","v":""},"",{"$f":"IF(BASE!AF33=\"\",\"\",Reporte!$N33)","v":""},"",{"$f":"IFERROR(DX33*BASE!$AN$165/BASE!$AN33,\"\")","v":""},"",{"$f":"IF(BASE!AG33=\"\",\"\",Reporte!$N33)","v":""},"",{"$f":"IFERROR(EB33*BASE!$AN$165/BASE!$AN33,\"\")","v":""},"",{"$f":"IF(BASE!AH33=\"\",\"\",Reporte!$N33)","v":""},"",{"$f":"IFERROR(EF33*BASE!$AN$165/BASE!$AN33,\"\")","v":""},"",{"$f":"IF(BASE!AI33=\"\",\"\",Reporte!$N33)","v":""},"",{"$f":"IFERROR(EJ33*BASE!$AN$165/BASE!$AN33,\"\")","v":""},"",{"$f":"IF(BASE!AJ33=\"\",\"\",Reporte!$N33)","v":""},"",{"$f":"IFERROR(EN33*BASE!$AN$165/BASE!$AN33,\"\")","v":""},"",{"$f":"IF(BASE!AK33=\"\",\"\",Reporte!$N33)","v":""},"",{"$f":"IFERROR(ER33*BASE!$AN$165/BASE!$AN33,\"\")","v":""},"",{"$f":"IF(BASE!AL33=\"\",\"\",Reporte!$N33)","v":""},"",{"$f":"IFERROR(EV33*BASE!$AN$165/BASE!$AN33,\"\")","v":""},""]
[null,null,"Criterio Evaluación 4.2","",{"$f":"'Ciencias Sociales'!E15","v":1},{"$f":"'Ciencias Sociales'!F15","v":4.7619047619047616E-2},{"$f":"'Ciencias Sociales'!G15","v":""},null,null,null,null,null,"Criterio Evaluación 4.2","",{"$f":"'Peso criterios carga horaria'!F34","v":2},{"$f":"O34*BASE!$AN$165/BASE!AN34","v":1.5880341880341882},4.5819014891179842E-3,"",{"$f":"IF(BASE!E34=\"\",\"\",Reporte!$N34)","v":""},"",{"$f":"IFERROR(T34*BASE!$AN$165/BASE!$AN34,\"\")","v":""},"",{"$f":"IF(BASE!F34=\"\",\"\",Reporte!$N34)","v":""},"",{"$f":"IFERROR(X34*BASE!$AN$165/BASE!$AN34,\"\")","v":""},"",{"$f":"IF(BASE!G34=\"\",\"\",Reporte!$N34)","v":""},"",{"$f":"IFERROR(AB34*BASE!$AN$165/BASE!$AN34,\"\")","v":""},"",{"$f":"IF(BASE!H34=\"\",\"\",Reporte!$N34)","v":""},"",{"$f":"IFERROR(AF34*BASE!$AN$165/BASE!$AN34,\"\")","v":""},"",{"$f":"IF(BASE!I34=\"\",\"\",Reporte!$N34)","v":""},"",{"$f":"IFERROR(AJ34*BASE!$AN$165/BASE!$AN34,\"\")","v":""},"",{"$f":"IF(BASE!J34=\"\",\"\",Reporte!$N34)","v":""},"",{"$f":"IFERROR(AN34*BASE!$AN$165/BASE!$AN34,\"\")","v":""},"",{"$f":"IF(BASE!K34=\"\",\"\",Reporte!$N34)","v":""},"",{"$f":"IFERROR(AR34*BASE!$AN$165/BASE!$AN34,\"\")","v":""},"",{"$f":"IF(BASE!L34=\"\",\"\",Reporte!$N34)","v":""},"",{"$f":"IFERROR(AV34*BASE!$AN$165/BASE!$AN34,\"\")","v":""},"",{"$f":"IF(BASE!M34=\"\",\"\",Reporte!$N34)","v":""},"",{"$f":"IFERROR(AZ34*BASE!$AN$165/BASE!$AN34,\"\")","v":""},"",{"$f":"IF(BASE!N34=\"\",\"\",Reporte!$N34)","v":""},"",{"$f":"IFERROR(BD34*BASE!$AN$165/BASE!$AN34,\"\")","v":""},"",{"$f":"IF(BASE!O34=\"\",\"\",Reporte!$N34)","v":""},"",{"$f":"IFERROR(BH34*BASE!$AN$165/BASE!$AN34,\"\")","v":""},"",{"$f":"IF(BASE!P34=\"\",\"\",Reporte!$N34)","v":""},"",{"$f":"IFERROR(BL34*BASE!$AN$165/BASE!$AN34,\"\")","v":""},"",{"$f":"IF(BASE!Q34=\"\",\"\",Reporte!$N34)","v":""},"",{"$f":"IFERROR(BP34*BASE!$AN$165/BASE!$AN34,\"\")","v":""},"",{"$f":"IF(BASE!R34=\"\",\"\",Reporte!$N34)","v":""},"",{"$f":"IFERROR(BT34*BASE!$AN$165/BASE!$AN34,\"\")","v":""},"",{"$f":"IF(BASE!S34=\"\",\"\",Reporte!$N34)","v":""},"",{"$f":"IFERROR(BX34*BASE!$AN$165/BASE!$AN34,\"\")","v":""},"",{"$f":"IF(BASE!T34=\"\",\"\",Reporte!$N34)","v":""},"",{"$f":"IFERROR(CB34*BASE!$AN$165/BASE!$AN34,\"\")","v":""},"",{"$f":"IF(BASE!U34=\"\",\"\",Reporte!$N34)","v":""},"",{"$f":"IFERROR(CF34*BASE!$AN$165/BASE!$AN34,\"\")","v":""},"",{"$f":"IF(BASE!V34=\"\",\"\",Reporte!$N34)","v":""},"",{"$f":"IFERROR(CJ34*BASE!$AN$165/BASE!$AN34,\"\")","v":""},"",{"$f":"IF(BASE!W34=\"\",\"\",Reporte!$N34)","v":""},"",{"$f":"IFERROR(CN34*BASE!$AN$165/BASE!$AN34,\"\")","v":""},"",{"$f":"IF(BASE!X34=\"\",\"\",Reporte!$N34)","v":""},"",{"$f":"IFERROR(CR34*BASE!$AN$165/BASE!$AN34,\"\")","v":""},"",{"$f":"IF(BASE!Y34=\"\",\"\",Reporte!$N34)","v":""},"",{"$f":"IFERROR(CV34*BASE!$AN$165/BASE!$AN34,\"\")","v":""},"",{"$f":"IF(BASE!Z34=\"\",\"\",Reporte!$N34)","v":""},"",{"$f":"IFERROR(CZ34*BASE!$AN$165/BASE!$AN34,\"\")","v":""},"",{"$f":"IF(BASE!AA34=\"\",\"\",Reporte!$N34)","v":""},"",{"$f":"IFERROR(DD34*BASE!$AN$165/BASE!$AN34,\"\")","v":""},"",{"$f":"IF(BASE!AB34=\"\",\"\",Reporte!$N34)","v":""},"",{"$f":"IFERROR(DH34*BASE!$AN$165/BASE!$AN34,\"\")","v":""},"",{"$f":"IF(BASE!AC34=\"\",\"\",Reporte!$N34)","v":""},"",{"$f":"IFERROR(DL34*BASE!$AN$165/BASE!$AN34,\"\")","v":""},"",{"$f":"IF(BASE!AD34=\"\",\"\",Reporte!$N34)","v":""},"",{"$f":"IFERROR(DP34*BASE!$AN$165/BASE!$AN34,\"\")","v":""},"",{"$f":"IF(BASE!AE34=\"\",\"\",Reporte!$N34)","v":""},"",{"$f":"IFERROR(DT34*BASE!$AN$165/BASE!$AN34,\"\")","v":""},"",{"$f":"IF(BASE!AF34=\"\",\"\",Reporte!$N34)","v":""},"",{"$f":"IFERROR(DX34*BASE!$AN$165/BASE!$AN34,\"\")","v":""},"",{"$f":"IF(BASE!AG34=\"\",\"\",Reporte!$N34)","v":""},"",{"$f":"IFERROR(EB34*BASE!$AN$165/BASE!$AN34,\"\")","v":""},"",{"$f":"IF(BASE!AH34=\"\",\"\",Reporte!$N34)","v":""},"",{"$f":"IFERROR(EF34*BASE!$AN$165/BASE!$AN34,\"\")","v":""},"",{"$f":"IF(BASE!AI34=\"\",\"\",Reporte!$N34)","v":""},"",{"$f":"IFERROR(EJ34*BASE!$AN$165/BASE!$AN34,\"\")","v":""},"",{"$f":"IF(BASE!AJ34=\"\",\"\",Reporte!$N34)","v":""},"",{"$f":"IFERROR(EN34*BASE!$AN$165/BASE!$AN34,\"\")","v":""},"",{"$f":"IF(BASE!AK34=\"\",\"\",Reporte!$N34)","v":""},"",{"$f":"IFERROR(ER34*BASE!$AN$165/BASE!$AN34,\"\")","v":""},"",{"$f":"IF(BASE!AL34=\"\",\"\",Reporte!$N34)","v":""},"",{"$f":"IFERROR(EV34*BASE!$AN$165/BASE!$AN34,\"\")","v":""},""]
[null,"Comp. Esp. 5","Criterio Evaluación 5.1","",{"$f":"'Ciencias Sociales'!E16","v":1},{"$f":"'Ciencias Sociales'!F16","v":4.7619047619047616E-2},{"$f":"'Ciencias Sociales'!G16","v":""},null,null,null,null,"Comp. Esp. 5","Criterio Evaluación 5.1","",{"$f":"'Peso criterios carga horaria'!F35","v":2},{"$f":"O35*BASE!$AN$165/BASE!AN35","v":1.5880341880341882},4.5819014891179842E-3,"",{"$f":"IF(BASE!E35=\"\",\"\",Reporte!$N35)","v":""},"",{"$f":"IFERROR(T35*BASE!$AN$165/BASE!$AN35,\"\")","v":""},"",{"$f":"IF(BASE!F35=\"\",\"\",Reporte!$N35)","v":""},"",{"$f":"IFERROR(X35*BASE!$AN$165/BASE!$AN35,\"\")","v":""},"",{"$f":"IF(BASE!G35=\"\",\"\",Reporte!$N35)","v":""},"",{"$f":"IFERROR(AB35*BASE!$AN$165/BASE!$AN35,\"\")","v":""},"",{"$f":"IF(BASE!H35=\"\",\"\",Reporte!$N35)","v":""},"",{"$f":"IFERROR(AF35*BASE!$AN$165/BASE!$AN35,\"\")","v":""},"",{"$f":"IF(BASE!I35=\"\",\"\",Reporte!$N35)","v":""},"",{"$f":"IFERROR(AJ35*BASE!$AN$165/BASE!$AN35,\"\")","v":""},"",{"$f":"IF(BASE!J35=\"\",\"\",Reporte!$N35)","v":""},"",{"$f":"IFERROR(AN35*BASE!$AN$165/BASE!$AN35,\"\")","v":""},"",{"$f":"IF(BASE!K35=\"\",\"\",Reporte!$N35)","v":""},"",{"$f":"IFERROR(AR35*BASE!$AN$165/BASE!$AN35,\"\")","v":""},"",{"$f":"IF(BASE!L35=\"\",\"\",Reporte!$N35)","v":""},"",{"$f":"IFERROR(AV35*BASE!$AN$165/BASE!$AN35,\"\")","v":""},"",{"$f":"IF(BASE!M35=\"\",\"\",Reporte!$N35)","v":""},"",{"$f":"IFERROR(AZ35*BASE!$AN$165/BASE!$AN35,\"\")","v":""},"",{"$f":"IF(BASE!N35=\"\",\"\",Reporte!$N35)","v":""},"",{"$f":"IFERROR(BD35*BASE!$AN$165/BASE!$AN35,\"\")","v":""},"",{"$f":"IF(BASE!O35=\"\",\"\",Reporte!$N35)","v":""},"",{"$f":"IFERROR(BH35*BASE!$AN$165/BASE!$AN35,\"\")","v":""},"",{"$f":"IF(BASE!P35=\"\",\"\",Reporte!$N35)","v":""},"",{"$f":"IFERROR(BL35*BASE!$AN$165/BASE!$AN35,\"\")","v":""},"",{"$f":"IF(BASE!Q35=\"\",\"\",Reporte!$N35)","v":""},"",{"$f":"IFERROR(BP35*BASE!$AN$165/BASE!$AN35,\"\")","v":""},"",{"$f":"IF(BASE!R35=\"\",\"\",Reporte!$N35)","v":""},"",{"$f":"IFERROR(BT35*BASE!$AN$165/BASE!$AN35,\"\")","v":""},"",{"$f":"IF(BASE!S35=\"\",\"\",Reporte!$N35)","v":""},"",{"$f":"IFERROR(BX35*BASE!$AN$165/BASE!$AN35,\"\")","v":""},"",{"$f":"IF(BASE!T35=\"\",\"\",Reporte!$N35)","v":""},"",{"$f":"IFERROR(CB35*BASE!$AN$165/BASE!$AN35,\"\")","v":""},"",{"$f":"IF(BASE!U35=\"\",\"\",Reporte!$N35)","v":""},"",{"$f":"IFERROR(CF35*BASE!$AN$165/BASE!$AN35,\"\")","v":""},"",{"$f":"IF(BASE!V35=\"\",\"\",Reporte!$N35)","v":""},"",{"$f":"IFERROR(CJ35*BASE!$AN$165/BASE!$AN35,\"\")","v":""},"",{"$f":"IF(BASE!W35=\"\",\"\",Reporte!$N35)","v":""},"",{"$f":"IFERROR(CN35*BASE!$AN$165/BASE!$AN35,\"\")","v":""},"",{"$f":"IF(BASE!X35=\"\",\"\",Reporte!$N35)","v":""},"",{"$f":"IFERROR(CR35*BASE!$AN$165/BASE!$AN35,\"\")","v":""},"",{"$f":"IF(BASE!Y35=\"\",\"\",Reporte!$N35)","v":""},"",{"$f":"IFERROR(CV35*BASE!$AN$165/BASE!$AN35,\"\")","v":""},"",{"$f":"IF(BASE!Z35=\"\",\"\",Reporte!$N35)","v":""},"",{"$f":"IFERROR(CZ35*BASE!$AN$165/BASE!$AN35,\"\")","v":""},"",{"$f":"IF(BASE!AA35=\"\",\"\",Reporte!$N35)","v":""},"",{"$f":"IFERROR(DD35*BASE!$AN$165/BASE!$AN35,\"\")","v":""},"",{"$f":"IF(BASE!AB35=\"\",\"\",Reporte!$N35)","v":""},"",{"$f":"IFERROR(DH35*BASE!$AN$165/BASE!$AN35,\"\")","v":""},"",{"$f":"IF(BASE!AC35=\"\",\"\",Reporte!$N35)","v":""},"",{"$f":"IFERROR(DL35*BASE!$AN$165/BASE!$AN35,\"\")","v":""},"",{"$f":"IF(BASE!AD35=\"\",\"\",Reporte!$N35)","v":""},"",{"$f":"IFERROR(DP35*BASE!$AN$165/BASE!$AN35,\"\")","v":""},"",{"$f":"IF(BASE!AE35=\"\",\"\",Reporte!$N35)","v":""},"",{"$f":"IFERROR(DT35*BASE!$AN$165/BASE!$AN35,\"\")","v":""},"",{"$f":"IF(BASE!AF35=\"\",\"\",Reporte!$N35)","v":""},"",{"$f":"IFERROR(DX35*BASE!$AN$165/BASE!$AN35,\"\")","v":""},"",{"$f":"IF(BASE!AG35=\"\",\"\",Reporte!$N35)","v":""},"",{"$f":"IFERROR(EB35*BASE!$AN$165/BASE!$AN35,\"\")","v":""},"",{"$f":"IF(BASE!AH35=\"\",\"\",Reporte!$N35)","v":""},"",{"$f":"IFERROR(EF35*BASE!$AN$165/BASE!$AN35,\"\")","v":""},"",{"$f":"IF(BASE!AI35=\"\",\"\",Reporte!$N35)","v":""},"",{"$f":"IFERROR(EJ35*BASE!$AN$165/BASE!$AN35,\"\")","v":""},"",{"$f":"IF(BASE!AJ35=\"\",\"\",Reporte!$N35)","v":""},"",{"$f":"IFERROR(EN35*BASE!$AN$165/BASE!$AN35,\"\")","v":""},"",{"$f":"IF(BASE!AK35=\"\",\"\",Reporte!$N35)","v":""},"",{"$f":"IFERROR(ER35*BASE!$AN$165/BASE!$AN35,\"\")","v":""},"",{"$f":"IF(BASE!AL35=\"\",\"\",Reporte!$N35)","v":""},"",{"$f":"IFERROR(EV35*BASE!$AN$165/BASE!$AN35,\"\")","v":""},""]
[null,null,"Criterio Evaluación 5.2","",{"$f":"'Ciencias Sociales'!E17","v":1},{"$f":"'Ciencias Sociales'!F17","v":4.7619047619047616E-2},{"$f":"'Ciencias Sociales'!G17","v":""},null,null,null,null,null,"Criterio Evaluación 5.2","",{"$f":"'Peso criterios carga horaria'!F36","v":2},{"$f":"O36*BASE!$AN$165/BASE!AN36","v":1.5880341880341882},4.5819014891179842E-3,"",{"$f":"IF(BASE!E36=\"\",\"\",Reporte!$N36)","v":""},"",{"$f":"IFERROR(T36*BASE!$AN$165/BASE!$AN36,\"\")","v":""},"",{"$f":"IF(BASE!F36=\"\",\"\",Reporte!$N36)","v":""},"",{"$f":"IFERROR(X36*BASE!$AN$165/BASE!$AN36,\"\")","v":""},"",{"$f":"IF(BASE!G36=\"\",\"\",Reporte!$N36)","v":""},"",{"$f":"IFERROR(AB36*BASE!$AN$165/BASE!$AN36,\"\")","v":""},"",{"$f":"IF(BASE!H36=\"\",\"\",Reporte!$N36)","v":""},"",{"$f":"IFERROR(AF36*BASE!$AN$165/BASE!$AN36,\"\")","v":""},"",{"$f":"IF(BASE!I36=\"\",\"\",Reporte!$N36)","v":""},"",{"$f":"IFERROR(AJ36*BASE!$AN$165/BASE!$AN36,\"\")","v":""},"",{"$f":"IF(BASE!J36=\"\",\"\",Reporte!$N36)","v":""},"",{"$f":"IFERROR(AN36*BASE!$AN$165/BASE!$AN36,\"\")","v":""},"",{"$f":"IF(BASE!K36=\"\",\"\",Reporte!$N36)","v":""},"",{"$f":"IFERROR(AR36*BASE!$AN$165/BASE!$AN36,\"\")","v":""},"",{"$f":"IF(BASE!L36=\"\",\"\",Reporte!$N36)","v":""},"",{"$f":"IFERROR(AV36*BASE!$AN$165/BASE!$AN36,\"\")","v":""},"",{"$f":"IF(BASE!M36=\"\",\"\",Reporte!$N36)","v":""},"",{"$f":"IFERROR(AZ36*BASE!$AN$165/BASE!$AN36,\"\")","v":""},"",{"$f":"IF(BASE!N36=\"\",\"\",Reporte!$N36)","v":""},"",{"$f":"IFERROR(BD36*BASE!$AN$165/BASE!$AN36,\"\")","v":""},"",{"$f":"IF(BASE!O36=\"\",\"\",Reporte!$N36)","v":""},"",{"$f":"IFERROR(BH36*BASE!$AN$165/BASE!$AN36,\"\")","v":""},"",{"$f":"IF(BASE!P36=\"\",\"\",Reporte!$N36)","v":""},"",{"$f":"IFERROR(BL36*BASE!$AN$165/BASE!$AN36,\"\")","v":""},"",{"$f":"IF(BASE!Q36=\"\",\"\",Reporte!$N36)","v":""},"",{"$f":"IFERROR(BP36*BASE!$AN$165/BASE!$AN36,\"\")","v":""},"",{"$f":"IF(BASE!R36=\"\",\"\",Reporte!$N36)","v":""},"",{"$f":"IFERROR(BT36*BASE!$AN$165/BASE!$AN36,\"\")","v":""},"",{"$f":"IF(BASE!S36=\"\",\"\",Reporte!$N36)","v":""},"",{"$f":"IFERROR(BX36*BASE!$AN$165/BASE!$AN36,\"\")","v":""},"",{"$f":"IF(BASE!T36=\"\",\"\",Reporte!$N36)","v":""},"",{"$f":"IFERROR(CB36*BASE!$AN$165/BASE!$AN36,\"\")","v":""},"",{"$f":"IF(BASE!U36=\"\",\"\",Reporte!$N36)","v":""},"",{"$f":"IFERROR(CF36*BASE!$AN$165/BASE!$AN36,\"\")","v":""},"",{"$f":"IF(BASE!V36=\"\",\"\",Reporte!$N36)","v":""},"",{"$f":"IFERROR(CJ36*BASE!$AN$165/BASE!$AN36,\"\")","v":""},"",{"$f":"IF(BASE!W36=\"\",\"\",Reporte!$N36)","v":""},"",{"$f":"IFERROR(CN36*BASE!$AN$165/BASE!$AN36,\"\")","v":""},"",{"$f":"IF(BASE!X36=\"\",\"\",Reporte!$N36)","v":""},"",{"$f":"IFERROR(CR36*BASE!$AN$165/BASE!$AN36,\"\")","v":""},"",{"$f":"IF(BASE!Y36=\"\",\"\",Reporte!$N36)","v":""},"",{"$f":"IFERROR(CV36*BASE!$AN$165/BASE!$AN36,\"\")","v":""},"",{"$f":"IF(BASE!Z36=\"\",\"\",Reporte!$N36)","v":""},"",{"$f":"IFERROR(CZ36*BASE!$AN$165/BASE!$AN36,\"\")","v":""},"",{"$f":"IF(BASE!AA36=\"\",\"\",Reporte!$N36)","v":""},"",{"$f":"IFERROR(DD36*BASE!$AN$165/BASE!$AN36,\"\")","v":""},"",{"$f":"IF(BASE!AB36=\"\",\"\",Reporte!$N36)","v":""},"",{"$f":"IFERROR(DH36*BASE!$AN$165/BASE!$AN36,\"\")","v":""},"",{"$f":"IF(BASE!AC36=\"\",\"\",Reporte!$N36)","v":""},"",{"$f":"IFERROR(DL36*BASE!$AN$165/BASE!$AN36,\"\")","v":""},"",{"$f":"IF(BASE!AD36=\"\",\"\",Reporte!$N36)","v":""},"",{"$f":"IFERROR(DP36*BASE!$AN$165/BASE!$AN36,\"\")","v":""},"",{"$f":"IF(BASE!AE36=\"\",\"\",Reporte!$N36)","v":""},"",{"$f":"IFERROR(DT36*BASE!$AN$165/BASE!$AN36,\"\")","v":""},"",{"$f":"IF(BASE!AF36=\"\",\"\",Reporte!$N36)","v":""},"",{"$f":"IFERROR(DX36*BASE!$AN$165/BASE!$AN36,\"\")","v":""},"",{"$f":"IF(BASE!AG36=\"\",\"\",Reporte!$N36)","v":""},"",{"$f":"IFERROR(EB36*BASE!$AN$165/BASE!$AN36,\"\")","v":""},"",{"$f":"IF(BASE!AH36=\"\",\"\",Reporte!$N36)","v":""},"",{"$f":"IFERROR(EF36*BASE!$AN$165/BASE!$AN36,\"\")","v":""},"",{"$f":"IF(BASE!AI36=\"\",\"\",Reporte!$N36)","v":""},"",{"$f":"IFERROR(EJ36*BASE!$AN$165/BASE!$AN36,\"\")","v":""},"",{"$f":"IF(BASE!AJ36=\"\",\"\",Reporte!$N36)","v":""},"",{"$f":"IFERROR(EN36*BASE!$AN$165/BASE!$AN36,\"\")","v":""},"",{"$f":"IF(BASE!AK36=\"\",\"\",Reporte!$N36)","v":""},"",{"$f":"IFERROR(ER36*BASE!$AN$165/BASE!$AN36,\"\")","v":""},"",{"$f":"IF(BASE!AL36=\"\",\"\",Reporte!$N36)","v":""},"",{"$f":"IFERROR(EV36*BASE!$AN$165/BASE!$AN36,\"\")","v":""},""]
[null,null,"Criterio Evaluación 5.3","",{"$f":"'Ciencias Sociales'!E18","v":1},{"$f":"'Ciencias Sociales'!F18","v":4.7619047619047616E-2},{"$f":"'Ciencias Sociales'!G18","v":""},null,null,null,null,null,"Criterio Evaluación 5.3","",{"$f":"'Peso criterios carga horaria'!F37","v":2},{"$f":"O37*BASE!$AN$165/BASE!AN37","v":1.5880341880341882},{"$f":"IF($P$3=\"SÍ\",O37/SUM($O$5:$O$163),\"\")","v":4.5819014891179842E-3},{"$f":"IF($P$3=\"SÍ\",IF(N37=\"\",\"\",Q37/R$176),\"\")","v":""},{"$f":"IF(BASE!E37=\"\",\"\",Reporte!$N37)","v":""},"",{"$f":"IFERROR(T37*BASE!$AN$165/BASE!$AN37,\"\")","v":""},"",{"$f":"IF(BASE!F37=\"\",\"\",Reporte!$N37)","v":""},"",{"$f":"IFERROR(X37*BASE!$AN$165/BASE!$AN37,\"\")","v":""},"",{"$f":"IF(BASE!G37=\"\",\"\",Reporte!$N37)","v":""},"",{"$f":"IFERROR(AB37*BASE!$AN$165/BASE!$AN37,\"\")","v":""},"",{"$f":"IF(BASE!H37=\"\",\"\",Reporte!$N37)","v":""},"",{"$f":"IFERROR(AF37*BASE!$AN$165/BASE!$AN37,\"\")","v":""},"",{"$f":"IF(BASE!I37=\"\",\"\",Reporte!$N37)","v":""},"",{"$f":"IFERROR(AJ37*BASE!$AN$165/BASE!$AN37,\"\")","v":""},"",{"$f":"IF(BASE!J37=\"\",\"\",Reporte!$N37)","v":""},"",{"$f":"IFERROR(AN37*BASE!$AN$165/BASE!$AN37,\"\")","v":""},"",{"$f":"IF(BASE!K37=\"\",\"\",Reporte!$N37)","v":""},"",{"$f":"IFERROR(AR37*BASE!$AN$165/BASE!$AN37,\"\")","v":""},"",{"$f":"IF(BASE!L37=\"\",\"\",Reporte!$N37)","v":""},"",{"$f":"IFERROR(AV37*BASE!$AN$165/BASE!$AN37,\"\")","v":""},"",{"$f":"IF(BASE!M37=\"\",\"\",Reporte!$N37)","v":""},"",{"$f":"IFERROR(AZ37*BASE!$AN$165/BASE!$AN37,\"\")","v":""},"",{"$f":"IF(BASE!N37=\"\",\"\",Reporte!$N37)","v":""},"",{"$f":"IFERROR(BD37*BASE!$AN$165/BASE!$AN37,\"\")","v":""},"",{"$f":"IF(BASE!O37=\"\",\"\",Reporte!$N37)","v":""},"",{"$f":"IFERROR(BH37*BASE!$AN$165/BASE!$AN37,\"\")","v":""},"",{"$f":"IF(BASE!P37=\"\",\"\",Reporte!$N37)","v":""},"",{"$f":"IFERROR(BL37*BASE!$AN$165/BASE!$AN37,\"\")","v":""},"",{"$f":"IF(BASE!Q37=\"\",\"\",Reporte!$N37)","v":""},"",{"$f":"IFERROR(BP37*BASE!$AN$165/BASE!$AN37,\"\")","v":""},"",{"$f":"IF(BASE!R37=\"\",\"\",Reporte!$N37)","v":""},"",{"$f":"IFERROR(BT37*BASE!$AN$165/BASE!$AN37,\"\")","v":""},"",{"$f":"IF(BASE!S37=\"\",\"\",Reporte!$N37)","v":""},"",{"$f":"IFERROR(BX37*BASE!$AN$165/BASE!$AN37,\"\")","v":""},"",{"$f":"IF(BASE!T37=\"\",\"\",Reporte!$N37)","v":""},"",{"$f":"IFERROR(CB37*BASE!$AN$165/BASE!$AN37,\"\")","v":""},"",{"$f":"IF(BASE!U37=\"\",\"\",Reporte!$N37)","v":""},"",{"$f":"IFERROR(CF37*BASE!$AN$165/BASE!$AN37,\"\")","v":""},"",{"$f":"IF(BASE!V37=\"\",\"\",Reporte!$N37)","v":""},"",{"$f":"IFERROR(CJ37*BASE!$AN$165/BASE!$AN37,\"\")","v":""},"",{"$f":"IF(BASE!W37=\"\",\"\",Reporte!$N37)","v":""},"",{"$f":"IFERROR(CN37*BASE!$AN$165/BASE!$AN37,\"\")","v":""},"",{"$f":"IF(BASE!X37=\"\",\"\",Reporte!$N37)","v":""},"",{"$f":"IFERROR(CR37*BASE!$AN$165/BASE!$AN37,\"\")","v":""},"",{"$f":"IF(BASE!Y37=\"\",\"\",Reporte!$N37)","v":""},"",{"$f":"IFERROR(CV37*BASE!$AN$165/BASE!$AN37,\"\")","v":""},"",{"$f":"IF(BASE!Z37=\"\",\"\",Reporte!$N37)","v":""},"",{"$f":"IFERROR(CZ37*BASE!$AN$165/BASE!$AN37,\"\")","v":""},"",{"$f":"IF(BASE!AA37=\"\",\"\",Reporte!$N37)","v":""},"",{"$f":"IFERROR(DD37*BASE!$AN$165/BASE!$AN37,\"\")","v":""},"",{"$f":"IF(BASE!AB37=\"\",\"\",Reporte!$N37)","v":""},"",{"$f":"IFERROR(DH37*BASE!$AN$165/BASE!$AN37,\"\")","v":""},"",{"$f":"IF(BASE!AC37=\"\",\"\",Reporte!$N37)","v":""},"",{"$f":"IFERROR(DL37*BASE!$AN$165/BASE!$AN37,\"\")","v":""},"",{"$f":"IF(BASE!AD37=\"\",\"\",Reporte!$N37)","v":""},"",{"$f":"IFERROR(DP37*BASE!$AN$165/BASE!$AN37,\"\")","v":""},"",{"$f":"IF(BASE!AE37=\"\",\"\",Reporte!$N37)","v":""},"",{"$f":"IFERROR(DT37*BASE!$AN$165/BASE!$AN37,\"\")","v":""},"",{"$f":"IF(BASE!AF37=\"\",\"\",Reporte!$N37)","v":""},"",{"$f":"IFERROR(DX37*BASE!$AN$165/BASE!$AN37,\"\")","v":""},"",{"$f":"IF(BASE!AG37=\"\",\"\",Reporte!$N37)","v":""},"",{"$f":"IFERROR(EB37*BASE!$AN$165/BASE!$AN37,\"\")","v":""},"",{"$f":"IF(BASE!AH37=\"\",\"\",Reporte!$N37)","v":""},"",{"$f":"IFERROR(EF37*BASE!$AN$165/BASE!$AN37,\"\")","v":""},"",{"$f":"IF(BASE!AI37=\"\",\"\",Reporte!$N37)","v":""},"",{"$f":"IFERROR(EJ37*BASE!$AN$165/BASE!$AN37,\"\")","v":""},"",{"$f":"IF(BASE!AJ37=\"\",\"\",Reporte!$N37)","v":""},"",{"$f":"IFERROR(EN37*BASE!$AN$165/BASE!$AN37,\"\")","v":""},"",{"$f":"IF(BASE!AK37=\"\",\"\",Reporte!$N37)","v":""},"",{"$f":"IFERROR(ER37*BASE!$AN$165/BASE!$AN37,\"\")","v":""},"",{"$f":"IF(BASE!AL37=\"\",\"\",Reporte!$N37)","v":""},"",{"$f":"IFERROR(EV37*BASE!$AN$165/BASE!$AN37,\"\")","v":""},""]
[null,null,"Criterio Evaluación 5.4","",{"$f":"'Ciencias Sociales'!E19","v":1},{"$f":"'Ciencias Sociales'!F19","v":4.7619047619047616E-2},{"$f":"'Ciencias Sociales'!G19","v":""},null,null,null,null,null,"Criterio Evaluación 5.4","",{"$f":"'Peso criterios carga horaria'!F38","v":2},{"$f":"O38*BASE!$AN$165/BASE!AN38","v":1.5880341880341882},4.5819014891179842E-3,"",{"$f":"IF(BASE!E38=\"\",\"\",Reporte!$N38)","v":""},"",{"$f":"IFERROR(T38*BASE!$AN$165/BASE!$AN38,\"\")","v":""},"",{"$f":"IF(BASE!F38=\"\",\"\",Reporte!$N38)","v":""},"",{"$f":"IFERROR(X38*BASE!$AN$165/BASE!$AN38,\"\")","v":""},"",{"$f":"IF(BASE!G38=\"\",\"\",Reporte!$N38)","v":""},"",{"$f":"IFERROR(AB38*BASE!$AN$165/BASE!$AN38,\"\")","v":""},"",{"$f":"IF(BASE!H38=\"\",\"\",Reporte!$N38)","v":""},"",{"$f":"IFERROR(AF38*BASE!$AN$165/BASE!$AN38,\"\")","v":""},"",{"$f":"IF(BASE!I38=\"\",\"\",Reporte!$N38)","v":""},"",{"$f":"IFERROR(AJ38*BASE!$AN$165/BASE!$AN38,\"\")","v":""},"",{"$f":"IF(BASE!J38=\"\",\"\",Reporte!$N38)","v":""},"",{"$f":"IFERROR(AN38*BASE!$AN$165/BASE!$AN38,\"\")","v":""},"",{"$f":"IF(BASE!K38=\"\",\"\",Reporte!$N38)","v":""},"",{"$f":"IFERROR(AR38*BASE!$AN$165/BASE!$AN38,\"\")","v":""},"",{"$f":"IF(BASE!L38=\"\",\"\",Reporte!$N38)","v":""},"",{"$f":"IFERROR(AV38*BASE!$AN$165/BASE!$AN38,\"\")","v":""},"",{"$f":"IF(BASE!M38=\"\",\"\",Reporte!$N38)","v":""},"",{"$f":"IFERROR(AZ38*BASE!$AN$165/BASE!$AN38,\"\")","v":""},"",{"$f":"IF(BASE!N38=\"\",\"\",Reporte!$N38)","v":""},"",{"$f":"IFERROR(BD38*BASE!$AN$165/BASE!$AN38,\"\")","v":""},"",{"$f":"IF(BASE!O38=\"\",\"\",Reporte!$N38)","v":""},"",{"$f":"IFERROR(BH38*BASE!$AN$165/BASE!$AN38,\"\")","v":""},"",{"$f":"IF(BASE!P38=\"\",\"\",Reporte!$N38)","v":""},"",{"$f":"IFERROR(BL38*BASE!$AN$165/BASE!$AN38,\"\")","v":""},"",{"$f":"IF(BASE!Q38=\"\",\"\",Reporte!$N38)","v":""},"",{"$f":"IFERROR(BP38*BASE!$AN$165/BASE!$AN38,\"\")","v":""},"",{"$f":"IF(BASE!R38=\"\",\"\",Reporte!$N38)","v":""},"",{"$f":"IFERROR(BT38*BASE!$AN$165/BASE!$AN38,\"\")","v":""},"",{"$f":"IF(BASE!S38=\"\",\"\",Reporte!$N38)","v":""},"",{"$f":"IFERROR(BX38*BASE!$AN$165/BASE!$AN38,\"\")","v":""},"",{"$f":"IF(BASE!T38=\"\",\"\",Reporte!$N38)","v":""},"",{"$f":"IFERROR(CB38*BASE!$AN$165/BASE!$AN38,\"\")","v":""},"",{"$f":"IF(BASE!U38=\"\",\"\",Reporte!$N38)","v":""},"",{"$f":"IFERROR(CF38*BASE!$AN$165/BASE!$AN38,\"\")","v":""},"",{"$f":"IF(BASE!V38=\"\",\"\",Reporte!$N38)","v":""},"",{"$f":"IFERROR(CJ38*BASE!$AN$165/BASE!$AN38,\"\")","v":""},"",{"$f":"IF(BASE!W38=\"\",\"\",Reporte!$N38)","v":""},"",{"$f":"IFERROR(CN38*BASE!$AN$165/BASE!$AN38,\"\")","v":""},"",{"$f":"IF(BASE!X38=\"\",\"\",Reporte!$N38)","v":""},"",{"$f":"IFERROR(CR38*BASE!$AN$165/BASE!$AN38,\"\")","v":""},"",{"$f":"IF(BASE!Y38=\"\",\"\",Reporte!$N38)","v":""},"",{"$f":"IFERROR(CV38*BASE!$AN$165/BASE!$AN38,\"\")","v":""},"",{"$f":"IF(BASE!Z38=\"\",\"\",Reporte!$N38)","v":""},"",{"$f":"IFERROR(CZ38*BASE!$AN$165/BASE!$AN38,\"\")","v":""},"",{"$f":"IF(BASE!AA38=\"\",\"\",Reporte!$N38)","v":""},"",{"$f":"IFERROR(DD38*BASE!$AN$165/BASE!$AN38,\"\")","v":""},"",{"$f":"IF(BASE!AB38=\"\",\"\",Reporte!$N38)","v":""},"",{"$f":"IFERROR(DH38*BASE!$AN$165/BASE!$AN38,\"\")","v":""},"",{"$f":"IF(BASE!AC38=\"\",\"\",Reporte!$N38)","v":""},"",{"$f":"IFERROR(DL38*BASE!$AN$165/BASE!$AN38,\"\")","v":""},"",{"$f":"IF(BASE!AD38=\"\",\"\",Reporte!$N38)","v":""},"",{"$f":"IFERROR(DP38*BASE!$AN$165/BASE!$AN38,\"\")","v":""},"",{"$f":"IF(BASE!AE38=\"\",\"\",Reporte!$N38)","v":""},"",{"$f":"IFERROR(DT38*BASE!$AN$165/BASE!$AN38,\"\")","v":""},"",{"$f":"IF(BASE!AF38=\"\",\"\",Reporte!$N38)","v":""},"",{"$f":"IFERROR(DX38*BASE!$AN$165/BASE!$AN38,\"\")","v":""},"",{"$f":"IF(BASE!AG38=\"\",\"\",Reporte!$N38)","v":""},"",{"$f":"IFERROR(EB38*BASE!$AN$165/BASE!$AN38,\"\")","v":""},"",{"$f":"IF(BASE!AH38=\"\",\"\",Reporte!$N38)","v":""},"",{"$f":"IFERROR(EF38*BASE!$AN$165/BASE!$AN38,\"\")","v":""},"",{"$f":"IF(BASE!AI38=\"\",\"\",Reporte!$N38)","v":""},"",{"$f":"IFERROR(EJ38*BASE!$AN$165/BASE!$AN38,\"\")","v":""},"",{"$f":"IF(BASE!AJ38=\"\",\"\",Reporte!$N38)","v":""},"",{"$f":"IFERROR(EN38*BASE!$AN$165/BASE!$AN38,\"\")","v":""},"",{"$f":"IF(BASE!AK38=\"\",\"\",Reporte!$N38)","v":""},"",{"$f":"IFERROR(ER38*BASE!$AN$165/BASE!$AN38,\"\")","v":""},"",{"$f":"IF(BASE!AL38=\"\",\"\",Reporte!$N38)","v":""},"",{"$f":"IFERROR(EV38*BASE!$AN$165/BASE!$AN38,\"\")","v":""},""]
[null,"Comp. Esp. 6","Criterio Evaluación 6.1","",{"$f":"'Ciencias Sociales'!E20","v":1},{"$f":"'Ciencias Sociales'!F20","v":4.7619047619047616E-2},{"$f":"'Ciencias Sociales'!G20","v":""},null,null,null,null,"Comp. Esp. 6","Criterio Evaluación 6.1","",{"$f":"'Peso criterios carga horaria'!F39","v":2},{"$f":"O39*BASE!$AN$165/BASE!AN39","v":1.5880341880341882},4.5819014891179842E-3,"",{"$f":"IF(BASE!E39=\"\",\"\",Reporte!$N39)","v":""},"",{"$f":"IFERROR(T39*BASE!$AN$165/BASE!$AN39,\"\")","v":""},"",{"$f":"IF(BASE!F39=\"\",\"\",Reporte!$N39)","v":""},"",{"$f":"IFERROR(X39*BASE!$AN$165/BASE!$AN39,\"\")","v":""},"",{"$f":"IF(BASE!G39=\"\",\"\",Reporte!$N39)","v":""},"",{"$f":"IFERROR(AB39*BASE!$AN$165/BASE!$AN39,\"\")","v":""},"",{"$f":"IF(BASE!H39=\"\",\"\",Reporte!$N39)","v":""},"",{"$f":"IFERROR(AF39*BASE!$AN$165/BASE!$AN39,\"\")","v":""},"",{"$f":"IF(BASE!I39=\"\",\"\",Reporte!$N39)","v":""},"",{"$f":"IFERROR(AJ39*BASE!$AN$165/BASE!$AN39,\"\")","v":""},"",{"$f":"IF(BASE!J39=\"\",\"\",Reporte!$N39)","v":""},"",{"$f":"IFERROR(AN39*BASE!$AN$165/BASE!$AN39,\"\")","v":""},"",{"$f":"IF(BASE!K39=\"\",\"\",Reporte!$N39)","v":""},"",{"$f":"IFERROR(AR39*BASE!$AN$165/BASE!$AN39,\"\")","v":""},"",{"$f":"IF(BASE!L39=\"\",\"\",Reporte!$N39)","v":""},"",{"$f":"IFERROR(AV39*BASE!$AN$165/BASE!$AN39,\"\")","v":""},"",{"$f":"IF(BASE!M39=\"\",\"\",Reporte!$N39)","v":""},"",{"$f":"IFERROR(AZ39*BASE!$AN$165/BASE!$AN39,\"\")","v":""},"",{"$f":"IF(BASE!N39=\"\",\"\",Reporte!$N39)","v":""},"",{"$f":"IFERROR(BD39*BASE!$AN$165/BASE!$AN39,\"\")","v":""},"",{"$f":"IF(BASE!O39=\"\",\"\",Reporte!$N39)","v":""},"",{"$f":"IFERROR(BH39*BASE!$AN$165/BASE!$AN39,\"\")","v":""},"",{"$f":"IF(BASE!P39=\"\",\"\",Reporte!$N39)","v":""},"",{"$f":"IFERROR(BL39*BASE!$AN$165/BASE!$AN39,\"\")","v":""},"",{"$f":"IF(BASE!Q39=\"\",\"\",Reporte!$N39)","v":""},"",{"$f":"IFERROR(BP39*BASE!$AN$165/BASE!$AN39,\"\")","v":""},"",{"$f":"IF(BASE!R39=\"\",\"\",Reporte!$N39)","v":""},"",{"$f":"IFERROR(BT39*BASE!$AN$165/BASE!$AN39,\"\")","v":""},"",{"$f":"IF(BASE!S39=\"\",\"\",Reporte!$N39)","v":""},"",{"$f":"IFERROR(BX39*BASE!$AN$165/BASE!$AN39,\"\")","v":""},"",{"$f":"IF(BASE!T39=\"\",\"\",Reporte!$N39)","v":""},"",{"$f":"IFERROR(CB39*BASE!$AN$165/BASE!$AN39,\"\")","v":""},"",{"$f":"IF(BASE!U39=\"\",\"\",Reporte!$N39)","v":""},"",{"$f":"IFERROR(CF39*BASE!$AN$165/BASE!$AN39,\"\")","v":""},"",{"$f":"IF(BASE!V39=\"\",\"\",Reporte!$N39)","v":""},"",{"$f":"IFERROR(CJ39*BASE!$AN$165/BASE!$AN39,\"\")","v":""},"",{"$f":"IF(BASE!W39=\"\",\"\",Reporte!$N39)","v":""},"",{"$f":"IFERROR(CN39*BASE!$AN$165/BASE!$AN39,\"\")","v":""},"",{"$f":"IF(BASE!X39=\"\",\"\",Reporte!$N39)","v":""},"",{"$f":"IFERROR(CR39*BASE!$AN$165/BASE!$AN39,\"\")","v":""},"",{"$f":"IF(BASE!Y39=\"\",\"\",Reporte!$N39)","v":""},"",{"$f":"IFERROR(CV39*BASE!$AN$165/BASE!$AN39,\"\")","v":""},"",{"$f":"IF(BASE!Z39=\"\",\"\",Reporte!$N39)","v":""},"",{"$f":"IFERROR(CZ39*BASE!$AN$165/BASE!$AN39,\"\")","v":""},"",{"$f":"IF(BASE!AA39=\"\",\"\",Reporte!$N39)","v":""},"",{"$f":"IFERROR(DD39*BASE!$AN$165/BASE!$AN39,\"\")","v":""},"",{"$f":"IF(BASE!AB39=\"\",\"\",Reporte!$N39)","v":""},"",{"$f":"IFERROR(DH39*BASE!$AN$165/BASE!$AN39,\"\")","v":""},"",{"$f":"IF(BASE!AC39=\"\",\"\",Reporte!$N39)","v":""},"",{"$f":"IFERROR(DL39*BASE!$AN$165/BASE!$AN39,\"\")","v":""},"",{"$f":"IF(BASE!AD39=\"\",\"\",Reporte!$N39)","v":""},"",{"$f":"IFERROR(DP39*BASE!$AN$165/BASE!$AN39,\"\")","v":""},"",{"$f":"IF(BASE!AE39=\"\",\"\",Reporte!$N39)","v":""},"",{"$f":"IFERROR(DT39*BASE!$AN$165/BASE!$AN39,\"\")","v":""},"",{"$f":"IF(BASE!AF39=\"\",\"\",Reporte!$N39)","v":""},"",{"$f":"IFERROR(DX39*BASE!$AN$165/BASE!$AN39,\"\")","v":""},"",{"$f":"IF(BASE!AG39=\"\",\"\",Reporte!$N39)","v":""},"",{"$f":"IFERROR(EB39*BASE!$AN$165/BASE!$AN39,\"\")","v":""},"",{"$f":"IF(BASE!AH39=\"\",\"\",Reporte!$N39)","v":""},"",{"$f":"IFERROR(EF39*BASE!$AN$165/BASE!$AN39,\"\")","v":""},"",{"$f":"IF(BASE!AI39=\"\",\"\",Reporte!$N39)","v":""},"",{"$f":"IFERROR(EJ39*BASE!$AN$165/BASE!$AN39,\"\")","v":""},"",{"$f":"IF(BASE!AJ39=\"\",\"\",Reporte!$N39)","v":""},"",{"$f":"IFERROR(EN39*BASE!$AN$165/BASE!$AN39,\"\")","v":""},"",{"$f":"IF(BASE!AK39=\"\",\"\",Reporte!$N39)","v":""},"",{"$f":"IFERROR(ER39*BASE!$AN$165/BASE!$AN39,\"\")","v":""},"",{"$f":"IF(BASE!AL39=\"\",\"\",Reporte!$N39)","v":""},"",{"$f":"IFERROR(EV39*BASE!$AN$165/BASE!$AN39,\"\")","v":""},""]
[null,null,"Criterio Evaluación 6.2","",{"$f":"'Ciencias Sociales'!E21","v":1},{"$f":"'Ciencias Sociales'!F21","v":4.7619047619047616E-2},{"$f":"'Ciencias Sociales'!G21","v":""},null,null,null,null,null,"Criterio Evaluación 6.2","",{"$f":"'Peso criterios carga horaria'!F40","v":2},{"$f":"O40*BASE!$AN$165/BASE!AN40","v":1.5880341880341882},4.5819014891179842E-3,"",{"$f":"IF(BASE!E40=\"\",\"\",Reporte!$N40)","v":""},"",{"$f":"IFERROR(T40*BASE!$AN$165/BASE!$AN40,\"\")","v":""},"",{"$f":"IF(BASE!F40=\"\",\"\",Reporte!$N40)","v":""},"",{"$f":"IFERROR(X40*BASE!$AN$165/BASE!$AN40,\"\")","v":""},"",{"$f":"IF(BASE!G40=\"\",\"\",Reporte!$N40)","v":""},"",{"$f":"IFERROR(AB40*BASE!$AN$165/BASE!$AN40,\"\")","v":""},"",{"$f":"IF(BASE!H40=\"\",\"\",Reporte!$N40)","v":""},"",{"$f":"IFERROR(AF40*BASE!$AN$165/BASE!$AN40,\"\")","v":""},"",{"$f":"IF(BASE!I40=\"\",\"\",Reporte!$N40)","v":""},"",{"$f":"IFERROR(AJ40*BASE!$AN$165/BASE!$AN40,\"\")","v":""},"",{"$f":"IF(BASE!J40=\"\",\"\",Reporte!$N40)","v":""},"",{"$f":"IFERROR(AN40*BASE!$AN$165/BASE!$AN40,\"\")","v":""},"",{"$f":"IF(BASE!K40=\"\",\"\",Reporte!$N40)","v":""},"",{"$f":"IFERROR(AR40*BASE!$AN$165/BASE!$AN40,\"\")","v":""},"",{"$f":"IF(BASE!L40=\"\",\"\",Reporte!$N40)","v":""},"",{"$f":"IFERROR(AV40*BASE!$AN$165/BASE!$AN40,\"\")","v":""},"",{"$f":"IF(BASE!M40=\"\",\"\",Reporte!$N40)","v":""},"",{"$f":"IFERROR(AZ40*BASE!$AN$165/BASE!$AN40,\"\")","v":""},"",{"$f":"IF(BASE!N40=\"\",\"\",Reporte!$N40)","v":""},"",{"$f":"IFERROR(BD40*BASE!$AN$165/BASE!$AN40,\"\")","v":""},"",{"$f":"IF(BASE!O40=\"\",\"\",Reporte!$N40)","v":""},"",{"$f":"IFERROR(BH40*BASE!$AN$165/BASE!$AN40,\"\")","v":""},"",{"$f":"IF(BASE!P40=\"\",\"\",Reporte!$N40)","v":""},"",{"$f":"IFERROR(BL40*BASE!$AN$165/BASE!$AN40,\"\")","v":""},"",{"$f":"IF(BASE!Q40=\"\",\"\",Reporte!$N40)","v":""},"",{"$f":"IFERROR(BP40*BASE!$AN$165/BASE!$AN40,\"\")","v":""},"",{"$f":"IF(BASE!R40=\"\",\"\",Reporte!$N40)","v":""},"",{"$f":"IFERROR(BT40*BASE!$AN$165/BASE!$AN40,\"\")","v":""},"",{"$f":"IF(BASE!S40=\"\",\"\",Reporte!$N40)","v":""},"",{"$f":"IFERROR(BX40*BASE!$AN$165/BASE!$AN40,\"\")","v":""},"",{"$f":"IF(BASE!T40=\"\",\"\",Reporte!$N40)","v":""},"",{"$f":"IFERROR(CB40*BASE!$AN$165/BASE!$AN40,\"\")","v":""},"",{"$f":"IF(BASE!U40=\"\",\"\",Reporte!$N40)","v":""},"",{"$f":"IFERROR(CF40*BASE!$AN$165/BASE!$AN40,\"\")","v":""},"",{"$f":"IF(BASE!V40=\"\",\"\",Reporte!$N40)","v":""},"",{"$f":"IFERROR(CJ40*BASE!$AN$165/BASE!$AN40,\"\")","v":""},"",{"$f":"IF(BASE!W40=\"\",\"\",Reporte!$N40)","v":""},"",{"$f":"IFERROR(CN40*BASE!$AN$165/BASE!$AN40,\"\")","v":""},"",{"$f":"IF(BASE!X40=\"\",\"\",Reporte!$N40)","v":""},"",{"$f":"IFERROR(CR40*BASE!$AN$165/BASE!$AN40,\"\")","v":""},"",{"$f":"IF(BASE!Y40=\"\",\"\",Reporte!$N40)","v":""},"",{"$f":"IFERROR(CV40*BASE!$AN$165/BASE!$AN40,\"\")","v":""},"",{"$f":"IF(BASE!Z40=\"\",\"\",Reporte!$N40)","v":""},"",{"$f":"IFERROR(CZ40*BASE!$AN$165/BASE!$AN40,\"\")","v":""},"",{"$f":"IF(BASE!AA40=\"\",\"\",Reporte!$N40)","v":""},"",{"$f":"IFERROR(DD40*BASE!$AN$165/BASE!$AN40,\"\")","v":""},"",{"$f":"IF(BASE!AB40=\"\",\"\",Reporte!$N40)","v":""},"",{"$f":"IFERROR(DH40*BASE!$AN$165/BASE!$AN40,\"\")","v":""},"",{"$f":"IF(BASE!AC40=\"\",\"\",Reporte!$N40)","v":""},"",{"$f":"IFERROR(DL40*BASE!$AN$165/BASE!$AN40,\"\")","v":""},"",{"$f":"IF(BASE!AD40=\"\",\"\",Reporte!$N40)","v":""},"",{"$f":"IFERROR(DP40*BASE!$AN$165/BASE!$AN40,\"\")","v":""},"",{"$f":"IF(BASE!AE40=\"\",\"\",Reporte!$N40)","v":""},"",{"$f":"IFERROR(DT40*BASE!$AN$165/BASE!$AN40,\"\")","v":""},"",{"$f":"IF(BASE!AF40=\"\",\"\",Reporte!$N40)","v":""},"",{"$f":"IFERROR(DX40*BASE!$AN$165/BASE!$AN40,\"\")","v":""},"",{"$f":"IF(BASE!AG40=\"\",\"\",Reporte!$N40)","v":""},"",{"$f":"IFERROR(EB40*BASE!$AN$165/BASE!$AN40,\"\")","v":""},"",{"$f":"IF(BASE!AH40=\"\",\"\",Reporte!$N40)","v":""},"",{"$f":"IFERROR(EF40*BASE!$AN$165/BASE!$AN40,\"\")","v":""},"",{"$f":"IF(BASE!AI40=\"\",\"\",Reporte!$N40)","v":""},"",{"$f":"IFERROR(EJ40*BASE!$AN$165/BASE!$AN40,\"\")","v":""},"",{"$f":"IF(BASE!AJ40=\"\",\"\",Reporte!$N40)","v":""},"",{"$f":"IFERROR(EN40*BASE!$AN$165/BASE!$AN40,\"\")","v":""},"",{"$f":"IF(BASE!AK40=\"\",\"\",Reporte!$N40)","v":""},"",{"$f":"IFERROR(ER40*BASE!$AN$165/BASE!$AN40,\"\")","v":""},"",{"$f":"IF(BASE!AL40=\"\",\"\",Reporte!$N40)","v":""},"",{"$f":"IFERROR(EV40*BASE!$AN$165/BASE!$AN40,\"\")","v":""},""]
[null,"Comp. Esp. 7","Criterio Evaluación 7.1","",{"$f":"'Ciencias Sociales'!E22","v":1},{"$f":"'Ciencias Sociales'!F22","v":4.7619047619047616E-2},{"$f":"'Ciencias Sociales'!G22","v":""},null,null,null,null,"Comp. Esp. 7","Criterio Evaluación 7.1","",{"$f":"'Peso criterios carga horaria'!F41","v":2},{"$f":"O41*BASE!$AN$165/BASE!AN41","v":1.5880341880341882},4.5819014891179842E-3,"",{"$f":"IF(BASE!E41=\"\",\"\",Reporte!$N41)","v":""},"",{"$f":"IFERROR(T41*BASE!$AN$165/BASE!$AN41,\"\")","v":""},"",{"$f":"IF(BASE!F41=\"\",\"\",Reporte!$N41)","v":""},"",{"$f":"IFERROR(X41*BASE!$AN$165/BASE!$AN41,\"\")","v":""},"",{"$f":"IF(BASE!G41=\"\",\"\",Reporte!$N41)","v":""},"",{"$f":"IFERROR(AB41*BASE!$AN$165/BASE!$AN41,\"\")","v":""},"",{"$f":"IF(BASE!H41=\"\",\"\",Reporte!$N41)","v":""},"",{"$f":"IFERROR(AF41*BASE!$AN$165/BASE!$AN41,\"\")","v":""},"",{"$f":"IF(BASE!I41=\"\",\"\",Reporte!$N41)","v":""},"",{"$f":"IFERROR(AJ41*BASE!$AN$165/BASE!$AN41,\"\")","v":""},"",{"$f":"IF(BASE!J41=\"\",\"\",Reporte!$N41)","v":""},"",{"$f":"IFERROR(AN41*BASE!$AN$165/BASE!$AN41,\"\")","v":""},"",{"$f":"IF(BASE!K41=\"\",\"\",Reporte!$N41)","v":""},"",{"$f":"IFERROR(AR41*BASE!$AN$165/BASE!$AN41,\"\")","v":""},"",{"$f":"IF(BASE!L41=\"\",\"\",Reporte!$N41)","v":""},"",{"$f":"IFERROR(AV41*BASE!$AN$165/BASE!$AN41,\"\")","v":""},"",{"$f":"IF(BASE!M41=\"\",\"\",Reporte!$N41)","v":""},"",{"$f":"IFERROR(AZ41*BASE!$AN$165/BASE!$AN41,\"\")","v":""},"",{"$f":"IF(BASE!N41=\"\",\"\",Reporte!$N41)","v":""},"",{"$f":"IFERROR(BD41*BASE!$AN$165/BASE!$AN41,\"\")","v":""},"",{"$f":"IF(BASE!O41=\"\",\"\",Reporte!$N41)","v":""},"",{"$f":"IFERROR(BH41*BASE!$AN$165/BASE!$AN41,\"\")","v":""},"",{"$f":"IF(BASE!P41=\"\",\"\",Reporte!$N41)","v":""},"",{"$f":"IFERROR(BL41*BASE!$AN$165/BASE!$AN41,\"\")","v":""},"",{"$f":"IF(BASE!Q41=\"\",\"\",Reporte!$N41)","v":""},"",{"$f":"IFERROR(BP41*BASE!$AN$165/BASE!$AN41,\"\")","v":""},"",{"$f":"IF(BASE!R41=\"\",\"\",Reporte!$N41)","v":""},"",{"$f":"IFERROR(BT41*BASE!$AN$165/BASE!$AN41,\"\")","v":""},"",{"$f":"IF(BASE!S41=\"\",\"\",Reporte!$N41)","v":""},"",{"$f":"IFERROR(BX41*BASE!$AN$165/BASE!$AN41,\"\")","v":""},"",{"$f":"IF(BASE!T41=\"\",\"\",Reporte!$N41)","v":""},"",{"$f":"IFERROR(CB41*BASE!$AN$165/BASE!$AN41,\"\")","v":""},"",{"$f":"IF(BASE!U41=\"\",\"\",Reporte!$N41)","v":""},"",{"$f":"IFERROR(CF41*BASE!$AN$165/BASE!$AN41,\"\")","v":""},"",{"$f":"IF(BASE!V41=\"\",\"\",Reporte!$N41)","v":""},"",{"$f":"IFERROR(CJ41*BASE!$AN$165/BASE!$AN41,\"\")","v":""},"",{"$f":"IF(BASE!W41=\"\",\"\",Reporte!$N41)","v":""},"",{"$f":"IFERROR(CN41*BASE!$AN$165/BASE!$AN41,\"\")","v":""},"",{"$f":"IF(BASE!X41=\"\",\"\",Reporte!$N41)","v":""},"",{"$f":"IFERROR(CR41*BASE!$AN$165/BASE!$AN41,\"\")","v":""},"",{"$f":"IF(BASE!Y41=\"\",\"\",Reporte!$N41)","v":""},"",{"$f":"IFERROR(CV41*BASE!$AN$165/BASE!$AN41,\"\")","v":""},"",{"$f":"IF(BASE!Z41=\"\",\"\",Reporte!$N41)","v":""},"",{"$f":"IFERROR(CZ41*BASE!$AN$165/BASE!$AN41,\"\")","v":""},"",{"$f":"IF(BASE!AA41=\"\",\"\",Reporte!$N41)","v":""},"",{"$f":"IFERROR(DD41*BASE!$AN$165/BASE!$AN41,\"\")","v":""},"",{"$f":"IF(BASE!AB41=\"\",\"\",Reporte!$N41)","v":""},"",{"$f":"IFERROR(DH41*BASE!$AN$165/BASE!$AN41,\"\")","v":""},"",{"$f":"IF(BASE!AC41=\"\",\"\",Reporte!$N41)","v":""},"",{"$f":"IFERROR(DL41*BASE!$AN$165/BASE!$AN41,\"\")","v":""},"",{"$f":"IF(BASE!AD41=\"\",\"\",Reporte!$N41)","v":""},"",{"$f":"IFERROR(DP41*BASE!$AN$165/BASE!$AN41,\"\")","v":""},"",{"$f":"IF(BASE!AE41=\"\",\"\",Reporte!$N41)","v":""},"",{"$f":"IFERROR(DT41*BASE!$AN$165/BASE!$AN41,\"\")","v":""},"",{"$f":"IF(BASE!AF41=\"\",\"\",Reporte!$N41)","v":""},"",{"$f":"IFERROR(DX41*BASE!$AN$165/BASE!$AN41,\"\")","v":""},"",{"$f":"IF(BASE!AG41=\"\",\"\",Reporte!$N41)","v":""},"",{"$f":"IFERROR(EB41*BASE!$AN$165/BASE!$AN41,\"\")","v":""},"",{"$f":"IF(BASE!AH41=\"\",\"\",Reporte!$N41)","v":""},"",{"$f":"IFERROR(EF41*BASE!$AN$165/BASE!$AN41,\"\")","v":""},"",{"$f":"IF(BASE!AI41=\"\",\"\",Reporte!$N41)","v":""},"",{"$f":"IFERROR(EJ41*BASE!$AN$165/BASE!$AN41,\"\")","v":""},"",{"$f":"IF(BASE!AJ41=\"\",\"\",Reporte!$N41)","v":""},"",{"$f":"IFERROR(EN41*BASE!$AN$165/BASE!$AN41,\"\")","v":""},"",{"$f":"IF(BASE!AK41=\"\",\"\",Reporte!$N41)","v":""},"",{"$f":"IFERROR(ER41*BASE!$AN$165/BASE!$AN41,\"\")","v":""},"",{"$f":"IF(BASE!AL41=\"\",\"\",Reporte!$N41)","v":""},"",{"$f":"IFERROR(EV41*BASE!$AN$165/BASE!$AN41,\"\")","v":""},""]
[null,null,"Criterio Evaluación 7.2","",{"$f":"'Ciencias Sociales'!E23","v":1},{"$f":"'Ciencias Sociales'!F23","v":4.7619047619047616E-2},{"$f":"'Ciencias Sociales'!G23","v":""},null,null,null,null,null,"Criterio Evaluación 7.2","",{"$f":"'Peso criterios carga horaria'!F42","v":2},{"$f":"O42*BASE!$AN$165/BASE!AN42","v":1.5880341880341882},4.5819014891179842E-3,"",{"$f":"IF(BASE!E42=\"\",\"\",Reporte!$N42)","v":""},"",{"$f":"IFERROR(T42*BASE!$AN$165/BASE!$AN42,\"\")","v":""},"",{"$f":"IF(BASE!F42=\"\",\"\",Reporte!$N42)","v":""},"",{"$f":"IFERROR(X42*BASE!$AN$165/BASE!$AN42,\"\")","v":""},"",{"$f":"IF(BASE!G42=\"\",\"\",Reporte!$N42)","v":""},"",{"$f":"IFERROR(AB42*BASE!$AN$165/BASE!$AN42,\"\")","v":""},"",{"$f":"IF(BASE!H42=\"\",\"\",Reporte!$N42)","v":""},"",{"$f":"IFERROR(AF42*BASE!$AN$165/BASE!$AN42,\"\")","v":""},"",{"$f":"IF(BASE!I42=\"\",\"\",Reporte!$N42)","v":""},"",{"$f":"IFERROR(AJ42*BASE!$AN$165/BASE!$AN42,\"\")","v":""},"",{"$f":"IF(BASE!J42=\"\",\"\",Reporte!$N42)","v":""},"",{"$f":"IFERROR(AN42*BASE!$AN$165/BASE!$AN42,\"\")","v":""},"",{"$f":"IF(BASE!K42=\"\",\"\",Reporte!$N42)","v":""},"",{"$f":"IFERROR(AR42*BASE!$AN$165/BASE!$AN42,\"\")","v":""},"",{"$f":"IF(BASE!L42=\"\",\"\",Reporte!$N42)","v":""},"",{"$f":"IFERROR(AV42*BASE!$AN$165/BASE!$AN42,\"\")","v":""},"",{"$f":"IF(BASE!M42=\"\",\"\",Reporte!$N42)","v":""},"",{"$f":"IFERROR(AZ42*BASE!$AN$165/BASE!$AN42,\"\")","v":""},"",{"$f":"IF(BASE!N42=\"\",\"\",Reporte!$N42)","v":""},"",{"$f":"IFERROR(BD42*BASE!$AN$165/BASE!$AN42,\"\")","v":""},"",{"$f":"IF(BASE!O42=\"\",\"\",Reporte!$N42)","v":""},"",{"$f":"IFERROR(BH42*BASE!$AN$165/BASE!$AN42,\"\")","v":""},"",{"$f":"IF(BASE!P42=\"\",\"\",Reporte!$N42)","v":""},"",{"$f":"IFERROR(BL42*BASE!$AN$165/BASE!$AN42,\"\")","v":""},"",{"$f":"IF(BASE!Q42=\"\",\"\",Reporte!$N42)","v":""},"",{"$f":"IFERROR(BP42*BASE!$AN$165/BASE!$AN42,\"\")","v":""},"",{"$f":"IF(BASE!R42=\"\",\"\",Reporte!$N42)","v":""},"",{"$f":"IFERROR(BT42*BASE!$AN$165/BASE!$AN42,\"\")","v":""},"",{"$f":"IF(BASE!S42=\"\",\"\",Reporte!$N42)","v":""},"",{"$f":"IFERROR(BX42*BASE!$AN$165/BASE!$AN42,\"\")","v":""},"",{"$f":"IF(BASE!T42=\"\",\"\",Reporte!$N42)","v":""},"",{"$f":"IFERROR(CB42*BASE!$AN$165/BASE!$AN42,\"\")","v":""},"",{"$f":"IF(BASE!U42=\"\",\"\",Reporte!$N42)","v":""},"",{"$f":"IFERROR(CF42*BASE!$AN$165/BASE!$AN42,\"\")","v":""},"",{"$f":"IF(BASE!V42=\"\",\"\",Reporte!$N42)","v":""},"",{"$f":"IFERROR(CJ42*BASE!$AN$165/BASE!$AN42,\"\")","v":""},"",{"$f":"IF(BASE!W42=\"\",\"\",Reporte!$N42)","v":""},"",{"$f":"IFERROR(CN42*BASE!$AN$165/BASE!$AN42,\"\")","v":""},"",{"$f":"IF(BASE!X42=\"\",\"\",Reporte!$N42)","v":""},"",{"$f":"IFERROR(CR42*BASE!$AN$165/BASE!$AN42,\"\")","v":""},"",{"$f":"IF(BASE!Y42=\"\",\"\",Reporte!$N42)","v":""},"",{"$f":"IFERROR(CV42*BASE!$AN$165/BASE!$AN42,\"\")","v":""},"",{"$f":"IF(BASE!Z42=\"\",\"\",Reporte!$N42)","v":""},"",{"$f":"IFERROR(CZ42*BASE!$AN$165/BASE!$AN42,\"\")","v":""},"",{"$f":"IF(BASE!AA42=\"\",\"\",Reporte!$N42)","v":""},"",{"$f":"IFERROR(DD42*BASE!$AN$165/BASE!$AN42,\"\")","v":""},"",{"$f":"IF(BASE!AB42=\"\",\"\",Reporte!$N42)","v":""},"",{"$f":"IFERROR(DH42*BASE!$AN$165/BASE!$AN42,\"\")","v":""},"",{"$f":"IF(BASE!AC42=\"\",\"\",Reporte!$N42)","v":""},"",{"$f":"IFERROR(DL42*BASE!$AN$165/BASE!$AN42,\"\")","v":""},"",{"$f":"IF(BASE!AD42=\"\",\"\",Reporte!$N42)","v":""},"",{"$f":"IFERROR(DP42*BASE!$AN$165/BASE!$AN42,\"\")","v":""},"",{"$f":"IF(BASE!AE42=\"\",\"\",Reporte!$N42)","v":""},"",{"$f":"IFERROR(DT42*BASE!$AN$165/BASE!$AN42,\"\")","v":""},"",{"$f":"IF(BASE!AF42=\"\",\"\",Reporte!$N42)","v":""},"",{"$f":"IFERROR(DX42*BASE!$AN$165/BASE!$AN42,\"\")","v":""},"",{"$f":"IF(BASE!AG42=\"\",\"\",Reporte!$N42)","v":""},"",{"$f":"IFERROR(EB42*BASE!$AN$165/BASE!$AN42,\"\")","v":""},"",{"$f":"IF(BASE!AH42=\"\",\"\",Reporte!$N42)","v":""},"",{"$f":"IFERROR(EF42*BASE!$AN$165/BASE!$AN42,\"\")","v":""},"",{"$f":"IF(BASE!AI42=\"\",\"\",Reporte!$N42)","v":""},"",{"$f":"IFERROR(EJ42*BASE!$AN$165/BASE!$AN42,\"\")","v":""},"",{"$f":"IF(BASE!AJ42=\"\",\"\",Reporte!$N42)","v":""},"",{"$f":"IFERROR(EN42*BASE!$AN$165/BASE!$AN42,\"\")","v":""},"",{"$f":"IF(BASE!AK42=\"\",\"\",Reporte!$N42)","v":""},"",{"$f":"IFERROR(ER42*BASE!$AN$165/BASE!$AN42,\"\")","v":""},"",{"$f":"IF(BASE!AL42=\"\",\"\",Reporte!$N42)","v":""},"",{"$f":"IFERROR(EV42*BASE!$AN$165/BASE!$AN42,\"\")","v":""},""]
[null,null,"Criterio Evaluación 7.3","",{"$f":"'Ciencias Sociales'!E24","v":1},{"$f":"'Ciencias Sociales'!F24","v":4.7619047619047616E-2},{"$f":"'Ciencias Sociales'!G24","v":""},null,null,null,null,null,"Criterio Evaluación 7.3","",{"$f":"'Peso criterios carga horaria'!F43","v":2},{"$f":"O43*BASE!$AN$165/BASE!AN43","v":1.5880341880341882},4.5819014891179842E-3,"",{"$f":"IF(BASE!E43=\"\",\"\",Reporte!$N43)","v":""},"",{"$f":"IFERROR(T43*BASE!$AN$165/BASE!$AN43,\"\")","v":""},"",{"$f":"IF(BASE!F43=\"\",\"\",Reporte!$N43)","v":""},"",{"$f":"IFERROR(X43*BASE!$AN$165/BASE!$AN43,\"\")","v":""},"",{"$f":"IF(BASE!G43=\"\",\"\",Reporte!$N43)","v":""},"",{"$f":"IFERROR(AB43*BASE!$AN$165/BASE!$AN43,\"\")","v":""},"",{"$f":"IF(BASE!H43=\"\",\"\",Reporte!$N43)","v":""},"",{"$f":"IFERROR(AF43*BASE!$AN$165/BASE!$AN43,\"\")","v":""},"",{"$f":"IF(BASE!I43=\"\",\"\",Reporte!$N43)","v":""},"",{"$f":"IFERROR(AJ43*BASE!$AN$165/BASE!$AN43,\"\")","v":""},"",{"$f":"IF(BASE!J43=\"\",\"\",Reporte!$N43)","v":""},"",{"$f":"IFERROR(AN43*BASE!$AN$165/BASE!$AN43,\"\")","v":""},"",{"$f":"IF(BASE!K43=\"\",\"\",Reporte!$N43)","v":""},"",{"$f":"IFERROR(AR43*BASE!$AN$165/BASE!$AN43,\"\")","v":""},"",{"$f":"IF(BASE!L43=\"\",\"\",Reporte!$N43)","v":""},"",{"$f":"IFERROR(AV43*BASE!$AN$165/BASE!$AN43,\"\")","v":""},"",{"$f":"IF(BASE!M43=\"\",\"\",Reporte!$N43)","v":""},"",{"$f":"IFERROR(AZ43*BASE!$AN$165/BASE!$AN43,\"\")","v":""},"",{"$f":"IF(BASE!N43=\"\",\"\",Reporte!$N43)","v":""},"",{"$f":"IFERROR(BD43*BASE!$AN$165/BASE!$AN43,\"\")","v":""},"",{"$f":"IF(BASE!O43=\"\",\"\",Reporte!$N43)","v":""},"",{"$f":"IFERROR(BH43*BASE!$AN$165/BASE!$AN43,\"\")","v":""},"",{"$f":"IF(BASE!P43=\"\",\"\",Reporte!$N43)","v":""},"",{"$f":"IFERROR(BL43*BASE!$AN$165/BASE!$AN43,\"\")","v":""},"",{"$f":"IF(BASE!Q43=\"\",\"\",Reporte!$N43)","v":""},"",{"$f":"IFERROR(BP43*BASE!$AN$165/BASE!$AN43,\"\")","v":""},"",{"$f":"IF(BASE!R43=\"\",\"\",Reporte!$N43)","v":""},"",{"$f":"IFERROR(BT43*BASE!$AN$165/BASE!$AN43,\"\")","v":""},"",{"$f":"IF(BASE!S43=\"\",\"\",Reporte!$N43)","v":""},"",{"$f":"IFERROR(BX43*BASE!$AN$165/BASE!$AN43,\"\")","v":""},"",{"$f":"IF(BASE!T43=\"\",\"\",Reporte!$N43)","v":""},"",{"$f":"IFERROR(CB43*BASE!$AN$165/BASE!$AN43,\"\")","v":""},"",{"$f":"IF(BASE!U43=\"\",\"\",Reporte!$N43)","v":""},"",{"$f":"IFERROR(CF43*BASE!$AN$165/BASE!$AN43,\"\")","v":""},"",{"$f":"IF(BASE!V43=\"\",\"\",Reporte!$N43)","v":""},"",{"$f":"IFERROR(CJ43*BASE!$AN$165/BASE!$AN43,\"\")","v":""},"",{"$f":"IF(BASE!W43=\"\",\"\",Reporte!$N43)","v":""},"",{"$f":"IFERROR(CN43*BASE!$AN$165/BASE!$AN43,\"\")","v":""},"",{"$f":"IF(BASE!X43=\"\",\"\",Reporte!$N43)","v":""},"",{"$f":"IFERROR(CR43*BASE!$AN$165/BASE!$AN43,\"\")","v":""},"",{"$f":"IF(BASE!Y43=\"\",\"\",Reporte!$N43)","v":""},"",{"$f":"IFERROR(CV43*BASE!$AN$165/BASE!$AN43,\"\")","v":""},"",{"$f":"IF(BASE!Z43=\"\",\"\",Reporte!$N43)","v":""},"",{"$f":"IFERROR(CZ43*BASE!$AN$165/BASE!$AN43,\"\")","v":""},"",{"$f":"IF(BASE!AA43=\"\",\"\",Reporte!$N43)","v":""},"",{"$f":"IFERROR(DD43*BASE!$AN$165/BASE!$AN43,\"\")","v":""},"",{"$f":"IF(BASE!AB43=\"\",\"\",Reporte!$N43)","v":""},"",{"$f":"IFERROR(DH43*BASE!$AN$165/BASE!$AN43,\"\")","v":""},"",{"$f":"IF(BASE!AC43=\"\",\"\",Reporte!$N43)","v":""},"",{"$f":"IFERROR(DL43*BASE!$AN$165/BASE!$AN43,\"\")","v":""},"",{"$f":"IF(BASE!AD43=\"\",\"\",Reporte!$N43)","v":""},"",{"$f":"IFERROR(DP43*BASE!$AN$165/BASE!$AN43,\"\")","v":""},"",{"$f":"IF(BASE!AE43=\"\",\"\",Reporte!$N43)","v":""},"",{"$f":"IFERROR(DT43*BASE!$AN$165/BASE!$AN43,\"\")","v":""},"",{"$f":"IF(BASE!AF43=\"\",\"\",Reporte!$N43)","v":""},"",{"$f":"IFERROR(DX43*BASE!$AN$165/BASE!$AN43,\"\")","v":""},"",{"$f":"IF(BASE!AG43=\"\",\"\",Reporte!$N43)","v":""},"",{"$f":"IFERROR(EB43*BASE!$AN$165/BASE!$AN43,\"\")","v":""},"",{"$f":"IF(BASE!AH43=\"\",\"\",Reporte!$N43)","v":""},"",{"$f":"IFERROR(EF43*BASE!$AN$165/BASE!$AN43,\"\")","v":""},"",{"$f":"IF(BASE!AI43=\"\",\"\",Reporte!$N43)","v":""},"",{"$f":"IFERROR(EJ43*BASE!$AN$165/BASE!$AN43,\"\")","v":""},"",{"$f":"IF(BASE!AJ43=\"\",\"\",Reporte!$N43)","v":""},"",{"$f":"IFERROR(EN43*BASE!$AN$165/BASE!$AN43,\"\")","v":""},"",{"$f":"IF(BASE!AK43=\"\",\"\",Reporte!$N43)","v":""},"",{"$f":"IFERROR(ER43*BASE!$AN$165/BASE!$AN43,\"\")","v":""},"",{"$f":"IF(BASE!AL43=\"\",\"\",Reporte!$N43)","v":""},"",{"$f":"IFERROR(EV43*BASE!$AN$165/BASE!$AN43,\"\")","v":""},""]
["Educación Plástica y Visual","Comp. Esp. 1","Criterio Evaluación 1.1","",{"$f":"EPV!E4","v":1},{"$f":"EPV!F4","v":8.3333333333333329E-2},{"$f":"EPV!G4","v":""},{"$f":"IFERROR(SUMPRODUCT(D44:D55,E44:E55)/SUMIF(D44:D55,\">=0\",E44:E55),\"\")","v":""},null,null,"Educación Plástica y Visual","Comp. Esp. 1","Criterio Evaluación 1.1","",{"$f":"'Peso criterios carga horaria'!F44","v":1.5},{"$f":"O44*BASE!$AN$165/BASE!AN44","v":1.8831081081081085},3.4364261168384879E-3,"",{"$f":"IF(BASE!E44=\"\",\"\",Reporte!$N44)","v":""},"",{"$f":"IFERROR(T44*BASE!$AN$165/BASE!$AN44,\"\")","v":""},"",{"$f":"IF(BASE!F44=\"\",\"\",Reporte!$N44)","v":""},"",{"$f":"IFERROR(X44*BASE!$AN$165/BASE!$AN44,\"\")","v":""},"",{"$f":"IF(BASE!G44=\"\",\"\",Reporte!$N44)","v":""},"",{"$f":"IFERROR(AB44*BASE!$AN$165/BASE!$AN44,\"\")","v":""},"",{"$f":"IF(BASE!H44=\"\",\"\",Reporte!$N44)","v":""},"",{"$f":"IFERROR(AF44*BASE!$AN$165/BASE!$AN44,\"\")","v":""},"",{"$f":"IF(BASE!I44=\"\",\"\",Reporte!$N44)","v":""},"",{"$f":"IFERROR(AJ44*BASE!$AN$165/BASE!$AN44,\"\")","v":""},"",{"$f":"IF(BASE!J44=\"\",\"\",Reporte!$N44)","v":""},"",{"$f":"IFERROR(AN44*BASE!$AN$165/BASE!$AN44,\"\")","v":""},"",{"$f":"IF(BASE!K44=\"\",\"\",Reporte!$N44)","v":""},"",{"$f":"IFERROR(AR44*BASE!$AN$165/BASE!$AN44,\"\")","v":""},"",{"$f":"IF(BASE!L44=\"\",\"\",Reporte!$N44)","v":""},"",{"$f":"IFERROR(AV44*BASE!$AN$165/BASE!$AN44,\"\")","v":""},"",{"$f":"IF(BASE!M44=\"\",\"\",Reporte!$N44)","v":""},"",{"$f":"IFERROR(AZ44*BASE!$AN$165/BASE!$AN44,\"\")","v":""},"",{"$f":"IF(BASE!N44=\"\",\"\",Reporte!$N44)","v":""},"",{"$f":"IFERROR(BD44*BASE!$AN$165/BASE!$AN44,\"\")","v":""},"",{"$f":"IF(BASE!O44=\"\",\"\",Reporte!$N44)","v":""},"",{"$f":"IFERROR(BH44*BASE!$AN$165/BASE!$AN44,\"\")","v":""},"",{"$f":"IF(BASE!P44=\"\",\"\",Reporte!$N44)","v":""},"",{"$f":"IFERROR(BL44*BASE!$AN$165/BASE!$AN44,\"\")","v":""},"",{"$f":"IF(BASE!Q44=\"\",\"\",Reporte!$N44)","v":""},"",{"$f":"IFERROR(BP44*BASE!$AN$165/BASE!$AN44,\"\")","v":""},"",{"$f":"IF(BASE!R44=\"\",\"\",Reporte!$N44)","v":""},"",{"$f":"IFERROR(BT44*BASE!$AN$165/BASE!$AN44,\"\")","v":""},"",{"$f":"IF(BASE!S44=\"\",\"\",Reporte!$N44)","v":""},"",{"$f":"IFERROR(BX44*BASE!$AN$165/BASE!$AN44,\"\")","v":""},"",{"$f":"IF(BASE!T44=\"\",\"\",Reporte!$N44)","v":""},"",{"$f":"IFERROR(CB44*BASE!$AN$165/BASE!$AN44,\"\")","v":""},"",{"$f":"IF(BASE!U44=\"\",\"\",Reporte!$N44)","v":""},"",{"$f":"IFERROR(CF44*BASE!$AN$165/BASE!$AN44,\"\")","v":""},"",{"$f":"IF(BASE!V44=\"\",\"\",Reporte!$N44)","v":""},"",{"$f":"IFERROR(CJ44*BASE!$AN$165/BASE!$AN44,\"\")","v":""},"",{"$f":"IF(BASE!W44=\"\",\"\",Reporte!$N44)","v":""},"",{"$f":"IFERROR(CN44*BASE!$AN$165/BASE!$AN44,\"\")","v":""},"",{"$f":"IF(BASE!X44=\"\",\"\",Reporte!$N44)","v":""},"",{"$f":"IFERROR(CR44*BASE!$AN$165/BASE!$AN44,\"\")","v":""},"",{"$f":"IF(BASE!Y44=\"\",\"\",Reporte!$N44)","v":""},"",{"$f":"IFERROR(CV44*BASE!$AN$165/BASE!$AN44,\"\")","v":""},"",{"$f":"IF(BASE!Z44=\"\",\"\",Reporte!$N44)","v":""},"",{"$f":"IFERROR(CZ44*BASE!$AN$165/BASE!$AN44,\"\")","v":""},"",{"$f":"IF(BASE!AA44=\"\",\"\",Reporte!$N44)","v":""},"",{"$f":"IFERROR(DD44*BASE!$AN$165/BASE!$AN44,\"\")","v":""},"",{"$f":"IF(BASE!AB44=\"\",\"\",Reporte!$N44)","v":""},"",{"$f":"IFERROR(DH44*BASE!$AN$165/BASE!$AN44,\"\")","v":""},"",{"$f":"IF(BASE!AC44=\"\",\"\",Reporte!$N44)","v":""},"",{"$f":"IFERROR(DL44*BASE!$AN$165/BASE!$AN44,\"\")","v":""},"",{"$f":"IF(BASE!AD44=\"\",\"\",Reporte!$N44)","v":""},"",{"$f":"IFERROR(DP44*BASE!$AN$165/BASE!$AN44,\"\")","v":""},"",{"$f":"IF(BASE!AE44=\"\",\"\",Reporte!$N44)","v":""},"",{"$f":"IFERROR(DT44*BASE!$AN$165/BASE!$AN44,\"\")","v":""},"",{"$f":"IF(BASE!AF44=\"\",\"\",Reporte!$N44)","v":""},"",{"$f":"IFERROR(DX44*BASE!$AN$165/BASE!$AN44,\"\")","v":""},"",{"$f":"IF(BASE!AG44=\"\",\"\",Reporte!$N44)","v":""},"",{"$f":"IFERROR(EB44*BASE!$AN$165/BASE!$AN44,\"\")","v":""},"",{"$f":"IF(BASE!AH44=\"\",\"\",Reporte!$N44)","v":""},"",{"$f":"IFERROR(EF44*BASE!$AN$165/BASE!$AN44,\"\")","v":""},"",{"$f":"IF(BASE!AI44=\"\",\"\",Reporte!$N44)","v":""},"",{"$f":"IFERROR(EJ44*BASE!$AN$165/BASE!$AN44,\"\")","v":""},"",{"$f":"IF(BASE!AJ44=\"\",\"\",Reporte!$N44)","v":""},"",{"$f":"IFERROR(EN44*BASE!$AN$165/BASE!$AN44,\"\")","v":""},"",{"$f":"IF(BASE!AK44=\"\",\"\",Reporte!$N44)","v":""},"",{"$f":"IFERROR(ER44*BASE!$AN$165/BASE!$AN44,\"\")","v":""},"",{"$f":"IF(BASE!AL44=\"\",\"\",Reporte!$N44)","v":""},"",{"$f":"IFERROR(EV44*BASE!$AN$165/BASE!$AN44,\"\")","v":""},""]
[null,null,"Criterio Evaluación 1.2","",{"$f":"EPV!E5","v":1},{"$f":"EPV!F5","v":8.3333333333333329E-2},{"$f":"EPV!G5","v":""},null,null,null,null,null,"Criterio Evaluación 1.2","",{"$f":"'Peso criterios carga horaria'!F45","v":1.5},{"$f":"O45*BASE!$AN$165/BASE!AN45","v":1.8831081081081085},3.4364261168384879E-3,"",{"$f":"IF(BASE!E45=\"\",\"\",Reporte!$N45)","v":""},"",{"$f":"IFERROR(T45*BASE!$AN$165/BASE!$AN45,\"\")","v":""},"",{"$f":"IF(BASE!F45=\"\",\"\",Reporte!$N45)","v":""},"",{"$f":"IFERROR(X45*BASE!$AN$165/BASE!$AN45,\"\")","v":""},"",{"$f":"IF(BASE!G45=\"\",\"\",Reporte!$N45)","v":""},"",{"$f":"IFERROR(AB45*BASE!$AN$165/BASE!$AN45,\"\")","v":""},"",{"$f":"IF(BASE!H45=\"\",\"\",Reporte!$N45)","v":""},"",{"$f":"IFERROR(AF45*BASE!$AN$165/BASE!$AN45,\"\")","v":""},"",{"$f":"IF(BASE!I45=\"\",\"\",Reporte!$N45)","v":""},"",{"$f":"IFERROR(AJ45*BASE!$AN$165/BASE!$AN45,\"\")","v":""},"",{"$f":"IF(BASE!J45=\"\",\"\",Reporte!$N45)","v":""},"",{"$f":"IFERROR(AN45*BASE!$AN$165/BASE!$AN45,\"\")","v":""},"",{"$f":"IF(BASE!K45=\"\",\"\",Reporte!$N45)","v":""},"",{"$f":"IFERROR(AR45*BASE!$AN$165/BASE!$AN45,\"\")","v":""},"",{"$f":"IF(BASE!L45=\"\",\"\",Reporte!$N45)","v":""},"",{"$f":"IFERROR(AV45*BASE!$AN$165/BASE!$AN45,\"\")","v":""},"",{"$f":"IF(BASE!M45=\"\",\"\",Reporte!$N45)","v":""},"",{"$f":"IFERROR(AZ45*BASE!$AN$165/BASE!$AN45,\"\")","v":""},"",{"$f":"IF(BASE!N45=\"\",\"\",Reporte!$N45)","v":""},"",{"$f":"IFERROR(BD45*BASE!$AN$165/BASE!$AN45,\"\")","v":""},"",{"$f":"IF(BASE!O45=\"\",\"\",Reporte!$N45)","v":""},"",{"$f":"IFERROR(BH45*BASE!$AN$165/BASE!$AN45,\"\")","v":""},"",{"$f":"IF(BASE!P45=\"\",\"\",Reporte!$N45)","v":""},"",{"$f":"IFERROR(BL45*BASE!$AN$165/BASE!$AN45,\"\")","v":""},"",{"$f":"IF(BASE!Q45=\"\",\"\",Reporte!$N45)","v":""},"",{"$f":"IFERROR(BP45*BASE!$AN$165/BASE!$AN45,\"\")","v":""},"",{"$f":"IF(BASE!R45=\"\",\"\",Reporte!$N45)","v":""},"",{"$f":"IFERROR(BT45*BASE!$AN$165/BASE!$AN45,\"\")","v":""},"",{"$f":"IF(BASE!S45=\"\",\"\",Reporte!$N45)","v":""},"",{"$f":"IFERROR(BX45*BASE!$AN$165/BASE!$AN45,\"\")","v":""},"",{"$f":"IF(BASE!T45=\"\",\"\",Reporte!$N45)","v":""},"",{"$f":"IFERROR(CB45*BASE!$AN$165/BASE!$AN45,\"\")","v":""},"",{"$f":"IF(BASE!U45=\"\",\"\",Reporte!$N45)","v":""},"",{"$f":"IFERROR(CF45*BASE!$AN$165/BASE!$AN45,\"\")","v":""},"",{"$f":"IF(BASE!V45=\"\",\"\",Reporte!$N45)","v":""},"",{"$f":"IFERROR(CJ45*BASE!$AN$165/BASE!$AN45,\"\")","v":""},"",{"$f":"IF(BASE!W45=\"\",\"\",Reporte!$N45)","v":""},"",{"$f":"IFERROR(CN45*BASE!$AN$165/BASE!$AN45,\"\")","v":""},"",{"$f":"IF(BASE!X45=\"\",\"\",Reporte!$N45)","v":""},"",{"$f":"IFERROR(CR45*BASE!$AN$165/BASE!$AN45,\"\")","v":""},"",{"$f":"IF(BASE!Y45=\"\",\"\",Reporte!$N45)","v":""},"",{"$f":"IFERROR(CV45*BASE!$AN$165/BASE!$AN45,\"\")","v":""},"",{"$f":"IF(BASE!Z45=\"\",\"\",Reporte!$N45)","v":""},"",{"$f":"IFERROR(CZ45*BASE!$AN$165/BASE!$AN45,\"\")","v":""},"",{"$f":"IF(BASE!AA45=\"\",\"\",Reporte!$N45)","v":""},"",{"$f":"IFERROR(DD45*BASE!$AN$165/BASE!$AN45,\"\")","v":""},"",{"$f":"IF(BASE!AB45=\"\",\"\",Reporte!$N45)","v":""},"",{"$f":"IFERROR(DH45*BASE!$AN$165/BASE!$AN45,\"\")","v":""},"",{"$f":"IF(BASE!AC45=\"\",\"\",Reporte!$N45)","v":""},"",{"$f":"IFERROR(DL45*BASE!$AN$165/BASE!$AN45,\"\")","v":""},"",{"$f":"IF(BASE!AD45=\"\",\"\",Reporte!$N45)","v":""},"",{"$f":"IFERROR(DP45*BASE!$AN$165/BASE!$AN45,\"\")","v":""},"",{"$f":"IF(BASE!AE45=\"\",\"\",Reporte!$N45)","v":""},"",{"$f":"IFERROR(DT45*BASE!$AN$165/BASE!$AN45,\"\")","v":""},"",{"$f":"IF(BASE!AF45=\"\",\"\",Reporte!$N45)","v":""},"",{"$f":"IFERROR(DX45*BASE!$AN$165/BASE!$AN45,\"\")","v":""},"",{"$f":"IF(BASE!AG45=\"\",\"\",Reporte!$N45)","v":""},"",{"$f":"IFERROR(EB45*BASE!$AN$165/BASE!$AN45,\"\")","v":""},"",{"$f":"IF(BASE!AH45=\"\",\"\",Reporte!$N45)","v":""},"",{"$f":"IFERROR(EF45*BASE!$AN$165/BASE!$AN45,\"\")","v":""},"",{"$f":"IF(BASE!AI45=\"\",\"\",Reporte!$N45)","v":""},"",{"$f":"IFERROR(EJ45*BASE!$AN$165/BASE!$AN45,\"\")","v":""},"",{"$f":"IF(BASE!AJ45=\"\",\"\",Reporte!$N45)","v":""},"",{"$f":"IFERROR(EN45*BASE!$AN$165/BASE!$AN45,\"\")","v":""},"",{"$f":"IF(BASE!AK45=\"\",\"\",Reporte!$N45)","v":""},"",{"$f":"IFERROR(ER45*BASE!$AN$165/BASE!$AN45,\"\")","v":""},"",{"$f":"IF(BASE!AL45=\"\",\"\",Reporte!$N45)","v":""},"",{"$f":"IFERROR(EV45*BASE!$AN$165/BASE!$AN45,\"\")","v":""},""]
[null,null,"Criterio Evaluación 1.3","",{"$f":"EPV!E6","v":1},{"$f":"EPV!F6","v":8.3333333333333329E-2},{"$f":"EPV!G6","v":""},null,null,null,null,null,"Criterio Evaluación 1.3","",{"$f":"'Peso criterios carga horaria'!F46","v":1.5},{"$f":"O46*BASE!$AN$165/BASE!AN46","v":1.8831081081081085},3.4364261168384879E-3,"",{"$f":"IF(BASE!E46=\"\",\"\",Reporte!$N46)","v":""},"",{"$f":"IFERROR(T46*BASE!$AN$165/BASE!$AN46,\"\")","v":""},"",{"$f":"IF(BASE!F46=\"\",\"\",Reporte!$N46)","v":""},"",{"$f":"IFERROR(X46*BASE!$AN$165/BASE!$AN46,\"\")","v":""},"",{"$f":"IF(BASE!G46=\"\",\"\",Reporte!$N46)","v":""},"",{"$f":"IFERROR(AB46*BASE!$AN$165/BASE!$AN46,\"\")","v":""},"",{"$f":"IF(BASE!H46=\"\",\"\",Reporte!$N46)","v":""},"",{"$f":"IFERROR(AF46*BASE!$AN$165/BASE!$AN46,\"\")","v":""},"",{"$f":"IF(BASE!I46=\"\",\"\",Reporte!$N46)","v":""},"",{"$f":"IFERROR(AJ46*BASE!$AN$165/BASE!$AN46,\"\")","v":""},"",{"$f":"IF(BASE!J46=\"\",\"\",Reporte!$N46)","v":""},"",{"$f":"IFERROR(AN46*BASE!$AN$165/BASE!$AN46,\"\")","v":""},"",{"$f":"IF(BASE!K46=\"\",\"\",Reporte!$N46)","v":""},"",{"$f":"IFERROR(AR46*BASE!$AN$165/BASE!$AN46,\"\")","v":""},"",{"$f":"IF(BASE!L46=\"\",\"\",Reporte!$N46)","v":""},"",{"$f":"IFERROR(AV46*BASE!$AN$165/BASE!$AN46,\"\")","v":""},"",{"$f":"IF(BASE!M46=\"\",\"\",Reporte!$N46)","v":""},"",{"$f":"IFERROR(AZ46*BASE!$AN$165/BASE!$AN46,\"\")","v":""},"",{"$f":"IF(BASE!N46=\"\",\"\",Reporte!$N46)","v":""},"",{"$f":"IFERROR(BD46*BASE!$AN$165/BASE!$AN46,\"\")","v":""},"",{"$f":"IF(BASE!O46=\"\",\"\",Reporte!$N46)","v":""},"",{"$f":"IFERROR(BH46*BASE!$AN$165/BASE!$AN46,\"\")","v":""},"",{"$f":"IF(BASE!P46=\"\",\"\",Reporte!$N46)","v":""},"",{"$f":"IFERROR(BL46*BASE!$AN$165/BASE!$AN46,\"\")","v":""},"",{"$f":"IF(BASE!Q46=\"\",\"\",Reporte!$N46)","v":""},"",{"$f":"IFERROR(BP46*BASE!$AN$165/BASE!$AN46,\"\")","v":""},"",{"$f":"IF(BASE!R46=\"\",\"\",Reporte!$N46)","v":""},"",{"$f":"IFERROR(BT46*BASE!$AN$165/BASE!$AN46,\"\")","v":""},"",{"$f":"IF(BASE!S46=\"\",\"\",Reporte!$N46)","v":""},"",{"$f":"IFERROR(BX46*BASE!$AN$165/BASE!$AN46,\"\")","v":""},"",{"$f":"IF(BASE!T46=\"\",\"\",Reporte!$N46)","v":""},"",{"$f":"IFERROR(CB46*BASE!$AN$165/BASE!$AN46,\"\")","v":""},"",{"$f":"IF(BASE!U46=\"\",\"\",Reporte!$N46)","v":""},"",{"$f":"IFERROR(CF46*BASE!$AN$165/BASE!$AN46,\"\")","v":""},"",{"$f":"IF(BASE!V46=\"\",\"\",Reporte!$N46)","v":""},"",{"$f":"IFERROR(CJ46*BASE!$AN$165/BASE!$AN46,\"\")","v":""},"",{"$f":"IF(BASE!W46=\"\",\"\",Reporte!$N46)","v":""},"",{"$f":"IFERROR(CN46*BASE!$AN$165/BASE!$AN46,\"\")","v":""},"",{"$f":"IF(BASE!X46=\"\",\"\",Reporte!$N46)","v":""},"",{"$f":"IFERROR(CR46*BASE!$AN$165/BASE!$AN46,\"\")","v":""},"",{"$f":"IF(BASE!Y46=\"\",\"\",Reporte!$N46)","v":""},"",{"$f":"IFERROR(CV46*BASE!$AN$165/BASE!$AN46,\"\")","v":""},"",{"$f":"IF(BASE!Z46=\"\",\"\",Reporte!$N46)","v":""},"",{"$f":"IFERROR(CZ46*BASE!$AN$165/BASE!$AN46,\"\")","v":""},"",{"$f":"IF(BASE!AA46=\"\",\"\",Reporte!$N46)","v":""},"",{"$f":"IFERROR(DD46*BASE!$AN$165/BASE!$AN46,\"\")","v":""},"",{"$f":"IF(BASE!AB46=\"\",\"\",Reporte!$N46)","v":""},"",{"$f":"IFERROR(DH46*BASE!$AN$165/BASE!$AN46,\"\")","v":""},"",{"$f":"IF(BASE!AC46=\"\",\"\",Reporte!$N46)","v":""},"",{"$f":"IFERROR(DL46*BASE!$AN$165/BASE!$AN46,\"\")","v":""},"",{"$f":"IF(BASE!AD46=\"\",\"\",Reporte!$N46)","v":""},"",{"$f":"IFERROR(DP46*BASE!$AN$165/BASE!$AN46,\"\")","v":""},"",{"$f":"IF(BASE!AE46=\"\",\"\",Reporte!$N46)","v":""},"",{"$f":"IFERROR(DT46*BASE!$AN$165/BASE!$AN46,\"\")","v":""},"",{"$f":"IF(BASE!AF46=\"\",\"\",Reporte!$N46)","v":""},"",{"$f":"IFERROR(DX46*BASE!$AN$165/BASE!$AN46,\"\")","v":""},"",{"$f":"IF(BASE!AG46=\"\",\"\",Reporte!$N46)","v":""},"",{"$f":"IFERROR(EB46*BASE!$AN$165/BASE!$AN46,\"\")","v":""},"",{"$f":"IF(BASE!AH46=\"\",\"\",Reporte!$N46)","v":""},"",{"$f":"IFERROR(EF46*BASE!$AN$165/BASE!$AN46,\"\")","v":""},"",{"$f":"IF(BASE!AI46=\"\",\"\",Reporte!$N46)","v":""},"",{"$f":"IFERROR(EJ46*BASE!$AN$165/BASE!$AN46,\"\")","v":""},"",{"$f":"IF(BASE!AJ46=\"\",\"\",Reporte!$N46)","v":""},"",{"$f":"IFERROR(EN46*BASE!$AN$165/BASE!$AN46,\"\")","v":""},"",{"$f":"IF(BASE!AK46=\"\",\"\",Reporte!$N46)","v":""},"",{"$f":"IFERROR(ER46*BASE!$AN$165/BASE!$AN46,\"\")","v":""},"",{"$f":"IF(BASE!AL46=\"\",\"\",Reporte!$N46)","v":""},"",{"$f":"IFERROR(EV46*BASE!$AN$165/BASE!$AN46,\"\")","v":""},""]
[null,"Comp. Esp. 2","Criterio Evaluación 2.1","",{"$f":"EPV!E7","v":1},{"$f":"EPV!F7","v":8.3333333333333329E-2},{"$f":"EPV!G7","v":""},null,null,null,null,"Comp. Esp. 2","Criterio Evaluación 2.1","",{"$f":"'Peso criterios carga horaria'!F47","v":1.5},{"$f":"O47*BASE!$AN$165/BASE!AN47","v":1.8831081081081085},3.4364261168384879E-3,"",{"$f":"IF(BASE!E47=\"\",\"\",Reporte!$N47)","v":""},"",{"$f":"IFERROR(T47*BASE!$AN$165/BASE!$AN47,\"\")","v":""},"",{"$f":"IF(BASE!F47=\"\",\"\",Reporte!$N47)","v":""},"",{"$f":"IFERROR(X47*BASE!$AN$165/BASE!$AN47,\"\")","v":""},"",{"$f":"IF(BASE!G47=\"\",\"\",Reporte!$N47)","v":""},"",{"$f":"IFERROR(AB47*BASE!$AN$165/BASE!$AN47,\"\")","v":""},"",{"$f":"IF(BASE!H47=\"\",\"\",Reporte!$N47)","v":""},"",{"$f":"IFERROR(AF47*BASE!$AN$165/BASE!$AN47,\"\")","v":""},"",{"$f":"IF(BASE!I47=\"\",\"\",Reporte!$N47)","v":""},"",{"$f":"IFERROR(AJ47*BASE!$AN$165/BASE!$AN47,\"\")","v":""},"",{"$f":"IF(BASE!J47=\"\",\"\",Reporte!$N47)","v":""},"",{"$f":"IFERROR(AN47*BASE!$AN$165/BASE!$AN47,\"\")","v":""},"",{"$f":"IF(BASE!K47=\"\",\"\",Reporte!$N47)","v":""},"",{"$f":"IFERROR(AR47*BASE!$AN$165/BASE!$AN47,\"\")","v":""},"",{"$f":"IF(BASE!L47=\"\",\"\",Reporte!$N47)","v":""},"",{"$f":"IFERROR(AV47*BASE!$AN$165/BASE!$AN47,\"\")","v":""},"",{"$f":"IF(BASE!M47=\"\",\"\",Reporte!$N47)","v":""},"",{"$f":"IFERROR(AZ47*BASE!$AN$165/BASE!$AN47,\"\")","v":""},"",{"$f":"IF(BASE!N47=\"\",\"\",Reporte!$N47)","v":""},"",{"$f":"IFERROR(BD47*BASE!$AN$165/BASE!$AN47,\"\")","v":""},"",{"$f":"IF(BASE!O47=\"\",\"\",Reporte!$N47)","v":""},"",{"$f":"IFERROR(BH47*BASE!$AN$165/BASE!$AN47,\"\")","v":""},"",{"$f":"IF(BASE!P47=\"\",\"\",Reporte!$N47)","v":""},"",{"$f":"IFERROR(BL47*BASE!$AN$165/BASE!$AN47,\"\")","v":""},"",{"$f":"IF(BASE!Q47=\"\",\"\",Reporte!$N47)","v":""},"",{"$f":"IFERROR(BP47*BASE!$AN$165/BASE!$AN47,\"\")","v":""},"",{"$f":"IF(BASE!R47=\"\",\"\",Reporte!$N47)","v":""},"",{"$f":"IFERROR(BT47*BASE!$AN$165/BASE!$AN47,\"\")","v":""},"",{"$f":"IF(BASE!S47=\"\",\"\",Reporte!$N47)","v":""},"",{"$f":"IFERROR(BX47*BASE!$AN$165/BASE!$AN47,\"\")","v":""},"",{"$f":"IF(BASE!T47=\"\",\"\",Reporte!$N47)","v":""},"",{"$f":"IFERROR(CB47*BASE!$AN$165/BASE!$AN47,\"\")","v":""},"",{"$f":"IF(BASE!U47=\"\",\"\",Reporte!$N47)","v":""},"",{"$f":"IFERROR(CF47*BASE!$AN$165/BASE!$AN47,\"\")","v":""},"",{"$f":"IF(BASE!V47=\"\",\"\",Reporte!$N47)","v":""},"",{"$f":"IFERROR(CJ47*BASE!$AN$165/BASE!$AN47,\"\")","v":""},"",{"$f":"IF(BASE!W47=\"\",\"\",Reporte!$N47)","v":""},"",{"$f":"IFERROR(CN47*BASE!$AN$165/BASE!$AN47,\"\")","v":""},"",{"$f":"IF(BASE!X47=\"\",\"\",Reporte!$N47)","v":""},"",{"$f":"IFERROR(CR47*BASE!$AN$165/BASE!$AN47,\"\")","v":""},"",{"$f":"IF(BASE!Y47=\"\",\"\",Reporte!$N47)","v":""},"",{"$f":"IFERROR(CV47*BASE!$AN$165/BASE!$AN47,\"\")","v":""},"",{"$f":"IF(BASE!Z47=\"\",\"\",Reporte!$N47)","v":""},"",{"$f":"IFERROR(CZ47*BASE!$AN$165/BASE!$AN47,\"\")","v":""},"",{"$f":"IF(BASE!AA47=\"\",\"\",Reporte!$N47)","v":""},"",{"$f":"IFERROR(DD47*BASE!$AN$165/BASE!$AN47,\"\")","v":""},"",{"$f":"IF(BASE!AB47=\"\",\"\",Reporte!$N47)","v":""},"",{"$f":"IFERROR(DH47*BASE!$AN$165/BASE!$AN47,\"\")","v":""},"",{"$f":"IF(BASE!AC47=\"\",\"\",Reporte!$N47)","v":""},"",{"$f":"IFERROR(DL47*BASE!$AN$165/BASE!$AN47,\"\")","v":""},"",{"$f":"IF(BASE!AD47=\"\",\"\",Reporte!$N47)","v":""},"",{"$f":"IFERROR(DP47*BASE!$AN$165/BASE!$AN47,\"\")","v":""},"",{"$f":"IF(BASE!AE47=\"\",\"\",Reporte!$N47)","v":""},"",{"$f":"IFERROR(DT47*BASE!$AN$165/BASE!$AN47,\"\")","v":""},"",{"$f":"IF(BASE!AF47=\"\",\"\",Reporte!$N47)","v":""},"",{"$f":"IFERROR(DX47*BASE!$AN$165/BASE!$AN47,\"\")","v":""},"",{"$f":"IF(BASE!AG47=\"\",\"\",Reporte!$N47)","v":""},"",{"$f":"IFERROR(EB47*BASE!$AN$165/BASE!$AN47,\"\")","v":""},"",{"$f":"IF(BASE!AH47=\"\",\"\",Reporte!$N47)","v":""},"",{"$f":"IFERROR(EF47*BASE!$AN$165/BASE!$AN47,\"\")","v":""},"",{"$f":"IF(BASE!AI47=\"\",\"\",Reporte!$N47)","v":""},"",{"$f":"IFERROR(EJ47*BASE!$AN$165/BASE!$AN47,\"\")","v":""},"",{"$f":"IF(BASE!AJ47=\"\",\"\",Reporte!$N47)","v":""},"",{"$f":"IFERROR(EN47*BASE!$AN$165/BASE!$AN47,\"\")","v":""},"",{"$f":"IF(BASE!AK47=\"\",\"\",Reporte!$N47)","v":""},"",{"$f":"IFERROR(ER47*BASE!$AN$165/BASE!$AN47,\"\")","v":""},"",{"$f":"IF(BASE!AL47=\"\",\"\",Reporte!$N47)","v":""},"",{"$f":"IFERROR(EV47*BASE!$AN$165/BASE!$AN47,\"\")","v":""},""]
[null,null,"Criterio Evaluación 2.2","",{"$f":"EPV!E8","v":1},{"$f":"EPV!F8","v":8.3333333333333329E-2},{"$f":"EPV!G8","v":""},null,null,null,null,null,"Criterio Evaluación 2.2","",{"$f":"'Peso criterios carga horaria'!F48","v":1.5},{"$f":"O48*BASE!$AN$165/BASE!AN48","v":1.8831081081081085},3.4364261168384879E-3,"",{"$f":"IF(BASE!E48=\"\",\"\",Reporte!$N48)","v":""},"",{"$f":"IFERROR(T48*BASE!$AN$165/BASE!$AN48,\"\")","v":""},"",{"$f":"IF(BASE!F48=\"\",\"\",Reporte!$N48)","v":""},"",{"$f":"IFERROR(X48*BASE!$AN$165/BASE!$AN48,\"\")","v":""},"",{"$f":"IF(BASE!G48=\"\",\"\",Reporte!$N48)","v":""},"",{"$f":"IFERROR(AB48*BASE!$AN$165/BASE!$AN48,\"\")","v":""},"",{"$f":"IF(BASE!H48=\"\",\"\",Reporte!$N48)","v":""},"",{"$f":"IFERROR(AF48*BASE!$AN$165/BASE!$AN48,\"\")","v":""},"",{"$f":"IF(BASE!I48=\"\",\"\",Reporte!$N48)","v":""},"",{"$f":"IFERROR(AJ48*BASE!$AN$165/BASE!$AN48,\"\")","v":""},"",{"$f":"IF(BASE!J48=\"\",\"\",Reporte!$N48)","v":""},"",{"$f":"IFERROR(AN48*BASE!$AN$165/BASE!$AN48,\"\")","v":""},"",{"$f":"IF(BASE!K48=\"\",\"\",Reporte!$N48)","v":""},"",{"$f":"IFERROR(AR48*BASE!$AN$165/BASE!$AN48,\"\")","v":""},"",{"$f":"IF(BASE!L48=\"\",\"\",Reporte!$N48)","v":""},"",{"$f":"IFERROR(AV48*BASE!$AN$165/BASE!$AN48,\"\")","v":""},"",{"$f":"IF(BASE!M48=\"\",\"\",Reporte!$N48)","v":""},"",{"$f":"IFERROR(AZ48*BASE!$AN$165/BASE!$AN48,\"\")","v":""},"",{"$f":"IF(BASE!N48=\"\",\"\",Reporte!$N48)","v":""},"",{"$f":"IFERROR(BD48*BASE!$AN$165/BASE!$AN48,\"\")","v":""},"",{"$f":"IF(BASE!O48=\"\",\"\",Reporte!$N48)","v":""},"",{"$f":"IFERROR(BH48*BASE!$AN$165/BASE!$AN48,\"\")","v":""},"",{"$f":"IF(BASE!P48=\"\",\"\",Reporte!$N48)","v":""},"",{"$f":"IFERROR(BL48*BASE!$AN$165/BASE!$AN48,\"\")","v":""},"",{"$f":"IF(BASE!Q48=\"\",\"\",Reporte!$N48)","v":""},"",{"$f":"IFERROR(BP48*BASE!$AN$165/BASE!$AN48,\"\")","v":""},"",{"$f":"IF(BASE!R48=\"\",\"\",Reporte!$N48)","v":""},"",{"$f":"IFERROR(BT48*BASE!$AN$165/BASE!$AN48,\"\")","v":""},"",{"$f":"IF(BASE!S48=\"\",\"\",Reporte!$N48)","v":""},"",{"$f":"IFERROR(BX48*BASE!$AN$165/BASE!$AN48,\"\")","v":""},"",{"$f":"IF(BASE!T48=\"\",\"\",Reporte!$N48)","v":""},"",{"$f":"IFERROR(CB48*BASE!$AN$165/BASE!$AN48,\"\")","v":""},"",{"$f":"IF(BASE!U48=\"\",\"\",Reporte!$N48)","v":""},"",{"$f":"IFERROR(CF48*BASE!$AN$165/BASE!$AN48,\"\")","v":""},"",{"$f":"IF(BASE!V48=\"\",\"\",Reporte!$N48)","v":""},"",{"$f":"IFERROR(CJ48*BASE!$AN$165/BASE!$AN48,\"\")","v":""},"",{"$f":"IF(BASE!W48=\"\",\"\",Reporte!$N48)","v":""},"",{"$f":"IFERROR(CN48*BASE!$AN$165/BASE!$AN48,\"\")","v":""},"",{"$f":"IF(BASE!X48=\"\",\"\",Reporte!$N48)","v":""},"",{"$f":"IFERROR(CR48*BASE!$AN$165/BASE!$AN48,\"\")","v":""},"",{"$f":"IF(BASE!Y48=\"\",\"\",Reporte!$N48)","v":""},"",{"$f":"IFERROR(CV48*BASE!$AN$165/BASE!$AN48,\"\")","v":""},"",{"$f":"IF(BASE!Z48=\"\",\"\",Reporte!$N48)","v":""},"",{"$f":"IFERROR(CZ48*BASE!$AN$165/BASE!$AN48,\"\")","v":""},"",{"$f":"IF(BASE!AA48=\"\",\"\",Reporte!$N48)","v":""},"",{"$f":"IFERROR(DD48*BASE!$AN$165/BASE!$AN48,\"\")","v":""},"",{"$f":"IF(BASE!AB48=\"\",\"\",Reporte!$N48)","v":""},"",{"$f":"IFERROR(DH48*BASE!$AN$165/BASE!$AN48,\"\")","v":""},"",{"$f":"IF(BASE!AC48=\"\",\"\",Reporte!$N48)","v":""},"",{"$f":"IFERROR(DL48*BASE!$AN$165/BASE!$AN48,\"\")","v":""},"",{"$f":"IF(BASE!AD48=\"\",\"\",Reporte!$N48)","v":""},"",{"$f":"IFERROR(DP48*BASE!$AN$165/BASE!$AN48,\"\")","v":""},"",{"$f":"IF(BASE!AE48=\"\",\"\",Reporte!$N48)","v":""},"",{"$f":"IFERROR(DT48*BASE!$AN$165/BASE!$AN48,\"\")","v":""},"",{"$f":"IF(BASE!AF48=\"\",\"\",Reporte!$N48)","v":""},"",{"$f":"IFERROR(DX48*BASE!$AN$165/BASE!$AN48,\"\")","v":""},"",{"$f":"IF(BASE!AG48=\"\",\"\",Reporte!$N48)","v":""},"",{"$f":"IFERROR(EB48*BASE!$AN$165/BASE!$AN48,\"\")","v":""},"",{"$f":"IF(BASE!AH48=\"\",\"\",Reporte!$N48)","v":""},"",{"$f":"IFERROR(EF48*BASE!$AN$165/BASE!$AN48,\"\")","v":""},"",{"$f":"IF(BASE!AI48=\"\",\"\",Reporte!$N48)","v":""},"",{"$f":"IFERROR(EJ48*BASE!$AN$165/BASE!$AN48,\"\")","v":""},"",{"$f":"IF(BASE!AJ48=\"\",\"\",Reporte!$N48)","v":""},"",{"$f":"IFERROR(EN48*BASE!$AN$165/BASE!$AN48,\"\")","v":""},"",{"$f":"IF(BASE!AK48=\"\",\"\",Reporte!$N48)","v":""},"",{"$f":"IFERROR(ER48*BASE!$AN$165/BASE!$AN48,\"\")","v":""},"",{"$f":"IF(BASE!AL48=\"\",\"\",Reporte!$N48)","v":""},"",{"$f":"IFERROR(EV48*BASE!$AN$165/BASE!$AN48,\"\")","v":""},""]
[null,null,"Criterio Evaluación 2.3","",{"$f":"EPV!E9","v":1},{"$f":"EPV!F9","v":8.3333333333333329E-2},{"$f":"EPV!G9","v":""},null,null,null,null,null,"Criterio Evaluación 2.3","",{"$f":"'Peso criterios carga horaria'!F49","v":1.5},{"$f":"O49*BASE!$AN$165/BASE!AN49","v":1.8831081081081085},3.4364261168384879E-3,"",{"$f":"IF(BASE!E49=\"\",\"\",Reporte!$N49)","v":""},"",{"$f":"IFERROR(T49*BASE!$AN$165/BASE!$AN49,\"\")","v":""},"",{"$f":"IF(BASE!F49=\"\",\"\",Reporte!$N49)","v":""},"",{"$f":"IFERROR(X49*BASE!$AN$165/BASE!$AN49,\"\")","v":""},"",{"$f":"IF(BASE!G49=\"\",\"\",Reporte!$N49)","v":""},"",{"$f":"IFERROR(AB49*BASE!$AN$165/BASE!$AN49,\"\")","v":""},"",{"$f":"IF(BASE!H49=\"\",\"\",Reporte!$N49)","v":""},"",{"$f":"IFERROR(AF49*BASE!$AN$165/BASE!$AN49,\"\")","v":""},"",{"$f":"IF(BASE!I49=\"\",\"\",Reporte!$N49)","v":""},"",{"$f":"IFERROR(AJ49*BASE!$AN$165/BASE!$AN49,\"\")","v":""},"",{"$f":"IF(BASE!J49=\"\",\"\",Reporte!$N49)","v":""},"",{"$f":"IFERROR(AN49*BASE!$AN$165/BASE!$AN49,\"\")","v":""},"",{"$f":"IF(BASE!K49=\"\",\"\",Reporte!$N49)","v":""},"",{"$f":"IFERROR(AR49*BASE!$AN$165/BASE!$AN49,\"\")","v":""},"",{"$f":"IF(BASE!L49=\"\",\"\",Reporte!$N49)","v":""},"",{"$f":"IFERROR(AV49*BASE!$AN$165/BASE!$AN49,\"\")","v":""},"",{"$f":"IF(BASE!M49=\"\",\"\",Reporte!$N49)","v":""},"",{"$f":"IFERROR(AZ49*BASE!$AN$165/BASE!$AN49,\"\")","v":""},"",{"$f":"IF(BASE!N49=\"\",\"\",Reporte!$N49)","v":""},"",{"$f":"IFERROR(BD49*BASE!$AN$165/BASE!$AN49,\"\")","v":""},"",{"$f":"IF(BASE!O49=\"\",\"\",Reporte!$N49)","v":""},"",{"$f":"IFERROR(BH49*BASE!$AN$165/BASE!$AN49,\"\")","v":""},"",{"$f":"IF(BASE!P49=\"\",\"\",Reporte!$N49)","v":""},"",{"$f":"IFERROR(BL49*BASE!$AN$165/BASE!$AN49,\"\")","v":""},"",{"$f":"IF(BASE!Q49=\"\",\"\",Reporte!$N49)","v":""},"",{"$f":"IFERROR(BP49*BASE!$AN$165/BASE!$AN49,\"\")","v":""},"",{"$f":"IF(BASE!R49=\"\",\"\",Reporte!$N49)","v":""},"",{"$f":"IFERROR(BT49*BASE!$AN$165/BASE!$AN49,\"\")","v":""},"",{"$f":"IF(BASE!S49=\"\",\"\",Reporte!$N49)","v":""},"",{"$f":"IFERROR(BX49*BASE!$AN$165/BASE!$AN49,\"\")","v":""},"",{"$f":"IF(BASE!T49=\"\",\"\",Reporte!$N49)","v":""},"",{"$f":"IFERROR(CB49*BASE!$AN$165/BASE!$AN49,\"\")","v":""},"",{"$f":"IF(BASE!U49=\"\",\"\",Reporte!$N49)","v":""},"",{"$f":"IFERROR(CF49*BASE!$AN$165/BASE!$AN49,\"\")","v":""},"",{"$f":"IF(BASE!V49=\"\",\"\",Reporte!$N49)","v":""},"",{"$f":"IFERROR(CJ49*BASE!$AN$165/BASE!$AN49,\"\")","v":""},"",{"$f":"IF(BASE!W49=\"\",\"\",Reporte!$N49)","v":""},"",{"$f":"IFERROR(CN49*BASE!$AN$165/BASE!$AN49,\"\")","v":""},"",{"$f":"IF(BASE!X49=\"\",\"\",Reporte!$N49)","v":""},"",{"$f":"IFERROR(CR49*BASE!$AN$165/BASE!$AN49,\"\")","v":""},"",{"$f":"IF(BASE!Y49=\"\",\"\",Reporte!$N49)","v":""},"",{"$f":"IFERROR(CV49*BASE!$AN$165/BASE!$AN49,\"\")","v":""},"",{"$f":"IF(BASE!Z49=\"\",\"\",Reporte!$N49)","v":""},"",{"$f":"IFERROR(CZ49*BASE!$AN$165/BASE!$AN49,\"\")","v":""},"",{"$f":"IF(BASE!AA49=\"\",\"\",Reporte!$N49)","v":""},"",{"$f":"IFERROR(DD49*BASE!$AN$165/BASE!$AN49,\"\")","v":""},"",{"$f":"IF(BASE!AB49=\"\",\"\",Reporte!$N49)","v":""},"",{"$f":"IFERROR(DH49*BASE!$AN$165/BASE!$AN49,\"\")","v":""},"",{"$f":"IF(BASE!AC49=\"\",\"\",Reporte!$N49)","v":""},"",{"$f":"IFERROR(DL49*BASE!$AN$165/BASE!$AN49,\"\")","v":""},"",{"$f":"IF(BASE!AD49=\"\",\"\",Reporte!$N49)","v":""},"",{"$f":"IFERROR(DP49*BASE!$AN$165/BASE!$AN49,\"\")","v":""},"",{"$f":"IF(BASE!AE49=\"\",\"\",Reporte!$N49)","v":""},"",{"$f":"IFERROR(DT49*BASE!$AN$165/BASE!$AN49,\"\")","v":""},"",{"$f":"IF(BASE!AF49=\"\",\"\",Reporte!$N49)","v":""},"",{"$f":"IFERROR(DX49*BASE!$AN$165/BASE!$AN49,\"\")","v":""},"",{"$f":"IF(BASE!AG49=\"\",\"\",Reporte!$N49)","v":""},"",{"$f":"IFERROR(EB49*BASE!$AN$165/BASE!$AN49,\"\")","v":""},"",{"$f":"IF(BASE!AH49=\"\",\"\",Reporte!$N49)","v":""},"",{"$f":"IFERROR(EF49*BASE!$AN$165/BASE!$AN49,\"\")","v":""},"",{"$f":"IF(BASE!AI49=\"\",\"\",Reporte!$N49)","v":""},"",{"$f":"IFERROR(EJ49*BASE!$AN$165/BASE!$AN49,\"\")","v":""},"",{"$f":"IF(BASE!AJ49=\"\",\"\",Reporte!$N49)","v":""},"",{"$f":"IFERROR(EN49*BASE!$AN$165/BASE!$AN49,\"\")","v":""},"",{"$f":"IF(BASE!AK49=\"\",\"\",Reporte!$N49)","v":""},"",{"$f":"IFERROR(ER49*BASE!$AN$165/BASE!$AN49,\"\")","v":""},"",{"$f":"IF(BASE!AL49=\"\",\"\",Reporte!$N49)","v":""},"",{"$f":"IFERROR(EV49*BASE!$AN$165/BASE!$AN49,\"\")","v":""},""]
[null,"Comp. Esp. 3","Criterio Evaluación 3.1","",{"$f":"EPV!E10","v":1},{"$f":"EPV!F10","v":8.3333333333333329E-2},{"$f":"EPV!G10","v":""},null,null,null,null,"Comp. Esp. 3","Criterio Evaluación 3.1","",{"$f":"'Peso criterios carga horaria'!F50","v":1.5},{"$f":"O50*BASE!$AN$165/BASE!AN50","v":1.8831081081081085},3.4364261168384879E-3,"",{"$f":"IF(BASE!E50=\"\",\"\",Reporte!$N50)","v":""},"",{"$f":"IFERROR(T50*BASE!$AN$165/BASE!$AN50,\"\")","v":""},"",{"$f":"IF(BASE!F50=\"\",\"\",Reporte!$N50)","v":""},"",{"$f":"IFERROR(X50*BASE!$AN$165/BASE!$AN50,\"\")","v":""},"",{"$f":"IF(BASE!G50=\"\",\"\",Reporte!$N50)","v":""},"",{"$f":"IFERROR(AB50*BASE!$AN$165/BASE!$AN50,\"\")","v":""},"",{"$f":"IF(BASE!H50=\"\",\"\",Reporte!$N50)","v":""},"",{"$f":"IFERROR(AF50*BASE!$AN$165/BASE!$AN50,\"\")","v":""},"",{"$f":"IF(BASE!I50=\"\",\"\",Reporte!$N50)","v":""},"",{"$f":"IFERROR(AJ50*BASE!$AN$165/BASE!$AN50,\"\")","v":""},"",{"$f":"IF(BASE!J50=\"\",\"\",Reporte!$N50)","v":""},"",{"$f":"IFERROR(AN50*BASE!$AN$165/BASE!$AN50,\"\")","v":""},"",{"$f":"IF(BASE!K50=\"\",\"\",Reporte!$N50)","v":""},"",{"$f":"IFERROR(AR50*BASE!$AN$165/BASE!$AN50,\"\")","v":""},"",{"$f":"IF(BASE!L50=\"\",\"\",Reporte!$N50)","v":""},"",{"$f":"IFERROR(AV50*BASE!$AN$165/BASE!$AN50,\"\")","v":""},"",{"$f":"IF(BASE!M50=\"\",\"\",Reporte!$N50)","v":""},"",{"$f":"IFERROR(AZ50*BASE!$AN$165/BASE!$AN50,\"\")","v":""},"",{"$f":"IF(BASE!N50=\"\",\"\",Reporte!$N50)","v":""},"",{"$f":"IFERROR(BD50*BASE!$AN$165/BASE!$AN50,\"\")","v":""},"",{"$f":"IF(BASE!O50=\"\",\"\",Reporte!$N50)","v":""},"",{"$f":"IFERROR(BH50*BASE!$AN$165/BASE!$AN50,\"\")","v":""},"",{"$f":"IF(BASE!P50=\"\",\"\",Reporte!$N50)","v":""},"",{"$f":"IFERROR(BL50*BASE!$AN$165/BASE!$AN50,\"\")","v":""},"",{"$f":"IF(BASE!Q50=\"\",\"\",Reporte!$N50)","v":""},"",{"$f":"IFERROR(BP50*BASE!$AN$165/BASE!$AN50,\"\")","v":""},"",{"$f":"IF(BASE!R50=\"\",\"\",Reporte!$N50)","v":""},"",{"$f":"IFERROR(BT50*BASE!$AN$165/BASE!$AN50,\"\")","v":""},"",{"$f":"IF(BASE!S50=\"\",\"\",Reporte!$N50)","v":""},"",{"$f":"IFERROR(BX50*BASE!$AN$165/BASE!$AN50,\"\")","v":""},"",{"$f":"IF(BASE!T50=\"\",\"\",Reporte!$N50)","v":""},"",{"$f":"IFERROR(CB50*BASE!$AN$165/BASE!$AN50,\"\")","v":""},"",{"$f":"IF(BASE!U50=\"\",\"\",Reporte!$N50)","v":""},"",{"$f":"IFERROR(CF50*BASE!$AN$165/BASE!$AN50,\"\")","v":""},"",{"$f":"IF(BASE!V50=\"\",\"\",Reporte!$N50)","v":""},"",{"$f":"IFERROR(CJ50*BASE!$AN$165/BASE!$AN50,\"\")","v":""},"",{"$f":"IF(BASE!W50=\"\",\"\",Reporte!$N50)","v":""},"",{"$f":"IFERROR(CN50*BASE!$AN$165/BASE!$AN50,\"\")","v":""},"",{"$f":"IF(BASE!X50=\"\",\"\",Reporte!$N50)","v":""},"",{"$f":"IFERROR(CR50*BASE!$AN$165/BASE!$AN50,\"\")","v":""},"",{"$f":"IF(BASE!Y50=\"\",\"\",Reporte!$N50)","v":""},"",{"$f":"IFERROR(CV50*BASE!$AN$165/BASE!$AN50,\"\")","v":""},"",{"$f":"IF(BASE!Z50=\"\",\"\",Reporte!$N50)","v":""},"",{"$f":"IFERROR(CZ50*BASE!$AN$165/BASE!$AN50,\"\")","v":""},"",{"$f":"IF(BASE!AA50=\"\",\"\",Reporte!$N50)","v":""},"",{"$f":"IFERROR(DD50*BASE!$AN$165/BASE!$AN50,\"\")","v":""},"",{"$f":"IF(BASE!AB50=\"\",\"\",Reporte!$N50)","v":""},"",{"$f":"IFERROR(DH50*BASE!$AN$165/BASE!$AN50,\"\")","v":""},"",{"$f":"IF(BASE!AC50=\"\",\"\",Reporte!$N50)","v":""},"",{"$f":"IFERROR(DL50*BASE!$AN$165/BASE!$AN50,\"\")","v":""},"",{"$f":"IF(BASE!AD50=\"\",\"\",Reporte!$N50)","v":""},"",{"$f":"IFERROR(DP50*BASE!$AN$165/BASE!$AN50,\"\")","v":""},"",{"$f":"IF(BASE!AE50=\"\",\"\",Reporte!$N50)","v":""},"",{"$f":"IFERROR(DT50*BASE!$AN$165/BASE!$AN50,\"\")","v":""},"",{"$f":"IF(BASE!AF50=\"\",\"\",Reporte!$N50)","v":""},"",{"$f":"IFERROR(DX50*BASE!$AN$165/BASE!$AN50,\"\")","v":""},"",{"$f":"IF(BASE!AG50=\"\",\"\",Reporte!$N50)","v":""},"",{"$f":"IFERROR(EB50*BASE!$AN$165/BASE!$AN50,\"\")","v":""},"",{"$f":"IF(BASE!AH50=\"\",\"\",Reporte!$N50)","v":""},"",{"$f":"IFERROR(EF50*BASE!$AN$165/BASE!$AN50,\"\")","v":""},"",{"$f":"IF(BASE!AI50=\"\",\"\",Reporte!$N50)","v":""},"",{"$f":"IFERROR(EJ50*BASE!$AN$165/BASE!$AN50,\"\")","v":""},"",{"$f":"IF(BASE!AJ50=\"\",\"\",Reporte!$N50)","v":""},"",{"$f":"IFERROR(EN50*BASE!$AN$165/BASE!$AN50,\"\")","v":""},"",{"$f":"IF(BASE!AK50=\"\",\"\",Reporte!$N50)","v":""},"",{"$f":"IFERROR(ER50*BASE!$AN$165/BASE!$AN50,\"\")","v":""},"",{"$f":"IF(BASE!AL50=\"\",\"\",Reporte!$N50)","v":""},"",{"$f":"IFERROR(EV50*BASE!$AN$165/BASE!$AN50,\"\")","v":""},""]
[null,null,"Criterio Evaluación 3.2","",{"$f":"EPV!E11","v":1},{"$f":"EPV!F11","v":8.3333333333333329E-2},{"$f":"EPV!G11","v":""},null,null,null,null,null,"Criterio Evaluación 3.2","",{"$f":"'Peso criterios carga horaria'!F51","v":1.5},{"$f":"O51*BASE!$AN$165/BASE!AN51","v":1.8831081081081085},3.4364261168384879E-3,"",{"$f":"IF(BASE!E51=\"\",\"\",Reporte!$N51)","v":""},"",{"$f":"IFERROR(T51*BASE!$AN$165/BASE!$AN51,\"\")","v":""},"",{"$f":"IF(BASE!F51=\"\",\"\",Reporte!$N51)","v":""},"",{"$f":"IFERROR(X51*BASE!$AN$165/BASE!$AN51,\"\")","v":""},"",{"$f":"IF(BASE!G51=\"\",\"\",Reporte!$N51)","v":""},"",{"$f":"IFERROR(AB51*BASE!$AN$165/BASE!$AN51,\"\")","v":""},"",{"$f":"IF(BASE!H51=\"\",\"\",Reporte!$N51)","v":""},"",{"$f":"IFERROR(AF51*BASE!$AN$165/BASE!$AN51,\"\")","v":""},"",{"$f":"IF(BASE!I51=\"\",\"\",Reporte!$N51)","v":""},"",{"$f":"IFERROR(AJ51*BASE!$AN$165/BASE!$AN51,\"\")","v":""},"",{"$f":"IF(BASE!J51=\"\",\"\",Reporte!$N51)","v":""},"",{"$f":"IFERROR(AN51*BASE!$AN$165/BASE!$AN51,\"\")","v":""},"",{"$f":"IF(BASE!K51=\"\",\"\",Reporte!$N51)","v":""},"",{"$f":"IFERROR(AR51*BASE!$AN$165/BASE!$AN51,\"\")","v":""},"",{"$f":"IF(BASE!L51=\"\",\"\",Reporte!$N51)","v":""},"",{"$f":"IFERROR(AV51*BASE!$AN$165/BASE!$AN51,\"\")","v":""},"",{"$f":"IF(BASE!M51=\"\",\"\",Reporte!$N51)","v":""},"",{"$f":"IFERROR(AZ51*BASE!$AN$165/BASE!$AN51,\"\")","v":""},"",{"$f":"IF(BASE!N51=\"\",\"\",Reporte!$N51)","v":""},"",{"$f":"IFERROR(BD51*BASE!$AN$165/BASE!$AN51,\"\")","v":""},"",{"$f":"IF(BASE!O51=\"\",\"\",Reporte!$N51)","v":""},"",{"$f":"IFERROR(BH51*BASE!$AN$165/BASE!$AN51,\"\")","v":""},"",{"$f":"IF(BASE!P51=\"\",\"\",Reporte!$N51)","v":""},"",{"$f":"IFERROR(BL51*BASE!$AN$165/BASE!$AN51,\"\")","v":""},"",{"$f":"IF(BASE!Q51=\"\",\"\",Reporte!$N51)","v":""},"",{"$f":"IFERROR(BP51*BASE!$AN$165/BASE!$AN51,\"\")","v":""},"",{"$f":"IF(BASE!R51=\"\",\"\",Reporte!$N51)","v":""},"",{"$f":"IFERROR(BT51*BASE!$AN$165/BASE!$AN51,\"\")","v":""},"",{"$f":"IF(BASE!S51=\"\",\"\",Reporte!$N51)","v":""},"",{"$f":"IFERROR(BX51*BASE!$AN$165/BASE!$AN51,\"\")","v":""},"",{"$f":"IF(BASE!T51=\"\",\"\",Reporte!$N51)","v":""},"",{"$f":"IFERROR(CB51*BASE!$AN$165/BASE!$AN51,\"\")","v":""},"",{"$f":"IF(BASE!U51=\"\",\"\",Reporte!$N51)","v":""},"",{"$f":"IFERROR(CF51*BASE!$AN$165/BASE!$AN51,\"\")","v":""},"",{"$f":"IF(BASE!V51=\"\",\"\",Reporte!$N51)","v":""},"",{"$f":"IFERROR(CJ51*BASE!$AN$165/BASE!$AN51,\"\")","v":""},"",{"$f":"IF(BASE!W51=\"\",\"\",Reporte!$N51)","v":""},"",{"$f":"IFERROR(CN51*BASE!$AN$165/BASE!$AN51,\"\")","v":""},"",{"$f":"IF(BASE!X51=\"\",\"\",Reporte!$N51)","v":""},"",{"$f":"IFERROR(CR51*BASE!$AN$165/BASE!$AN51,\"\")","v":""},"",{"$f":"IF(BASE!Y51=\"\",\"\",Reporte!$N51)","v":""},"",{"$f":"IFERROR(CV51*BASE!$AN$165/BASE!$AN51,\"\")","v":""},"",{"$f":"IF(BASE!Z51=\"\",\"\",Reporte!$N51)","v":""},"",{"$f":"IFERROR(CZ51*BASE!$AN$165/BASE!$AN51,\"\")","v":""},"",{"$f":"IF(BASE!AA51=\"\",\"\",Reporte!$N51)","v":""},"",{"$f":"IFERROR(DD51*BASE!$AN$165/BASE!$AN51,\"\")","v":""},"",{"$f":"IF(BASE!AB51=\"\",\"\",Reporte!$N51)","v":""},"",{"$f":"IFERROR(DH51*BASE!$AN$165/BASE!$AN51,\"\")","v":""},"",{"$f":"IF(BASE!AC51=\"\",\"\",Reporte!$N51)","v":""},"",{"$f":"IFERROR(DL51*BASE!$AN$165/BASE!$AN51,\"\")","v":""},"",{"$f":"IF(BASE!AD51=\"\",\"\",Reporte!$N51)","v":""},"",{"$f":"IFERROR(DP51*BASE!$AN$165/BASE!$AN51,\"\")","v":""},"",{"$f":"IF(BASE!AE51=\"\",\"\",Reporte!$N51)","v":""},"",{"$f":"IFERROR(DT51*BASE!$AN$165/BASE!$AN51,\"\")","v":""},"",{"$f":"IF(BASE!AF51=\"\",\"\",Reporte!$N51)","v":""},"",{"$f":"IFERROR(DX51*BASE!$AN$165/BASE!$AN51,\"\")","v":""},"",{"$f":"IF(BASE!AG51=\"\",\"\",Reporte!$N51)","v":""},"",{"$f":"IFERROR(EB51*BASE!$AN$165/BASE!$AN51,\"\")","v":""},"",{"$f":"IF(BASE!AH51=\"\",\"\",Reporte!$N51)","v":""},"",{"$f":"IFERROR(EF51*BASE!$AN$165/BASE!$AN51,\"\")","v":""},"",{"$f":"IF(BASE!AI51=\"\",\"\",Reporte!$N51)","v":""},"",{"$f":"IFERROR(EJ51*BASE!$AN$165/BASE!$AN51,\"\")","v":""},"",{"$f":"IF(BASE!AJ51=\"\",\"\",Reporte!$N51)","v":""},"",{"$f":"IFERROR(EN51*BASE!$AN$165/BASE!$AN51,\"\")","v":""},"",{"$f":"IF(BASE!AK51=\"\",\"\",Reporte!$N51)","v":""},"",{"$f":"IFERROR(ER51*BASE!$AN$165/BASE!$AN51,\"\")","v":""},"",{"$f":"IF(BASE!AL51=\"\",\"\",Reporte!$N51)","v":""},"",{"$f":"IFERROR(EV51*BASE!$AN$165/BASE!$AN51,\"\")","v":""},""]
[null,null,"Criterio Evaluación 3.3","",{"$f":"EPV!E12","v":1},{"$f":"EPV!F12","v":8.3333333333333329E-2},{"$f":"EPV!G12","v":""},null,null,null,null,null,"Criterio Evaluación 3.3","",{"$f":"'Peso criterios carga horaria'!F52","v":1.5},{"$f":"O52*BASE!$AN$165/BASE!AN52","v":1.8831081081081085},3.4364261168384879E-3,"",{"$f":"IF(BASE!E52=\"\",\"\",Reporte!$N52)","v":""},"",{"$f":"IFERROR(T52*BASE!$AN$165/BASE!$AN52,\"\")","v":""},"",{"$f":"IF(BASE!F52=\"\",\"\",Reporte!$N52)","v":""},"",{"$f":"IFERROR(X52*BASE!$AN$165/BASE!$AN52,\"\")","v":""},"",{"$f":"IF(BASE!G52=\"\",\"\",Reporte!$N52)","v":""},"",{"$f":"IFERROR(AB52*BASE!$AN$165/BASE!$AN52,\"\")","v":""},"",{"$f":"IF(BASE!H52=\"\",\"\",Reporte!$N52)","v":""},"",{"$f":"IFERROR(AF52*BASE!$AN$165/BASE!$AN52,\"\")","v":""},"",{"$f":"IF(BASE!I52=\"\",\"\",Reporte!$N52)","v":""},"",{"$f":"IFERROR(AJ52*BASE!$AN$165/BASE!$AN52,\"\")","v":""},"",{"$f":"IF(BASE!J52=\"\",\"\",Reporte!$N52)","v":""},"",{"$f":"IFERROR(AN52*BASE!$AN$165/BASE!$AN52,\"\")","v":""},"",{"$f":"IF(BASE!K52=\"\",\"\",Reporte!$N52)","v":""},"",{"$f":"IFERROR(AR52*BASE!$AN$165/BASE!$AN52,\"\")","v":""},"",{"$f":"IF(BASE!L52=\"\",\"\",Reporte!$N52)","v":""},"",{"$f":"IFERROR(AV52*BASE!$AN$165/BASE!$AN52,\"\")","v":""},"",{"$f":"IF(BASE!M52=\"\",\"\",Reporte!$N52)","v":""},"",{"$f":"IFERROR(AZ52*BASE!$AN$165/BASE!$AN52,\"\")","v":""},"",{"$f":"IF(BASE!N52=\"\",\"\",Reporte!$N52)","v":""},"",{"$f":"IFERROR(BD52*BASE!$AN$165/BASE!$AN52,\"\")","v":""},"",{"$f":"IF(BASE!O52=\"\",\"\",Reporte!$N52)","v":""},"",{"$f":"IFERROR(BH52*BASE!$AN$165/BASE!$AN52,\"\")","v":""},"",{"$f":"IF(BASE!P52=\"\",\"\",Reporte!$N52)","v":""},"",{"$f":"IFERROR(BL52*BASE!$AN$165/BASE!$AN52,\"\")","v":""},"",{"$f":"IF(BASE!Q52=\"\",\"\",Reporte!$N52)","v":""},"",{"$f":"IFERROR(BP52*BASE!$AN$165/BASE!$AN52,\"\")","v":""},"",{"$f":"IF(BASE!R52=\"\",\"\",Reporte!$N52)","v":""},"",{"$f":"IFERROR(BT52*BASE!$AN$165/BASE!$AN52,\"\")","v":""},"",{"$f":"IF(BASE!S52=\"\",\"\",Reporte!$N52)","v":""},"",{"$f":"IFERROR(BX52*BASE!$AN$165/BASE!$AN52,\"\")","v":""},"",{"$f":"IF(BASE!T52=\"\",\"\",Reporte!$N52)","v":""},"",{"$f":"IFERROR(CB52*BASE!$AN$165/BASE!$AN52,\"\")","v":""},"",{"$f":"IF(BASE!U52=\"\",\"\",Reporte!$N52)","v":""},"",{"$f":"IFERROR(CF52*BASE!$AN$165/BASE!$AN52,\"\")","v":""},"",{"$f":"IF(BASE!V52=\"\",\"\",Reporte!$N52)","v":""},"",{"$f":"IFERROR(CJ52*BASE!$AN$165/BASE!$AN52,\"\")","v":""},"",{"$f":"IF(BASE!W52=\"\",\"\",Reporte!$N52)","v":""},"",{"$f":"IFERROR(CN52*BASE!$AN$165/BASE!$AN52,\"\")","v":""},"",{"$f":"IF(BASE!X52=\"\",\"\",Reporte!$N52)","v":""},"",{"$f":"IFERROR(CR52*BASE!$AN$165/BASE!$AN52,\"\")","v":""},"",{"$f":"IF(BASE!Y52=\"\",\"\",Reporte!$N52)","v":""},"",{"$f":"IFERROR(CV52*BASE!$AN$165/BASE!$AN52,\"\")","v":""},"",{"$f":"IF(BASE!Z52=\"\",\"\",Reporte!$N52)","v":""},"",{"$f":"IFERROR(CZ52*BASE!$AN$165/BASE!$AN52,\"\")","v":""},"",{"$f":"IF(BASE!AA52=\"\",\"\",Reporte!$N52)","v":""},"",{"$f":"IFERROR(DD52*BASE!$AN$165/BASE!$AN52,\"\")","v":""},"",{"$f":"IF(BASE!AB52=\"\",\"\",Reporte!$N52)","v":""},"",{"$f":"IFERROR(DH52*BASE!$AN$165/BASE!$AN52,\"\")","v":""},"",{"$f":"IF(BASE!AC52=\"\",\"\",Reporte!$N52)","v":""},"",{"$f":"IFERROR(DL52*BASE!$AN$165/BASE!$AN52,\"\")","v":""},"",{"$f":"IF(BASE!AD52=\"\",\"\",Reporte!$N52)","v":""},"",{"$f":"IFERROR(DP52*BASE!$AN$165/BASE!$AN52,\"\")","v":""},"",{"$f":"IF(BASE!AE52=\"\",\"\",Reporte!$N52)","v":""},"",{"$f":"IFERROR(DT52*BASE!$AN$165/BASE!$AN52,\"\")","v":""},"",{"$f":"IF(BASE!AF52=\"\",\"\",Reporte!$N52)","v":""},"",{"$f":"IFERROR(DX52*BASE!$AN$165/BASE!$AN52,\"\")","v":""},"",{"$f":"IF(BASE!AG52=\"\",\"\",Reporte!$N52)","v":""},"",{"$f":"IFERROR(EB52*BASE!$AN$165/BASE!$AN52,\"\")","v":""},"",{"$f":"IF(BASE!AH52=\"\",\"\",Reporte!$N52)","v":""},"",{"$f":"IFERROR(EF52*BASE!$AN$165/BASE!$AN52,\"\")","v":""},"",{"$f":"IF(BASE!AI52=\"\",\"\",Reporte!$N52)","v":""},"",{"$f":"IFERROR(EJ52*BASE!$AN$165/BASE!$AN52,\"\")","v":""},"",{"$f":"IF(BASE!AJ52=\"\",\"\",Reporte!$N52)","v":""},"",{"$f":"IFERROR(EN52*BASE!$AN$165/BASE!$AN52,\"\")","v":""},"",{"$f":"IF(BASE!AK52=\"\",\"\",Reporte!$N52)","v":""},"",{"$f":"IFERROR(ER52*BASE!$AN$165/BASE!$AN52,\"\")","v":""},"",{"$f":"IF(BASE!AL52=\"\",\"\",Reporte!$N52)","v":""},"",{"$f":"IFERROR(EV52*BASE!$AN$165/BASE!$AN52,\"\")","v":""},""]
[null,"Comp. Esp. 4","Criterio Evaluación 4.1","",{"$f":"EPV!E13","v":1},{"$f":"EPV!F13","v":8.3333333333333329E-2},{"$f":"EPV!G13","v":""},null,null,null,null,"Comp. Esp. 4","Criterio Evaluación 4.1","",{"$f":"'Peso criterios carga horaria'!F53","v":1.5},{"$f":"O53*BASE!$AN$165/BASE!AN53","v":1.8831081081081085},3.4364261168384879E-3,"",{"$f":"IF(BASE!E53=\"\",\"\",Reporte!$N53)","v":""},"",{"$f":"IFERROR(T53*BASE!$AN$165/BASE!$AN53,\"\")","v":""},"",{"$f":"IF(BASE!F53=\"\",\"\",Reporte!$N53)","v":""},"",{"$f":"IFERROR(X53*BASE!$AN$165/BASE!$AN53,\"\")","v":""},"",{"$f":"IF(BASE!G53=\"\",\"\",Reporte!$N53)","v":""},"",{"$f":"IFERROR(AB53*BASE!$AN$165/BASE!$AN53,\"\")","v":""},"",{"$f":"IF(BASE!H53=\"\",\"\",Reporte!$N53)","v":""},"",{"$f":"IFERROR(AF53*BASE!$AN$165/BASE!$AN53,\"\")","v":""},"",{"$f":"IF(BASE!I53=\"\",\"\",Reporte!$N53)","v":""},"",{"$f":"IFERROR(AJ53*BASE!$AN$165/BASE!$AN53,\"\")","v":""},"",{"$f":"IF(BASE!J53=\"\",\"\",Reporte!$N53)","v":""},"",{"$f":"IFERROR(AN53*BASE!$AN$165/BASE!$AN53,\"\")","v":""},"",{"$f":"IF(BASE!K53=\"\",\"\",Reporte!$N53)","v":""},"",{"$f":"IFERROR(AR53*BASE!$AN$165/BASE!$AN53,\"\")","v":""},"",{"$f":"IF(BASE!L53=\"\",\"\",Reporte!$N53)","v":""},"",{"$f":"IFERROR(AV53*BASE!$AN$165/BASE!$AN53,\"\")","v":""},"",{"$f":"IF(BASE!M53=\"\",\"\",Reporte!$N53)","v":""},"",{"$f":"IFERROR(AZ53*BASE!$AN$165/BASE!$AN53,\"\")","v":""},"",{"$f":"IF(BASE!N53=\"\",\"\",Reporte!$N53)","v":""},"",{"$f":"IFERROR(BD53*BASE!$AN$165/BASE!$AN53,\"\")","v":""},"",{"$f":"IF(BASE!O53=\"\",\"\",Reporte!$N53)","v":""},"",{"$f":"IFERROR(BH53*BASE!$AN$165/BASE!$AN53,\"\")","v":""},"",{"$f":"IF(BASE!P53=\"\",\"\",Reporte!$N53)","v":""},"",{"$f":"IFERROR(BL53*BASE!$AN$165/BASE!$AN53,\"\")","v":""},"",{"$f":"IF(BASE!Q53=\"\",\"\",Reporte!$N53)","v":""},"",{"$f":"IFERROR(BP53*BASE!$AN$165/BASE!$AN53,\"\")","v":""},"",{"$f":"IF(BASE!R53=\"\",\"\",Reporte!$N53)","v":""},"",{"$f":"IFERROR(BT53*BASE!$AN$165/BASE!$AN53,\"\")","v":""},"",{"$f":"IF(BASE!S53=\"\",\"\",Reporte!$N53)","v":""},"",{"$f":"IFERROR(BX53*BASE!$AN$165/BASE!$AN53,\"\")","v":""},"",{"$f":"IF(BASE!T53=\"\",\"\",Reporte!$N53)","v":""},"",{"$f":"IFERROR(CB53*BASE!$AN$165/BASE!$AN53,\"\")","v":""},"",{"$f":"IF(BASE!U53=\"\",\"\",Reporte!$N53)","v":""},"",{"$f":"IFERROR(CF53*BASE!$AN$165/BASE!$AN53,\"\")","v":""},"",{"$f":"IF(BASE!V53=\"\",\"\",Reporte!$N53)","v":""},"",{"$f":"IFERROR(CJ53*BASE!$AN$165/BASE!$AN53,\"\")","v":""},"",{"$f":"IF(BASE!W53=\"\",\"\",Reporte!$N53)","v":""},"",{"$f":"IFERROR(CN53*BASE!$AN$165/BASE!$AN53,\"\")","v":""},"",{"$f":"IF(BASE!X53=\"\",\"\",Reporte!$N53)","v":""},"",{"$f":"IFERROR(CR53*BASE!$AN$165/BASE!$AN53,\"\")","v":""},"",{"$f":"IF(BASE!Y53=\"\",\"\",Reporte!$N53)","v":""},"",{"$f":"IFERROR(CV53*BASE!$AN$165/BASE!$AN53,\"\")","v":""},"",{"$f":"IF(BASE!Z53=\"\",\"\",Reporte!$N53)","v":""},"",{"$f":"IFERROR(CZ53*BASE!$AN$165/BASE!$AN53,\"\")","v":""},"",{"$f":"IF(BASE!AA53=\"\",\"\",Reporte!$N53)","v":""},"",{"$f":"IFERROR(DD53*BASE!$AN$165/BASE!$AN53,\"\")","v":""},"",{"$f":"IF(BASE!AB53=\"\",\"\",Reporte!$N53)","v":""},"",{"$f":"IFERROR(DH53*BASE!$AN$165/BASE!$AN53,\"\")","v":""},"",{"$f":"IF(BASE!AC53=\"\",\"\",Reporte!$N53)","v":""},"",{"$f":"IFERROR(DL53*BASE!$AN$165/BASE!$AN53,\"\")","v":""},"",{"$f":"IF(BASE!AD53=\"\",\"\",Reporte!$N53)","v":""},"",{"$f":"IFERROR(DP53*BASE!$AN$165/BASE!$AN53,\"\")","v":""},"",{"$f":"IF(BASE!AE53=\"\",\"\",Reporte!$N53)","v":""},"",{"$f":"IFERROR(DT53*BASE!$AN$165/BASE!$AN53,\"\")","v":""},"",{"$f":"IF(BASE!AF53=\"\",\"\",Reporte!$N53)","v":""},"",{"$f":"IFERROR(DX53*BASE!$AN$165/BASE!$AN53,\"\")","v":""},"",{"$f":"IF(BASE!AG53=\"\",\"\",Reporte!$N53)","v":""},"",{"$f":"IFERROR(EB53*BASE!$AN$165/BASE!$AN53,\"\")","v":""},"",{"$f":"IF(BASE!AH53=\"\",\"\",Reporte!$N53)","v":""},"",{"$f":"IFERROR(EF53*BASE!$AN$165/BASE!$AN53,\"\")","v":""},"",{"$f":"IF(BASE!AI53=\"\",\"\",Reporte!$N53)","v":""},"",{"$f":"IFERROR(EJ53*BASE!$AN$165/BASE!$AN53,\"\")","v":""},"",{"$f":"IF(BASE!AJ53=\"\",\"\",Reporte!$N53)","v":""},"",{"$f":"IFERROR(EN53*BASE!$AN$165/BASE!$AN53,\"\")","v":""},"",{"$f":"IF(BASE!AK53=\"\",\"\",Reporte!$N53)","v":""},"",{"$f":"IFERROR(ER53*BASE!$AN$165/BASE!$AN53,\"\")","v":""},"",{"$f":"IF(BASE!AL53=\"\",\"\",Reporte!$N53)","v":""},"",{"$f":"IFERROR(EV53*BASE!$AN$165/BASE!$AN53,\"\")","v":""},""]
[null,null,"Criterio Evaluación 4.2","",{"$f":"EPV!E14","v":1},{"$f":"EPV!F14","v":8.3333333333333329E-2},{"$f":"EPV!G14","v":""},null,null,null,null,null,"Criterio Evaluación 4.2","",{"$f":"'Peso criterios carga horaria'!F54","v":1.5},{"$f":"O54*BASE!$AN$165/BASE!AN54","v":1.8831081081081085},3.4364261168384879E-3,"",{"$f":"IF(BASE!E54=\"\",\"\",Reporte!$N54)","v":""},"",{"$f":"IFERROR(T54*BASE!$AN$165/BASE!$AN54,\"\")","v":""},"",{"$f":"IF(BASE!F54=\"\",\"\",Reporte!$N54)","v":""},"",{"$f":"IFERROR(X54*BASE!$AN$165/BASE!$AN54,\"\")","v":""},"",{"$f":"IF(BASE!G54=\"\",\"\",Reporte!$N54)","v":""},"",{"$f":"IFERROR(AB54*BASE!$AN$165/BASE!$AN54,\"\")","v":""},"",{"$f":"IF(BASE!H54=\"\",\"\",Reporte!$N54)","v":""},"",{"$f":"IFERROR(AF54*BASE!$AN$165/BASE!$AN54,\"\")","v":""},"",{"$f":"IF(BASE!I54=\"\",\"\",Reporte!$N54)","v":""},"",{"$f":"IFERROR(AJ54*BASE!$AN$165/BASE!$AN54,\"\")","v":""},"",{"$f":"IF(BASE!J54=\"\",\"\",Reporte!$N54)","v":""},"",{"$f":"IFERROR(AN54*BASE!$AN$165/BASE!$AN54,\"\")","v":""},"",{"$f":"IF(BASE!K54=\"\",\"\",Reporte!$N54)","v":""},"",{"$f":"IFERROR(AR54*BASE!$AN$165/BASE!$AN54,\"\")","v":""},"",{"$f":"IF(BASE!L54=\"\",\"\",Reporte!$N54)","v":""},"",{"$f":"IFERROR(AV54*BASE!$AN$165/BASE!$AN54,\"\")","v":""},"",{"$f":"IF(BASE!M54=\"\",\"\",Reporte!$N54)","v":""},"",{"$f":"IFERROR(AZ54*BASE!$AN$165/BASE!$AN54,\"\")","v":""},"",{"$f":"IF(BASE!N54=\"\",\"\",Reporte!$N54)","v":""},"",{"$f":"IFERROR(BD54*BASE!$AN$165/BASE!$AN54,\"\")","v":""},"",{"$f":"IF(BASE!O54=\"\",\"\",Reporte!$N54)","v":""},"",{"$f":"IFERROR(BH54*BASE!$AN$165/BASE!$AN54,\"\")","v":""},"",{"$f":"IF(BASE!P54=\"\",\"\",Reporte!$N54)","v":""},"",{"$f":"IFERROR(BL54*BASE!$AN$165/BASE!$AN54,\"\")","v":""},"",{"$f":"IF(BASE!Q54=\"\",\"\",Reporte!$N54)","v":""},"",{"$f":"IFERROR(BP54*BASE!$AN$165/BASE!$AN54,\"\")","v":""},"",{"$f":"IF(BASE!R54=\"\",\"\",Reporte!$N54)","v":""},"",{"$f":"IFERROR(BT54*BASE!$AN$165/BASE!$AN54,\"\")","v":""},"",{"$f":"IF(BASE!S54=\"\",\"\",Reporte!$N54)","v":""},"",{"$f":"IFERROR(BX54*BASE!$AN$165/BASE!$AN54,\"\")","v":""},"",{"$f":"IF(BASE!T54=\"\",\"\",Reporte!$N54)","v":""},"",{"$f":"IFERROR(CB54*BASE!$AN$165/BASE!$AN54,\"\")","v":""},"",{"$f":"IF(BASE!U54=\"\",\"\",Reporte!$N54)","v":""},"",{"$f":"IFERROR(CF54*BASE!$AN$165/BASE!$AN54,\"\")","v":""},"",{"$f":"IF(BASE!V54=\"\",\"\",Reporte!$N54)","v":""},"",{"$f":"IFERROR(CJ54*BASE!$AN$165/BASE!$AN54,\"\")","v":""},"",{"$f":"IF(BASE!W54=\"\",\"\",Reporte!$N54)","v":""},"",{"$f":"IFERROR(CN54*BASE!$AN$165/BASE!$AN54,\"\")","v":""},"",{"$f":"IF(BASE!X54=\"\",\"\",Reporte!$N54)","v":""},"",{"$f":"IFERROR(CR54*BASE!$AN$165/BASE!$AN54,\"\")","v":""},"",{"$f":"IF(BASE!Y54=\"\",\"\",Reporte!$N54)","v":""},"",{"$f":"IFERROR(CV54*BASE!$AN$165/BASE!$AN54,\"\")","v":""},"",{"$f":"IF(BASE!Z54=\"\",\"\",Reporte!$N54)","v":""},"",{"$f":"IFERROR(CZ54*BASE!$AN$165/BASE!$AN54,\"\")","v":""},"",{"$f":"IF(BASE!AA54=\"\",\"\",Reporte!$N54)","v":""},"",{"$f":"IFERROR(DD54*BASE!$AN$165/BASE!$AN54,\"\")","v":""},"",{"$f":"IF(BASE!AB54=\"\",\"\",Reporte!$N54)","v":""},"",{"$f":"IFERROR(DH54*BASE!$AN$165/BASE!$AN54,\"\")","v":""},"",{"$f":"IF(BASE!AC54=\"\",\"\",Reporte!$N54)","v":""},"",{"$f":"IFERROR(DL54*BASE!$AN$165/BASE!$AN54,\"\")","v":""},"",{"$f":"IF(BASE!AD54=\"\",\"\",Reporte!$N54)","v":""},"",{"$f":"IFERROR(DP54*BASE!$AN$165/BASE!$AN54,\"\")","v":""},"",{"$f":"IF(BASE!AE54=\"\",\"\",Reporte!$N54)","v":""},"",{"$f":"IFERROR(DT54*BASE!$AN$165/BASE!$AN54,\"\")","v":""},"",{"$f":"IF(BASE!AF54=\"\",\"\",Reporte!$N54)","v":""},"",{"$f":"IFERROR(DX54*BASE!$AN$165/BASE!$AN54,\"\")","v":""},"",{"$f":"IF(BASE!AG54=\"\",\"\",Reporte!$N54)","v":""},"",{"$f":"IFERROR(EB54*BASE!$AN$165/BASE!$AN54,\"\")","v":""},"",{"$f":"IF(BASE!AH54=\"\",\"\",Reporte!$N54)","v":""},"",{"$f":"IFERROR(EF54*BASE!$AN$165/BASE!$AN54,\"\")","v":""},"",{"$f":"IF(BASE!AI54=\"\",\"\",Reporte!$N54)","v":""},"",{"$f":"IFERROR(EJ54*BASE!$AN$165/BASE!$AN54,\"\")","v":""},"",{"$f":"IF(BASE!AJ54=\"\",\"\",Reporte!$N54)","v":""},"",{"$f":"IFERROR(EN54*BASE!$AN$165/BASE!$AN54,\"\")","v":""},"",{"$f":"IF(BASE!AK54=\"\",\"\",Reporte!$N54)","v":""},"",{"$f":"IFERROR(ER54*BASE!$AN$165/BASE!$AN54,\"\")","v":""},"",{"$f":"IF(BASE!AL54=\"\",\"\",Reporte!$N54)","v":""},"",{"$f":"IFERROR(EV54*BASE!$AN$165/BASE!$AN54,\"\")","v":""},""]
[null,null,"Criterio Evaluación 4.3","",{"$f":"EPV!E15","v":1},{"$f":"EPV!F15","v":8.3333333333333329E-2},{"$f":"EPV!G15","v":""},null,null,null,null,null,"Criterio Evaluación 4.3","",{"$f":"'Peso criterios carga horaria'!F55","v":1.5},{"$f":"O55*BASE!$AN$165/BASE!AN55","v":1.8831081081081085},3.4364261168384879E-3,"",{"$f":"IF(BASE!E55=\"\",\"\",Reporte!$N55)","v":""},"",{"$f":"IFERROR(T55*BASE!$AN$165/BASE!$AN55,\"\")","v":""},"",{"$f":"IF(BASE!F55=\"\",\"\",Reporte!$N55)","v":""},"",{"$f":"IFERROR(X55*BASE!$AN$165/BASE!$AN55,\"\")","v":""},"",{"$f":"IF(BASE!G55=\"\",\"\",Reporte!$N55)","v":""},"",{"$f":"IFERROR(AB55*BASE!$AN$165/BASE!$AN55,\"\")","v":""},"",{"$f":"IF(BASE!H55=\"\",\"\",Reporte!$N55)","v":""},"",{"$f":"IFERROR(AF55*BASE!$AN$165/BASE!$AN55,\"\")","v":""},"",{"$f":"IF(BASE!I55=\"\",\"\",Reporte!$N55)","v":""},"",{"$f":"IFERROR(AJ55*BASE!$AN$165/BASE!$AN55,\"\")","v":""},"",{"$f":"IF(BASE!J55=\"\",\"\",Reporte!$N55)","v":""},"",{"$f":"IFERROR(AN55*BASE!$AN$165/BASE!$AN55,\"\")","v":""},"",{"$f":"IF(BASE!K55=\"\",\"\",Reporte!$N55)","v":""},"",{"$f":"IFERROR(AR55*BASE!$AN$165/BASE!$AN55,\"\")","v":""},"",{"$f":"IF(BASE!L55=\"\",\"\",Reporte!$N55)","v":""},"",{"$f":"IFERROR(AV55*BASE!$AN$165/BASE!$AN55,\"\")","v":""},"",{"$f":"IF(BASE!M55=\"\",\"\",Reporte!$N55)","v":""},"",{"$f":"IFERROR(AZ55*BASE!$AN$165/BASE!$AN55,\"\")","v":""},"",{"$f":"IF(BASE!N55=\"\",\"\",Reporte!$N55)","v":""},"",{"$f":"IFERROR(BD55*BASE!$AN$165/BASE!$AN55,\"\")","v":""},"",{"$f":"IF(BASE!O55=\"\",\"\",Reporte!$N55)","v":""},"",{"$f":"IFERROR(BH55*BASE!$AN$165/BASE!$AN55,\"\")","v":""},"",{"$f":"IF(BASE!P55=\"\",\"\",Reporte!$N55)","v":""},"",{"$f":"IFERROR(BL55*BASE!$AN$165/BASE!$AN55,\"\")","v":""},"",{"$f":"IF(BASE!Q55=\"\",\"\",Reporte!$N55)","v":""},"",{"$f":"IFERROR(BP55*BASE!$AN$165/BASE!$AN55,\"\")","v":""},"",{"$f":"IF(BASE!R55=\"\",\"\",Reporte!$N55)","v":""},"",{"$f":"IFERROR(BT55*BASE!$AN$165/BASE!$AN55,\"\")","v":""},"",{"$f":"IF(BASE!S55=\"\",\"\",Reporte!$N55)","v":""},"",{"$f":"IFERROR(BX55*BASE!$AN$165/BASE!$AN55,\"\")","v":""},"",{"$f":"IF(BASE!T55=\"\",\"\",Reporte!$N55)","v":""},"",{"$f":"IFERROR(CB55*BASE!$AN$165/BASE!$AN55,\"\")","v":""},"",{"$f":"IF(BASE!U55=\"\",\"\",Reporte!$N55)","v":""},"",{"$f":"IFERROR(CF55*BASE!$AN$165/BASE!$AN55,\"\")","v":""},"",{"$f":"IF(BASE!V55=\"\",\"\",Reporte!$N55)","v":""},"",{"$f":"IFERROR(CJ55*BASE!$AN$165/BASE!$AN55,\"\")","v":""},"",{"$f":"IF(BASE!W55=\"\",\"\",Reporte!$N55)","v":""},"",{"$f":"IFERROR(CN55*BASE!$AN$165/BASE!$AN55,\"\")","v":""},"",{"$f":"IF(BASE!X55=\"\",\"\",Reporte!$N55)","v":""},"",{"$f":"IFERROR(CR55*BASE!$AN$165/BASE!$AN55,\"\")","v":""},"",{"$f":"IF(BASE!Y55=\"\",\"\",Reporte!$N55)","v":""},"",{"$f":"IFERROR(CV55*BASE!$AN$165/BASE!$AN55,\"\")","v":""},"",{"$f":"IF(BASE!Z55=\"\",\"\",Reporte!$N55)","v":""},"",{"$f":"IFERROR(CZ55*BASE!$AN$165/BASE!$AN55,\"\")","v":""},"",{"$f":"IF(BASE!AA55=\"\",\"\",Reporte!$N55)","v":""},"",{"$f":"IFERROR(DD55*BASE!$AN$165/BASE!$AN55,\"\")","v":""},"",{"$f":"IF(BASE!AB55=\"\",\"\",Reporte!$N55)","v":""},"",{"$f":"IFERROR(DH55*BASE!$AN$165/BASE!$AN55,\"\")","v":""},"",{"$f":"IF(BASE!AC55=\"\",\"\",Reporte!$N55)","v":""},"",{"$f":"IFERROR(DL55*BASE!$AN$165/BASE!$AN55,\"\")","v":""},"",{"$f":"IF(BASE!AD55=\"\",\"\",Reporte!$N55)","v":""},"",{"$f":"IFERROR(DP55*BASE!$AN$165/BASE!$AN55,\"\")","v":""},"",{"$f":"IF(BASE!AE55=\"\",\"\",Reporte!$N55)","v":""},"",{"$f":"IFERROR(DT55*BASE!$AN$165/BASE!$AN55,\"\")","v":""},"",{"$f":"IF(BASE!AF55=\"\",\"\",Reporte!$N55)","v":""},"",{"$f":"IFERROR(DX55*BASE!$AN$165/BASE!$AN55,\"\")","v":""},"",{"$f":"IF(BASE!AG55=\"\",\"\",Reporte!$N55)","v":""},"",{"$f":"IFERROR(EB55*BASE!$AN$165/BASE!$AN55,\"\")","v":""},"",{"$f":"IF(BASE!AH55=\"\",\"\",Reporte!$N55)","v":""},"",{"$f":"IFERROR(EF55*BASE!$AN$165/BASE!$AN55,\"\")","v":""},"",{"$f":"IF(BASE!AI55=\"\",\"\",Reporte!$N55)","v":""},"",{"$f":"IFERROR(EJ55*BASE!$AN$165/BASE!$AN55,\"\")","v":""},"",{"$f":"IF(BASE!AJ55=\"\",\"\",Reporte!$N55)","v":""},"",{"$f":"IFERROR(EN55*BASE!$AN$165/BASE!$AN55,\"\")","v":""},"",{"$f":"IF(BASE!AK55=\"\",\"\",Reporte!$N55)","v":""},"",{"$f":"IFERROR(ER55*BASE!$AN$165/BASE!$AN55,\"\")","v":""},"",{"$f":"IF(BASE!AL55=\"\",\"\",Reporte!$N55)","v":""},"",{"$f":"IFERROR(EV55*BASE!$AN$165/BASE!$AN55,\"\")","v":""},""]
["Música y Danza  ","Comp. Esp. 1","Criterio Evaluación 1.1","",{"$f":"'Musica y Danza'!E4","v":1},{"$f":"'Musica y Danza'!F4","v":5.8823529411764705E-2},{"$f":"'Musica y Danza'!G4","v":""},{"$f":"IFERROR(SUMPRODUCT(D56:D72,E56:E72)/SUMIF(D56:D72,\">=0\",E56:E72),\"\")","v":""},null,null,"Música y Danza  ","Comp. Esp. 1","Criterio Evaluación 1.1","",{"$f":"'Peso criterios carga horaria'!F56","v":1},{"$f":"O56*BASE!$AN$165/BASE!AN56","v":0.93838383838383843},2.2909507445589921E-3,"",{"$f":"IF(BASE!E56=\"\",\"\",Reporte!$N56)","v":""},"",{"$f":"IFERROR(T56*BASE!$AN$165/BASE!$AN56,\"\")","v":""},"",{"$f":"IF(BASE!F56=\"\",\"\",Reporte!$N56)","v":""},"",{"$f":"IFERROR(X56*BASE!$AN$165/BASE!$AN56,\"\")","v":""},"",{"$f":"IF(BASE!G56=\"\",\"\",Reporte!$N56)","v":""},"",{"$f":"IFERROR(AB56*BASE!$AN$165/BASE!$AN56,\"\")","v":""},"",{"$f":"IF(BASE!H56=\"\",\"\",Reporte!$N56)","v":""},"",{"$f":"IFERROR(AF56*BASE!$AN$165/BASE!$AN56,\"\")","v":""},"",{"$f":"IF(BASE!I56=\"\",\"\",Reporte!$N56)","v":""},"",{"$f":"IFERROR(AJ56*BASE!$AN$165/BASE!$AN56,\"\")","v":""},"",{"$f":"IF(BASE!J56=\"\",\"\",Reporte!$N56)","v":""},"",{"$f":"IFERROR(AN56*BASE!$AN$165/BASE!$AN56,\"\")","v":""},"",{"$f":"IF(BASE!K56=\"\",\"\",Reporte!$N56)","v":""},"",{"$f":"IFERROR(AR56*BASE!$AN$165/BASE!$AN56,\"\")","v":""},"",{"$f":"IF(BASE!L56=\"\",\"\",Reporte!$N56)","v":""},"",{"$f":"IFERROR(AV56*BASE!$AN$165/BASE!$AN56,\"\")","v":""},"",{"$f":"IF(BASE!M56=\"\",\"\",Reporte!$N56)","v":""},"",{"$f":"IFERROR(AZ56*BASE!$AN$165/BASE!$AN56,\"\")","v":""},"",{"$f":"IF(BASE!N56=\"\",\"\",Reporte!$N56)","v":""},"",{"$f":"IFERROR(BD56*BASE!$AN$165/BASE!$AN56,\"\")","v":""},"",{"$f":"IF(BASE!O56=\"\",\"\",Reporte!$N56)","v":""},"",{"$f":"IFERROR(BH56*BASE!$AN$165/BASE!$AN56,\"\")","v":""},"",{"$f":"IF(BASE!P56=\"\",\"\",Reporte!$N56)","v":""},"",{"$f":"IFERROR(BL56*BASE!$AN$165/BASE!$AN56,\"\")","v":""},"",{"$f":"IF(BASE!Q56=\"\",\"\",Reporte!$N56)","v":""},"",{"$f":"IFERROR(BP56*BASE!$AN$165/BASE!$AN56,\"\")","v":""},"",{"$f":"IF(BASE!R56=\"\",\"\",Reporte!$N56)","v":""},"",{"$f":"IFERROR(BT56*BASE!$AN$165/BASE!$AN56,\"\")","v":""},"",{"$f":"IF(BASE!S56=\"\",\"\",Reporte!$N56)","v":""},"",{"$f":"IFERROR(BX56*BASE!$AN$165/BASE!$AN56,\"\")","v":""},"",{"$f":"IF(BASE!T56=\"\",\"\",Reporte!$N56)","v":""},"",{"$f":"IFERROR(CB56*BASE!$AN$165/BASE!$AN56,\"\")","v":""},"",{"$f":"IF(BASE!U56=\"\",\"\",Reporte!$N56)","v":""},"",{"$f":"IFERROR(CF56*BASE!$AN$165/BASE!$AN56,\"\")","v":""},"",{"$f":"IF(BASE!V56=\"\",\"\",Reporte!$N56)","v":""},"",{"$f":"IFERROR(CJ56*BASE!$AN$165/BASE!$AN56,\"\")","v":""},"",{"$f":"IF(BASE!W56=\"\",\"\",Reporte!$N56)","v":""},"",{"$f":"IFERROR(CN56*BASE!$AN$165/BASE!$AN56,\"\")","v":""},"",{"$f":"IF(BASE!X56=\"\",\"\",Reporte!$N56)","v":""},"",{"$f":"IFERROR(CR56*BASE!$AN$165/BASE!$AN56,\"\")","v":""},"",{"$f":"IF(BASE!Y56=\"\",\"\",Reporte!$N56)","v":""},"",{"$f":"IFERROR(CV56*BASE!$AN$165/BASE!$AN56,\"\")","v":""},"",{"$f":"IF(BASE!Z56=\"\",\"\",Reporte!$N56)","v":""},"",{"$f":"IFERROR(CZ56*BASE!$AN$165/BASE!$AN56,\"\")","v":""},"",{"$f":"IF(BASE!AA56=\"\",\"\",Reporte!$N56)","v":""},"",{"$f":"IFERROR(DD56*BASE!$AN$165/BASE!$AN56,\"\")","v":""},"",{"$f":"IF(BASE!AB56=\"\",\"\",Reporte!$N56)","v":""},"",{"$f":"IFERROR(DH56*BASE!$AN$165/BASE!$AN56,\"\")","v":""},"",{"$f":"IF(BASE!AC56=\"\",\"\",Reporte!$N56)","v":""},"",{"$f":"IFERROR(DL56*BASE!$AN$165/BASE!$AN56,\"\")","v":""},"",{"$f":"IF(BASE!AD56=\"\",\"\",Reporte!$N56)","v":""},"",{"$f":"IFERROR(DP56*BASE!$AN$165/BASE!$AN56,\"\")","v":""},"",{"$f":"IF(BASE!AE56=\"\",\"\",Reporte!$N56)","v":""},"",{"$f":"IFERROR(DT56*BASE!$AN$165/BASE!$AN56,\"\")","v":""},"",{"$f":"IF(BASE!AF56=\"\",\"\",Reporte!$N56)","v":""},"",{"$f":"IFERROR(DX56*BASE!$AN$165/BASE!$AN56,\"\")","v":""},"",{"$f":"IF(BASE!AG56=\"\",\"\",Reporte!$N56)","v":""},"",{"$f":"IFERROR(EB56*BASE!$AN$165/BASE!$AN56,\"\")","v":""},"",{"$f":"IF(BASE!AH56=\"\",\"\",Reporte!$N56)","v":""},"",{"$f":"IFERROR(EF56*BASE!$AN$165/BASE!$AN56,\"\")","v":""},"",{"$f":"IF(BASE!AI56=\"\",\"\",Reporte!$N56)","v":""},"",{"$f":"IFERROR(EJ56*BASE!$AN$165/BASE!$AN56,\"\")","v":""},"",{"$f":"IF(BASE!AJ56=\"\",\"\",Reporte!$N56)","v":""},"",{"$f":"IFERROR(EN56*BASE!$AN$165/BASE!$AN56,\"\")","v":""},"",{"$f":"IF(BASE!AK56=\"\",\"\",Reporte!$N56)","v":""},"",{"$f":"IFERROR(ER56*BASE!$AN$165/BASE!$AN56,\"\")","v":""},"",{"$f":"IF(BASE!AL56=\"\",\"\",Reporte!$N56)","v":""},"",{"$f":"IFERROR(EV56*BASE!$AN$165/BASE!$AN56,\"\")","v":""},""]
[null,null,"Criterio Evaluación 1.2","",{"$f":"'Musica y Danza'!E5","v":1},{"$f":"'Musica y Danza'!F5","v":5.8823529411764705E-2},{"$f":"'Musica y Danza'!G5","v":""},null,null,null,null,null,"Criterio Evaluación 1.2","",{"$f":"'Peso criterios carga horaria'!F57","v":1},{"$f":"O57*BASE!$AN$165/BASE!AN57","v":0.93838383838383843},2.2909507445589921E-3,"",{"$f":"IF(BASE!E57=\"\",\"\",Reporte!$N57)","v":""},"",{"$f":"IFERROR(T57*BASE!$AN$165/BASE!$AN57,\"\")","v":""},"",{"$f":"IF(BASE!F57=\"\",\"\",Reporte!$N57)","v":""},"",{"$f":"IFERROR(X57*BASE!$AN$165/BASE!$AN57,\"\")","v":""},"",{"$f":"IF(BASE!G57=\"\",\"\",Reporte!$N57)","v":""},"",{"$f":"IFERROR(AB57*BASE!$AN$165/BASE!$AN57,\"\")","v":""},"",{"$f":"IF(BASE!H57=\"\",\"\",Reporte!$N57)","v":""},"",{"$f":"IFERROR(AF57*BASE!$AN$165/BASE!$AN57,\"\")","v":""},"",{"$f":"IF(BASE!I57=\"\",\"\",Reporte!$N57)","v":""},"",{"$f":"IFERROR(AJ57*BASE!$AN$165/BASE!$AN57,\"\")","v":""},"",{"$f":"IF(BASE!J57=\"\",\"\",Reporte!$N57)","v":""},"",{"$f":"IFERROR(AN57*BASE!$AN$165/BASE!$AN57,\"\")","v":""},"",{"$f":"IF(BASE!K57=\"\",\"\",Reporte!$N57)","v":""},"",{"$f":"IFERROR(AR57*BASE!$AN$165/BASE!$AN57,\"\")","v":""},"",{"$f":"IF(BASE!L57=\"\",\"\",Reporte!$N57)","v":""},"",{"$f":"IFERROR(AV57*BASE!$AN$165/BASE!$AN57,\"\")","v":""},"",{"$f":"IF(BASE!M57=\"\",\"\",Reporte!$N57)","v":""},"",{"$f":"IFERROR(AZ57*BASE!$AN$165/BASE!$AN57,\"\")","v":""},"",{"$f":"IF(BASE!N57=\"\",\"\",Reporte!$N57)","v":""},"",{"$f":"IFERROR(BD57*BASE!$AN$165/BASE!$AN57,\"\")","v":""},"",{"$f":"IF(BASE!O57=\"\",\"\",Reporte!$N57)","v":""},"",{"$f":"IFERROR(BH57*BASE!$AN$165/BASE!$AN57,\"\")","v":""},"",{"$f":"IF(BASE!P57=\"\",\"\",Reporte!$N57)","v":""},"",{"$f":"IFERROR(BL57*BASE!$AN$165/BASE!$AN57,\"\")","v":""},"",{"$f":"IF(BASE!Q57=\"\",\"\",Reporte!$N57)","v":""},"",{"$f":"IFERROR(BP57*BASE!$AN$165/BASE!$AN57,\"\")","v":""},"",{"$f":"IF(BASE!R57=\"\",\"\",Reporte!$N57)","v":""},"",{"$f":"IFERROR(BT57*BASE!$AN$165/BASE!$AN57,\"\")","v":""},"",{"$f":"IF(BASE!S57=\"\",\"\",Reporte!$N57)","v":""},"",{"$f":"IFERROR(BX57*BASE!$AN$165/BASE!$AN57,\"\")","v":""},"",{"$f":"IF(BASE!T57=\"\",\"\",Reporte!$N57)","v":""},"",{"$f":"IFERROR(CB57*BASE!$AN$165/BASE!$AN57,\"\")","v":""},"",{"$f":"IF(BASE!U57=\"\",\"\",Reporte!$N57)","v":""},"",{"$f":"IFERROR(CF57*BASE!$AN$165/BASE!$AN57,\"\")","v":""},"",{"$f":"IF(BASE!V57=\"\",\"\",Reporte!$N57)","v":""},"",{"$f":"IFERROR(CJ57*BASE!$AN$165/BASE!$AN57,\"\")","v":""},"",{"$f":"IF(BASE!W57=\"\",\"\",Reporte!$N57)","v":""},"",{"$f":"IFERROR(CN57*BASE!$AN$165/BASE!$AN57,\"\")","v":""},"",{"$f":"IF(BASE!X57=\"\",\"\",Reporte!$N57)","v":""},"",{"$f":"IFERROR(CR57*BASE!$AN$165/BASE!$AN57,\"\")","v":""},"",{"$f":"IF(BASE!Y57=\"\",\"\",Reporte!$N57)","v":""},"",{"$f":"IFERROR(CV57*BASE!$AN$165/BASE!$AN57,\"\")","v":""},"",{"$f":"IF(BASE!Z57=\"\",\"\",Reporte!$N57)","v":""},"",{"$f":"IFERROR(CZ57*BASE!$AN$165/BASE!$AN57,\"\")","v":""},"",{"$f":"IF(BASE!AA57=\"\",\"\",Reporte!$N57)","v":""},"",{"$f":"IFERROR(DD57*BASE!$AN$165/BASE!$AN57,\"\")","v":""},"",{"$f":"IF(BASE!AB57=\"\",\"\",Reporte!$N57)","v":""},"",{"$f":"IFERROR(DH57*BASE!$AN$165/BASE!$AN57,\"\")","v":""},"",{"$f":"IF(BASE!AC57=\"\",\"\",Reporte!$N57)","v":""},"",{"$f":"IFERROR(DL57*BASE!$AN$165/BASE!$AN57,\"\")","v":""},"",{"$f":"IF(BASE!AD57=\"\",\"\",Reporte!$N57)","v":""},"",{"$f":"IFERROR(DP57*BASE!$AN$165/BASE!$AN57,\"\")","v":""},"",{"$f":"IF(BASE!AE57=\"\",\"\",Reporte!$N57)","v":""},"",{"$f":"IFERROR(DT57*BASE!$AN$165/BASE!$AN57,\"\")","v":""},"",{"$f":"IF(BASE!AF57=\"\",\"\",Reporte!$N57)","v":""},"",{"$f":"IFERROR(DX57*BASE!$AN$165/BASE!$AN57,\"\")","v":""},"",{"$f":"IF(BASE!AG57=\"\",\"\",Reporte!$N57)","v":""},"",{"$f":"IFERROR(EB57*BASE!$AN$165/BASE!$AN57,\"\")","v":""},"",{"$f":"IF(BASE!AH57=\"\",\"\",Reporte!$N57)","v":""},"",{"$f":"IFERROR(EF57*BASE!$AN$165/BASE!$AN57,\"\")","v":""},"",{"$f":"IF(BASE!AI57=\"\",\"\",Reporte!$N57)","v":""},"",{"$f":"IFERROR(EJ57*BASE!$AN$165/BASE!$AN57,\"\")","v":""},"",{"$f":"IF(BASE!AJ57=\"\",\"\",Reporte!$N57)","v":""},"",{"$f":"IFERROR(EN57*BASE!$AN$165/BASE!$AN57,\"\")","v":""},"",{"$f":"IF(BASE!AK57=\"\",\"\",Reporte!$N57)","v":""},"",{"$f":"IFERROR(ER57*BASE!$AN$165/BASE!$AN57,\"\")","v":""},"",{"$f":"IF(BASE!AL57=\"\",\"\",Reporte!$N57)","v":""},"",{"$f":"IFERROR(EV57*BASE!$AN$165/BASE!$AN57,\"\")","v":""},""]
[null,null,"Criterio Evaluación 1.3","",{"$f":"'Musica y Danza'!E6","v":1},{"$f":"'Musica y Danza'!F6","v":5.8823529411764705E-2},{"$f":"'Musica y Danza'!G6","v":""},null,null,null,null,null,"Criterio Evaluación 1.3","",{"$f":"'Peso criterios carga horaria'!F58","v":1},{"$f":"O58*BASE!$AN$165/BASE!AN58","v":0.93838383838383843},2.2909507445589921E-3,"",{"$f":"IF(BASE!E58=\"\",\"\",Reporte!$N58)","v":""},"",{"$f":"IFERROR(T58*BASE!$AN$165/BASE!$AN58,\"\")","v":""},"",{"$f":"IF(BASE!F58=\"\",\"\",Reporte!$N58)","v":""},"",{"$f":"IFERROR(X58*BASE!$AN$165/BASE!$AN58,\"\")","v":""},"",{"$f":"IF(BASE!G58=\"\",\"\",Reporte!$N58)","v":""},"",{"$f":"IFERROR(AB58*BASE!$AN$165/BASE!$AN58,\"\")","v":""},"",{"$f":"IF(BASE!H58=\"\",\"\",Reporte!$N58)","v":""},"",{"$f":"IFERROR(AF58*BASE!$AN$165/BASE!$AN58,\"\")","v":""},"",{"$f":"IF(BASE!I58=\"\",\"\",Reporte!$N58)","v":""},"",{"$f":"IFERROR(AJ58*BASE!$AN$165/BASE!$AN58,\"\")","v":""},"",{"$f":"IF(BASE!J58=\"\",\"\",Reporte!$N58)","v":""},"",{"$f":"IFERROR(AN58*BASE!$AN$165/BASE!$AN58,\"\")","v":""},"",{"$f":"IF(BASE!K58=\"\",\"\",Reporte!$N58)","v":""},"",{"$f":"IFERROR(AR58*BASE!$AN$165/BASE!$AN58,\"\")","v":""},"",{"$f":"IF(BASE!L58=\"\",\"\",Reporte!$N58)","v":""},"",{"$f":"IFERROR(AV58*BASE!$AN$165/BASE!$AN58,\"\")","v":""},"",{"$f":"IF(BASE!M58=\"\",\"\",Reporte!$N58)","v":""},"",{"$f":"IFERROR(AZ58*BASE!$AN$165/BASE!$AN58,\"\")","v":""},"",{"$f":"IF(BASE!N58=\"\",\"\",Reporte!$N58)","v":""},"",{"$f":"IFERROR(BD58*BASE!$AN$165/BASE!$AN58,\"\")","v":""},"",{"$f":"IF(BASE!O58=\"\",\"\",Reporte!$N58)","v":""},"",{"$f":"IFERROR(BH58*BASE!$AN$165/BASE!$AN58,\"\")","v":""},"",{"$f":"IF(BASE!P58=\"\",\"\",Reporte!$N58)","v":""},"",{"$f":"IFERROR(BL58*BASE!$AN$165/BASE!$AN58,\"\")","v":""},"",{"$f":"IF(BASE!Q58=\"\",\"\",Reporte!$N58)","v":""},"",{"$f":"IFERROR(BP58*BASE!$AN$165/BASE!$AN58,\"\")","v":""},"",{"$f":"IF(BASE!R58=\"\",\"\",Reporte!$N58)","v":""},"",{"$f":"IFERROR(BT58*BASE!$AN$165/BASE!$AN58,\"\")","v":""},"",{"$f":"IF(BASE!S58=\"\",\"\",Reporte!$N58)","v":""},"",{"$f":"IFERROR(BX58*BASE!$AN$165/BASE!$AN58,\"\")","v":""},"",{"$f":"IF(BASE!T58=\"\",\"\",Reporte!$N58)","v":""},"",{"$f":"IFERROR(CB58*BASE!$AN$165/BASE!$AN58,\"\")","v":""},"",{"$f":"IF(BASE!U58=\"\",\"\",Reporte!$N58)","v":""},"",{"$f":"IFERROR(CF58*BASE!$AN$165/BASE!$AN58,\"\")","v":""},"",{"$f":"IF(BASE!V58=\"\",\"\",Reporte!$N58)","v":""},"",{"$f":"IFERROR(CJ58*BASE!$AN$165/BASE!$AN58,\"\")","v":""},"",{"$f":"IF(BASE!W58=\"\",\"\",Reporte!$N58)","v":""},"",{"$f":"IFERROR(CN58*BASE!$AN$165/BASE!$AN58,\"\")","v":""},"",{"$f":"IF(BASE!X58=\"\",\"\",Reporte!$N58)","v":""},"",{"$f":"IFERROR(CR58*BASE!$AN$165/BASE!$AN58,\"\")","v":""},"",{"$f":"IF(BASE!Y58=\"\",\"\",Reporte!$N58)","v":""},"",{"$f":"IFERROR(CV58*BASE!$AN$165/BASE!$AN58,\"\")","v":""},"",{"$f":"IF(BASE!Z58=\"\",\"\",Reporte!$N58)","v":""},"",{"$f":"IFERROR(CZ58*BASE!$AN$165/BASE!$AN58,\"\")","v":""},"",{"$f":"IF(BASE!AA58=\"\",\"\",Reporte!$N58)","v":""},"",{"$f":"IFERROR(DD58*BASE!$AN$165/BASE!$AN58,\"\")","v":""},"",{"$f":"IF(BASE!AB58=\"\",\"\",Reporte!$N58)","v":""},"",{"$f":"IFERROR(DH58*BASE!$AN$165/BASE!$AN58,\"\")","v":""},"",{"$f":"IF(BASE!AC58=\"\",\"\",Reporte!$N58)","v":""},"",{"$f":"IFERROR(DL58*BASE!$AN$165/BASE!$AN58,\"\")","v":""},"",{"$f":"IF(BASE!AD58=\"\",\"\",Reporte!$N58)","v":""},"",{"$f":"IFERROR(DP58*BASE!$AN$165/BASE!$AN58,\"\")","v":""},"",{"$f":"IF(BASE!AE58=\"\",\"\",Reporte!$N58)","v":""},"",{"$f":"IFERROR(DT58*BASE!$AN$165/BASE!$AN58,\"\")","v":""},"",{"$f":"IF(BASE!AF58=\"\",\"\",Reporte!$N58)","v":""},"",{"$f":"IFERROR(DX58*BASE!$AN$165/BASE!$AN58,\"\")","v":""},"",{"$f":"IF(BASE!AG58=\"\",\"\",Reporte!$N58)","v":""},"",{"$f":"IFERROR(EB58*BASE!$AN$165/BASE!$AN58,\"\")","v":""},"",{"$f":"IF(BASE!AH58=\"\",\"\",Reporte!$N58)","v":""},"",{"$f":"IFERROR(EF58*BASE!$AN$165/BASE!$AN58,\"\")","v":""},"",{"$f":"IF(BASE!AI58=\"\",\"\",Reporte!$N58)","v":""},"",{"$f":"IFERROR(EJ58*BASE!$AN$165/BASE!$AN58,\"\")","v":""},"",{"$f":"IF(BASE!AJ58=\"\",\"\",Reporte!$N58)","v":""},"",{"$f":"IFERROR(EN58*BASE!$AN$165/BASE!$AN58,\"\")","v":""},"",{"$f":"IF(BASE!AK58=\"\",\"\",Reporte!$N58)","v":""},"",{"$f":"IFERROR(ER58*BASE!$AN$165/BASE!$AN58,\"\")","v":""},"",{"$f":"IF(BASE!AL58=\"\",\"\",Reporte!$N58)","v":""},"",{"$f":"IFERROR(EV58*BASE!$AN$165/BASE!$AN58,\"\")","v":""},""]
[null,"Comp. Esp. 2","Criterio Evaluación 2.1","",{"$f":"'Musica y Danza'!E7","v":1},{"$f":"'Musica y Danza'!F7","v":5.8823529411764705E-2},{"$f":"'Musica y Danza'!G7","v":""},null,null,null,null,"Comp. Esp. 2","Criterio Evaluación 2.1","",{"$f":"'Peso criterios carga horaria'!F59","v":1},{"$f":"O59*BASE!$AN$165/BASE!AN59","v":0.93838383838383843},2.2909507445589921E-3,"",{"$f":"IF(BASE!E59=\"\",\"\",Reporte!$N59)","v":""},"",{"$f":"IFERROR(T59*BASE!$AN$165/BASE!$AN59,\"\")","v":""},"",{"$f":"IF(BASE!F59=\"\",\"\",Reporte!$N59)","v":""},"",{"$f":"IFERROR(X59*BASE!$AN$165/BASE!$AN59,\"\")","v":""},"",{"$f":"IF(BASE!G59=\"\",\"\",Reporte!$N59)","v":""},"",{"$f":"IFERROR(AB59*BASE!$AN$165/BASE!$AN59,\"\")","v":""},"",{"$f":"IF(BASE!H59=\"\",\"\",Reporte!$N59)","v":""},"",{"$f":"IFERROR(AF59*BASE!$AN$165/BASE!$AN59,\"\")","v":""},"",{"$f":"IF(BASE!I59=\"\",\"\",Reporte!$N59)","v":""},"",{"$f":"IFERROR(AJ59*BASE!$AN$165/BASE!$AN59,\"\")","v":""},"",{"$f":"IF(BASE!J59=\"\",\"\",Reporte!$N59)","v":""},"",{"$f":"IFERROR(AN59*BASE!$AN$165/BASE!$AN59,\"\")","v":""},"",{"$f":"IF(BASE!K59=\"\",\"\",Reporte!$N59)","v":""},"",{"$f":"IFERROR(AR59*BASE!$AN$165/BASE!$AN59,\"\")","v":""},"",{"$f":"IF(BASE!L59=\"\",\"\",Reporte!$N59)","v":""},"",{"$f":"IFERROR(AV59*BASE!$AN$165/BASE!$AN59,\"\")","v":""},"",{"$f":"IF(BASE!M59=\"\",\"\",Reporte!$N59)","v":""},"",{"$f":"IFERROR(AZ59*BASE!$AN$165/BASE!$AN59,\"\")","v":""},"",{"$f":"IF(BASE!N59=\"\",\"\",Reporte!$N59)","v":""},"",{"$f":"IFERROR(BD59*BASE!$AN$165/BASE!$AN59,\"\")","v":""},"",{"$f":"IF(BASE!O59=\"\",\"\",Reporte!$N59)","v":""},"",{"$f":"IFERROR(BH59*BASE!$AN$165/BASE!$AN59,\"\")","v":""},"",{"$f":"IF(BASE!P59=\"\",\"\",Reporte!$N59)","v":""},"",{"$f":"IFERROR(BL59*BASE!$AN$165/BASE!$AN59,\"\")","v":""},"",{"$f":"IF(BASE!Q59=\"\",\"\",Reporte!$N59)","v":""},"",{"$f":"IFERROR(BP59*BASE!$AN$165/BASE!$AN59,\"\")","v":""},"",{"$f":"IF(BASE!R59=\"\",\"\",Reporte!$N59)","v":""},"",{"$f":"IFERROR(BT59*BASE!$AN$165/BASE!$AN59,\"\")","v":""},"",{"$f":"IF(BASE!S59=\"\",\"\",Reporte!$N59)","v":""},"",{"$f":"IFERROR(BX59*BASE!$AN$165/BASE!$AN59,\"\")","v":""},"",{"$f":"IF(BASE!T59=\"\",\"\",Reporte!$N59)","v":""},"",{"$f":"IFERROR(CB59*BASE!$AN$165/BASE!$AN59,\"\")","v":""},"",{"$f":"IF(BASE!U59=\"\",\"\",Reporte!$N59)","v":""},"",{"$f":"IFERROR(CF59*BASE!$AN$165/BASE!$AN59,\"\")","v":""},"",{"$f":"IF(BASE!V59=\"\",\"\",Reporte!$N59)","v":""},"",{"$f":"IFERROR(CJ59*BASE!$AN$165/BASE!$AN59,\"\")","v":""},"",{"$f":"IF(BASE!W59=\"\",\"\",Reporte!$N59)","v":""},"",{"$f":"IFERROR(CN59*BASE!$AN$165/BASE!$AN59,\"\")","v":""},"",{"$f":"IF(BASE!X59=\"\",\"\",Reporte!$N59)","v":""},"",{"$f":"IFERROR(CR59*BASE!$AN$165/BASE!$AN59,\"\")","v":""},"",{"$f":"IF(BASE!Y59=\"\",\"\",Reporte!$N59)","v":""},"",{"$f":"IFERROR(CV59*BASE!$AN$165/BASE!$AN59,\"\")","v":""},"",{"$f":"IF(BASE!Z59=\"\",\"\",Reporte!$N59)","v":""},"",{"$f":"IFERROR(CZ59*BASE!$AN$165/BASE!$AN59,\"\")","v":""},"",{"$f":"IF(BASE!AA59=\"\",\"\",Reporte!$N59)","v":""},"",{"$f":"IFERROR(DD59*BASE!$AN$165/BASE!$AN59,\"\")","v":""},"",{"$f":"IF(BASE!AB59=\"\",\"\",Reporte!$N59)","v":""},"",{"$f":"IFERROR(DH59*BASE!$AN$165/BASE!$AN59,\"\")","v":""},"",{"$f":"IF(BASE!AC59=\"\",\"\",Reporte!$N59)","v":""},"",{"$f":"IFERROR(DL59*BASE!$AN$165/BASE!$AN59,\"\")","v":""},"",{"$f":"IF(BASE!AD59=\"\",\"\",Reporte!$N59)","v":""},"",{"$f":"IFERROR(DP59*BASE!$AN$165/BASE!$AN59,\"\")","v":""},"",{"$f":"IF(BASE!AE59=\"\",\"\",Reporte!$N59)","v":""},"",{"$f":"IFERROR(DT59*BASE!$AN$165/BASE!$AN59,\"\")","v":""},"",{"$f":"IF(BASE!AF59=\"\",\"\",Reporte!$N59)","v":""},"",{"$f":"IFERROR(DX59*BASE!$AN$165/BASE!$AN59,\"\")","v":""},"",{"$f":"IF(BASE!AG59=\"\",\"\",Reporte!$N59)","v":""},"",{"$f":"IFERROR(EB59*BASE!$AN$165/BASE!$AN59,\"\")","v":""},"",{"$f":"IF(BASE!AH59=\"\",\"\",Reporte!$N59)","v":""},"",{"$f":"IFERROR(EF59*BASE!$AN$165/BASE!$AN59,\"\")","v":""},"",{"$f":"IF(BASE!AI59=\"\",\"\",Reporte!$N59)","v":""},"",{"$f":"IFERROR(EJ59*BASE!$AN$165/BASE!$AN59,\"\")","v":""},"",{"$f":"IF(BASE!AJ59=\"\",\"\",Reporte!$N59)","v":""},"",{"$f":"IFERROR(EN59*BASE!$AN$165/BASE!$AN59,\"\")","v":""},"",{"$f":"IF(BASE!AK59=\"\",\"\",Reporte!$N59)","v":""},"",{"$f":"IFERROR(ER59*BASE!$AN$165/BASE!$AN59,\"\")","v":""},"",{"$f":"IF(BASE!AL59=\"\",\"\",Reporte!$N59)","v":""},"",{"$f":"IFERROR(EV59*BASE!$AN$165/BASE!$AN59,\"\")","v":""},""]
[null,null,"Criterio Evaluación 2.2","",{"$f":"'Musica y Danza'!E8","v":1},{"$f":"'Musica y Danza'!F8","v":5.8823529411764705E-2},{"$f":"'Musica y Danza'!G8","v":""},null,null,null,null,null,"Criterio Evaluación 2.2","",{"$f":"'Peso criterios carga horaria'!F60","v":1},{"$f":"O60*BASE!$AN$165/BASE!AN60","v":0.93838383838383843},2.2909507445589921E-3,"",{"$f":"IF(BASE!E60=\"\",\"\",Reporte!$N60)","v":""},"",{"$f":"IFERROR(T60*BASE!$AN$165/BASE!$AN60,\"\")","v":""},"",{"$f":"IF(BASE!F60=\"\",\"\",Reporte!$N60)","v":""},"",{"$f":"IFERROR(X60*BASE!$AN$165/BASE!$AN60,\"\")","v":""},"",{"$f":"IF(BASE!G60=\"\",\"\",Reporte!$N60)","v":""},"",{"$f":"IFERROR(AB60*BASE!$AN$165/BASE!$AN60,\"\")","v":""},"",{"$f":"IF(BASE!H60=\"\",\"\",Reporte!$N60)","v":""},"",{"$f":"IFERROR(AF60*BASE!$AN$165/BASE!$AN60,\"\")","v":""},"",{"$f":"IF(BASE!I60=\"\",\"\",Reporte!$N60)","v":""},"",{"$f":"IFERROR(AJ60*BASE!$AN$165/BASE!$AN60,\"\")","v":""},"",{"$f":"IF(BASE!J60=\"\",\"\",Reporte!$N60)","v":""},"",{"$f":"IFERROR(AN60*BASE!$AN$165/BASE!$AN60,\"\")","v":""},"",{"$f":"IF(BASE!K60=\"\",\"\",Reporte!$N60)","v":""},"",{"$f":"IFERROR(AR60*BASE!$AN$165/BASE!$AN60,\"\")","v":""},"",{"$f":"IF(BASE!L60=\"\",\"\",Reporte!$N60)","v":""},"",{"$f":"IFERROR(AV60*BASE!$AN$165/BASE!$AN60,\"\")","v":""},"",{"$f":"IF(BASE!M60=\"\",\"\",Reporte!$N60)","v":""},"",{"$f":"IFERROR(AZ60*BASE!$AN$165/BASE!$AN60,\"\")","v":""},"",{"$f":"IF(BASE!N60=\"\",\"\",Reporte!$N60)","v":""},"",{"$f":"IFERROR(BD60*BASE!$AN$165/BASE!$AN60,\"\")","v":""},"",{"$f":"IF(BASE!O60=\"\",\"\",Reporte!$N60)","v":""},"",{"$f":"IFERROR(BH60*BASE!$AN$165/BASE!$AN60,\"\")","v":""},"",{"$f":"IF(BASE!P60=\"\",\"\",Reporte!$N60)","v":""},"",{"$f":"IFERROR(BL60*BASE!$AN$165/BASE!$AN60,\"\")","v":""},"",{"$f":"IF(BASE!Q60=\"\",\"\",Reporte!$N60)","v":""},"",{"$f":"IFERROR(BP60*BASE!$AN$165/BASE!$AN60,\"\")","v":""},"",{"$f":"IF(BASE!R60=\"\",\"\",Reporte!$N60)","v":""},"",{"$f":"IFERROR(BT60*BASE!$AN$165/BASE!$AN60,\"\")","v":""},"",{"$f":"IF(BASE!S60=\"\",\"\",Reporte!$N60)","v":""},"",{"$f":"IFERROR(BX60*BASE!$AN$165/BASE!$AN60,\"\")","v":""},"",{"$f":"IF(BASE!T60=\"\",\"\",Reporte!$N60)","v":""},"",{"$f":"IFERROR(CB60*BASE!$AN$165/BASE!$AN60,\"\")","v":""},"",{"$f":"IF(BASE!U60=\"\",\"\",Reporte!$N60)","v":""},"",{"$f":"IFERROR(CF60*BASE!$AN$165/BASE!$AN60,\"\")","v":""},"",{"$f":"IF(BASE!V60=\"\",\"\",Reporte!$N60)","v":""},"",{"$f":"IFERROR(CJ60*BASE!$AN$165/BASE!$AN60,\"\")","v":""},"",{"$f":"IF(BASE!W60=\"\",\"\",Reporte!$N60)","v":""},"",{"$f":"IFERROR(CN60*BASE!$AN$165/BASE!$AN60,\"\")","v":""},"",{"$f":"IF(BASE!X60=\"\",\"\",Reporte!$N60)","v":""},"",{"$f":"IFERROR(CR60*BASE!$AN$165/BASE!$AN60,\"\")","v":""},"",{"$f":"IF(BASE!Y60=\"\",\"\",Reporte!$N60)","v":""},"",{"$f":"IFERROR(CV60*BASE!$AN$165/BASE!$AN60,\"\")","v":""},"",{"$f":"IF(BASE!Z60=\"\",\"\",Reporte!$N60)","v":""},"",{"$f":"IFERROR(CZ60*BASE!$AN$165/BASE!$AN60,\"\")","v":""},"",{"$f":"IF(BASE!AA60=\"\",\"\",Reporte!$N60)","v":""},"",{"$f":"IFERROR(DD60*BASE!$AN$165/BASE!$AN60,\"\")","v":""},"",{"$f":"IF(BASE!AB60=\"\",\"\",Reporte!$N60)","v":""},"",{"$f":"IFERROR(DH60*BASE!$AN$165/BASE!$AN60,\"\")","v":""},"",{"$f":"IF(BASE!AC60=\"\",\"\",Reporte!$N60)","v":""},"",{"$f":"IFERROR(DL60*BASE!$AN$165/BASE!$AN60,\"\")","v":""},"",{"$f":"IF(BASE!AD60=\"\",\"\",Reporte!$N60)","v":""},"",{"$f":"IFERROR(DP60*BASE!$AN$165/BASE!$AN60,\"\")","v":""},"",{"$f":"IF(BASE!AE60=\"\",\"\",Reporte!$N60)","v":""},"",{"$f":"IFERROR(DT60*BASE!$AN$165/BASE!$AN60,\"\")","v":""},"",{"$f":"IF(BASE!AF60=\"\",\"\",Reporte!$N60)","v":""},"",{"$f":"IFERROR(DX60*BASE!$AN$165/BASE!$AN60,\"\")","v":""},"",{"$f":"IF(BASE!AG60=\"\",\"\",Reporte!$N60)","v":""},"",{"$f":"IFERROR(EB60*BASE!$AN$165/BASE!$AN60,\"\")","v":""},"",{"$f":"IF(BASE!AH60=\"\",\"\",Reporte!$N60)","v":""},"",{"$f":"IFERROR(EF60*BASE!$AN$165/BASE!$AN60,\"\")","v":""},"",{"$f":"IF(BASE!AI60=\"\",\"\",Reporte!$N60)","v":""},"",{"$f":"IFERROR(EJ60*BASE!$AN$165/BASE!$AN60,\"\")","v":""},"",{"$f":"IF(BASE!AJ60=\"\",\"\",Reporte!$N60)","v":""},"",{"$f":"IFERROR(EN60*BASE!$AN$165/BASE!$AN60,\"\")","v":""},"",{"$f":"IF(BASE!AK60=\"\",\"\",Reporte!$N60)","v":""},"",{"$f":"IFERROR(ER60*BASE!$AN$165/BASE!$AN60,\"\")","v":""},"",{"$f":"IF(BASE!AL60=\"\",\"\",Reporte!$N60)","v":""},"",{"$f":"IFERROR(EV60*BASE!$AN$165/BASE!$AN60,\"\")","v":""},""]
[null,null,"Criterio Evaluación 2.3","",{"$f":"'Musica y Danza'!E9","v":1},{"$f":"'Musica y Danza'!F9","v":5.8823529411764705E-2},{"$f":"'Musica y Danza'!G9","v":""},null,null,null,null,null,"Criterio Evaluación 2.3","",{"$f":"'Peso criterios carga horaria'!F61","v":1},{"$f":"O61*BASE!$AN$165/BASE!AN61","v":0.93838383838383843},2.2909507445589921E-3,"",{"$f":"IF(BASE!E61=\"\",\"\",Reporte!$N61)","v":""},"",{"$f":"IFERROR(T61*BASE!$AN$165/BASE!$AN61,\"\")","v":""},"",{"$f":"IF(BASE!F61=\"\",\"\",Reporte!$N61)","v":""},"",{"$f":"IFERROR(X61*BASE!$AN$165/BASE!$AN61,\"\")","v":""},"",{"$f":"IF(BASE!G61=\"\",\"\",Reporte!$N61)","v":""},"",{"$f":"IFERROR(AB61*BASE!$AN$165/BASE!$AN61,\"\")","v":""},"",{"$f":"IF(BASE!H61=\"\",\"\",Reporte!$N61)","v":""},"",{"$f":"IFERROR(AF61*BASE!$AN$165/BASE!$AN61,\"\")","v":""},"",{"$f":"IF(BASE!I61=\"\",\"\",Reporte!$N61)","v":""},"",{"$f":"IFERROR(AJ61*BASE!$AN$165/BASE!$AN61,\"\")","v":""},"",{"$f":"IF(BASE!J61=\"\",\"\",Reporte!$N61)","v":""},"",{"$f":"IFERROR(AN61*BASE!$AN$165/BASE!$AN61,\"\")","v":""},"",{"$f":"IF(BASE!K61=\"\",\"\",Reporte!$N61)","v":""},"",{"$f":"IFERROR(AR61*BASE!$AN$165/BASE!$AN61,\"\")","v":""},"",{"$f":"IF(BASE!L61=\"\",\"\",Reporte!$N61)","v":""},"",{"$f":"IFERROR(AV61*BASE!$AN$165/BASE!$AN61,\"\")","v":""},"",{"$f":"IF(BASE!M61=\"\",\"\",Reporte!$N61)","v":""},"",{"$f":"IFERROR(AZ61*BASE!$AN$165/BASE!$AN61,\"\")","v":""},"",{"$f":"IF(BASE!N61=\"\",\"\",Reporte!$N61)","v":""},"",{"$f":"IFERROR(BD61*BASE!$AN$165/BASE!$AN61,\"\")","v":""},"",{"$f":"IF(BASE!O61=\"\",\"\",Reporte!$N61)","v":""},"",{"$f":"IFERROR(BH61*BASE!$AN$165/BASE!$AN61,\"\")","v":""},"",{"$f":"IF(BASE!P61=\"\",\"\",Reporte!$N61)","v":""},"",{"$f":"IFERROR(BL61*BASE!$AN$165/BASE!$AN61,\"\")","v":""},"",{"$f":"IF(BASE!Q61=\"\",\"\",Reporte!$N61)","v":""},"",{"$f":"IFERROR(BP61*BASE!$AN$165/BASE!$AN61,\"\")","v":""},"",{"$f":"IF(BASE!R61=\"\",\"\",Reporte!$N61)","v":""},"",{"$f":"IFERROR(BT61*BASE!$AN$165/BASE!$AN61,\"\")","v":""},"",{"$f":"IF(BASE!S61=\"\",\"\",Reporte!$N61)","v":""},"",{"$f":"IFERROR(BX61*BASE!$AN$165/BASE!$AN61,\"\")","v":""},"",{"$f":"IF(BASE!T61=\"\",\"\",Reporte!$N61)","v":""},"",{"$f":"IFERROR(CB61*BASE!$AN$165/BASE!$AN61,\"\")","v":""},"",{"$f":"IF(BASE!U61=\"\",\"\",Reporte!$N61)","v":""},"",{"$f":"IFERROR(CF61*BASE!$AN$165/BASE!$AN61,\"\")","v":""},"",{"$f":"IF(BASE!V61=\"\",\"\",Reporte!$N61)","v":""},"",{"$f":"IFERROR(CJ61*BASE!$AN$165/BASE!$AN61,\"\")","v":""},"",{"$f":"IF(BASE!W61=\"\",\"\",Reporte!$N61)","v":""},"",{"$f":"IFERROR(CN61*BASE!$AN$165/BASE!$AN61,\"\")","v":""},"",{"$f":"IF(BASE!X61=\"\",\"\",Reporte!$N61)","v":""},"",{"$f":"IFERROR(CR61*BASE!$AN$165/BASE!$AN61,\"\")","v":""},"",{"$f":"IF(BASE!Y61=\"\",\"\",Reporte!$N61)","v":""},"",{"$f":"IFERROR(CV61*BASE!$AN$165/BASE!$AN61,\"\")","v":""},"",{"$f":"IF(BASE!Z61=\"\",\"\",Reporte!$N61)","v":""},"",{"$f":"IFERROR(CZ61*BASE!$AN$165/BASE!$AN61,\"\")","v":""},"",{"$f":"IF(BASE!AA61=\"\",\"\",Reporte!$N61)","v":""},"",{"$f":"IFERROR(DD61*BASE!$AN$165/BASE!$AN61,\"\")","v":""},"",{"$f":"IF(BASE!AB61=\"\",\"\",Reporte!$N61)","v":""},"",{"$f":"IFERROR(DH61*BASE!$AN$165/BASE!$AN61,\"\")","v":""},"",{"$f":"IF(BASE!AC61=\"\",\"\",Reporte!$N61)","v":""},"",{"$f":"IFERROR(DL61*BASE!$AN$165/BASE!$AN61,\"\")","v":""},"",{"$f":"IF(BASE!AD61=\"\",\"\",Reporte!$N61)","v":""},"",{"$f":"IFERROR(DP61*BASE!$AN$165/BASE!$AN61,\"\")","v":""},"",{"$f":"IF(BASE!AE61=\"\",\"\",Reporte!$N61)","v":""},"",{"$f":"IFERROR(DT61*BASE!$AN$165/BASE!$AN61,\"\")","v":""},"",{"$f":"IF(BASE!AF61=\"\",\"\",Reporte!$N61)","v":""},"",{"$f":"IFERROR(DX61*BASE!$AN$165/BASE!$AN61,\"\")","v":""},"",{"$f":"IF(BASE!AG61=\"\",\"\",Reporte!$N61)","v":""},"",{"$f":"IFERROR(EB61*BASE!$AN$165/BASE!$AN61,\"\")","v":""},"",{"$f":"IF(BASE!AH61=\"\",\"\",Reporte!$N61)","v":""},"",{"$f":"IFERROR(EF61*BASE!$AN$165/BASE!$AN61,\"\")","v":""},"",{"$f":"IF(BASE!AI61=\"\",\"\",Reporte!$N61)","v":""},"",{"$f":"IFERROR(EJ61*BASE!$AN$165/BASE!$AN61,\"\")","v":""},"",{"$f":"IF(BASE!AJ61=\"\",\"\",Reporte!$N61)","v":""},"",{"$f":"IFERROR(EN61*BASE!$AN$165/BASE!$AN61,\"\")","v":""},"",{"$f":"IF(BASE!AK61=\"\",\"\",Reporte!$N61)","v":""},"",{"$f":"IFERROR(ER61*BASE!$AN$165/BASE!$AN61,\"\")","v":""},"",{"$f":"IF(BASE!AL61=\"\",\"\",Reporte!$N61)","v":""},"",{"$f":"IFERROR(EV61*BASE!$AN$165/BASE!$AN61,\"\")","v":""},""]
[null,"Comp. Esp. 3","Criterio Evaluación 3.1","",{"$f":"'Musica y Danza'!E10","v":1},{"$f":"'Musica y Danza'!F10","v":5.8823529411764705E-2},{"$f":"'Musica y Danza'!G10","v":""},null,null,null,null,"Comp. Esp. 3","Criterio Evaluación 3.1","",{"$f":"'Peso criterios carga horaria'!F62","v":1},{"$f":"O62*BASE!$AN$165/BASE!AN62","v":0.93838383838383843},2.2909507445589921E-3,"",{"$f":"IF(BASE!E62=\"\",\"\",Reporte!$N62)","v":""},"",{"$f":"IFERROR(T62*BASE!$AN$165/BASE!$AN62,\"\")","v":""},"",{"$f":"IF(BASE!F62=\"\",\"\",Reporte!$N62)","v":""},"",{"$f":"IFERROR(X62*BASE!$AN$165/BASE!$AN62,\"\")","v":""},"",{"$f":"IF(BASE!G62=\"\",\"\",Reporte!$N62)","v":""},"",{"$f":"IFERROR(AB62*BASE!$AN$165/BASE!$AN62,\"\")","v":""},"",{"$f":"IF(BASE!H62=\"\",\"\",Reporte!$N62)","v":""},"",{"$f":"IFERROR(AF62*BASE!$AN$165/BASE!$AN62,\"\")","v":""},"",{"$f":"IF(BASE!I62=\"\",\"\",Reporte!$N62)","v":""},"",{"$f":"IFERROR(AJ62*BASE!$AN$165/BASE!$AN62,\"\")","v":""},"",{"$f":"IF(BASE!J62=\"\",\"\",Reporte!$N62)","v":""},"",{"$f":"IFERROR(AN62*BASE!$AN$165/BASE!$AN62,\"\")","v":""},"",{"$f":"IF(BASE!K62=\"\",\"\",Reporte!$N62)","v":""},"",{"$f":"IFERROR(AR62*BASE!$AN$165/BASE!$AN62,\"\")","v":""},"",{"$f":"IF(BASE!L62=\"\",\"\",Reporte!$N62)","v":""},"",{"$f":"IFERROR(AV62*BASE!$AN$165/BASE!$AN62,\"\")","v":""},"",{"$f":"IF(BASE!M62=\"\",\"\",Reporte!$N62)","v":""},"",{"$f":"IFERROR(AZ62*BASE!$AN$165/BASE!$AN62,\"\")","v":""},"",{"$f":"IF(BASE!N62=\"\",\"\",Reporte!$N62)","v":""},"",{"$f":"IFERROR(BD62*BASE!$AN$165/BASE!$AN62,\"\")","v":""},"",{"$f":"IF(BASE!O62=\"\",\"\",Reporte!$N62)","v":""},"",{"$f":"IFERROR(BH62*BASE!$AN$165/BASE!$AN62,\"\")","v":""},"",{"$f":"IF(BASE!P62=\"\",\"\",Reporte!$N62)","v":""},"",{"$f":"IFERROR(BL62*BASE!$AN$165/BASE!$AN62,\"\")","v":""},"",{"$f":"IF(BASE!Q62=\"\",\"\",Reporte!$N62)","v":""},"",{"$f":"IFERROR(BP62*BASE!$AN$165/BASE!$AN62,\"\")","v":""},"",{"$f":"IF(BASE!R62=\"\",\"\",Reporte!$N62)","v":""},"",{"$f":"IFERROR(BT62*BASE!$AN$165/BASE!$AN62,\"\")","v":""},"",{"$f":"IF(BASE!S62=\"\",\"\",Reporte!$N62)","v":""},"",{"$f":"IFERROR(BX62*BASE!$AN$165/BASE!$AN62,\"\")","v":""},"",{"$f":"IF(BASE!T62=\"\",\"\",Reporte!$N62)","v":""},"",{"$f":"IFERROR(CB62*BASE!$AN$165/BASE!$AN62,\"\")","v":""},"",{"$f":"IF(BASE!U62=\"\",\"\",Reporte!$N62)","v":""},"",{"$f":"IFERROR(CF62*BASE!$AN$165/BASE!$AN62,\"\")","v":""},"",{"$f":"IF(BASE!V62=\"\",\"\",Reporte!$N62)","v":""},"",{"$f":"IFERROR(CJ62*BASE!$AN$165/BASE!$AN62,\"\")","v":""},"",{"$f":"IF(BASE!W62=\"\",\"\",Reporte!$N62)","v":""},"",{"$f":"IFERROR(CN62*BASE!$AN$165/BASE!$AN62,\"\")","v":""},"",{"$f":"IF(BASE!X62=\"\",\"\",Reporte!$N62)","v":""},"",{"$f":"IFERROR(CR62*BASE!$AN$165/BASE!$AN62,\"\")","v":""},"",{"$f":"IF(BASE!Y62=\"\",\"\",Reporte!$N62)","v":""},"",{"$f":"IFERROR(CV62*BASE!$AN$165/BASE!$AN62,\"\")","v":""},"",{"$f":"IF(BASE!Z62=\"\",\"\",Reporte!$N62)","v":""},"",{"$f":"IFERROR(CZ62*BASE!$AN$165/BASE!$AN62,\"\")","v":""},"",{"$f":"IF(BASE!AA62=\"\",\"\",Reporte!$N62)","v":""},"",{"$f":"IFERROR(DD62*BASE!$AN$165/BASE!$AN62,\"\")","v":""},"",{"$f":"IF(BASE!AB62=\"\",\"\",Reporte!$N62)","v":""},"",{"$f":"IFERROR(DH62*BASE!$AN$165/BASE!$AN62,\"\")","v":""},"",{"$f":"IF(BASE!AC62=\"\",\"\",Reporte!$N62)","v":""},"",{"$f":"IFERROR(DL62*BASE!$AN$165/BASE!$AN62,\"\")","v":""},"",{"$f":"IF(BASE!AD62=\"\",\"\",Reporte!$N62)","v":""},"",{"$f":"IFERROR(DP62*BASE!$AN$165/BASE!$AN62,\"\")","v":""},"",{"$f":"IF(BASE!AE62=\"\",\"\",Reporte!$N62)","v":""},"",{"$f":"IFERROR(DT62*BASE!$AN$165/BASE!$AN62,\"\")","v":""},"",{"$f":"IF(BASE!AF62=\"\",\"\",Reporte!$N62)","v":""},"",{"$f":"IFERROR(DX62*BASE!$AN$165/BASE!$AN62,\"\")","v":""},"",{"$f":"IF(BASE!AG62=\"\",\"\",Reporte!$N62)","v":""},"",{"$f":"IFERROR(EB62*BASE!$AN$165/BASE!$AN62,\"\")","v":""},"",{"$f":"IF(BASE!AH62=\"\",\"\",Reporte!$N62)","v":""},"",{"$f":"IFERROR(EF62*BASE!$AN$165/BASE!$AN62,\"\")","v":""},"",{"$f":"IF(BASE!AI62=\"\",\"\",Reporte!$N62)","v":""},"",{"$f":"IFERROR(EJ62*BASE!$AN$165/BASE!$AN62,\"\")","v":""},"",{"$f":"IF(BASE!AJ62=\"\",\"\",Reporte!$N62)","v":""},"",{"$f":"IFERROR(EN62*BASE!$AN$165/BASE!$AN62,\"\")","v":""},"",{"$f":"IF(BASE!AK62=\"\",\"\",Reporte!$N62)","v":""},"",{"$f":"IFERROR(ER62*BASE!$AN$165/BASE!$AN62,\"\")","v":""},"",{"$f":"IF(BASE!AL62=\"\",\"\",Reporte!$N62)","v":""},"",{"$f":"IFERROR(EV62*BASE!$AN$165/BASE!$AN62,\"\")","v":""},""]
[null,null,"Criterio Evaluación 3.2","",{"$f":"'Musica y Danza'!E11","v":1},{"$f":"'Musica y Danza'!F11","v":5.8823529411764705E-2},{"$f":"'Musica y Danza'!G11","v":""},null,null,null,null,null,"Criterio Evaluación 3.2","",{"$f":"'Peso criterios carga horaria'!F63","v":1},{"$f":"O63*BASE!$AN$165/BASE!AN63","v":0.93838383838383843},2.2909507445589921E-3,"",{"$f":"IF(BASE!E63=\"\",\"\",Reporte!$N63)","v":""},"",{"$f":"IFERROR(T63*BASE!$AN$165/BASE!$AN63,\"\")","v":""},"",{"$f":"IF(BASE!F63=\"\",\"\",Reporte!$N63)","v":""},"",{"$f":"IFERROR(X63*BASE!$AN$165/BASE!$AN63,\"\")","v":""},"",{"$f":"IF(BASE!G63=\"\",\"\",Reporte!$N63)","v":""},"",{"$f":"IFERROR(AB63*BASE!$AN$165/BASE!$AN63,\"\")","v":""},"",{"$f":"IF(BASE!H63=\"\",\"\",Reporte!$N63)","v":""},"",{"$f":"IFERROR(AF63*BASE!$AN$165/BASE!$AN63,\"\")","v":""},"",{"$f":"IF(BASE!I63=\"\",\"\",Reporte!$N63)","v":""},"",{"$f":"IFERROR(AJ63*BASE!$AN$165/BASE!$AN63,\"\")","v":""},"",{"$f":"IF(BASE!J63=\"\",\"\",Reporte!$N63)","v":""},"",{"$f":"IFERROR(AN63*BASE!$AN$165/BASE!$AN63,\"\")","v":""},"",{"$f":"IF(BASE!K63=\"\",\"\",Reporte!$N63)","v":""},"",{"$f":"IFERROR(AR63*BASE!$AN$165/BASE!$AN63,\"\")","v":""},"",{"$f":"IF(BASE!L63=\"\",\"\",Reporte!$N63)","v":""},"",{"$f":"IFERROR(AV63*BASE!$AN$165/BASE!$AN63,\"\")","v":""},"",{"$f":"IF(BASE!M63=\"\",\"\",Reporte!$N63)","v":""},"",{"$f":"IFERROR(AZ63*BASE!$AN$165/BASE!$AN63,\"\")","v":""},"",{"$f":"IF(BASE!N63=\"\",\"\",Reporte!$N63)","v":""},"",{"$f":"IFERROR(BD63*BASE!$AN$165/BASE!$AN63,\"\")","v":""},"",{"$f":"IF(BASE!O63=\"\",\"\",Reporte!$N63)","v":""},"",{"$f":"IFERROR(BH63*BASE!$AN$165/BASE!$AN63,\"\")","v":""},"",{"$f":"IF(BASE!P63=\"\",\"\",Reporte!$N63)","v":""},"",{"$f":"IFERROR(BL63*BASE!$AN$165/BASE!$AN63,\"\")","v":""},"",{"$f":"IF(BASE!Q63=\"\",\"\",Reporte!$N63)","v":""},"",{"$f":"IFERROR(BP63*BASE!$AN$165/BASE!$AN63,\"\")","v":""},"",{"$f":"IF(BASE!R63=\"\",\"\",Reporte!$N63)","v":""},"",{"$f":"IFERROR(BT63*BASE!$AN$165/BASE!$AN63,\"\")","v":""},"",{"$f":"IF(BASE!S63=\"\",\"\",Reporte!$N63)","v":""},"",{"$f":"IFERROR(BX63*BASE!$AN$165/BASE!$AN63,\"\")","v":""},"",{"$f":"IF(BASE!T63=\"\",\"\",Reporte!$N63)","v":""},"",{"$f":"IFERROR(CB63*BASE!$AN$165/BASE!$AN63,\"\")","v":""},"",{"$f":"IF(BASE!U63=\"\",\"\",Reporte!$N63)","v":""},"",{"$f":"IFERROR(CF63*BASE!$AN$165/BASE!$AN63,\"\")","v":""},"",{"$f":"IF(BASE!V63=\"\",\"\",Reporte!$N63)","v":""},"",{"$f":"IFERROR(CJ63*BASE!$AN$165/BASE!$AN63,\"\")","v":""},"",{"$f":"IF(BASE!W63=\"\",\"\",Reporte!$N63)","v":""},"",{"$f":"IFERROR(CN63*BASE!$AN$165/BASE!$AN63,\"\")","v":""},"",{"$f":"IF(BASE!X63=\"\",\"\",Reporte!$N63)","v":""},"",{"$f":"IFERROR(CR63*BASE!$AN$165/BASE!$AN63,\"\")","v":""},"",{"$f":"IF(BASE!Y63=\"\",\"\",Reporte!$N63)","v":""},"",{"$f":"IFERROR(CV63*BASE!$AN$165/BASE!$AN63,\"\")","v":""},"",{"$f":"IF(BASE!Z63=\"\",\"\",Reporte!$N63)","v":""},"",{"$f":"IFERROR(CZ63*BASE!$AN$165/BASE!$AN63,\"\")","v":""},"",{"$f":"IF(BASE!AA63=\"\",\"\",Reporte!$N63)","v":""},"",{"$f":"IFERROR(DD63*BASE!$AN$165/BASE!$AN63,\"\")","v":""},"",{"$f":"IF(BASE!AB63=\"\",\"\",Reporte!$N63)","v":""},"",{"$f":"IFERROR(DH63*BASE!$AN$165/BASE!$AN63,\"\")","v":""},"",{"$f":"IF(BASE!AC63=\"\",\"\",Reporte!$N63)","v":""},"",{"$f":"IFERROR(DL63*BASE!$AN$165/BASE!$AN63,\"\")","v":""},"",{"$f":"IF(BASE!AD63=\"\",\"\",Reporte!$N63)","v":""},"",{"$f":"IFERROR(DP63*BASE!$AN$165/BASE!$AN63,\"\")","v":""},"",{"$f":"IF(BASE!AE63=\"\",\"\",Reporte!$N63)","v":""},"",{"$f":"IFERROR(DT63*BASE!$AN$165/BASE!$AN63,\"\")","v":""},"",{"$f":"IF(BASE!AF63=\"\",\"\",Reporte!$N63)","v":""},"",{"$f":"IFERROR(DX63*BASE!$AN$165/BASE!$AN63,\"\")","v":""},"",{"$f":"IF(BASE!AG63=\"\",\"\",Reporte!$N63)","v":""},"",{"$f":"IFERROR(EB63*BASE!$AN$165/BASE!$AN63,\"\")","v":""},"",{"$f":"IF(BASE!AH63=\"\",\"\",Reporte!$N63)","v":""},"",{"$f":"IFERROR(EF63*BASE!$AN$165/BASE!$AN63,\"\")","v":""},"",{"$f":"IF(BASE!AI63=\"\",\"\",Reporte!$N63)","v":""},"",{"$f":"IFERROR(EJ63*BASE!$AN$165/BASE!$AN63,\"\")","v":""},"",{"$f":"IF(BASE!AJ63=\"\",\"\",Reporte!$N63)","v":""},"",{"$f":"IFERROR(EN63*BASE!$AN$165/BASE!$AN63,\"\")","v":""},"",{"$f":"IF(BASE!AK63=\"\",\"\",Reporte!$N63)","v":""},"",{"$f":"IFERROR(ER63*BASE!$AN$165/BASE!$AN63,\"\")","v":""},"",{"$f":"IF(BASE!AL63=\"\",\"\",Reporte!$N63)","v":""},"",{"$f":"IFERROR(EV63*BASE!$AN$165/BASE!$AN63,\"\")","v":""},""]
[null,null,"Criterio Evaluación 3.3","",{"$f":"'Musica y Danza'!E12","v":1},{"$f":"'Musica y Danza'!F12","v":5.8823529411764705E-2},{"$f":"'Musica y Danza'!G12","v":""},null,null,null,null,null,"Criterio Evaluación 3.3","",{"$f":"'Peso criterios carga horaria'!F64","v":1},{"$f":"O64*BASE!$AN$165/BASE!AN64","v":0.93838383838383843},2.2909507445589921E-3,"",{"$f":"IF(BASE!E64=\"\",\"\",Reporte!$N64)","v":""},"",{"$f":"IFERROR(T64*BASE!$AN$165/BASE!$AN64,\"\")","v":""},"",{"$f":"IF(BASE!F64=\"\",\"\",Reporte!$N64)","v":""},"",{"$f":"IFERROR(X64*BASE!$AN$165/BASE!$AN64,\"\")","v":""},"",{"$f":"IF(BASE!G64=\"\",\"\",Reporte!$N64)","v":""},"",{"$f":"IFERROR(AB64*BASE!$AN$165/BASE!$AN64,\"\")","v":""},"",{"$f":"IF(BASE!H64=\"\",\"\",Reporte!$N64)","v":""},"",{"$f":"IFERROR(AF64*BASE!$AN$165/BASE!$AN64,\"\")","v":""},"",{"$f":"IF(BASE!I64=\"\",\"\",Reporte!$N64)","v":""},"",{"$f":"IFERROR(AJ64*BASE!$AN$165/BASE!$AN64,\"\")","v":""},"",{"$f":"IF(BASE!J64=\"\",\"\",Reporte!$N64)","v":""},"",{"$f":"IFERROR(AN64*BASE!$AN$165/BASE!$AN64,\"\")","v":""},"",{"$f":"IF(BASE!K64=\"\",\"\",Reporte!$N64)","v":""},"",{"$f":"IFERROR(AR64*BASE!$AN$165/BASE!$AN64,\"\")","v":""},"",{"$f":"IF(BASE!L64=\"\",\"\",Reporte!$N64)","v":""},"",{"$f":"IFERROR(AV64*BASE!$AN$165/BASE!$AN64,\"\")","v":""},"",{"$f":"IF(BASE!M64=\"\",\"\",Reporte!$N64)","v":""},"",{"$f":"IFERROR(AZ64*BASE!$AN$165/BASE!$AN64,\"\")","v":""},"",{"$f":"IF(BASE!N64=\"\",\"\",Reporte!$N64)","v":""},"",{"$f":"IFERROR(BD64*BASE!$AN$165/BASE!$AN64,\"\")","v":""},"",{"$f":"IF(BASE!O64=\"\",\"\",Reporte!$N64)","v":""},"",{"$f":"IFERROR(BH64*BASE!$AN$165/BASE!$AN64,\"\")","v":""},"",{"$f":"IF(BASE!P64=\"\",\"\",Reporte!$N64)","v":""},"",{"$f":"IFERROR(BL64*BASE!$AN$165/BASE!$AN64,\"\")","v":""},"",{"$f":"IF(BASE!Q64=\"\",\"\",Reporte!$N64)","v":""},"",{"$f":"IFERROR(BP64*BASE!$AN$165/BASE!$AN64,\"\")","v":""},"",{"$f":"IF(BASE!R64=\"\",\"\",Reporte!$N64)","v":""},"",{"$f":"IFERROR(BT64*BASE!$AN$165/BASE!$AN64,\"\")","v":""},"",{"$f":"IF(BASE!S64=\"\",\"\",Reporte!$N64)","v":""},"",{"$f":"IFERROR(BX64*BASE!$AN$165/BASE!$AN64,\"\")","v":""},"",{"$f":"IF(BASE!T64=\"\",\"\",Reporte!$N64)","v":""},"",{"$f":"IFERROR(CB64*BASE!$AN$165/BASE!$AN64,\"\")","v":""},"",{"$f":"IF(BASE!U64=\"\",\"\",Reporte!$N64)","v":""},"",{"$f":"IFERROR(CF64*BASE!$AN$165/BASE!$AN64,\"\")","v":""},"",{"$f":"IF(BASE!V64=\"\",\"\",Reporte!$N64)","v":""},"",{"$f":"IFERROR(CJ64*BASE!$AN$165/BASE!$AN64,\"\")","v":""},"",{"$f":"IF(BASE!W64=\"\",\"\",Reporte!$N64)","v":""},"",{"$f":"IFERROR(CN64*BASE!$AN$165/BASE!$AN64,\"\")","v":""},"",{"$f":"IF(BASE!X64=\"\",\"\",Reporte!$N64)","v":""},"",{"$f":"IFERROR(CR64*BASE!$AN$165/BASE!$AN64,\"\")","v":""},"",{"$f":"IF(BASE!Y64=\"\",\"\",Reporte!$N64)","v":""},"",{"$f":"IFERROR(CV64*BASE!$AN$165/BASE!$AN64,\"\")","v":""},"",{"$f":"IF(BASE!Z64=\"\",\"\",Reporte!$N64)","v":""},"",{"$f":"IFERROR(CZ64*BASE!$AN$165/BASE!$AN64,\"\")","v":""},"",{"$f":"IF(BASE!AA64=\"\",\"\",Reporte!$N64)","v":""},"",{"$f":"IFERROR(DD64*BASE!$AN$165/BASE!$AN64,\"\")","v":""},"",{"$f":"IF(BASE!AB64=\"\",\"\",Reporte!$N64)","v":""},"",{"$f":"IFERROR(DH64*BASE!$AN$165/BASE!$AN64,\"\")","v":""},"",{"$f":"IF(BASE!AC64=\"\",\"\",Reporte!$N64)","v":""},"",{"$f":"IFERROR(DL64*BASE!$AN$165/BASE!$AN64,\"\")","v":""},"",{"$f":"IF(BASE!AD64=\"\",\"\",Reporte!$N64)","v":""},"",{"$f":"IFERROR(DP64*BASE!$AN$165/BASE!$AN64,\"\")","v":""},"",{"$f":"IF(BASE!AE64=\"\",\"\",Reporte!$N64)","v":""},"",{"$f":"IFERROR(DT64*BASE!$AN$165/BASE!$AN64,\"\")","v":""},"",{"$f":"IF(BASE!AF64=\"\",\"\",Reporte!$N64)","v":""},"",{"$f":"IFERROR(DX64*BASE!$AN$165/BASE!$AN64,\"\")","v":""},"",{"$f":"IF(BASE!AG64=\"\",\"\",Reporte!$N64)","v":""},"",{"$f":"IFERROR(EB64*BASE!$AN$165/BASE!$AN64,\"\")","v":""},"",{"$f":"IF(BASE!AH64=\"\",\"\",Reporte!$N64)","v":""},"",{"$f":"IFERROR(EF64*BASE!$AN$165/BASE!$AN64,\"\")","v":""},"",{"$f":"IF(BASE!AI64=\"\",\"\",Reporte!$N64)","v":""},"",{"$f":"IFERROR(EJ64*BASE!$AN$165/BASE!$AN64,\"\")","v":""},"",{"$f":"IF(BASE!AJ64=\"\",\"\",Reporte!$N64)","v":""},"",{"$f":"IFERROR(EN64*BASE!$AN$165/BASE!$AN64,\"\")","v":""},"",{"$f":"IF(BASE!AK64=\"\",\"\",Reporte!$N64)","v":""},"",{"$f":"IFERROR(ER64*BASE!$AN$165/BASE!$AN64,\"\")","v":""},"",{"$f":"IF(BASE!AL64=\"\",\"\",Reporte!$N64)","v":""},"",{"$f":"IFERROR(EV64*BASE!$AN$165/BASE!$AN64,\"\")","v":""},""]
[null,"Comp. Esp. 4","Criterio Evaluación 4.1","",{"$f":"'Musica y Danza'!E13","v":1},{"$f":"'Musica y Danza'!F13","v":5.8823529411764705E-2},{"$f":"'Musica y Danza'!G13","v":""},null,null,null,null,"Comp. Esp. 4","Criterio Evaluación 4.1","",{"$f":"'Peso criterios carga horaria'!F65","v":1},{"$f":"O65*BASE!$AN$165/BASE!AN65","v":0.93838383838383843},2.2909507445589921E-3,"",{"$f":"IF(BASE!E65=\"\",\"\",Reporte!$N65)","v":""},"",{"$f":"IFERROR(T65*BASE!$AN$165/BASE!$AN65,\"\")","v":""},"",{"$f":"IF(BASE!F65=\"\",\"\",Reporte!$N65)","v":""},"",{"$f":"IFERROR(X65*BASE!$AN$165/BASE!$AN65,\"\")","v":""},"",{"$f":"IF(BASE!G65=\"\",\"\",Reporte!$N65)","v":""},"",{"$f":"IFERROR(AB65*BASE!$AN$165/BASE!$AN65,\"\")","v":""},"",{"$f":"IF(BASE!H65=\"\",\"\",Reporte!$N65)","v":""},"",{"$f":"IFERROR(AF65*BASE!$AN$165/BASE!$AN65,\"\")","v":""},"",{"$f":"IF(BASE!I65=\"\",\"\",Reporte!$N65)","v":""},"",{"$f":"IFERROR(AJ65*BASE!$AN$165/BASE!$AN65,\"\")","v":""},"",{"$f":"IF(BASE!J65=\"\",\"\",Reporte!$N65)","v":""},"",{"$f":"IFERROR(AN65*BASE!$AN$165/BASE!$AN65,\"\")","v":""},"",{"$f":"IF(BASE!K65=\"\",\"\",Reporte!$N65)","v":""},"",{"$f":"IFERROR(AR65*BASE!$AN$165/BASE!$AN65,\"\")","v":""},"",{"$f":"IF(BASE!L65=\"\",\"\",Reporte!$N65)","v":""},"",{"$f":"IFERROR(AV65*BASE!$AN$165/BASE!$AN65,\"\")","v":""},"",{"$f":"IF(BASE!M65=\"\",\"\",Reporte!$N65)","v":""},"",{"$f":"IFERROR(AZ65*BASE!$AN$165/BASE!$AN65,\"\")","v":""},"",{"$f":"IF(BASE!N65=\"\",\"\",Reporte!$N65)","v":""},"",{"$f":"IFERROR(BD65*BASE!$AN$165/BASE!$AN65,\"\")","v":""},"",{"$f":"IF(BASE!O65=\"\",\"\",Reporte!$N65)","v":""},"",{"$f":"IFERROR(BH65*BASE!$AN$165/BASE!$AN65,\"\")","v":""},"",{"$f":"IF(BASE!P65=\"\",\"\",Reporte!$N65)","v":""},"",{"$f":"IFERROR(BL65*BASE!$AN$165/BASE!$AN65,\"\")","v":""},"",{"$f":"IF(BASE!Q65=\"\",\"\",Reporte!$N65)","v":""},"",{"$f":"IFERROR(BP65*BASE!$AN$165/BASE!$AN65,\"\")","v":""},"",{"$f":"IF(BASE!R65=\"\",\"\",Reporte!$N65)","v":""},"",{"$f":"IFERROR(BT65*BASE!$AN$165/BASE!$AN65,\"\")","v":""},"",{"$f":"IF(BASE!S65=\"\",\"\",Reporte!$N65)","v":""},"",{"$f":"IFERROR(BX65*BASE!$AN$165/BASE!$AN65,\"\")","v":""},"",{"$f":"IF(BASE!T65=\"\",\"\",Reporte!$N65)","v":""},"",{"$f":"IFERROR(CB65*BASE!$AN$165/BASE!$AN65,\"\")","v":""},"",{"$f":"IF(BASE!U65=\"\",\"\",Reporte!$N65)","v":""},"",{"$f":"IFERROR(CF65*BASE!$AN$165/BASE!$AN65,\"\")","v":""},"",{"$f":"IF(BASE!V65=\"\",\"\",Reporte!$N65)","v":""},"",{"$f":"IFERROR(CJ65*BASE!$AN$165/BASE!$AN65,\"\")","v":""},"",{"$f":"IF(BASE!W65=\"\",\"\",Reporte!$N65)","v":""},"",{"$f":"IFERROR(CN65*BASE!$AN$165/BASE!$AN65,\"\")","v":""},"",{"$f":"IF(BASE!X65=\"\",\"\",Reporte!$N65)","v":""},"",{"$f":"IFERROR(CR65*BASE!$AN$165/BASE!$AN65,\"\")","v":""},"",{"$f":"IF(BASE!Y65=\"\",\"\",Reporte!$N65)","v":""},"",{"$f":"IFERROR(CV65*BASE!$AN$165/BASE!$AN65,\"\")","v":""},"",{"$f":"IF(BASE!Z65=\"\",\"\",Reporte!$N65)","v":""},"",{"$f":"IFERROR(CZ65*BASE!$AN$165/BASE!$AN65,\"\")","v":""},"",{"$f":"IF(BASE!AA65=\"\",\"\",Reporte!$N65)","v":""},"",{"$f":"IFERROR(DD65*BASE!$AN$165/BASE!$AN65,\"\")","v":""},"",{"$f":"IF(BASE!AB65=\"\",\"\",Reporte!$N65)","v":""},"",{"$f":"IFERROR(DH65*BASE!$AN$165/BASE!$AN65,\"\")","v":""},"",{"$f":"IF(BASE!AC65=\"\",\"\",Reporte!$N65)","v":""},"",{"$f":"IFERROR(DL65*BASE!$AN$165/BASE!$AN65,\"\")","v":""},"",{"$f":"IF(BASE!AD65=\"\",\"\",Reporte!$N65)","v":""},"",{"$f":"IFERROR(DP65*BASE!$AN$165/BASE!$AN65,\"\")","v":""},"",{"$f":"IF(BASE!AE65=\"\",\"\",Reporte!$N65)","v":""},"",{"$f":"IFERROR(DT65*BASE!$AN$165/BASE!$AN65,\"\")","v":""},"",{"$f":"IF(BASE!AF65=\"\",\"\",Reporte!$N65)","v":""},"",{"$f":"IFERROR(DX65*BASE!$AN$165/BASE!$AN65,\"\")","v":""},"",{"$f":"IF(BASE!AG65=\"\",\"\",Reporte!$N65)","v":""},"",{"$f":"IFERROR(EB65*BASE!$AN$165/BASE!$AN65,\"\")","v":""},"",{"$f":"IF(BASE!AH65=\"\",\"\",Reporte!$N65)","v":""},"",{"$f":"IFERROR(EF65*BASE!$AN$165/BASE!$AN65,\"\")","v":""},"",{"$f":"IF(BASE!AI65=\"\",\"\",Reporte!$N65)","v":""},"",{"$f":"IFERROR(EJ65*BASE!$AN$165/BASE!$AN65,\"\")","v":""},"",{"$f":"IF(BASE!AJ65=\"\",\"\",Reporte!$N65)","v":""},"",{"$f":"IFERROR(EN65*BASE!$AN$165/BASE!$AN65,\"\")","v":""},"",{"$f":"IF(BASE!AK65=\"\",\"\",Reporte!$N65)","v":""},"",{"$f":"IFERROR(ER65*BASE!$AN$165/BASE!$AN65,\"\")","v":""},"",{"$f":"IF(BASE!AL65=\"\",\"\",Reporte!$N65)","v":""},"",{"$f":"IFERROR(EV65*BASE!$AN$165/BASE!$AN65,\"\")","v":""},""]
[null,null,"Criterio Evaluación 4.2","",{"$f":"'Musica y Danza'!E14","v":1},{"$f":"'Musica y Danza'!F14","v":5.8823529411764705E-2},{"$f":"'Musica y Danza'!G14","v":""},null,null,null,null,null,"Criterio Evaluación 4.2","",{"$f":"'Peso criterios carga horaria'!F66","v":1},{"$f":"O66*BASE!$AN$165/BASE!AN66","v":0.93838383838383843},2.2909507445589921E-3,"",{"$f":"IF(BASE!E66=\"\",\"\",Reporte!$N66)","v":""},"",{"$f":"IFERROR(T66*BASE!$AN$165/BASE!$AN66,\"\")","v":""},"",{"$f":"IF(BASE!F66=\"\",\"\",Reporte!$N66)","v":""},"",{"$f":"IFERROR(X66*BASE!$AN$165/BASE!$AN66,\"\")","v":""},"",{"$f":"IF(BASE!G66=\"\",\"\",Reporte!$N66)","v":""},"",{"$f":"IFERROR(AB66*BASE!$AN$165/BASE!$AN66,\"\")","v":""},"",{"$f":"IF(BASE!H66=\"\",\"\",Reporte!$N66)","v":""},"",{"$f":"IFERROR(AF66*BASE!$AN$165/BASE!$AN66,\"\")","v":""},"",{"$f":"IF(BASE!I66=\"\",\"\",Reporte!$N66)","v":""},"",{"$f":"IFERROR(AJ66*BASE!$AN$165/BASE!$AN66,\"\")","v":""},"",{"$f":"IF(BASE!J66=\"\",\"\",Reporte!$N66)","v":""},"",{"$f":"IFERROR(AN66*BASE!$AN$165/BASE!$AN66,\"\")","v":""},"",{"$f":"IF(BASE!K66=\"\",\"\",Reporte!$N66)","v":""},"",{"$f":"IFERROR(AR66*BASE!$AN$165/BASE!$AN66,\"\")","v":""},"",{"$f":"IF(BASE!L66=\"\",\"\",Reporte!$N66)","v":""},"",{"$f":"IFERROR(AV66*BASE!$AN$165/BASE!$AN66,\"\")","v":""},"",{"$f":"IF(BASE!M66=\"\",\"\",Reporte!$N66)","v":""},"",{"$f":"IFERROR(AZ66*BASE!$AN$165/BASE!$AN66,\"\")","v":""},"",{"$f":"IF(BASE!N66=\"\",\"\",Reporte!$N66)","v":""},"",{"$f":"IFERROR(BD66*BASE!$AN$165/BASE!$AN66,\"\")","v":""},"",{"$f":"IF(BASE!O66=\"\",\"\",Reporte!$N66)","v":""},"",{"$f":"IFERROR(BH66*BASE!$AN$165/BASE!$AN66,\"\")","v":""},"",{"$f":"IF(BASE!P66=\"\",\"\",Reporte!$N66)","v":""},"",{"$f":"IFERROR(BL66*BASE!$AN$165/BASE!$AN66,\"\")","v":""},"",{"$f":"IF(BASE!Q66=\"\",\"\",Reporte!$N66)","v":""},"",{"$f":"IFERROR(BP66*BASE!$AN$165/BASE!$AN66,\"\")","v":""},"",{"$f":"IF(BASE!R66=\"\",\"\",Reporte!$N66)","v":""},"",{"$f":"IFERROR(BT66*BASE!$AN$165/BASE!$AN66,\"\")","v":""},"",{"$f":"IF(BASE!S66=\"\",\"\",Reporte!$N66)","v":""},"",{"$f":"IFERROR(BX66*BASE!$AN$165/BASE!$AN66,\"\")","v":""},"",{"$f":"IF(BASE!T66=\"\",\"\",Reporte!$N66)","v":""},"",{"$f":"IFERROR(CB66*BASE!$AN$165/BASE!$AN66,\"\")","v":""},"",{"$f":"IF(BASE!U66=\"\",\"\",Reporte!$N66)","v":""},"",{"$f":"IFERROR(CF66*BASE!$AN$165/BASE!$AN66,\"\")","v":""},"",{"$f":"IF(BASE!V66=\"\",\"\",Reporte!$N66)","v":""},"",{"$f":"IFERROR(CJ66*BASE!$AN$165/BASE!$AN66,\"\")","v":""},"",{"$f":"IF(BASE!W66=\"\",\"\",Reporte!$N66)","v":""},"",{"$f":"IFERROR(CN66*BASE!$AN$165/BASE!$AN66,\"\")","v":""},"",{"$f":"IF(BASE!X66=\"\",\"\",Reporte!$N66)","v":""},"",{"$f":"IFERROR(CR66*BASE!$AN$165/BASE!$AN66,\"\")","v":""},"",{"$f":"IF(BASE!Y66=\"\",\"\",Reporte!$N66)","v":""},"",{"$f":"IFERROR(CV66*BASE!$AN$165/BASE!$AN66,\"\")","v":""},"",{"$f":"IF(BASE!Z66=\"\",\"\",Reporte!$N66)","v":""},"",{"$f":"IFERROR(CZ66*BASE!$AN$165/BASE!$AN66,\"\")","v":""},"",{"$f":"IF(BASE!AA66=\"\",\"\",Reporte!$N66)","v":""},"",{"$f":"IFERROR(DD66*BASE!$AN$165/BASE!$AN66,\"\")","v":""},"",{"$f":"IF(BASE!AB66=\"\",\"\",Reporte!$N66)","v":""},"",{"$f":"IFERROR(DH66*BASE!$AN$165/BASE!$AN66,\"\")","v":""},"",{"$f":"IF(BASE!AC66=\"\",\"\",Reporte!$N66)","v":""},"",{"$f":"IFERROR(DL66*BASE!$AN$165/BASE!$AN66,\"\")","v":""},"",{"$f":"IF(BASE!AD66=\"\",\"\",Reporte!$N66)","v":""},"",{"$f":"IFERROR(DP66*BASE!$AN$165/BASE!$AN66,\"\")","v":""},"",{"$f":"IF(BASE!AE66=\"\",\"\",Reporte!$N66)","v":""},"",{"$f":"IFERROR(DT66*BASE!$AN$165/BASE!$AN66,\"\")","v":""},"",{"$f":"IF(BASE!AF66=\"\",\"\",Reporte!$N66)","v":""},"",{"$f":"IFERROR(DX66*BASE!$AN$165/BASE!$AN66,\"\")","v":""},"",{"$f":"IF(BASE!AG66=\"\",\"\",Reporte!$N66)","v":""},"",{"$f":"IFERROR(EB66*BASE!$AN$165/BASE!$AN66,\"\")","v":""},"",{"$f":"IF(BASE!AH66=\"\",\"\",Reporte!$N66)","v":""},"",{"$f":"IFERROR(EF66*BASE!$AN$165/BASE!$AN66,\"\")","v":""},"",{"$f":"IF(BASE!AI66=\"\",\"\",Reporte!$N66)","v":""},"",{"$f":"IFERROR(EJ66*BASE!$AN$165/BASE!$AN66,\"\")","v":""},"",{"$f":"IF(BASE!AJ66=\"\",\"\",Reporte!$N66)","v":""},"",{"$f":"IFERROR(EN66*BASE!$AN$165/BASE!$AN66,\"\")","v":""},"",{"$f":"IF(BASE!AK66=\"\",\"\",Reporte!$N66)","v":""},"",{"$f":"IFERROR(ER66*BASE!$AN$165/BASE!$AN66,\"\")","v":""},"",{"$f":"IF(BASE!AL66=\"\",\"\",Reporte!$N66)","v":""},"",{"$f":"IFERROR(EV66*BASE!$AN$165/BASE!$AN66,\"\")","v":""},""]
[null,null,"Criterio Evaluación 4.3","",{"$f":"'Musica y Danza'!E15","v":1},{"$f":"'Musica y Danza'!F15","v":5.8823529411764705E-2},{"$f":"'Musica y Danza'!G15","v":""},null,null,null,null,null,"Criterio Evaluación 4.3","",{"$f":"'Peso criterios carga horaria'!F67","v":1},{"$f":"O67*BASE!$AN$165/BASE!AN67","v":0.93838383838383843},2.2909507445589921E-3,"",{"$f":"IF(BASE!E67=\"\",\"\",Reporte!$N67)","v":""},"",{"$f":"IFERROR(T67*BASE!$AN$165/BASE!$AN67,\"\")","v":""},"",{"$f":"IF(BASE!F67=\"\",\"\",Reporte!$N67)","v":""},"",{"$f":"IFERROR(X67*BASE!$AN$165/BASE!$AN67,\"\")","v":""},"",{"$f":"IF(BASE!G67=\"\",\"\",Reporte!$N67)","v":""},"",{"$f":"IFERROR(AB67*BASE!$AN$165/BASE!$AN67,\"\")","v":""},"",{"$f":"IF(BASE!H67=\"\",\"\",Reporte!$N67)","v":""},"",{"$f":"IFERROR(AF67*BASE!$AN$165/BASE!$AN67,\"\")","v":""},"",{"$f":"IF(BASE!I67=\"\",\"\",Reporte!$N67)","v":""},"",{"$f":"IFERROR(AJ67*BASE!$AN$165/BASE!$AN67,\"\")","v":""},"",{"$f":"IF(BASE!J67=\"\",\"\",Reporte!$N67)","v":""},"",{"$f":"IFERROR(AN67*BASE!$AN$165/BASE!$AN67,\"\")","v":""},"",{"$f":"IF(BASE!K67=\"\",\"\",Reporte!$N67)","v":""},"",{"$f":"IFERROR(AR67*BASE!$AN$165/BASE!$AN67,\"\")","v":""},"",{"$f":"IF(BASE!L67=\"\",\"\",Reporte!$N67)","v":""},"",{"$f":"IFERROR(AV67*BASE!$AN$165/BASE!$AN67,\"\")","v":""},"",{"$f":"IF(BASE!M67=\"\",\"\",Reporte!$N67)","v":""},"",{"$f":"IFERROR(AZ67*BASE!$AN$165/BASE!$AN67,\"\")","v":""},"",{"$f":"IF(BASE!N67=\"\",\"\",Reporte!$N67)","v":""},"",{"$f":"IFERROR(BD67*BASE!$AN$165/BASE!$AN67,\"\")","v":""},"",{"$f":"IF(BASE!O67=\"\",\"\",Reporte!$N67)","v":""},"",{"$f":"IFERROR(BH67*BASE!$AN$165/BASE!$AN67,\"\")","v":""},"",{"$f":"IF(BASE!P67=\"\",\"\",Reporte!$N67)","v":""},"",{"$f":"IFERROR(BL67*BASE!$AN$165/BASE!$AN67,\"\")","v":""},"",{"$f":"IF(BASE!Q67=\"\",\"\",Reporte!$N67)","v":""},"",{"$f":"IFERROR(BP67*BASE!$AN$165/BASE!$AN67,\"\")","v":""},"",{"$f":"IF(BASE!R67=\"\",\"\",Reporte!$N67)","v":""},"",{"$f":"IFERROR(BT67*BASE!$AN$165/BASE!$AN67,\"\")","v":""},"",{"$f":"IF(BASE!S67=\"\",\"\",Reporte!$N67)","v":""},"",{"$f":"IFERROR(BX67*BASE!$AN$165/BASE!$AN67,\"\")","v":""},"",{"$f":"IF(BASE!T67=\"\",\"\",Reporte!$N67)","v":""},"",{"$f":"IFERROR(CB67*BASE!$AN$165/BASE!$AN67,\"\")","v":""},"",{"$f":"IF(BASE!U67=\"\",\"\",Reporte!$N67)","v":""},"",{"$f":"IFERROR(CF67*BASE!$AN$165/BASE!$AN67,\"\")","v":""},"",{"$f":"IF(BASE!V67=\"\",\"\",Reporte!$N67)","v":""},"",{"$f":"IFERROR(CJ67*BASE!$AN$165/BASE!$AN67,\"\")","v":""},"",{"$f":"IF(BASE!W67=\"\",\"\",Reporte!$N67)","v":""},"",{"$f":"IFERROR(CN67*BASE!$AN$165/BASE!$AN67,\"\")","v":""},"",{"$f":"IF(BASE!X67=\"\",\"\",Reporte!$N67)","v":""},"",{"$f":"IFERROR(CR67*BASE!$AN$165/BASE!$AN67,\"\")","v":""},"",{"$f":"IF(BASE!Y67=\"\",\"\",Reporte!$N67)","v":""},"",{"$f":"IFERROR(CV67*BASE!$AN$165/BASE!$AN67,\"\")","v":""},"",{"$f":"IF(BASE!Z67=\"\",\"\",Reporte!$N67)","v":""},"",{"$f":"IFERROR(CZ67*BASE!$AN$165/BASE!$AN67,\"\")","v":""},"",{"$f":"IF(BASE!AA67=\"\",\"\",Reporte!$N67)","v":""},"",{"$f":"IFERROR(DD67*BASE!$AN$165/BASE!$AN67,\"\")","v":""},"",{"$f":"IF(BASE!AB67=\"\",\"\",Reporte!$N67)","v":""},"",{"$f":"IFERROR(DH67*BASE!$AN$165/BASE!$AN67,\"\")","v":""},"",{"$f":"IF(BASE!AC67=\"\",\"\",Reporte!$N67)","v":""},"",{"$f":"IFERROR(DL67*BASE!$AN$165/BASE!$AN67,\"\")","v":""},"",{"$f":"IF(BASE!AD67=\"\",\"\",Reporte!$N67)","v":""},"",{"$f":"IFERROR(DP67*BASE!$AN$165/BASE!$AN67,\"\")","v":""},"",{"$f":"IF(BASE!AE67=\"\",\"\",Reporte!$N67)","v":""},"",{"$f":"IFERROR(DT67*BASE!$AN$165/BASE!$AN67,\"\")","v":""},"",{"$f":"IF(BASE!AF67=\"\",\"\",Reporte!$N67)","v":""},"",{"$f":"IFERROR(DX67*BASE!$AN$165/BASE!$AN67,\"\")","v":""},"",{"$f":"IF(BASE!AG67=\"\",\"\",Reporte!$N67)","v":""},"",{"$f":"IFERROR(EB67*BASE!$AN$165/BASE!$AN67,\"\")","v":""},"",{"$f":"IF(BASE!AH67=\"\",\"\",Reporte!$N67)","v":""},"",{"$f":"IFERROR(EF67*BASE!$AN$165/BASE!$AN67,\"\")","v":""},"",{"$f":"IF(BASE!AI67=\"\",\"\",Reporte!$N67)","v":""},"",{"$f":"IFERROR(EJ67*BASE!$AN$165/BASE!$AN67,\"\")","v":""},"",{"$f":"IF(BASE!AJ67=\"\",\"\",Reporte!$N67)","v":""},"",{"$f":"IFERROR(EN67*BASE!$AN$165/BASE!$AN67,\"\")","v":""},"",{"$f":"IF(BASE!AK67=\"\",\"\",Reporte!$N67)","v":""},"",{"$f":"IFERROR(ER67*BASE!$AN$165/BASE!$AN67,\"\")","v":""},"",{"$f":"IF(BASE!AL67=\"\",\"\",Reporte!$N67)","v":""},"",{"$f":"IFERROR(EV67*BASE!$AN$165/BASE!$AN67,\"\")","v":""},""]
[null,"Comp. Esp. 5","Criterio Evaluación 5.1",{"$f":"N68","v":""},{"$f":"'Musica y Danza'!E16","v":1},{"$f":"'Musica y Danza'!F16","v":5.8823529411764705E-2},{"$f":"'Musica y Danza'!G16","v":""},null,null,null,null,"Comp. Esp. 5","Criterio Evaluación 5.1","",{"$f":"'Peso criterios carga horaria'!F68","v":1},{"$f":"O68*BASE!$AN$165/BASE!AN68","v":0.93838383838383843},2.2909507445589921E-3,"",{"$f":"IF(BASE!E68=\"\",\"\",Reporte!$N68)","v":""},"",{"$f":"IFERROR(T68*BASE!$AN$165/BASE!$AN68,\"\")","v":""},"",{"$f":"IF(BASE!F68=\"\",\"\",Reporte!$N68)","v":""},"",{"$f":"IFERROR(X68*BASE!$AN$165/BASE!$AN68,\"\")","v":""},"",{"$f":"IF(BASE!G68=\"\",\"\",Reporte!$N68)","v":""},"",{"$f":"IFERROR(AB68*BASE!$AN$165/BASE!$AN68,\"\")","v":""},"",{"$f":"IF(BASE!H68=\"\",\"\",Reporte!$N68)","v":""},"",{"$f":"IFERROR(AF68*BASE!$AN$165/BASE!$AN68,\"\")","v":""},"",{"$f":"IF(BASE!I68=\"\",\"\",Reporte!$N68)","v":""},"",{"$f":"IFERROR(AJ68*BASE!$AN$165/BASE!$AN68,\"\")","v":""},"",{"$f":"IF(BASE!J68=\"\",\"\",Reporte!$N68)","v":""},"",{"$f":"IFERROR(AN68*BASE!$AN$165/BASE!$AN68,\"\")","v":""},"",{"$f":"IF(BASE!K68=\"\",\"\",Reporte!$N68)","v":""},"",{"$f":"IFERROR(AR68*BASE!$AN$165/BASE!$AN68,\"\")","v":""},"",{"$f":"IF(BASE!L68=\"\",\"\",Reporte!$N68)","v":""},"",{"$f":"IFERROR(AV68*BASE!$AN$165/BASE!$AN68,\"\")","v":""},"",{"$f":"IF(BASE!M68=\"\",\"\",Reporte!$N68)","v":""},"",{"$f":"IFERROR(AZ68*BASE!$AN$165/BASE!$AN68,\"\")","v":""},"",{"$f":"IF(BASE!N68=\"\",\"\",Reporte!$N68)","v":""},"",{"$f":"IFERROR(BD68*BASE!$AN$165/BASE!$AN68,\"\")","v":""},"",{"$f":"IF(BASE!O68=\"\",\"\",Reporte!$N68)","v":""},"",{"$f":"IFERROR(BH68*BASE!$AN$165/BASE!$AN68,\"\")","v":""},"",{"$f":"IF(BASE!P68=\"\",\"\",Reporte!$N68)","v":""},"",{"$f":"IFERROR(BL68*BASE!$AN$165/BASE!$AN68,\"\")","v":""},"",{"$f":"IF(BASE!Q68=\"\",\"\",Reporte!$N68)","v":""},"",{"$f":"IFERROR(BP68*BASE!$AN$165/BASE!$AN68,\"\")","v":""},"",{"$f":"IF(BASE!R68=\"\",\"\",Reporte!$N68)","v":""},"",{"$f":"IFERROR(BT68*BASE!$AN$165/BASE!$AN68,\"\")","v":""},"",{"$f":"IF(BASE!S68=\"\",\"\",Reporte!$N68)","v":""},"",{"$f":"IFERROR(BX68*BASE!$AN$165/BASE!$AN68,\"\")","v":""},"",{"$f":"IF(BASE!T68=\"\",\"\",Reporte!$N68)","v":""},"",{"$f":"IFERROR(CB68*BASE!$AN$165/BASE!$AN68,\"\")","v":""},"",{"$f":"IF(BASE!U68=\"\",\"\",Reporte!$N68)","v":""},"",{"$f":"IFERROR(CF68*BASE!$AN$165/BASE!$AN68,\"\")","v":""},"",{"$f":"IF(BASE!V68=\"\",\"\",Reporte!$N68)","v":""},"",{"$f":"IFERROR(CJ68*BASE!$AN$165/BASE!$AN68,\"\")","v":""},"",{"$f":"IF(BASE!W68=\"\",\"\",Reporte!$N68)","v":""},"",{"$f":"IFERROR(CN68*BASE!$AN$165/BASE!$AN68,\"\")","v":""},"",{"$f":"IF(BASE!X68=\"\",\"\",Reporte!$N68)","v":""},"",{"$f":"IFERROR(CR68*BASE!$AN$165/BASE!$AN68,\"\")","v":""},"",{"$f":"IF(BASE!Y68=\"\",\"\",Reporte!$N68)","v":""},"",{"$f":"IFERROR(CV68*BASE!$AN$165/BASE!$AN68,\"\")","v":""},"",{"$f":"IF(BASE!Z68=\"\",\"\",Reporte!$N68)","v":""},"",{"$f":"IFERROR(CZ68*BASE!$AN$165/BASE!$AN68,\"\")","v":""},"",{"$f":"IF(BASE!AA68=\"\",\"\",Reporte!$N68)","v":""},"",{"$f":"IFERROR(DD68*BASE!$AN$165/BASE!$AN68,\"\")","v":""},"",{"$f":"IF(BASE!AB68=\"\",\"\",Reporte!$N68)","v":""},"",{"$f":"IFERROR(DH68*BASE!$AN$165/BASE!$AN68,\"\")","v":""},"",{"$f":"IF(BASE!AC68=\"\",\"\",Reporte!$N68)","v":""},"",{"$f":"IFERROR(DL68*BASE!$AN$165/BASE!$AN68,\"\")","v":""},"",{"$f":"IF(BASE!AD68=\"\",\"\",Reporte!$N68)","v":""},"",{"$f":"IFERROR(DP68*BASE!$AN$165/BASE!$AN68,\"\")","v":""},"",{"$f":"IF(BASE!AE68=\"\",\"\",Reporte!$N68)","v":""},"",{"$f":"IFERROR(DT68*BASE!$AN$165/BASE!$AN68,\"\")","v":""},"",{"$f":"IF(BASE!AF68=\"\",\"\",Reporte!$N68)","v":""},"",{"$f":"IFERROR(DX68*BASE!$AN$165/BASE!$AN68,\"\")","v":""},"",{"$f":"IF(BASE!AG68=\"\",\"\",Reporte!$N68)","v":""},"",{"$f":"IFERROR(EB68*BASE!$AN$165/BASE!$AN68,\"\")","v":""},"",{"$f":"IF(BASE!AH68=\"\",\"\",Reporte!$N68)","v":""},"",{"$f":"IFERROR(EF68*BASE!$AN$165/BASE!$AN68,\"\")","v":""},"",{"$f":"IF(BASE!AI68=\"\",\"\",Reporte!$N68)","v":""},"",{"$f":"IFERROR(EJ68*BASE!$AN$165/BASE!$AN68,\"\")","v":""},"",{"$f":"IF(BASE!AJ68=\"\",\"\",Reporte!$N68)","v":""},"",{"$f":"IFERROR(EN68*BASE!$AN$165/BASE!$AN68,\"\")","v":""},"",{"$f":"IF(BASE!AK68=\"\",\"\",Reporte!$N68)","v":""},"",{"$f":"IFERROR(ER68*BASE!$AN$165/BASE!$AN68,\"\")","v":""},"",{"$f":"IF(BASE!AL68=\"\",\"\",Reporte!$N68)","v":""},"",{"$f":"IFERROR(EV68*BASE!$AN$165/BASE!$AN68,\"\")","v":""},""]
[null,null,"Criterio Evaluación 5.2","",{"$f":"'Musica y Danza'!E17","v":1},{"$f":"'Musica y Danza'!F17","v":5.8823529411764705E-2},{"$f":"'Musica y Danza'!G17","v":""},null,null,null,null,null,"Criterio Evaluación 5.2","",{"$f":"'Peso criterios carga horaria'!F69","v":1},{"$f":"O69*BASE!$AN$165/BASE!AN69","v":0.93838383838383843},{"$f":"IF($P$3=\"SÍ\",O69/SUM($O$5:$O$163),\"\")","v":2.2909507445589921E-3},{"$f":"IF($P$3=\"SÍ\",IF(N69=\"\",\"\",Q69/R$176),\"\")","v":""},{"$f":"IF(BASE!E69=\"\",\"\",Reporte!$N69)","v":""},"",{"$f":"IFERROR(T69*BASE!$AN$165/BASE!$AN69,\"\")","v":""},"",{"$f":"IF(BASE!F69=\"\",\"\",Reporte!$N69)","v":""},"",{"$f":"IFERROR(X69*BASE!$AN$165/BASE!$AN69,\"\")","v":""},"",{"$f":"IF(BASE!G69=\"\",\"\",Reporte!$N69)","v":""},"",{"$f":"IFERROR(AB69*BASE!$AN$165/BASE!$AN69,\"\")","v":""},"",{"$f":"IF(BASE!H69=\"\",\"\",Reporte!$N69)","v":""},"",{"$f":"IFERROR(AF69*BASE!$AN$165/BASE!$AN69,\"\")","v":""},"",{"$f":"IF(BASE!I69=\"\",\"\",Reporte!$N69)","v":""},"",{"$f":"IFERROR(AJ69*BASE!$AN$165/BASE!$AN69,\"\")","v":""},"",{"$f":"IF(BASE!J69=\"\",\"\",Reporte!$N69)","v":""},"",{"$f":"IFERROR(AN69*BASE!$AN$165/BASE!$AN69,\"\")","v":""},"",{"$f":"IF(BASE!K69=\"\",\"\",Reporte!$N69)","v":""},"",{"$f":"IFERROR(AR69*BASE!$AN$165/BASE!$AN69,\"\")","v":""},"",{"$f":"IF(BASE!L69=\"\",\"\",Reporte!$N69)","v":""},"",{"$f":"IFERROR(AV69*BASE!$AN$165/BASE!$AN69,\"\")","v":""},"",{"$f":"IF(BASE!M69=\"\",\"\",Reporte!$N69)","v":""},"",{"$f":"IFERROR(AZ69*BASE!$AN$165/BASE!$AN69,\"\")","v":""},"",{"$f":"IF(BASE!N69=\"\",\"\",Reporte!$N69)","v":""},"",{"$f":"IFERROR(BD69*BASE!$AN$165/BASE!$AN69,\"\")","v":""},"",{"$f":"IF(BASE!O69=\"\",\"\",Reporte!$N69)","v":""},"",{"$f":"IFERROR(BH69*BASE!$AN$165/BASE!$AN69,\"\")","v":""},"",{"$f":"IF(BASE!P69=\"\",\"\",Reporte!$N69)","v":""},"",{"$f":"IFERROR(BL69*BASE!$AN$165/BASE!$AN69,\"\")","v":""},"",{"$f":"IF(BASE!Q69=\"\",\"\",Reporte!$N69)","v":""},"",{"$f":"IFERROR(BP69*BASE!$AN$165/BASE!$AN69,\"\")","v":""},"",{"$f":"IF(BASE!R69=\"\",\"\",Reporte!$N69)","v":""},"",{"$f":"IFERROR(BT69*BASE!$AN$165/BASE!$AN69,\"\")","v":""},"",{"$f":"IF(BASE!S69=\"\",\"\",Reporte!$N69)","v":""},"",{"$f":"IFERROR(BX69*BASE!$AN$165/BASE!$AN69,\"\")","v":""},"",{"$f":"IF(BASE!T69=\"\",\"\",Reporte!$N69)","v":""},"",{"$f":"IFERROR(CB69*BASE!$AN$165/BASE!$AN69,\"\")","v":""},"",{"$f":"IF(BASE!U69=\"\",\"\",Reporte!$N69)","v":""},"",{"$f":"IFERROR(CF69*BASE!$AN$165/BASE!$AN69,\"\")","v":""},"",{"$f":"IF(BASE!V69=\"\",\"\",Reporte!$N69)","v":""},"",{"$f":"IFERROR(CJ69*BASE!$AN$165/BASE!$AN69,\"\")","v":""},"",{"$f":"IF(BASE!W69=\"\",\"\",Reporte!$N69)","v":""},"",{"$f":"IFERROR(CN69*BASE!$AN$165/BASE!$AN69,\"\")","v":""},"",{"$f":"IF(BASE!X69=\"\",\"\",Reporte!$N69)","v":""},"",{"$f":"IFERROR(CR69*BASE!$AN$165/BASE!$AN69,\"\")","v":""},"",{"$f":"IF(BASE!Y69=\"\",\"\",Reporte!$N69)","v":""},"",{"$f":"IFERROR(CV69*BASE!$AN$165/BASE!$AN69,\"\")","v":""},"",{"$f":"IF(BASE!Z69=\"\",\"\",Reporte!$N69)","v":""},"",{"$f":"IFERROR(CZ69*BASE!$AN$165/BASE!$AN69,\"\")","v":""},"",{"$f":"IF(BASE!AA69=\"\",\"\",Reporte!$N69)","v":""},"",{"$f":"IFERROR(DD69*BASE!$AN$165/BASE!$AN69,\"\")","v":""},"",{"$f":"IF(BASE!AB69=\"\",\"\",Reporte!$N69)","v":""},"",{"$f":"IFERROR(DH69*BASE!$AN$165/BASE!$AN69,\"\")","v":""},"",{"$f":"IF(BASE!AC69=\"\",\"\",Reporte!$N69)","v":""},"",{"$f":"IFERROR(DL69*BASE!$AN$165/BASE!$AN69,\"\")","v":""},"",{"$f":"IF(BASE!AD69=\"\",\"\",Reporte!$N69)","v":""},"",{"$f":"IFERROR(DP69*BASE!$AN$165/BASE!$AN69,\"\")","v":""},"",{"$f":"IF(BASE!AE69=\"\",\"\",Reporte!$N69)","v":""},"",{"$f":"IFERROR(DT69*BASE!$AN$165/BASE!$AN69,\"\")","v":""},"",{"$f":"IF(BASE!AF69=\"\",\"\",Reporte!$N69)","v":""},"",{"$f":"IFERROR(DX69*BASE!$AN$165/BASE!$AN69,\"\")","v":""},"",{"$f":"IF(BASE!AG69=\"\",\"\",Reporte!$N69)","v":""},"",{"$f":"IFERROR(EB69*BASE!$AN$165/BASE!$AN69,\"\")","v":""},"",{"$f":"IF(BASE!AH69=\"\",\"\",Reporte!$N69)","v":""},"",{"$f":"IFERROR(EF69*BASE!$AN$165/BASE!$AN69,\"\")","v":""},"",{"$f":"IF(BASE!AI69=\"\",\"\",Reporte!$N69)","v":""},"",{"$f":"IFERROR(EJ69*BASE!$AN$165/BASE!$AN69,\"\")","v":""},"",{"$f":"IF(BASE!AJ69=\"\",\"\",Reporte!$N69)","v":""},"",{"$f":"IFERROR(EN69*BASE!$AN$165/BASE!$AN69,\"\")","v":""},"",{"$f":"IF(BASE!AK69=\"\",\"\",Reporte!$N69)","v":""},"",{"$f":"IFERROR(ER69*BASE!$AN$165/BASE!$AN69,\"\")","v":""},"",{"$f":"IF(BASE!AL69=\"\",\"\",Reporte!$N69)","v":""},"",{"$f":"IFERROR(EV69*BASE!$AN$165/BASE!$AN69,\"\")","v":""},""]
[null,null,"Criterio Evaluación 5.3","",{"$f":"'Musica y Danza'!E18","v":1},{"$f":"'Musica y Danza'!F18","v":5.8823529411764705E-2},{"$f":"'Musica y Danza'!G18","v":""},null,null,null,null,null,"Criterio Evaluación 5.3","",{"$f":"'Peso criterios carga horaria'!F70","v":1},{"$f":"O70*BASE!$AN$165/BASE!AN70","v":0.93838383838383843},2.2909507445589921E-3,"",{"$f":"IF(BASE!E70=\"\",\"\",Reporte!$N70)","v":""},{"$f":"IF(S70=\"\",\"\",1)","v":""},{"$f":"IFERROR(T70*BASE!$AN$165/BASE!$AN70,\"\")","v":""},{"$f":"IFERROR(T70/SUM(T$5:T$163),\"\")","v":""},{"$f":"IF(BASE!F70=\"\",\"\",Reporte!$N70)","v":""},{"$f":"IF(W70=\"\",\"\",1)","v":""},{"$f":"IFERROR(X70*BASE!$AN$165/BASE!$AN70,\"\")","v":""},{"$f":"IFERROR(X70/SUM(X$5:X$163),\"\")","v":""},{"$f":"IF(BASE!G70=\"\",\"\",Reporte!$N70)","v":""},{"$f":"IF(AA70=\"\",\"\",1)","v":""},{"$f":"IFERROR(AB70*BASE!$AN$165/BASE!$AN70,\"\")","v":""},{"$f":"IFERROR(AB70/SUM(AB$5:AB$163),\"\")","v":""},{"$f":"IF(BASE!H70=\"\",\"\",Reporte!$N70)","v":""},{"$f":"IF(AE70=\"\",\"\",1)","v":""},{"$f":"IFERROR(AF70*BASE!$AN$165/BASE!$AN70,\"\")","v":""},{"$f":"IFERROR(AF70/SUM(AF$5:AF$163),\"\")","v":""},{"$f":"IF(BASE!I70=\"\",\"\",Reporte!$N70)","v":""},{"$f":"IF(AI70=\"\",\"\",1)","v":""},{"$f":"IFERROR(AJ70*BASE!$AN$165/BASE!$AN70,\"\")","v":""},{"$f":"IFERROR(AJ70/SUM(AJ$5:AJ$163),\"\")","v":""},{"$f":"IF(BASE!J70=\"\",\"\",Reporte!$N70)","v":""},{"$f":"IF(AM70=\"\",\"\",1)","v":""},{"$f":"IFERROR(AN70*BASE!$AN$165/BASE!$AN70,\"\")","v":""},{"$f":"IFERROR(AN70/SUM(AN$5:AN$163),\"\")","v":""},{"$f":"IF(BASE!K70=\"\",\"\",Reporte!$N70)","v":""},{"$f":"IF(AQ70=\"\",\"\",1)","v":""},{"$f":"IFERROR(AR70*BASE!$AN$165/BASE!$AN70,\"\")","v":""},{"$f":"IFERROR(AR70/SUM(AR$5:AR$163),\"\")","v":""},{"$f":"IF(BASE!L70=\"\",\"\",Reporte!$N70)","v":""},{"$f":"IF(AU70=\"\",\"\",1)","v":""},{"$f":"IFERROR(AV70*BASE!$AN$165/BASE!$AN70,\"\")","v":""},{"$f":"IFERROR(AV70/SUM(AV$5:AV$163),\"\")","v":""},{"$f":"IF(BASE!M70=\"\",\"\",Reporte!$N70)","v":""},{"$f":"IF(AY70=\"\",\"\",1)","v":""},{"$f":"IFERROR(AZ70*BASE!$AN$165/BASE!$AN70,\"\")","v":""},{"$f":"IFERROR(AZ70/SUM(AZ$5:AZ$163),\"\")","v":""},{"$f":"IF(BASE!N70=\"\",\"\",Reporte!$N70)","v":""},{"$f":"IF(BC70=\"\",\"\",1)","v":""},{"$f":"IFERROR(BD70*BASE!$AN$165/BASE!$AN70,\"\")","v":""},{"$f":"IFERROR(BD70/SUM(BD$5:BD$163),\"\")","v":""},{"$f":"IF(BASE!O70=\"\",\"\",Reporte!$N70)","v":""},{"$f":"IF(BG70=\"\",\"\",1)","v":""},{"$f":"IFERROR(BH70*BASE!$AN$165/BASE!$AN70,\"\")","v":""},{"$f":"IFERROR(BH70/SUM(BH$5:BH$163),\"\")","v":""},{"$f":"IF(BASE!P70=\"\",\"\",Reporte!$N70)","v":""},{"$f":"IF(BK70=\"\",\"\",1)","v":""},{"$f":"IFERROR(BL70*BASE!$AN$165/BASE!$AN70,\"\")","v":""},{"$f":"IFERROR(BL70/SUM(BL$5:BL$163),\"\")","v":""},{"$f":"IF(BASE!Q70=\"\",\"\",Reporte!$N70)","v":""},{"$f":"IF(BO70=\"\",\"\",1)","v":""},{"$f":"IFERROR(BP70*BASE!$AN$165/BASE!$AN70,\"\")","v":""},{"$f":"IFERROR(BP70/SUM(BP$5:BP$163),\"\")","v":""},{"$f":"IF(BASE!R70=\"\",\"\",Reporte!$N70)","v":""},{"$f":"IF(BS70=\"\",\"\",1)","v":""},{"$f":"IFERROR(BT70*BASE!$AN$165/BASE!$AN70,\"\")","v":""},{"$f":"IFERROR(BT70/SUM(BT$5:BT$163),\"\")","v":""},{"$f":"IF(BASE!S70=\"\",\"\",Reporte!$N70)","v":""},{"$f":"IF(BW70=\"\",\"\",1)","v":""},{"$f":"IFERROR(BX70*BASE!$AN$165/BASE!$AN70,\"\")","v":""},{"$f":"IFERROR(BX70/SUM(BX$5:BX$163),\"\")","v":""},{"$f":"IF(BASE!T70=\"\",\"\",Reporte!$N70)","v":""},{"$f":"IF(CA70=\"\",\"\",1)","v":""},{"$f":"IFERROR(CB70*BASE!$AN$165/BASE!$AN70,\"\")","v":""},{"$f":"IFERROR(CB70/SUM(CB$5:CB$163),\"\")","v":""},{"$f":"IF(BASE!U70=\"\",\"\",Reporte!$N70)","v":""},{"$f":"IF(CE70=\"\",\"\",1)","v":""},{"$f":"IFERROR(CF70*BASE!$AN$165/BASE!$AN70,\"\")","v":""},{"$f":"IFERROR(CF70/SUM(CF$5:CF$163),\"\")","v":""},{"$f":"IF(BASE!V70=\"\",\"\",Reporte!$N70)","v":""},{"$f":"IF(CI70=\"\",\"\",1)","v":""},{"$f":"IFERROR(CJ70*BASE!$AN$165/BASE!$AN70,\"\")","v":""},{"$f":"IFERROR(CJ70/SUM(CJ$5:CJ$163),\"\")","v":""},{"$f":"IF(BASE!W70=\"\",\"\",Reporte!$N70)","v":""},{"$f":"IF(CM70=\"\",\"\",1)","v":""},{"$f":"IFERROR(CN70*BASE!$AN$165/BASE!$AN70,\"\")","v":""},{"$f":"IFERROR(CN70/SUM(CN$5:CN$163),\"\")","v":""},{"$f":"IF(BASE!X70=\"\",\"\",Reporte!$N70)","v":""},{"$f":"IF(CQ70=\"\",\"\",1)","v":""},{"$f":"IFERROR(CR70*BASE!$AN$165/BASE!$AN70,\"\")","v":""},{"$f":"IFERROR(CR70/SUM(CR$5:CR$163),\"\")","v":""},{"$f":"IF(BASE!Y70=\"\",\"\",Reporte!$N70)","v":""},{"$f":"IF(CU70=\"\",\"\",1)","v":""},{"$f":"IFERROR(CV70*BASE!$AN$165/BASE!$AN70,\"\")","v":""},{"$f":"IFERROR(CV70/SUM(CV$5:CV$163),\"\")","v":""},{"$f":"IF(BASE!Z70=\"\",\"\",Reporte!$N70)","v":""},{"$f":"IF(CY70=\"\",\"\",1)","v":""},{"$f":"IFERROR(CZ70*BASE!$AN$165/BASE!$AN70,\"\")","v":""},{"$f":"IFERROR(CZ70/SUM(CZ$5:CZ$163),\"\")","v":""},{"$f":"IF(BASE!AA70=\"\",\"\",Reporte!$N70)","v":""},{"$f":"IF(DC70=\"\",\"\",1)","v":""},{"$f":"IFERROR(DD70*BASE!$AN$165/BASE!$AN70,\"\")","v":""},{"$f":"IFERROR(DD70/SUM(DD$5:DD$163),\"\")","v":""},{"$f":"IF(BASE!AB70=\"\",\"\",Reporte!$N70)","v":""},{"$f":"IF(DG70=\"\",\"\",1)","v":""},{"$f":"IFERROR(DH70*BASE!$AN$165/BASE!$AN70,\"\")","v":""},{"$f":"IFERROR(DH70/SUM(DH$5:DH$163),\"\")","v":""},{"$f":"IF(BASE!AC70=\"\",\"\",Reporte!$N70)","v":""},{"$f":"IF(DK70=\"\",\"\",1)","v":""},{"$f":"IFERROR(DL70*BASE!$AN$165/BASE!$AN70,\"\")","v":""},{"$f":"IFERROR(DL70/SUM(DL$5:DL$163),\"\")","v":""},{"$f":"IF(BASE!AD70=\"\",\"\",Reporte!$N70)","v":""},{"$f":"IF(DO70=\"\",\"\",1)","v":""},{"$f":"IFERROR(DP70*BASE!$AN$165/BASE!$AN70,\"\")","v":""},{"$f":"IFERROR(DP70/SUM(DP$5:DP$163),\"\")","v":""},{"$f":"IF(BASE!AE70=\"\",\"\",Reporte!$N70)","v":""},{"$f":"IF(DS70=\"\",\"\",1)","v":""},{"$f":"IFERROR(DT70*BASE!$AN$165/BASE!$AN70,\"\")","v":""},{"$f":"IFERROR(DT70/SUM(DT$5:DT$163),\"\")","v":""},{"$f":"IF(BASE!AF70=\"\",\"\",Reporte!$N70)","v":""},{"$f":"IF(DW70=\"\",\"\",1)","v":""},{"$f":"IFERROR(DX70*BASE!$AN$165/BASE!$AN70,\"\")","v":""},{"$f":"IFERROR(DX70/SUM(DX$5:DX$163),\"\")","v":""},{"$f":"IF(BASE!AG70=\"\",\"\",Reporte!$N70)","v":""},{"$f":"IF(EA70=\"\",\"\",1)","v":""},{"$f":"IFERROR(EB70*BASE!$AN$165/BASE!$AN70,\"\")","v":""},{"$f":"IFERROR(EB70/SUM(EB$5:EB$163),\"\")","v":""},{"$f":"IF(BASE!AH70=\"\",\"\",Reporte!$N70)","v":""},{"$f":"IF(EE70=\"\",\"\",1)","v":""},{"$f":"IFERROR(EF70*BASE!$AN$165/BASE!$AN70,\"\")","v":""},{"$f":"IFERROR(EF70/SUM(EF$5:EF$163),\"\")","v":""},{"$f":"IF(BASE!AI70=\"\",\"\",Reporte!$N70)","v":""},{"$f":"IF(EI70=\"\",\"\",1)","v":""},{"$f":"IFERROR(EJ70*BASE!$AN$165/BASE!$AN70,\"\")","v":""},{"$f":"IFERROR(EJ70/SUM(EJ$5:EJ$163),\"\")","v":""},{"$f":"IF(BASE!AJ70=\"\",\"\",Reporte!$N70)","v":""},{"$f":"IF(EM70=\"\",\"\",1)","v":""},{"$f":"IFERROR(EN70*BASE!$AN$165/BASE!$AN70,\"\")","v":""},{"$f":"IFERROR(EN70/SUM(EN$5:EN$163),\"\")","v":""},{"$f":"IF(BASE!AK70=\"\",\"\",Reporte!$N70)","v":""},{"$f":"IF(EQ70=\"\",\"\",1)","v":""},{"$f":"IFERROR(ER70*BASE!$AN$165/BASE!$AN70,\"\")","v":""},{"$f":"IFERROR(ER70/SUM(ER$5:ER$163),\"\")","v":""},{"$f":"IF(BASE!AL70=\"\",\"\",Reporte!$N70)","v":""},{"$f":"IF(EU70=\"\",\"\",1)","v":""},{"$f":"IFERROR(EV70*BASE!$AN$165/BASE!$AN70,\"\")","v":""},{"$f":"IFERROR(EV70/SUM(EV$5:EV$163),\"\")","v":""}]
[null,null,"Criterio Evaluación 5.4","",{"$f":"'Musica y Danza'!E19","v":1},{"$f":"'Musica y Danza'!F19","v":5.8823529411764705E-2},{"$f":"'Musica y Danza'!G19","v":""},null,null,null,null,null,"Criterio Evaluación 5.4","",{"$f":"'Peso criterios carga horaria'!F71","v":1},{"$f":"O71*BASE!$AN$165/BASE!AN71","v":0.93838383838383843},2.2909507445589921E-3,"",{"$f":"IF(BASE!E71=\"\",\"\",Reporte!$N71)","v":""},"",{"$f":"IFERROR(T71*BASE!$AN$165/BASE!$AN71,\"\")","v":""},"",{"$f":"IF(BASE!F71=\"\",\"\",Reporte!$N71)","v":""},"",{"$f":"IFERROR(X71*BASE!$AN$165/BASE!$AN71,\"\")","v":""},"",{"$f":"IF(BASE!G71=\"\",\"\",Reporte!$N71)","v":""},"",{"$f":"IFERROR(AB71*BASE!$AN$165/BASE!$AN71,\"\")","v":""},"",{"$f":"IF(BASE!H71=\"\",\"\",Reporte!$N71)","v":""},"",{"$f":"IFERROR(AF71*BASE!$AN$165/BASE!$AN71,\"\")","v":""},"",{"$f":"IF(BASE!I71=\"\",\"\",Reporte!$N71)","v":""},"",{"$f":"IFERROR(AJ71*BASE!$AN$165/BASE!$AN71,\"\")","v":""},"",{"$f":"IF(BASE!J71=\"\",\"\",Reporte!$N71)","v":""},"",{"$f":"IFERROR(AN71*BASE!$AN$165/BASE!$AN71,\"\")","v":""},"",{"$f":"IF(BASE!K71=\"\",\"\",Reporte!$N71)","v":""},"",{"$f":"IFERROR(AR71*BASE!$AN$165/BASE!$AN71,\"\")","v":""},"",{"$f":"IF(BASE!L71=\"\",\"\",Reporte!$N71)","v":""},"",{"$f":"IFERROR(AV71*BASE!$AN$165/BASE!$AN71,\"\")","v":""},"",{"$f":"IF(BASE!M71=\"\",\"\",Reporte!$N71)","v":""},"",{"$f":"IFERROR(AZ71*BASE!$AN$165/BASE!$AN71,\"\")","v":""},"",{"$f":"IF(BASE!N71=\"\",\"\",Reporte!$N71)","v":""},"",{"$f":"IFERROR(BD71*BASE!$AN$165/BASE!$AN71,\"\")","v":""},"",{"$f":"IF(BASE!O71=\"\",\"\",Reporte!$N71)","v":""},"",{"$f":"IFERROR(BH71*BASE!$AN$165/BASE!$AN71,\"\")","v":""},"",{"$f":"IF(BASE!P71=\"\",\"\",Reporte!$N71)","v":""},"",{"$f":"IFERROR(BL71*BASE!$AN$165/BASE!$AN71,\"\")","v":""},"",{"$f":"IF(BASE!Q71=\"\",\"\",Reporte!$N71)","v":""},"",{"$f":"IFERROR(BP71*BASE!$AN$165/BASE!$AN71,\"\")","v":""},"",{"$f":"IF(BASE!R71=\"\",\"\",Reporte!$N71)","v":""},"",{"$f":"IFERROR(BT71*BASE!$AN$165/BASE!$AN71,\"\")","v":""},"",{"$f":"IF(BASE!S71=\"\",\"\",Reporte!$N71)","v":""},"",{"$f":"IFERROR(BX71*BASE!$AN$165/BASE!$AN71,\"\")","v":""},"",{"$f":"IF(BASE!T71=\"\",\"\",Reporte!$N71)","v":""},"",{"$f":"IFERROR(CB71*BASE!$AN$165/BASE!$AN71,\"\")","v":""},"",{"$f":"IF(BASE!U71=\"\",\"\",Reporte!$N71)","v":""},"",{"$f":"IFERROR(CF71*BASE!$AN$165/BASE!$AN71,\"\")","v":""},"",{"$f":"IF(BASE!V71=\"\",\"\",Reporte!$N71)","v":""},"",{"$f":"IFERROR(CJ71*BASE!$AN$165/BASE!$AN71,\"\")","v":""},"",{"$f":"IF(BASE!W71=\"\",\"\",Reporte!$N71)","v":""},"",{"$f":"IFERROR(CN71*BASE!$AN$165/BASE!$AN71,\"\")","v":""},"",{"$f":"IF(BASE!X71=\"\",\"\",Reporte!$N71)","v":""},"",{"$f":"IFERROR(CR71*BASE!$AN$165/BASE!$AN71,\"\")","v":""},"",{"$f":"IF(BASE!Y71=\"\",\"\",Reporte!$N71)","v":""},"",{"$f":"IFERROR(CV71*BASE!$AN$165/BASE!$AN71,\"\")","v":""},"",{"$f":"IF(BASE!Z71=\"\",\"\",Reporte!$N71)","v":""},"",{"$f":"IFERROR(CZ71*BASE!$AN$165/BASE!$AN71,\"\")","v":""},"",{"$f":"IF(BASE!AA71=\"\",\"\",Reporte!$N71)","v":""},"",{"$f":"IFERROR(DD71*BASE!$AN$165/BASE!$AN71,\"\")","v":""},"",{"$f":"IF(BASE!AB71=\"\",\"\",Reporte!$N71)","v":""},"",{"$f":"IFERROR(DH71*BASE!$AN$165/BASE!$AN71,\"\")","v":""},"",{"$f":"IF(BASE!AC71=\"\",\"\",Reporte!$N71)","v":""},"",{"$f":"IFERROR(DL71*BASE!$AN$165/BASE!$AN71,\"\")","v":""},"",{"$f":"IF(BASE!AD71=\"\",\"\",Reporte!$N71)","v":""},"",{"$f":"IFERROR(DP71*BASE!$AN$165/BASE!$AN71,\"\")","v":""},"",{"$f":"IF(BASE!AE71=\"\",\"\",Reporte!$N71)","v":""},"",{"$f":"IFERROR(DT71*BASE!$AN$165/BASE!$AN71,\"\")","v":""},"",{"$f":"IF(BASE!AF71=\"\",\"\",Reporte!$N71)","v":""},"",{"$f":"IFERROR(DX71*BASE!$AN$165/BASE!$AN71,\"\")","v":""},"",{"$f":"IF(BASE!AG71=\"\",\"\",Reporte!$N71)","v":""},"",{"$f":"IFERROR(EB71*BASE!$AN$165/BASE!$AN71,\"\")","v":""},"",{"$f":"IF(BASE!AH71=\"\",\"\",Reporte!$N71)","v":""},"",{"$f":"IFERROR(EF71*BASE!$AN$165/BASE!$AN71,\"\")","v":""},"",{"$f":"IF(BASE!AI71=\"\",\"\",Reporte!$N71)","v":""},"",{"$f":"IFERROR(EJ71*BASE!$AN$165/BASE!$AN71,\"\")","v":""},"",{"$f":"IF(BASE!AJ71=\"\",\"\",Reporte!$N71)","v":""},"",{"$f":"IFERROR(EN71*BASE!$AN$165/BASE!$AN71,\"\")","v":""},"",{"$f":"IF(BASE!AK71=\"\",\"\",Reporte!$N71)","v":""},"",{"$f":"IFERROR(ER71*BASE!$AN$165/BASE!$AN71,\"\")","v":""},"",{"$f":"IF(BASE!AL71=\"\",\"\",Reporte!$N71)","v":""},"",{"$f":"IFERROR(EV71*BASE!$AN$165/BASE!$AN71,\"\")","v":""},""]
[null,null,"Criterio Evaluación 5.5","",{"$f":"'Musica y Danza'!E20","v":1},{"$f":"'Musica y Danza'!F20","v":5.8823529411764705E-2},{"$f":"'Musica y Danza'!G20","v":""},null,null,null,null,null,"Criterio Evaluación 5.5","",{"$f":"'Peso criterios carga horaria'!F72","v":1},{"$f":"O72*BASE!$AN$165/BASE!AN72","v":0.93838383838383843},2.2909507445589921E-3,"",{"$f":"IF(BASE!E72=\"\",\"\",Reporte!$N72)","v":""},"",{"$f":"IFERROR(T72*BASE!$AN$165/BASE!$AN72,\"\")","v":""},"",{"$f":"IF(BASE!F72=\"\",\"\",Reporte!$N72)","v":""},"",{"$f":"IFERROR(X72*BASE!$AN$165/BASE!$AN72,\"\")","v":""},"",{"$f":"IF(BASE!G72=\"\",\"\",Reporte!$N72)","v":""},"",{"$f":"IFERROR(AB72*BASE!$AN$165/BASE!$AN72,\"\")","v":""},"",{"$f":"IF(BASE!H72=\"\",\"\",Reporte!$N72)","v":""},"",{"$f":"IFERROR(AF72*BASE!$AN$165/BASE!$AN72,\"\")","v":""},"",{"$f":"IF(BASE!I72=\"\",\"\",Reporte!$N72)","v":""},"",{"$f":"IFERROR(AJ72*BASE!$AN$165/BASE!$AN72,\"\")","v":""},"",{"$f":"IF(BASE!J72=\"\",\"\",Reporte!$N72)","v":""},"",{"$f":"IFERROR(AN72*BASE!$AN$165/BASE!$AN72,\"\")","v":""},"",{"$f":"IF(BASE!K72=\"\",\"\",Reporte!$N72)","v":""},"",{"$f":"IFERROR(AR72*BASE!$AN$165/BASE!$AN72,\"\")","v":""},"",{"$f":"IF(BASE!L72=\"\",\"\",Reporte!$N72)","v":""},"",{"$f":"IFERROR(AV72*BASE!$AN$165/BASE!$AN72,\"\")","v":""},"",{"$f":"IF(BASE!M72=\"\",\"\",Reporte!$N72)","v":""},"",{"$f":"IFERROR(AZ72*BASE!$AN$165/BASE!$AN72,\"\")","v":""},"",{"$f":"IF(BASE!N72=\"\",\"\",Reporte!$N72)","v":""},"",{"$f":"IFERROR(BD72*BASE!$AN$165/BASE!$AN72,\"\")","v":""},"",{"$f":"IF(BASE!O72=\"\",\"\",Reporte!$N72)","v":""},"",{"$f":"IFERROR(BH72*BASE!$AN$165/BASE!$AN72,\"\")","v":""},"",{"$f":"IF(BASE!P72=\"\",\"\",Reporte!$N72)","v":""},"",{"$f":"IFERROR(BL72*BASE!$AN$165/BASE!$AN72,\"\")","v":""},"",{"$f":"IF(BASE!Q72=\"\",\"\",Reporte!$N72)","v":""},"",{"$f":"IFERROR(BP72*BASE!$AN$165/BASE!$AN72,\"\")","v":""},"",{"$f":"IF(BASE!R72=\"\",\"\",Reporte!$N72)","v":""},"",{"$f":"IFERROR(BT72*BASE!$AN$165/BASE!$AN72,\"\")","v":""},"",{"$f":"IF(BASE!S72=\"\",\"\",Reporte!$N72)","v":""},"",{"$f":"IFERROR(BX72*BASE!$AN$165/BASE!$AN72,\"\")","v":""},"",{"$f":"IF(BASE!T72=\"\",\"\",Reporte!$N72)","v":""},"",{"$f":"IFERROR(CB72*BASE!$AN$165/BASE!$AN72,\"\")","v":""},"",{"$f":"IF(BASE!U72=\"\",\"\",Reporte!$N72)","v":""},"",{"$f":"IFERROR(CF72*BASE!$AN$165/BASE!$AN72,\"\")","v":""},"",{"$f":"IF(BASE!V72=\"\",\"\",Reporte!$N72)","v":""},"",{"$f":"IFERROR(CJ72*BASE!$AN$165/BASE!$AN72,\"\")","v":""},"",{"$f":"IF(BASE!W72=\"\",\"\",Reporte!$N72)","v":""},"",{"$f":"IFERROR(CN72*BASE!$AN$165/BASE!$AN72,\"\")","v":""},"",{"$f":"IF(BASE!X72=\"\",\"\",Reporte!$N72)","v":""},"",{"$f":"IFERROR(CR72*BASE!$AN$165/BASE!$AN72,\"\")","v":""},"",{"$f":"IF(BASE!Y72=\"\",\"\",Reporte!$N72)","v":""},"",{"$f":"IFERROR(CV72*BASE!$AN$165/BASE!$AN72,\"\")","v":""},"",{"$f":"IF(BASE!Z72=\"\",\"\",Reporte!$N72)","v":""},"",{"$f":"IFERROR(CZ72*BASE!$AN$165/BASE!$AN72,\"\")","v":""},"",{"$f":"IF(BASE!AA72=\"\",\"\",Reporte!$N72)","v":""},"",{"$f":"IFERROR(DD72*BASE!$AN$165/BASE!$AN72,\"\")","v":""},"",{"$f":"IF(BASE!AB72=\"\",\"\",Reporte!$N72)","v":""},"",{"$f":"IFERROR(DH72*BASE!$AN$165/BASE!$AN72,\"\")","v":""},"",{"$f":"IF(BASE!AC72=\"\",\"\",Reporte!$N72)","v":""},"",{"$f":"IFERROR(DL72*BASE!$AN$165/BASE!$AN72,\"\")","v":""},"",{"$f":"IF(BASE!AD72=\"\",\"\",Reporte!$N72)","v":""},"",{"$f":"IFERROR(DP72*BASE!$AN$165/BASE!$AN72,\"\")","v":""},"",{"$f":"IF(BASE!AE72=\"\",\"\",Reporte!$N72)","v":""},"",{"$f":"IFERROR(DT72*BASE!$AN$165/BASE!$AN72,\"\")","v":""},"",{"$f":"IF(BASE!AF72=\"\",\"\",Reporte!$N72)","v":""},"",{"$f":"IFERROR(DX72*BASE!$AN$165/BASE!$AN72,\"\")","v":""},"",{"$f":"IF(BASE!AG72=\"\",\"\",Reporte!$N72)","v":""},"",{"$f":"IFERROR(EB72*BASE!$AN$165/BASE!$AN72,\"\")","v":""},"",{"$f":"IF(BASE!AH72=\"\",\"\",Reporte!$N72)","v":""},"",{"$f":"IFERROR(EF72*BASE!$AN$165/BASE!$AN72,\"\")","v":""},"",{"$f":"IF(BASE!AI72=\"\",\"\",Reporte!$N72)","v":""},"",{"$f":"IFERROR(EJ72*BASE!$AN$165/BASE!$AN72,\"\")","v":""},"",{"$f":"IF(BASE!AJ72=\"\",\"\",Reporte!$N72)","v":""},"",{"$f":"IFERROR(EN72*BASE!$AN$165/BASE!$AN72,\"\")","v":""},"",{"$f":"IF(BASE!AK72=\"\",\"\",Reporte!$N72)","v":""},"",{"$f":"IFERROR(ER72*BASE!$AN$165/BASE!$AN72,\"\")","v":""},"",{"$f":"IF(BASE!AL72=\"\",\"\",Reporte!$N72)","v":""},"",{"$f":"IFERROR(EV72*BASE!$AN$165/BASE!$AN72,\"\")","v":""},""]
["Educación Física","Comp. Esp. 1","Criterio Evaluación 1.1","",{"$f":"'Educacion Fisica'!E4","v":1},{"$f":"'Educacion Fisica'!F4","v":0.05},{"$f":"'Educacion Fisica'!G4","v":""},{"$f":"IFERROR(SUMPRODUCT(D73:D92,E73:E92)/SUMIF(D73:D92,\">=0\",E73:E92),\"\")","v":""},null,null,"Educación Física","Comp. Esp. 1","Criterio Evaluación 1.1","",{"$f":"'Peso criterios carga horaria'!F73","v":2.5},{"$f":"O73*BASE!$AN$165/BASE!AN73","v":3.3178571428571431},5.7273768613974796E-3,"",{"$f":"IF(BASE!E73=\"\",\"\",Reporte!$N73)","v":""},"",{"$f":"IFERROR(T73*BASE!$AN$165/BASE!$AN73,\"\")","v":""},"",{"$f":"IF(BASE!F73=\"\",\"\",Reporte!$N73)","v":""},"",{"$f":"IFERROR(X73*BASE!$AN$165/BASE!$AN73,\"\")","v":""},"",{"$f":"IF(BASE!G73=\"\",\"\",Reporte!$N73)","v":""},"",{"$f":"IFERROR(AB73*BASE!$AN$165/BASE!$AN73,\"\")","v":""},"",{"$f":"IF(BASE!H73=\"\",\"\",Reporte!$N73)","v":""},"",{"$f":"IFERROR(AF73*BASE!$AN$165/BASE!$AN73,\"\")","v":""},"",{"$f":"IF(BASE!I73=\"\",\"\",Reporte!$N73)","v":""},"",{"$f":"IFERROR(AJ73*BASE!$AN$165/BASE!$AN73,\"\")","v":""},"",{"$f":"IF(BASE!J73=\"\",\"\",Reporte!$N73)","v":""},"",{"$f":"IFERROR(AN73*BASE!$AN$165/BASE!$AN73,\"\")","v":""},"",{"$f":"IF(BASE!K73=\"\",\"\",Reporte!$N73)","v":""},"",{"$f":"IFERROR(AR73*BASE!$AN$165/BASE!$AN73,\"\")","v":""},"",{"$f":"IF(BASE!L73=\"\",\"\",Reporte!$N73)","v":""},"",{"$f":"IFERROR(AV73*BASE!$AN$165/BASE!$AN73,\"\")","v":""},"",{"$f":"IF(BASE!M73=\"\",\"\",Reporte!$N73)","v":""},"",{"$f":"IFERROR(AZ73*BASE!$AN$165/BASE!$AN73,\"\")","v":""},"",{"$f":"IF(BASE!N73=\"\",\"\",Reporte!$N73)","v":""},"",{"$f":"IFERROR(BD73*BASE!$AN$165/BASE!$AN73,\"\")","v":""},"",{"$f":"IF(BASE!O73=\"\",\"\",Reporte!$N73)","v":""},"",{"$f":"IFERROR(BH73*BASE!$AN$165/BASE!$AN73,\"\")","v":""},"",{"$f":"IF(BASE!P73=\"\",\"\",Reporte!$N73)","v":""},"",{"$f":"IFERROR(BL73*BASE!$AN$165/BASE!$AN73,\"\")","v":""},"",{"$f":"IF(BASE!Q73=\"\",\"\",Reporte!$N73)","v":""},"",{"$f":"IFERROR(BP73*BASE!$AN$165/BASE!$AN73,\"\")","v":""},"",{"$f":"IF(BASE!R73=\"\",\"\",Reporte!$N73)","v":""},"",{"$f":"IFERROR(BT73*BASE!$AN$165/BASE!$AN73,\"\")","v":""},"",{"$f":"IF(BASE!S73=\"\",\"\",Reporte!$N73)","v":""},"",{"$f":"IFERROR(BX73*BASE!$AN$165/BASE!$AN73,\"\")","v":""},"",{"$f":"IF(BASE!T73=\"\",\"\",Reporte!$N73)","v":""},"",{"$f":"IFERROR(CB73*BASE!$AN$165/BASE!$AN73,\"\")","v":""},"",{"$f":"IF(BASE!U73=\"\",\"\",Reporte!$N73)","v":""},"",{"$f":"IFERROR(CF73*BASE!$AN$165/BASE!$AN73,\"\")","v":""},"",{"$f":"IF(BASE!V73=\"\",\"\",Reporte!$N73)","v":""},"",{"$f":"IFERROR(CJ73*BASE!$AN$165/BASE!$AN73,\"\")","v":""},"",{"$f":"IF(BASE!W73=\"\",\"\",Reporte!$N73)","v":""},"",{"$f":"IFERROR(CN73*BASE!$AN$165/BASE!$AN73,\"\")","v":""},"",{"$f":"IF(BASE!X73=\"\",\"\",Reporte!$N73)","v":""},"",{"$f":"IFERROR(CR73*BASE!$AN$165/BASE!$AN73,\"\")","v":""},"",{"$f":"IF(BASE!Y73=\"\",\"\",Reporte!$N73)","v":""},"",{"$f":"IFERROR(CV73*BASE!$AN$165/BASE!$AN73,\"\")","v":""},"",{"$f":"IF(BASE!Z73=\"\",\"\",Reporte!$N73)","v":""},"",{"$f":"IFERROR(CZ73*BASE!$AN$165/BASE!$AN73,\"\")","v":""},"",{"$f":"IF(BASE!AA73=\"\",\"\",Reporte!$N73)","v":""},"",{"$f":"IFERROR(DD73*BASE!$AN$165/BASE!$AN73,\"\")","v":""},"",{"$f":"IF(BASE!AB73=\"\",\"\",Reporte!$N73)","v":""},"",{"$f":"IFERROR(DH73*BASE!$AN$165/BASE!$AN73,\"\")","v":""},"",{"$f":"IF(BASE!AC73=\"\",\"\",Reporte!$N73)","v":""},"",{"$f":"IFERROR(DL73*BASE!$AN$165/BASE!$AN73,\"\")","v":""},"",{"$f":"IF(BASE!AD73=\"\",\"\",Reporte!$N73)","v":""},"",{"$f":"IFERROR(DP73*BASE!$AN$165/BASE!$AN73,\"\")","v":""},"",{"$f":"IF(BASE!AE73=\"\",\"\",Reporte!$N73)","v":""},"",{"$f":"IFERROR(DT73*BASE!$AN$165/BASE!$AN73,\"\")","v":""},"",{"$f":"IF(BASE!AF73=\"\",\"\",Reporte!$N73)","v":""},"",{"$f":"IFERROR(DX73*BASE!$AN$165/BASE!$AN73,\"\")","v":""},"",{"$f":"IF(BASE!AG73=\"\",\"\",Reporte!$N73)","v":""},"",{"$f":"IFERROR(EB73*BASE!$AN$165/BASE!$AN73,\"\")","v":""},"",{"$f":"IF(BASE!AH73=\"\",\"\",Reporte!$N73)","v":""},"",{"$f":"IFERROR(EF73*BASE!$AN$165/BASE!$AN73,\"\")","v":""},"",{"$f":"IF(BASE!AI73=\"\",\"\",Reporte!$N73)","v":""},"",{"$f":"IFERROR(EJ73*BASE!$AN$165/BASE!$AN73,\"\")","v":""},"",{"$f":"IF(BASE!AJ73=\"\",\"\",Reporte!$N73)","v":""},"",{"$f":"IFERROR(EN73*BASE!$AN$165/BASE!$AN73,\"\")","v":""},"",{"$f":"IF(BASE!AK73=\"\",\"\",Reporte!$N73)","v":""},"",{"$f":"IFERROR(ER73*BASE!$AN$165/BASE!$AN73,\"\")","v":""},"",{"$f":"IF(BASE!AL73=\"\",\"\",Reporte!$N73)","v":""},"",{"$f":"IFERROR(EV73*BASE!$AN$165/BASE!$AN73,\"\")","v":""},""]
[null,null,"Criterio Evaluación 1.2","",{"$f":"'Educacion Fisica'!E5","v":1},{"$f":"'Educacion Fisica'!F5","v":0.05},{"$f":"'Educacion Fisica'!G5","v":""},null,null,null,null,null,"Criterio Evaluación 1.2","",{"$f":"'Peso criterios carga horaria'!F74","v":2.5},{"$f":"O74*BASE!$AN$165/BASE!AN74","v":3.3178571428571431},5.7273768613974796E-3,"",{"$f":"IF(BASE!E74=\"\",\"\",Reporte!$N74)","v":""},"",{"$f":"IFERROR(T74*BASE!$AN$165/BASE!$AN74,\"\")","v":""},"",{"$f":"IF(BASE!F74=\"\",\"\",Reporte!$N74)","v":""},"",{"$f":"IFERROR(X74*BASE!$AN$165/BASE!$AN74,\"\")","v":""},"",{"$f":"IF(BASE!G74=\"\",\"\",Reporte!$N74)","v":""},"",{"$f":"IFERROR(AB74*BASE!$AN$165/BASE!$AN74,\"\")","v":""},"",{"$f":"IF(BASE!H74=\"\",\"\",Reporte!$N74)","v":""},"",{"$f":"IFERROR(AF74*BASE!$AN$165/BASE!$AN74,\"\")","v":""},"",{"$f":"IF(BASE!I74=\"\",\"\",Reporte!$N74)","v":""},"",{"$f":"IFERROR(AJ74*BASE!$AN$165/BASE!$AN74,\"\")","v":""},"",{"$f":"IF(BASE!J74=\"\",\"\",Reporte!$N74)","v":""},"",{"$f":"IFERROR(AN74*BASE!$AN$165/BASE!$AN74,\"\")","v":""},"",{"$f":"IF(BASE!K74=\"\",\"\",Reporte!$N74)","v":""},"",{"$f":"IFERROR(AR74*BASE!$AN$165/BASE!$AN74,\"\")","v":""},"",{"$f":"IF(BASE!L74=\"\",\"\",Reporte!$N74)","v":""},"",{"$f":"IFERROR(AV74*BASE!$AN$165/BASE!$AN74,\"\")","v":""},"",{"$f":"IF(BASE!M74=\"\",\"\",Reporte!$N74)","v":""},"",{"$f":"IFERROR(AZ74*BASE!$AN$165/BASE!$AN74,\"\")","v":""},"",{"$f":"IF(BASE!N74=\"\",\"\",Reporte!$N74)","v":""},"",{"$f":"IFERROR(BD74*BASE!$AN$165/BASE!$AN74,\"\")","v":""},"",{"$f":"IF(BASE!O74=\"\",\"\",Reporte!$N74)","v":""},"",{"$f":"IFERROR(BH74*BASE!$AN$165/BASE!$AN74,\"\")","v":""},"",{"$f":"IF(BASE!P74=\"\",\"\",Reporte!$N74)","v":""},"",{"$f":"IFERROR(BL74*BASE!$AN$165/BASE!$AN74,\"\")","v":""},"",{"$f":"IF(BASE!Q74=\"\",\"\",Reporte!$N74)","v":""},"",{"$f":"IFERROR(BP74*BASE!$AN$165/BASE!$AN74,\"\")","v":""},"",{"$f":"IF(BASE!R74=\"\",\"\",Reporte!$N74)","v":""},"",{"$f":"IFERROR(BT74*BASE!$AN$165/BASE!$AN74,\"\")","v":""},"",{"$f":"IF(BASE!S74=\"\",\"\",Reporte!$N74)","v":""},"",{"$f":"IFERROR(BX74*BASE!$AN$165/BASE!$AN74,\"\")","v":""},"",{"$f":"IF(BASE!T74=\"\",\"\",Reporte!$N74)","v":""},"",{"$f":"IFERROR(CB74*BASE!$AN$165/BASE!$AN74,\"\")","v":""},"",{"$f":"IF(BASE!U74=\"\",\"\",Reporte!$N74)","v":""},"",{"$f":"IFERROR(CF74*BASE!$AN$165/BASE!$AN74,\"\")","v":""},"",{"$f":"IF(BASE!V74=\"\",\"\",Reporte!$N74)","v":""},"",{"$f":"IFERROR(CJ74*BASE!$AN$165/BASE!$AN74,\"\")","v":""},"",{"$f":"IF(BASE!W74=\"\",\"\",Reporte!$N74)","v":""},"",{"$f":"IFERROR(CN74*BASE!$AN$165/BASE!$AN74,\"\")","v":""},"",{"$f":"IF(BASE!X74=\"\",\"\",Reporte!$N74)","v":""},"",{"$f":"IFERROR(CR74*BASE!$AN$165/BASE!$AN74,\"\")","v":""},"",{"$f":"IF(BASE!Y74=\"\",\"\",Reporte!$N74)","v":""},"",{"$f":"IFERROR(CV74*BASE!$AN$165/BASE!$AN74,\"\")","v":""},"",{"$f":"IF(BASE!Z74=\"\",\"\",Reporte!$N74)","v":""},"",{"$f":"IFERROR(CZ74*BASE!$AN$165/BASE!$AN74,\"\")","v":""},"",{"$f":"IF(BASE!AA74=\"\",\"\",Reporte!$N74)","v":""},"",{"$f":"IFERROR(DD74*BASE!$AN$165/BASE!$AN74,\"\")","v":""},"",{"$f":"IF(BASE!AB74=\"\",\"\",Reporte!$N74)","v":""},"",{"$f":"IFERROR(DH74*BASE!$AN$165/BASE!$AN74,\"\")","v":""},"",{"$f":"IF(BASE!AC74=\"\",\"\",Reporte!$N74)","v":""},"",{"$f":"IFERROR(DL74*BASE!$AN$165/BASE!$AN74,\"\")","v":""},"",{"$f":"IF(BASE!AD74=\"\",\"\",Reporte!$N74)","v":""},"",{"$f":"IFERROR(DP74*BASE!$AN$165/BASE!$AN74,\"\")","v":""},"",{"$f":"IF(BASE!AE74=\"\",\"\",Reporte!$N74)","v":""},"",{"$f":"IFERROR(DT74*BASE!$AN$165/BASE!$AN74,\"\")","v":""},"",{"$f":"IF(BASE!AF74=\"\",\"\",Reporte!$N74)","v":""},"",{"$f":"IFERROR(DX74*BASE!$AN$165/BASE!$AN74,\"\")","v":""},"",{"$f":"IF(BASE!AG74=\"\",\"\",Reporte!$N74)","v":""},"",{"$f":"IFERROR(EB74*BASE!$AN$165/BASE!$AN74,\"\")","v":""},"",{"$f":"IF(BASE!AH74=\"\",\"\",Reporte!$N74)","v":""},"",{"$f":"IFERROR(EF74*BASE!$AN$165/BASE!$AN74,\"\")","v":""},"",{"$f":"IF(BASE!AI74=\"\",\"\",Reporte!$N74)","v":""},"",{"$f":"IFERROR(EJ74*BASE!$AN$165/BASE!$AN74,\"\")","v":""},"",{"$f":"IF(BASE!AJ74=\"\",\"\",Reporte!$N74)","v":""},"",{"$f":"IFERROR(EN74*BASE!$AN$165/BASE!$AN74,\"\")","v":""},"",{"$f":"IF(BASE!AK74=\"\",\"\",Reporte!$N74)","v":""},"",{"$f":"IFERROR(ER74*BASE!$AN$165/BASE!$AN74,\"\")","v":""},"",{"$f":"IF(BASE!AL74=\"\",\"\",Reporte!$N74)","v":""},"",{"$f":"IFERROR(EV74*BASE!$AN$165/BASE!$AN74,\"\")","v":""},""]
[null,null,"Criterio Evaluación 1.3","",{"$f":"'Educacion Fisica'!E6","v":1},{"$f":"'Educacion Fisica'!F6","v":0.05},{"$f":"'Educacion Fisica'!G6","v":""},null,null,null,null,null,"Criterio Evaluación 1.3","",{"$f":"'Peso criterios carga horaria'!F75","v":2.5},{"$f":"O75*BASE!$AN$165/BASE!AN75","v":3.3178571428571431},5.7273768613974796E-3,"",{"$f":"IF(BASE!E75=\"\",\"\",Reporte!$N75)","v":""},"",{"$f":"IFERROR(T75*BASE!$AN$165/BASE!$AN75,\"\")","v":""},"",{"$f":"IF(BASE!F75=\"\",\"\",Reporte!$N75)","v":""},"",{"$f":"IFERROR(X75*BASE!$AN$165/BASE!$AN75,\"\")","v":""},"",{"$f":"IF(BASE!G75=\"\",\"\",Reporte!$N75)","v":""},"",{"$f":"IFERROR(AB75*BASE!$AN$165/BASE!$AN75,\"\")","v":""},"",{"$f":"IF(BASE!H75=\"\",\"\",Reporte!$N75)","v":""},"",{"$f":"IFERROR(AF75*BASE!$AN$165/BASE!$AN75,\"\")","v":""},"",{"$f":"IF(BASE!I75=\"\",\"\",Reporte!$N75)","v":""},"",{"$f":"IFERROR(AJ75*BASE!$AN$165/BASE!$AN75,\"\")","v":""},"",{"$f":"IF(BASE!J75=\"\",\"\",Reporte!$N75)","v":""},"",{"$f":"IFERROR(AN75*BASE!$AN$165/BASE!$AN75,\"\")","v":""},"",{"$f":"IF(BASE!K75=\"\",\"\",Reporte!$N75)","v":""},"",{"$f":"IFERROR(AR75*BASE!$AN$165/BASE!$AN75,\"\")","v":""},"",{"$f":"IF(BASE!L75=\"\",\"\",Reporte!$N75)","v":""},"",{"$f":"IFERROR(AV75*BASE!$AN$165/BASE!$AN75,\"\")","v":""},"",{"$f":"IF(BASE!M75=\"\",\"\",Reporte!$N75)","v":""},"",{"$f":"IFERROR(AZ75*BASE!$AN$165/BASE!$AN75,\"\")","v":""},"",{"$f":"IF(BASE!N75=\"\",\"\",Reporte!$N75)","v":""},"",{"$f":"IFERROR(BD75*BASE!$AN$165/BASE!$AN75,\"\")","v":""},"",{"$f":"IF(BASE!O75=\"\",\"\",Reporte!$N75)","v":""},"",{"$f":"IFERROR(BH75*BASE!$AN$165/BASE!$AN75,\"\")","v":""},"",{"$f":"IF(BASE!P75=\"\",\"\",Reporte!$N75)","v":""},"",{"$f":"IFERROR(BL75*BASE!$AN$165/BASE!$AN75,\"\")","v":""},"",{"$f":"IF(BASE!Q75=\"\",\"\",Reporte!$N75)","v":""},"",{"$f":"IFERROR(BP75*BASE!$AN$165/BASE!$AN75,\"\")","v":""},"",{"$f":"IF(BASE!R75=\"\",\"\",Reporte!$N75)","v":""},"",{"$f":"IFERROR(BT75*BASE!$AN$165/BASE!$AN75,\"\")","v":""},"",{"$f":"IF(BASE!S75=\"\",\"\",Reporte!$N75)","v":""},"",{"$f":"IFERROR(BX75*BASE!$AN$165/BASE!$AN75,\"\")","v":""},"",{"$f":"IF(BASE!T75=\"\",\"\",Reporte!$N75)","v":""},"",{"$f":"IFERROR(CB75*BASE!$AN$165/BASE!$AN75,\"\")","v":""},"",{"$f":"IF(BASE!U75=\"\",\"\",Reporte!$N75)","v":""},"",{"$f":"IFERROR(CF75*BASE!$AN$165/BASE!$AN75,\"\")","v":""},"",{"$f":"IF(BASE!V75=\"\",\"\",Reporte!$N75)","v":""},"",{"$f":"IFERROR(CJ75*BASE!$AN$165/BASE!$AN75,\"\")","v":""},"",{"$f":"IF(BASE!W75=\"\",\"\",Reporte!$N75)","v":""},"",{"$f":"IFERROR(CN75*BASE!$AN$165/BASE!$AN75,\"\")","v":""},"",{"$f":"IF(BASE!X75=\"\",\"\",Reporte!$N75)","v":""},"",{"$f":"IFERROR(CR75*BASE!$AN$165/BASE!$AN75,\"\")","v":""},"",{"$f":"IF(BASE!Y75=\"\",\"\",Reporte!$N75)","v":""},"",{"$f":"IFERROR(CV75*BASE!$AN$165/BASE!$AN75,\"\")","v":""},"",{"$f":"IF(BASE!Z75=\"\",\"\",Reporte!$N75)","v":""},"",{"$f":"IFERROR(CZ75*BASE!$AN$165/BASE!$AN75,\"\")","v":""},"",{"$f":"IF(BASE!AA75=\"\",\"\",Reporte!$N75)","v":""},"",{"$f":"IFERROR(DD75*BASE!$AN$165/BASE!$AN75,\"\")","v":""},"",{"$f":"IF(BASE!AB75=\"\",\"\",Reporte!$N75)","v":""},"",{"$f":"IFERROR(DH75*BASE!$AN$165/BASE!$AN75,\"\")","v":""},"",{"$f":"IF(BASE!AC75=\"\",\"\",Reporte!$N75)","v":""},"",{"$f":"IFERROR(DL75*BASE!$AN$165/BASE!$AN75,\"\")","v":""},"",{"$f":"IF(BASE!AD75=\"\",\"\",Reporte!$N75)","v":""},"",{"$f":"IFERROR(DP75*BASE!$AN$165/BASE!$AN75,\"\")","v":""},"",{"$f":"IF(BASE!AE75=\"\",\"\",Reporte!$N75)","v":""},"",{"$f":"IFERROR(DT75*BASE!$AN$165/BASE!$AN75,\"\")","v":""},"",{"$f":"IF(BASE!AF75=\"\",\"\",Reporte!$N75)","v":""},"",{"$f":"IFERROR(DX75*BASE!$AN$165/BASE!$AN75,\"\")","v":""},"",{"$f":"IF(BASE!AG75=\"\",\"\",Reporte!$N75)","v":""},"",{"$f":"IFERROR(EB75*BASE!$AN$165/BASE!$AN75,\"\")","v":""},"",{"$f":"IF(BASE!AH75=\"\",\"\",Reporte!$N75)","v":""},"",{"$f":"IFERROR(EF75*BASE!$AN$165/BASE!$AN75,\"\")","v":""},"",{"$f":"IF(BASE!AI75=\"\",\"\",Reporte!$N75)","v":""},"",{"$f":"IFERROR(EJ75*BASE!$AN$165/BASE!$AN75,\"\")","v":""},"",{"$f":"IF(BASE!AJ75=\"\",\"\",Reporte!$N75)","v":""},"",{"$f":"IFERROR(EN75*BASE!$AN$165/BASE!$AN75,\"\")","v":""},"",{"$f":"IF(BASE!AK75=\"\",\"\",Reporte!$N75)","v":""},"",{"$f":"IFERROR(ER75*BASE!$AN$165/BASE!$AN75,\"\")","v":""},"",{"$f":"IF(BASE!AL75=\"\",\"\",Reporte!$N75)","v":""},"",{"$f":"IFERROR(EV75*BASE!$AN$165/BASE!$AN75,\"\")","v":""},""]
[null,null,"Criterio Evaluación 1.4","",{"$f":"'Educacion Fisica'!E7","v":1},{"$f":"'Educacion Fisica'!F7","v":0.05},{"$f":"'Educacion Fisica'!G7","v":""},null,null,null,null,null,"Criterio Evaluación 1.4","",{"$f":"'Peso criterios carga horaria'!F76","v":2.5},{"$f":"O76*BASE!$AN$165/BASE!AN76","v":3.3178571428571431},5.7273768613974796E-3,"",{"$f":"IF(BASE!E76=\"\",\"\",Reporte!$N76)","v":""},"",{"$f":"IFERROR(T76*BASE!$AN$165/BASE!$AN76,\"\")","v":""},"",{"$f":"IF(BASE!F76=\"\",\"\",Reporte!$N76)","v":""},"",{"$f":"IFERROR(X76*BASE!$AN$165/BASE!$AN76,\"\")","v":""},"",{"$f":"IF(BASE!G76=\"\",\"\",Reporte!$N76)","v":""},"",{"$f":"IFERROR(AB76*BASE!$AN$165/BASE!$AN76,\"\")","v":""},"",{"$f":"IF(BASE!H76=\"\",\"\",Reporte!$N76)","v":""},"",{"$f":"IFERROR(AF76*BASE!$AN$165/BASE!$AN76,\"\")","v":""},"",{"$f":"IF(BASE!I76=\"\",\"\",Reporte!$N76)","v":""},"",{"$f":"IFERROR(AJ76*BASE!$AN$165/BASE!$AN76,\"\")","v":""},"",{"$f":"IF(BASE!J76=\"\",\"\",Reporte!$N76)","v":""},"",{"$f":"IFERROR(AN76*BASE!$AN$165/BASE!$AN76,\"\")","v":""},"",{"$f":"IF(BASE!K76=\"\",\"\",Reporte!$N76)","v":""},"",{"$f":"IFERROR(AR76*BASE!$AN$165/BASE!$AN76,\"\")","v":""},"",{"$f":"IF(BASE!L76=\"\",\"\",Reporte!$N76)","v":""},"",{"$f":"IFERROR(AV76*BASE!$AN$165/BASE!$AN76,\"\")","v":""},"",{"$f":"IF(BASE!M76=\"\",\"\",Reporte!$N76)","v":""},"",{"$f":"IFERROR(AZ76*BASE!$AN$165/BASE!$AN76,\"\")","v":""},"",{"$f":"IF(BASE!N76=\"\",\"\",Reporte!$N76)","v":""},"",{"$f":"IFERROR(BD76*BASE!$AN$165/BASE!$AN76,\"\")","v":""},"",{"$f":"IF(BASE!O76=\"\",\"\",Reporte!$N76)","v":""},"",{"$f":"IFERROR(BH76*BASE!$AN$165/BASE!$AN76,\"\")","v":""},"",{"$f":"IF(BASE!P76=\"\",\"\",Reporte!$N76)","v":""},"",{"$f":"IFERROR(BL76*BASE!$AN$165/BASE!$AN76,\"\")","v":""},"",{"$f":"IF(BASE!Q76=\"\",\"\",Reporte!$N76)","v":""},"",{"$f":"IFERROR(BP76*BASE!$AN$165/BASE!$AN76,\"\")","v":""},"",{"$f":"IF(BASE!R76=\"\",\"\",Reporte!$N76)","v":""},"",{"$f":"IFERROR(BT76*BASE!$AN$165/BASE!$AN76,\"\")","v":""},"",{"$f":"IF(BASE!S76=\"\",\"\",Reporte!$N76)","v":""},"",{"$f":"IFERROR(BX76*BASE!$AN$165/BASE!$AN76,\"\")","v":""},"",{"$f":"IF(BASE!T76=\"\",\"\",Reporte!$N76)","v":""},"",{"$f":"IFERROR(CB76*BASE!$AN$165/BASE!$AN76,\"\")","v":""},"",{"$f":"IF(BASE!U76=\"\",\"\",Reporte!$N76)","v":""},"",{"$f":"IFERROR(CF76*BASE!$AN$165/BASE!$AN76,\"\")","v":""},"",{"$f":"IF(BASE!V76=\"\",\"\",Reporte!$N76)","v":""},"",{"$f":"IFERROR(CJ76*BASE!$AN$165/BASE!$AN76,\"\")","v":""},"",{"$f":"IF(BASE!W76=\"\",\"\",Reporte!$N76)","v":""},"",{"$f":"IFERROR(CN76*BASE!$AN$165/BASE!$AN76,\"\")","v":""},"",{"$f":"IF(BASE!X76=\"\",\"\",Reporte!$N76)","v":""},"",{"$f":"IFERROR(CR76*BASE!$AN$165/BASE!$AN76,\"\")","v":""},"",{"$f":"IF(BASE!Y76=\"\",\"\",Reporte!$N76)","v":""},"",{"$f":"IFERROR(CV76*BASE!$AN$165/BASE!$AN76,\"\")","v":""},"",{"$f":"IF(BASE!Z76=\"\",\"\",Reporte!$N76)","v":""},"",{"$f":"IFERROR(CZ76*BASE!$AN$165/BASE!$AN76,\"\")","v":""},"",{"$f":"IF(BASE!AA76=\"\",\"\",Reporte!$N76)","v":""},"",{"$f":"IFERROR(DD76*BASE!$AN$165/BASE!$AN76,\"\")","v":""},"",{"$f":"IF(BASE!AB76=\"\",\"\",Reporte!$N76)","v":""},"",{"$f":"IFERROR(DH76*BASE!$AN$165/BASE!$AN76,\"\")","v":""},"",{"$f":"IF(BASE!AC76=\"\",\"\",Reporte!$N76)","v":""},"",{"$f":"IFERROR(DL76*BASE!$AN$165/BASE!$AN76,\"\")","v":""},"",{"$f":"IF(BASE!AD76=\"\",\"\",Reporte!$N76)","v":""},"",{"$f":"IFERROR(DP76*BASE!$AN$165/BASE!$AN76,\"\")","v":""},"",{"$f":"IF(BASE!AE76=\"\",\"\",Reporte!$N76)","v":""},"",{"$f":"IFERROR(DT76*BASE!$AN$165/BASE!$AN76,\"\")","v":""},"",{"$f":"IF(BASE!AF76=\"\",\"\",Reporte!$N76)","v":""},"",{"$f":"IFERROR(DX76*BASE!$AN$165/BASE!$AN76,\"\")","v":""},"",{"$f":"IF(BASE!AG76=\"\",\"\",Reporte!$N76)","v":""},"",{"$f":"IFERROR(EB76*BASE!$AN$165/BASE!$AN76,\"\")","v":""},"",{"$f":"IF(BASE!AH76=\"\",\"\",Reporte!$N76)","v":""},"",{"$f":"IFERROR(EF76*BASE!$AN$165/BASE!$AN76,\"\")","v":""},"",{"$f":"IF(BASE!AI76=\"\",\"\",Reporte!$N76)","v":""},"",{"$f":"IFERROR(EJ76*BASE!$AN$165/BASE!$AN76,\"\")","v":""},"",{"$f":"IF(BASE!AJ76=\"\",\"\",Reporte!$N76)","v":""},"",{"$f":"IFERROR(EN76*BASE!$AN$165/BASE!$AN76,\"\")","v":""},"",{"$f":"IF(BASE!AK76=\"\",\"\",Reporte!$N76)","v":""},"",{"$f":"IFERROR(ER76*BASE!$AN$165/BASE!$AN76,\"\")","v":""},"",{"$f":"IF(BASE!AL76=\"\",\"\",Reporte!$N76)","v":""},"",{"$f":"IFERROR(EV76*BASE!$AN$165/BASE!$AN76,\"\")","v":""},""]
[null,"Comp. Esp. 2","Criterio Evaluación 2.1","",{"$f":"'Educacion Fisica'!E8","v":1},{"$f":"'Educacion Fisica'!F8","v":0.05},{"$f":"'Educacion Fisica'!G8","v":""},null,null,null,null,"Comp. Esp. 2","Criterio Evaluación 2.1","",{"$f":"'Peso criterios carga horaria'!F77","v":2.5},{"$f":"O77*BASE!$AN$165/BASE!AN77","v":3.3178571428571431},5.7273768613974796E-3,"",{"$f":"IF(BASE!E77=\"\",\"\",Reporte!$N77)","v":""},"",{"$f":"IFERROR(T77*BASE!$AN$165/BASE!$AN77,\"\")","v":""},"",{"$f":"IF(BASE!F77=\"\",\"\",Reporte!$N77)","v":""},"",{"$f":"IFERROR(X77*BASE!$AN$165/BASE!$AN77,\"\")","v":""},"",{"$f":"IF(BASE!G77=\"\",\"\",Reporte!$N77)","v":""},"",{"$f":"IFERROR(AB77*BASE!$AN$165/BASE!$AN77,\"\")","v":""},"",{"$f":"IF(BASE!H77=\"\",\"\",Reporte!$N77)","v":""},"",{"$f":"IFERROR(AF77*BASE!$AN$165/BASE!$AN77,\"\")","v":""},"",{"$f":"IF(BASE!I77=\"\",\"\",Reporte!$N77)","v":""},"",{"$f":"IFERROR(AJ77*BASE!$AN$165/BASE!$AN77,\"\")","v":""},"",{"$f":"IF(BASE!J77=\"\",\"\",Reporte!$N77)","v":""},"",{"$f":"IFERROR(AN77*BASE!$AN$165/BASE!$AN77,\"\")","v":""},"",{"$f":"IF(BASE!K77=\"\",\"\",Reporte!$N77)","v":""},"",{"$f":"IFERROR(AR77*BASE!$AN$165/BASE!$AN77,\"\")","v":""},"",{"$f":"IF(BASE!L77=\"\",\"\",Reporte!$N77)","v":""},"",{"$f":"IFERROR(AV77*BASE!$AN$165/BASE!$AN77,\"\")","v":""},"",{"$f":"IF(BASE!M77=\"\",\"\",Reporte!$N77)","v":""},"",{"$f":"IFERROR(AZ77*BASE!$AN$165/BASE!$AN77,\"\")","v":""},"",{"$f":"IF(BASE!N77=\"\",\"\",Reporte!$N77)","v":""},"",{"$f":"IFERROR(BD77*BASE!$AN$165/BASE!$AN77,\"\")","v":""},"",{"$f":"IF(BASE!O77=\"\",\"\",Reporte!$N77)","v":""},"",{"$f":"IFERROR(BH77*BASE!$AN$165/BASE!$AN77,\"\")","v":""},"",{"$f":"IF(BASE!P77=\"\",\"\",Reporte!$N77)","v":""},"",{"$f":"IFERROR(BL77*BASE!$AN$165/BASE!$AN77,\"\")","v":""},"",{"$f":"IF(BASE!Q77=\"\",\"\",Reporte!$N77)","v":""},"",{"$f":"IFERROR(BP77*BASE!$AN$165/BASE!$AN77,\"\")","v":""},"",{"$f":"IF(BASE!R77=\"\",\"\",Reporte!$N77)","v":""},"",{"$f":"IFERROR(BT77*BASE!$AN$165/BASE!$AN77,\"\")","v":""},"",{"$f":"IF(BASE!S77=\"\",\"\",Reporte!$N77)","v":""},"",{"$f":"IFERROR(BX77*BASE!$AN$165/BASE!$AN77,\"\")","v":""},"",{"$f":"IF(BASE!T77=\"\",\"\",Reporte!$N77)","v":""},"",{"$f":"IFERROR(CB77*BASE!$AN$165/BASE!$AN77,\"\")","v":""},"",{"$f":"IF(BASE!U77=\"\",\"\",Reporte!$N77)","v":""},"",{"$f":"IFERROR(CF77*BASE!$AN$165/BASE!$AN77,\"\")","v":""},"",{"$f":"IF(BASE!V77=\"\",\"\",Reporte!$N77)","v":""},"",{"$f":"IFERROR(CJ77*BASE!$AN$165/BASE!$AN77,\"\")","v":""},"",{"$f":"IF(BASE!W77=\"\",\"\",Reporte!$N77)","v":""},"",{"$f":"IFERROR(CN77*BASE!$AN$165/BASE!$AN77,\"\")","v":""},"",{"$f":"IF(BASE!X77=\"\",\"\",Reporte!$N77)","v":""},"",{"$f":"IFERROR(CR77*BASE!$AN$165/BASE!$AN77,\"\")","v":""},"",{"$f":"IF(BASE!Y77=\"\",\"\",Reporte!$N77)","v":""},"",{"$f":"IFERROR(CV77*BASE!$AN$165/BASE!$AN77,\"\")","v":""},"",{"$f":"IF(BASE!Z77=\"\",\"\",Reporte!$N77)","v":""},"",{"$f":"IFERROR(CZ77*BASE!$AN$165/BASE!$AN77,\"\")","v":""},"",{"$f":"IF(BASE!AA77=\"\",\"\",Reporte!$N77)","v":""},"",{"$f":"IFERROR(DD77*BASE!$AN$165/BASE!$AN77,\"\")","v":""},"",{"$f":"IF(BASE!AB77=\"\",\"\",Reporte!$N77)","v":""},"",{"$f":"IFERROR(DH77*BASE!$AN$165/BASE!$AN77,\"\")","v":""},"",{"$f":"IF(BASE!AC77=\"\",\"\",Reporte!$N77)","v":""},"",{"$f":"IFERROR(DL77*BASE!$AN$165/BASE!$AN77,\"\")","v":""},"",{"$f":"IF(BASE!AD77=\"\",\"\",Reporte!$N77)","v":""},"",{"$f":"IFERROR(DP77*BASE!$AN$165/BASE!$AN77,\"\")","v":""},"",{"$f":"IF(BASE!AE77=\"\",\"\",Reporte!$N77)","v":""},"",{"$f":"IFERROR(DT77*BASE!$AN$165/BASE!$AN77,\"\")","v":""},"",{"$f":"IF(BASE!AF77=\"\",\"\",Reporte!$N77)","v":""},"",{"$f":"IFERROR(DX77*BASE!$AN$165/BASE!$AN77,\"\")","v":""},"",{"$f":"IF(BASE!AG77=\"\",\"\",Reporte!$N77)","v":""},"",{"$f":"IFERROR(EB77*BASE!$AN$165/BASE!$AN77,\"\")","v":""},"",{"$f":"IF(BASE!AH77=\"\",\"\",Reporte!$N77)","v":""},"",{"$f":"IFERROR(EF77*BASE!$AN$165/BASE!$AN77,\"\")","v":""},"",{"$f":"IF(BASE!AI77=\"\",\"\",Reporte!$N77)","v":""},"",{"$f":"IFERROR(EJ77*BASE!$AN$165/BASE!$AN77,\"\")","v":""},"",{"$f":"IF(BASE!AJ77=\"\",\"\",Reporte!$N77)","v":""},"",{"$f":"IFERROR(EN77*BASE!$AN$165/BASE!$AN77,\"\")","v":""},"",{"$f":"IF(BASE!AK77=\"\",\"\",Reporte!$N77)","v":""},"",{"$f":"IFERROR(ER77*BASE!$AN$165/BASE!$AN77,\"\")","v":""},"",{"$f":"IF(BASE!AL77=\"\",\"\",Reporte!$N77)","v":""},"",{"$f":"IFERROR(EV77*BASE!$AN$165/BASE!$AN77,\"\")","v":""},""]
[null,null,"Criterio Evaluación 2.2","",{"$f":"'Educacion Fisica'!E9","v":1},{"$f":"'Educacion Fisica'!F9","v":0.05},{"$f":"'Educacion Fisica'!G9","v":""},null,null,null,null,null,"Criterio Evaluación 2.2","",{"$f":"'Peso criterios carga horaria'!F78","v":2.5},{"$f":"O78*BASE!$AN$165/BASE!AN78","v":3.3178571428571431},5.7273768613974796E-3,"",{"$f":"IF(BASE!E78=\"\",\"\",Reporte!$N78)","v":""},"",{"$f":"IFERROR(T78*BASE!$AN$165/BASE!$AN78,\"\")","v":""},"",{"$f":"IF(BASE!F78=\"\",\"\",Reporte!$N78)","v":""},"",{"$f":"IFERROR(X78*BASE!$AN$165/BASE!$AN78,\"\")","v":""},"",{"$f":"IF(BASE!G78=\"\",\"\",Reporte!$N78)","v":""},"",{"$f":"IFERROR(AB78*BASE!$AN$165/BASE!$AN78,\"\")","v":""},"",{"$f":"IF(BASE!H78=\"\",\"\",Reporte!$N78)","v":""},"",{"$f":"IFERROR(AF78*BASE!$AN$165/BASE!$AN78,\"\")","v":""},"",{"$f":"IF(BASE!I78=\"\",\"\",Reporte!$N78)","v":""},"",{"$f":"IFERROR(AJ78*BASE!$AN$165/BASE!$AN78,\"\")","v":""},"",{"$f":"IF(BASE!J78=\"\",\"\",Reporte!$N78)","v":""},"",{"$f":"IFERROR(AN78*BASE!$AN$165/BASE!$AN78,\"\")","v":""},"",{"$f":"IF(BASE!K78=\"\",\"\",Reporte!$N78)","v":""},"",{"$f":"IFERROR(AR78*BASE!$AN$165/BASE!$AN78,\"\")","v":""},"",{"$f":"IF(BASE!L78=\"\",\"\",Reporte!$N78)","v":""},"",{"$f":"IFERROR(AV78*BASE!$AN$165/BASE!$AN78,\"\")","v":""},"",{"$f":"IF(BASE!M78=\"\",\"\",Reporte!$N78)","v":""},"",{"$f":"IFERROR(AZ78*BASE!$AN$165/BASE!$AN78,\"\")","v":""},"",{"$f":"IF(BASE!N78=\"\",\"\",Reporte!$N78)","v":""},"",{"$f":"IFERROR(BD78*BASE!$AN$165/BASE!$AN78,\"\")","v":""},"",{"$f":"IF(BASE!O78=\"\",\"\",Reporte!$N78)","v":""},"",{"$f":"IFERROR(BH78*BASE!$AN$165/BASE!$AN78,\"\")","v":""},"",{"$f":"IF(BASE!P78=\"\",\"\",Reporte!$N78)","v":""},"",{"$f":"IFERROR(BL78*BASE!$AN$165/BASE!$AN78,\"\")","v":""},"",{"$f":"IF(BASE!Q78=\"\",\"\",Reporte!$N78)","v":""},"",{"$f":"IFERROR(BP78*BASE!$AN$165/BASE!$AN78,\"\")","v":""},"",{"$f":"IF(BASE!R78=\"\",\"\",Reporte!$N78)","v":""},"",{"$f":"IFERROR(BT78*BASE!$AN$165/BASE!$AN78,\"\")","v":""},"",{"$f":"IF(BASE!S78=\"\",\"\",Reporte!$N78)","v":""},"",{"$f":"IFERROR(BX78*BASE!$AN$165/BASE!$AN78,\"\")","v":""},"",{"$f":"IF(BASE!T78=\"\",\"\",Reporte!$N78)","v":""},"",{"$f":"IFERROR(CB78*BASE!$AN$165/BASE!$AN78,\"\")","v":""},"",{"$f":"IF(BASE!U78=\"\",\"\",Reporte!$N78)","v":""},"",{"$f":"IFERROR(CF78*BASE!$AN$165/BASE!$AN78,\"\")","v":""},"",{"$f":"IF(BASE!V78=\"\",\"\",Reporte!$N78)","v":""},"",{"$f":"IFERROR(CJ78*BASE!$AN$165/BASE!$AN78,\"\")","v":""},"",{"$f":"IF(BASE!W78=\"\",\"\",Reporte!$N78)","v":""},"",{"$f":"IFERROR(CN78*BASE!$AN$165/BASE!$AN78,\"\")","v":""},"",{"$f":"IF(BASE!X78=\"\",\"\",Reporte!$N78)","v":""},"",{"$f":"IFERROR(CR78*BASE!$AN$165/BASE!$AN78,\"\")","v":""},"",{"$f":"IF(BASE!Y78=\"\",\"\",Reporte!$N78)","v":""},"",{"$f":"IFERROR(CV78*BASE!$AN$165/BASE!$AN78,\"\")","v":""},"",{"$f":"IF(BASE!Z78=\"\",\"\",Reporte!$N78)","v":""},"",{"$f":"IFERROR(CZ78*BASE!$AN$165/BASE!$AN78,\"\")","v":""},"",{"$f":"IF(BASE!AA78=\"\",\"\",Reporte!$N78)","v":""},"",{"$f":"IFERROR(DD78*BASE!$AN$165/BASE!$AN78,\"\")","v":""},"",{"$f":"IF(BASE!AB78=\"\",\"\",Reporte!$N78)","v":""},"",{"$f":"IFERROR(DH78*BASE!$AN$165/BASE!$AN78,\"\")","v":""},"",{"$f":"IF(BASE!AC78=\"\",\"\",Reporte!$N78)","v":""},"",{"$f":"IFERROR(DL78*BASE!$AN$165/BASE!$AN78,\"\")","v":""},"",{"$f":"IF(BASE!AD78=\"\",\"\",Reporte!$N78)","v":""},"",{"$f":"IFERROR(DP78*BASE!$AN$165/BASE!$AN78,\"\")","v":""},"",{"$f":"IF(BASE!AE78=\"\",\"\",Reporte!$N78)","v":""},"",{"$f":"IFERROR(DT78*BASE!$AN$165/BASE!$AN78,\"\")","v":""},"",{"$f":"IF(BASE!AF78=\"\",\"\",Reporte!$N78)","v":""},"",{"$f":"IFERROR(DX78*BASE!$AN$165/BASE!$AN78,\"\")","v":""},"",{"$f":"IF(BASE!AG78=\"\",\"\",Reporte!$N78)","v":""},"",{"$f":"IFERROR(EB78*BASE!$AN$165/BASE!$AN78,\"\")","v":""},"",{"$f":"IF(BASE!AH78=\"\",\"\",Reporte!$N78)","v":""},"",{"$f":"IFERROR(EF78*BASE!$AN$165/BASE!$AN78,\"\")","v":""},"",{"$f":"IF(BASE!AI78=\"\",\"\",Reporte!$N78)","v":""},"",{"$f":"IFERROR(EJ78*BASE!$AN$165/BASE!$AN78,\"\")","v":""},"",{"$f":"IF(BASE!AJ78=\"\",\"\",Reporte!$N78)","v":""},"",{"$f":"IFERROR(EN78*BASE!$AN$165/BASE!$AN78,\"\")","v":""},"",{"$f":"IF(BASE!AK78=\"\",\"\",Reporte!$N78)","v":""},"",{"$f":"IFERROR(ER78*BASE!$AN$165/BASE!$AN78,\"\")","v":""},"",{"$f":"IF(BASE!AL78=\"\",\"\",Reporte!$N78)","v":""},"",{"$f":"IFERROR(EV78*BASE!$AN$165/BASE!$AN78,\"\")","v":""},""]
[null,null,"Criterio Evaluación 2.3","",{"$f":"'Educacion Fisica'!E10","v":1},{"$f":"'Educacion Fisica'!F10","v":0.05},{"$f":"'Educacion Fisica'!G10","v":""},null,null,null,null,null,"Criterio Evaluación 2.3","",{"$f":"'Peso criterios carga horaria'!F79","v":2.5},{"$f":"O79*BASE!$AN$165/BASE!AN79","v":3.3178571428571431},5.7273768613974796E-3,"",{"$f":"IF(BASE!E79=\"\",\"\",Reporte!$N79)","v":""},"",{"$f":"IFERROR(T79*BASE!$AN$165/BASE!$AN79,\"\")","v":""},"",{"$f":"IF(BASE!F79=\"\",\"\",Reporte!$N79)","v":""},"",{"$f":"IFERROR(X79*BASE!$AN$165/BASE!$AN79,\"\")","v":""},"",{"$f":"IF(BASE!G79=\"\",\"\",Reporte!$N79)","v":""},"",{"$f":"IFERROR(AB79*BASE!$AN$165/BASE!$AN79,\"\")","v":""},"",{"$f":"IF(BASE!H79=\"\",\"\",Reporte!$N79)","v":""},"",{"$f":"IFERROR(AF79*BASE!$AN$165/BASE!$AN79,\"\")","v":""},"",{"$f":"IF(BASE!I79=\"\",\"\",Reporte!$N79)","v":""},"",{"$f":"IFERROR(AJ79*BASE!$AN$165/BASE!$AN79,\"\")","v":""},"",{"$f":"IF(BASE!J79=\"\",\"\",Reporte!$N79)","v":""},"",{"$f":"IFERROR(AN79*BASE!$AN$165/BASE!$AN79,\"\")","v":""},"",{"$f":"IF(BASE!K79=\"\",\"\",Reporte!$N79)","v":""},"",{"$f":"IFERROR(AR79*BASE!$AN$165/BASE!$AN79,\"\")","v":""},"",{"$f":"IF(BASE!L79=\"\",\"\",Reporte!$N79)","v":""},"",{"$f":"IFERROR(AV79*BASE!$AN$165/BASE!$AN79,\"\")","v":""},"",{"$f":"IF(BASE!M79=\"\",\"\",Reporte!$N79)","v":""},"",{"$f":"IFERROR(AZ79*BASE!$AN$165/BASE!$AN79,\"\")","v":""},"",{"$f":"IF(BASE!N79=\"\",\"\",Reporte!$N79)","v":""},"",{"$f":"IFERROR(BD79*BASE!$AN$165/BASE!$AN79,\"\")","v":""},"",{"$f":"IF(BASE!O79=\"\",\"\",Reporte!$N79)","v":""},"",{"$f":"IFERROR(BH79*BASE!$AN$165/BASE!$AN79,\"\")","v":""},"",{"$f":"IF(BASE!P79=\"\",\"\",Reporte!$N79)","v":""},"",{"$f":"IFERROR(BL79*BASE!$AN$165/BASE!$AN79,\"\")","v":""},"",{"$f":"IF(BASE!Q79=\"\",\"\",Reporte!$N79)","v":""},"",{"$f":"IFERROR(BP79*BASE!$AN$165/BASE!$AN79,\"\")","v":""},"",{"$f":"IF(BASE!R79=\"\",\"\",Reporte!$N79)","v":""},"",{"$f":"IFERROR(BT79*BASE!$AN$165/BASE!$AN79,\"\")","v":""},"",{"$f":"IF(BASE!S79=\"\",\"\",Reporte!$N79)","v":""},"",{"$f":"IFERROR(BX79*BASE!$AN$165/BASE!$AN79,\"\")","v":""},"",{"$f":"IF(BASE!T79=\"\",\"\",Reporte!$N79)","v":""},"",{"$f":"IFERROR(CB79*BASE!$AN$165/BASE!$AN79,\"\")","v":""},"",{"$f":"IF(BASE!U79=\"\",\"\",Reporte!$N79)","v":""},"",{"$f":"IFERROR(CF79*BASE!$AN$165/BASE!$AN79,\"\")","v":""},"",{"$f":"IF(BASE!V79=\"\",\"\",Reporte!$N79)","v":""},"",{"$f":"IFERROR(CJ79*BASE!$AN$165/BASE!$AN79,\"\")","v":""},"",{"$f":"IF(BASE!W79=\"\",\"\",Reporte!$N79)","v":""},"",{"$f":"IFERROR(CN79*BASE!$AN$165/BASE!$AN79,\"\")","v":""},"",{"$f":"IF(BASE!X79=\"\",\"\",Reporte!$N79)","v":""},"",{"$f":"IFERROR(CR79*BASE!$AN$165/BASE!$AN79,\"\")","v":""},"",{"$f":"IF(BASE!Y79=\"\",\"\",Reporte!$N79)","v":""},"",{"$f":"IFERROR(CV79*BASE!$AN$165/BASE!$AN79,\"\")","v":""},"",{"$f":"IF(BASE!Z79=\"\",\"\",Reporte!$N79)","v":""},"",{"$f":"IFERROR(CZ79*BASE!$AN$165/BASE!$AN79,\"\")","v":""},"",{"$f":"IF(BASE!AA79=\"\",\"\",Reporte!$N79)","v":""},"",{"$f":"IFERROR(DD79*BASE!$AN$165/BASE!$AN79,\"\")","v":""},"",{"$f":"IF(BASE!AB79=\"\",\"\",Reporte!$N79)","v":""},"",{"$f":"IFERROR(DH79*BASE!$AN$165/BASE!$AN79,\"\")","v":""},"",{"$f":"IF(BASE!AC79=\"\",\"\",Reporte!$N79)","v":""},"",{"$f":"IFERROR(DL79*BASE!$AN$165/BASE!$AN79,\"\")","v":""},"",{"$f":"IF(BASE!AD79=\"\",\"\",Reporte!$N79)","v":""},"",{"$f":"IFERROR(DP79*BASE!$AN$165/BASE!$AN79,\"\")","v":""},"",{"$f":"IF(BASE!AE79=\"\",\"\",Reporte!$N79)","v":""},"",{"$f":"IFERROR(DT79*BASE!$AN$165/BASE!$AN79,\"\")","v":""},"",{"$f":"IF(BASE!AF79=\"\",\"\",Reporte!$N79)","v":""},"",{"$f":"IFERROR(DX79*BASE!$AN$165/BASE!$AN79,\"\")","v":""},"",{"$f":"IF(BASE!AG79=\"\",\"\",Reporte!$N79)","v":""},"",{"$f":"IFERROR(EB79*BASE!$AN$165/BASE!$AN79,\"\")","v":""},"",{"$f":"IF(BASE!AH79=\"\",\"\",Reporte!$N79)","v":""},"",{"$f":"IFERROR(EF79*BASE!$AN$165/BASE!$AN79,\"\")","v":""},"",{"$f":"IF(BASE!AI79=\"\",\"\",Reporte!$N79)","v":""},"",{"$f":"IFERROR(EJ79*BASE!$AN$165/BASE!$AN79,\"\")","v":""},"",{"$f":"IF(BASE!AJ79=\"\",\"\",Reporte!$N79)","v":""},"",{"$f":"IFERROR(EN79*BASE!$AN$165/BASE!$AN79,\"\")","v":""},"",{"$f":"IF(BASE!AK79=\"\",\"\",Reporte!$N79)","v":""},"",{"$f":"IFERROR(ER79*BASE!$AN$165/BASE!$AN79,\"\")","v":""},"",{"$f":"IF(BASE!AL79=\"\",\"\",Reporte!$N79)","v":""},"",{"$f":"IFERROR(EV79*BASE!$AN$165/BASE!$AN79,\"\")","v":""},""]
[null,"Comp. Esp. 3","Criterio Evaluación 3.1","",{"$f":"'Educacion Fisica'!E11","v":1},{"$f":"'Educacion Fisica'!F11","v":0.05},{"$f":"'Educacion Fisica'!G11","v":""},null,null,null,null,"Comp. Esp. 3","Criterio Evaluación 3.1","",{"$f":"'Peso criterios carga horaria'!F80","v":2.5},{"$f":"O80*BASE!$AN$165/BASE!AN80","v":3.3178571428571431},5.7273768613974796E-3,"",{"$f":"IF(BASE!E80=\"\",\"\",Reporte!$N80)","v":""},"",{"$f":"IFERROR(T80*BASE!$AN$165/BASE!$AN80,\"\")","v":""},"",{"$f":"IF(BASE!F80=\"\",\"\",Reporte!$N80)","v":""},"",{"$f":"IFERROR(X80*BASE!$AN$165/BASE!$AN80,\"\")","v":""},"",{"$f":"IF(BASE!G80=\"\",\"\",Reporte!$N80)","v":""},"",{"$f":"IFERROR(AB80*BASE!$AN$165/BASE!$AN80,\"\")","v":""},"",{"$f":"IF(BASE!H80=\"\",\"\",Reporte!$N80)","v":""},"",{"$f":"IFERROR(AF80*BASE!$AN$165/BASE!$AN80,\"\")","v":""},"",{"$f":"IF(BASE!I80=\"\",\"\",Reporte!$N80)","v":""},"",{"$f":"IFERROR(AJ80*BASE!$AN$165/BASE!$AN80,\"\")","v":""},"",{"$f":"IF(BASE!J80=\"\",\"\",Reporte!$N80)","v":""},"",{"$f":"IFERROR(AN80*BASE!$AN$165/BASE!$AN80,\"\")","v":""},"",{"$f":"IF(BASE!K80=\"\",\"\",Reporte!$N80)","v":""},"",{"$f":"IFERROR(AR80*BASE!$AN$165/BASE!$AN80,\"\")","v":""},"",{"$f":"IF(BASE!L80=\"\",\"\",Reporte!$N80)","v":""},"",{"$f":"IFERROR(AV80*BASE!$AN$165/BASE!$AN80,\"\")","v":""},"",{"$f":"IF(BASE!M80=\"\",\"\",Reporte!$N80)","v":""},"",{"$f":"IFERROR(AZ80*BASE!$AN$165/BASE!$AN80,\"\")","v":""},"",{"$f":"IF(BASE!N80=\"\",\"\",Reporte!$N80)","v":""},"",{"$f":"IFERROR(BD80*BASE!$AN$165/BASE!$AN80,\"\")","v":""},"",{"$f":"IF(BASE!O80=\"\",\"\",Reporte!$N80)","v":""},"",{"$f":"IFERROR(BH80*BASE!$AN$165/BASE!$AN80,\"\")","v":""},"",{"$f":"IF(BASE!P80=\"\",\"\",Reporte!$N80)","v":""},"",{"$f":"IFERROR(BL80*BASE!$AN$165/BASE!$AN80,\"\")","v":""},"",{"$f":"IF(BASE!Q80=\"\",\"\",Reporte!$N80)","v":""},"",{"$f":"IFERROR(BP80*BASE!$AN$165/BASE!$AN80,\"\")","v":""},"",{"$f":"IF(BASE!R80=\"\",\"\",Reporte!$N80)","v":""},"",{"$f":"IFERROR(BT80*BASE!$AN$165/BASE!$AN80,\"\")","v":""},"",{"$f":"IF(BASE!S80=\"\",\"\",Reporte!$N80)","v":""},"",{"$f":"IFERROR(BX80*BASE!$AN$165/BASE!$AN80,\"\")","v":""},"",{"$f":"IF(BASE!T80=\"\",\"\",Reporte!$N80)","v":""},"",{"$f":"IFERROR(CB80*BASE!$AN$165/BASE!$AN80,\"\")","v":""},"",{"$f":"IF(BASE!U80=\"\",\"\",Reporte!$N80)","v":""},"",{"$f":"IFERROR(CF80*BASE!$AN$165/BASE!$AN80,\"\")","v":""},"",{"$f":"IF(BASE!V80=\"\",\"\",Reporte!$N80)","v":""},"",{"$f":"IFERROR(CJ80*BASE!$AN$165/BASE!$AN80,\"\")","v":""},"",{"$f":"IF(BASE!W80=\"\",\"\",Reporte!$N80)","v":""},"",{"$f":"IFERROR(CN80*BASE!$AN$165/BASE!$AN80,\"\")","v":""},"",{"$f":"IF(BASE!X80=\"\",\"\",Reporte!$N80)","v":""},"",{"$f":"IFERROR(CR80*BASE!$AN$165/BASE!$AN80,\"\")","v":""},"",{"$f":"IF(BASE!Y80=\"\",\"\",Reporte!$N80)","v":""},"",{"$f":"IFERROR(CV80*BASE!$AN$165/BASE!$AN80,\"\")","v":""},"",{"$f":"IF(BASE!Z80=\"\",\"\",Reporte!$N80)","v":""},"",{"$f":"IFERROR(CZ80*BASE!$AN$165/BASE!$AN80,\"\")","v":""},"",{"$f":"IF(BASE!AA80=\"\",\"\",Reporte!$N80)","v":""},"",{"$f":"IFERROR(DD80*BASE!$AN$165/BASE!$AN80,\"\")","v":""},"",{"$f":"IF(BASE!AB80=\"\",\"\",Reporte!$N80)","v":""},"",{"$f":"IFERROR(DH80*BASE!$AN$165/BASE!$AN80,\"\")","v":""},"",{"$f":"IF(BASE!AC80=\"\",\"\",Reporte!$N80)","v":""},"",{"$f":"IFERROR(DL80*BASE!$AN$165/BASE!$AN80,\"\")","v":""},"",{"$f":"IF(BASE!AD80=\"\",\"\",Reporte!$N80)","v":""},"",{"$f":"IFERROR(DP80*BASE!$AN$165/BASE!$AN80,\"\")","v":""},"",{"$f":"IF(BASE!AE80=\"\",\"\",Reporte!$N80)","v":""},"",{"$f":"IFERROR(DT80*BASE!$AN$165/BASE!$AN80,\"\")","v":""},"",{"$f":"IF(BASE!AF80=\"\",\"\",Reporte!$N80)","v":""},"",{"$f":"IFERROR(DX80*BASE!$AN$165/BASE!$AN80,\"\")","v":""},"",{"$f":"IF(BASE!AG80=\"\",\"\",Reporte!$N80)","v":""},"",{"$f":"IFERROR(EB80*BASE!$AN$165/BASE!$AN80,\"\")","v":""},"",{"$f":"IF(BASE!AH80=\"\",\"\",Reporte!$N80)","v":""},"",{"$f":"IFERROR(EF80*BASE!$AN$165/BASE!$AN80,\"\")","v":""},"",{"$f":"IF(BASE!AI80=\"\",\"\",Reporte!$N80)","v":""},"",{"$f":"IFERROR(EJ80*BASE!$AN$165/BASE!$AN80,\"\")","v":""},"",{"$f":"IF(BASE!AJ80=\"\",\"\",Reporte!$N80)","v":""},"",{"$f":"IFERROR(EN80*BASE!$AN$165/BASE!$AN80,\"\")","v":""},"",{"$f":"IF(BASE!AK80=\"\",\"\",Reporte!$N80)","v":""},"",{"$f":"IFERROR(ER80*BASE!$AN$165/BASE!$AN80,\"\")","v":""},"",{"$f":"IF(BASE!AL80=\"\",\"\",Reporte!$N80)","v":""},"",{"$f":"IFERROR(EV80*BASE!$AN$165/BASE!$AN80,\"\")","v":""},""]
[null,null,"Criterio Evaluación 3.2","",{"$f":"'Educacion Fisica'!E12","v":1},{"$f":"'Educacion Fisica'!F12","v":0.05},{"$f":"'Educacion Fisica'!G12","v":""},null,null,null,null,null,"Criterio Evaluación 3.2","",{"$f":"'Peso criterios carga horaria'!F81","v":2.5},{"$f":"O81*BASE!$AN$165/BASE!AN81","v":3.3178571428571431},5.7273768613974796E-3,"",{"$f":"IF(BASE!E81=\"\",\"\",Reporte!$N81)","v":""},"",{"$f":"IFERROR(T81*BASE!$AN$165/BASE!$AN81,\"\")","v":""},"",{"$f":"IF(BASE!F81=\"\",\"\",Reporte!$N81)","v":""},"",{"$f":"IFERROR(X81*BASE!$AN$165/BASE!$AN81,\"\")","v":""},"",{"$f":"IF(BASE!G81=\"\",\"\",Reporte!$N81)","v":""},"",{"$f":"IFERROR(AB81*BASE!$AN$165/BASE!$AN81,\"\")","v":""},"",{"$f":"IF(BASE!H81=\"\",\"\",Reporte!$N81)","v":""},"",{"$f":"IFERROR(AF81*BASE!$AN$165/BASE!$AN81,\"\")","v":""},"",{"$f":"IF(BASE!I81=\"\",\"\",Reporte!$N81)","v":""},"",{"$f":"IFERROR(AJ81*BASE!$AN$165/BASE!$AN81,\"\")","v":""},"",{"$f":"IF(BASE!J81=\"\",\"\",Reporte!$N81)","v":""},"",{"$f":"IFERROR(AN81*BASE!$AN$165/BASE!$AN81,\"\")","v":""},"",{"$f":"IF(BASE!K81=\"\",\"\",Reporte!$N81)","v":""},"",{"$f":"IFERROR(AR81*BASE!$AN$165/BASE!$AN81,\"\")","v":""},"",{"$f":"IF(BASE!L81=\"\",\"\",Reporte!$N81)","v":""},"",{"$f":"IFERROR(AV81*BASE!$AN$165/BASE!$AN81,\"\")","v":""},"",{"$f":"IF(BASE!M81=\"\",\"\",Reporte!$N81)","v":""},"",{"$f":"IFERROR(AZ81*BASE!$AN$165/BASE!$AN81,\"\")","v":""},"",{"$f":"IF(BASE!N81=\"\",\"\",Reporte!$N81)","v":""},"",{"$f":"IFERROR(BD81*BASE!$AN$165/BASE!$AN81,\"\")","v":""},"",{"$f":"IF(BASE!O81=\"\",\"\",Reporte!$N81)","v":""},"",{"$f":"IFERROR(BH81*BASE!$AN$165/BASE!$AN81,\"\")","v":""},"",{"$f":"IF(BASE!P81=\"\",\"\",Reporte!$N81)","v":""},"",{"$f":"IFERROR(BL81*BASE!$AN$165/BASE!$AN81,\"\")","v":""},"",{"$f":"IF(BASE!Q81=\"\",\"\",Reporte!$N81)","v":""},"",{"$f":"IFERROR(BP81*BASE!$AN$165/BASE!$AN81,\"\")","v":""},"",{"$f":"IF(BASE!R81=\"\",\"\",Reporte!$N81)","v":""},"",{"$f":"IFERROR(BT81*BASE!$AN$165/BASE!$AN81,\"\")","v":""},"",{"$f":"IF(BASE!S81=\"\",\"\",Reporte!$N81)","v":""},"",{"$f":"IFERROR(BX81*BASE!$AN$165/BASE!$AN81,\"\")","v":""},"",{"$f":"IF(BASE!T81=\"\",\"\",Reporte!$N81)","v":""},"",{"$f":"IFERROR(CB81*BASE!$AN$165/BASE!$AN81,\"\")","v":""},"",{"$f":"IF(BASE!U81=\"\",\"\",Reporte!$N81)","v":""},"",{"$f":"IFERROR(CF81*BASE!$AN$165/BASE!$AN81,\"\")","v":""},"",{"$f":"IF(BASE!V81=\"\",\"\",Reporte!$N81)","v":""},"",{"$f":"IFERROR(CJ81*BASE!$AN$165/BASE!$AN81,\"\")","v":""},"",{"$f":"IF(BASE!W81=\"\",\"\",Reporte!$N81)","v":""},"",{"$f":"IFERROR(CN81*BASE!$AN$165/BASE!$AN81,\"\")","v":""},"",{"$f":"IF(BASE!X81=\"\",\"\",Reporte!$N81)","v":""},"",{"$f":"IFERROR(CR81*BASE!$AN$165/BASE!$AN81,\"\")","v":""},"",{"$f":"IF(BASE!Y81=\"\",\"\",Reporte!$N81)","v":""},"",{"$f":"IFERROR(CV81*BASE!$AN$165/BASE!$AN81,\"\")","v":""},"",{"$f":"IF(BASE!Z81=\"\",\"\",Reporte!$N81)","v":""},"",{"$f":"IFERROR(CZ81*BASE!$AN$165/BASE!$AN81,\"\")","v":""},"",{"$f":"IF(BASE!AA81=\"\",\"\",Reporte!$N81)","v":""},"",{"$f":"IFERROR(DD81*BASE!$AN$165/BASE!$AN81,\"\")","v":""},"",{"$f":"IF(BASE!AB81=\"\",\"\",Reporte!$N81)","v":""},"",{"$f":"IFERROR(DH81*BASE!$AN$165/BASE!$AN81,\"\")","v":""},"",{"$f":"IF(BASE!AC81=\"\",\"\",Reporte!$N81)","v":""},"",{"$f":"IFERROR(DL81*BASE!$AN$165/BASE!$AN81,\"\")","v":""},"",{"$f":"IF(BASE!AD81=\"\",\"\",Reporte!$N81)","v":""},"",{"$f":"IFERROR(DP81*BASE!$AN$165/BASE!$AN81,\"\")","v":""},"",{"$f":"IF(BASE!AE81=\"\",\"\",Reporte!$N81)","v":""},"",{"$f":"IFERROR(DT81*BASE!$AN$165/BASE!$AN81,\"\")","v":""},"",{"$f":"IF(BASE!AF81=\"\",\"\",Reporte!$N81)","v":""},"",{"$f":"IFERROR(DX81*BASE!$AN$165/BASE!$AN81,\"\")","v":""},"",{"$f":"IF(BASE!AG81=\"\",\"\",Reporte!$N81)","v":""},"",{"$f":"IFERROR(EB81*BASE!$AN$165/BASE!$AN81,\"\")","v":""},"",{"$f":"IF(BASE!AH81=\"\",\"\",Reporte!$N81)","v":""},"",{"$f":"IFERROR(EF81*BASE!$AN$165/BASE!$AN81,\"\")","v":""},"",{"$f":"IF(BASE!AI81=\"\",\"\",Reporte!$N81)","v":""},"",{"$f":"IFERROR(EJ81*BASE!$AN$165/BASE!$AN81,\"\")","v":""},"",{"$f":"IF(BASE!AJ81=\"\",\"\",Reporte!$N81)","v":""},"",{"$f":"IFERROR(EN81*BASE!$AN$165/BASE!$AN81,\"\")","v":""},"",{"$f":"IF(BASE!AK81=\"\",\"\",Reporte!$N81)","v":""},"",{"$f":"IFERROR(ER81*BASE!$AN$165/BASE!$AN81,\"\")","v":""},"",{"$f":"IF(BASE!AL81=\"\",\"\",Reporte!$N81)","v":""},"",{"$f":"IFERROR(EV81*BASE!$AN$165/BASE!$AN81,\"\")","v":""},""]
[null,null,"Criterio Evaluación 3.3","",{"$f":"'Educacion Fisica'!E13","v":1},{"$f":"'Educacion Fisica'!F13","v":0.05},{"$f":"'Educacion Fisica'!G13","v":""},null,null,null,null,null,"Criterio Evaluación 3.3","",{"$f":"'Peso criterios carga horaria'!F82","v":2.5},{"$f":"O82*BASE!$AN$165/BASE!AN82","v":3.3178571428571431},5.7273768613974796E-3,"",{"$f":"IF(BASE!E82=\"\",\"\",Reporte!$N82)","v":""},"",{"$f":"IFERROR(T82*BASE!$AN$165/BASE!$AN82,\"\")","v":""},"",{"$f":"IF(BASE!F82=\"\",\"\",Reporte!$N82)","v":""},"",{"$f":"IFERROR(X82*BASE!$AN$165/BASE!$AN82,\"\")","v":""},"",{"$f":"IF(BASE!G82=\"\",\"\",Reporte!$N82)","v":""},"",{"$f":"IFERROR(AB82*BASE!$AN$165/BASE!$AN82,\"\")","v":""},"",{"$f":"IF(BASE!H82=\"\",\"\",Reporte!$N82)","v":""},"",{"$f":"IFERROR(AF82*BASE!$AN$165/BASE!$AN82,\"\")","v":""},"",{"$f":"IF(BASE!I82=\"\",\"\",Reporte!$N82)","v":""},"",{"$f":"IFERROR(AJ82*BASE!$AN$165/BASE!$AN82,\"\")","v":""},"",{"$f":"IF(BASE!J82=\"\",\"\",Reporte!$N82)","v":""},"",{"$f":"IFERROR(AN82*BASE!$AN$165/BASE!$AN82,\"\")","v":""},"",{"$f":"IF(BASE!K82=\"\",\"\",Reporte!$N82)","v":""},"",{"$f":"IFERROR(AR82*BASE!$AN$165/BASE!$AN82,\"\")","v":""},"",{"$f":"IF(BASE!L82=\"\",\"\",Reporte!$N82)","v":""},"",{"$f":"IFERROR(AV82*BASE!$AN$165/BASE!$AN82,\"\")","v":""},"",{"$f":"IF(BASE!M82=\"\",\"\",Reporte!$N82)","v":""},"",{"$f":"IFERROR(AZ82*BASE!$AN$165/BASE!$AN82,\"\")","v":""},"",{"$f":"IF(BASE!N82=\"\",\"\",Reporte!$N82)","v":""},"",{"$f":"IFERROR(BD82*BASE!$AN$165/BASE!$AN82,\"\")","v":""},"",{"$f":"IF(BASE!O82=\"\",\"\",Reporte!$N82)","v":""},"",{"$f":"IFERROR(BH82*BASE!$AN$165/BASE!$AN82,\"\")","v":""},"",{"$f":"IF(BASE!P82=\"\",\"\",Reporte!$N82)","v":""},"",{"$f":"IFERROR(BL82*BASE!$AN$165/BASE!$AN82,\"\")","v":""},"",{"$f":"IF(BASE!Q82=\"\",\"\",Reporte!$N82)","v":""},"",{"$f":"IFERROR(BP82*BASE!$AN$165/BASE!$AN82,\"\")","v":""},"",{"$f":"IF(BASE!R82=\"\",\"\",Reporte!$N82)","v":""},"",{"$f":"IFERROR(BT82*BASE!$AN$165/BASE!$AN82,\"\")","v":""},"",{"$f":"IF(BASE!S82=\"\",\"\",Reporte!$N82)","v":""},"",{"$f":"IFERROR(BX82*BASE!$AN$165/BASE!$AN82,\"\")","v":""},"",{"$f":"IF(BASE!T82=\"\",\"\",Reporte!$N82)","v":""},"",{"$f":"IFERROR(CB82*BASE!$AN$165/BASE!$AN82,\"\")","v":""},"",{"$f":"IF(BASE!U82=\"\",\"\",Reporte!$N82)","v":""},"",{"$f":"IFERROR(CF82*BASE!$AN$165/BASE!$AN82,\"\")","v":""},"",{"$f":"IF(BASE!V82=\"\",\"\",Reporte!$N82)","v":""},"",{"$f":"IFERROR(CJ82*BASE!$AN$165/BASE!$AN82,\"\")","v":""},"",{"$f":"IF(BASE!W82=\"\",\"\",Reporte!$N82)","v":""},"",{"$f":"IFERROR(CN82*BASE!$AN$165/BASE!$AN82,\"\")","v":""},"",{"$f":"IF(BASE!X82=\"\",\"\",Reporte!$N82)","v":""},"",{"$f":"IFERROR(CR82*BASE!$AN$165/BASE!$AN82,\"\")","v":""},"",{"$f":"IF(BASE!Y82=\"\",\"\",Reporte!$N82)","v":""},"",{"$f":"IFERROR(CV82*BASE!$AN$165/BASE!$AN82,\"\")","v":""},"",{"$f":"IF(BASE!Z82=\"\",\"\",Reporte!$N82)","v":""},"",{"$f":"IFERROR(CZ82*BASE!$AN$165/BASE!$AN82,\"\")","v":""},"",{"$f":"IF(BASE!AA82=\"\",\"\",Reporte!$N82)","v":""},"",{"$f":"IFERROR(DD82*BASE!$AN$165/BASE!$AN82,\"\")","v":""},"",{"$f":"IF(BASE!AB82=\"\",\"\",Reporte!$N82)","v":""},"",{"$f":"IFERROR(DH82*BASE!$AN$165/BASE!$AN82,\"\")","v":""},"",{"$f":"IF(BASE!AC82=\"\",\"\",Reporte!$N82)","v":""},"",{"$f":"IFERROR(DL82*BASE!$AN$165/BASE!$AN82,\"\")","v":""},"",{"$f":"IF(BASE!AD82=\"\",\"\",Reporte!$N82)","v":""},"",{"$f":"IFERROR(DP82*BASE!$AN$165/BASE!$AN82,\"\")","v":""},"",{"$f":"IF(BASE!AE82=\"\",\"\",Reporte!$N82)","v":""},"",{"$f":"IFERROR(DT82*BASE!$AN$165/BASE!$AN82,\"\")","v":""},"",{"$f":"IF(BASE!AF82=\"\",\"\",Reporte!$N82)","v":""},"",{"$f":"IFERROR(DX82*BASE!$AN$165/BASE!$AN82,\"\")","v":""},"",{"$f":"IF(BASE!AG82=\"\",\"\",Reporte!$N82)","v":""},"",{"$f":"IFERROR(EB82*BASE!$AN$165/BASE!$AN82,\"\")","v":""},"",{"$f":"IF(BASE!AH82=\"\",\"\",Reporte!$N82)","v":""},"",{"$f":"IFERROR(EF82*BASE!$AN$165/BASE!$AN82,\"\")","v":""},"",{"$f":"IF(BASE!AI82=\"\",\"\",Reporte!$N82)","v":""},"",{"$f":"IFERROR(EJ82*BASE!$AN$165/BASE!$AN82,\"\")","v":""},"",{"$f":"IF(BASE!AJ82=\"\",\"\",Reporte!$N82)","v":""},"",{"$f":"IFERROR(EN82*BASE!$AN$165/BASE!$AN82,\"\")","v":""},"",{"$f":"IF(BASE!AK82=\"\",\"\",Reporte!$N82)","v":""},"",{"$f":"IFERROR(ER82*BASE!$AN$165/BASE!$AN82,\"\")","v":""},"",{"$f":"IF(BASE!AL82=\"\",\"\",Reporte!$N82)","v":""},"",{"$f":"IFERROR(EV82*BASE!$AN$165/BASE!$AN82,\"\")","v":""},""]
[null,"Comp. Esp. 4","Criterio Evaluación 4.1","",{"$f":"'Educacion Fisica'!E14","v":1},{"$f":"'Educacion Fisica'!F14","v":0.05},{"$f":"'Educacion Fisica'!G14","v":""},null,null,null,null,"Comp. Esp. 4","Criterio Evaluación 4.1","",{"$f":"'Peso criterios carga horaria'!F83","v":2.5},{"$f":"O83*BASE!$AN$165/BASE!AN83","v":3.3178571428571431},5.7273768613974796E-3,"",{"$f":"IF(BASE!E83=\"\",\"\",Reporte!$N83)","v":""},"",{"$f":"IFERROR(T83*BASE!$AN$165/BASE!$AN83,\"\")","v":""},"",{"$f":"IF(BASE!F83=\"\",\"\",Reporte!$N83)","v":""},"",{"$f":"IFERROR(X83*BASE!$AN$165/BASE!$AN83,\"\")","v":""},"",{"$f":"IF(BASE!G83=\"\",\"\",Reporte!$N83)","v":""},"",{"$f":"IFERROR(AB83*BASE!$AN$165/BASE!$AN83,\"\")","v":""},"",{"$f":"IF(BASE!H83=\"\",\"\",Reporte!$N83)","v":""},"",{"$f":"IFERROR(AF83*BASE!$AN$165/BASE!$AN83,\"\")","v":""},"",{"$f":"IF(BASE!I83=\"\",\"\",Reporte!$N83)","v":""},"",{"$f":"IFERROR(AJ83*BASE!$AN$165/BASE!$AN83,\"\")","v":""},"",{"$f":"IF(BASE!J83=\"\",\"\",Reporte!$N83)","v":""},"",{"$f":"IFERROR(AN83*BASE!$AN$165/BASE!$AN83,\"\")","v":""},"",{"$f":"IF(BASE!K83=\"\",\"\",Reporte!$N83)","v":""},"",{"$f":"IFERROR(AR83*BASE!$AN$165/BASE!$AN83,\"\")","v":""},"",{"$f":"IF(BASE!L83=\"\",\"\",Reporte!$N83)","v":""},"",{"$f":"IFERROR(AV83*BASE!$AN$165/BASE!$AN83,\"\")","v":""},"",{"$f":"IF(BASE!M83=\"\",\"\",Reporte!$N83)","v":""},"",{"$f":"IFERROR(AZ83*BASE!$AN$165/BASE!$AN83,\"\")","v":""},"",{"$f":"IF(BASE!N83=\"\",\"\",Reporte!$N83)","v":""},"",{"$f":"IFERROR(BD83*BASE!$AN$165/BASE!$AN83,\"\")","v":""},"",{"$f":"IF(BASE!O83=\"\",\"\",Reporte!$N83)","v":""},"",{"$f":"IFERROR(BH83*BASE!$AN$165/BASE!$AN83,\"\")","v":""},"",{"$f":"IF(BASE!P83=\"\",\"\",Reporte!$N83)","v":""},"",{"$f":"IFERROR(BL83*BASE!$AN$165/BASE!$AN83,\"\")","v":""},"",{"$f":"IF(BASE!Q83=\"\",\"\",Reporte!$N83)","v":""},"",{"$f":"IFERROR(BP83*BASE!$AN$165/BASE!$AN83,\"\")","v":""},"",{"$f":"IF(BASE!R83=\"\",\"\",Reporte!$N83)","v":""},"",{"$f":"IFERROR(BT83*BASE!$AN$165/BASE!$AN83,\"\")","v":""},"",{"$f":"IF(BASE!S83=\"\",\"\",Reporte!$N83)","v":""},"",{"$f":"IFERROR(BX83*BASE!$AN$165/BASE!$AN83,\"\")","v":""},"",{"$f":"IF(BASE!T83=\"\",\"\",Reporte!$N83)","v":""},"",{"$f":"IFERROR(CB83*BASE!$AN$165/BASE!$AN83,\"\")","v":""},"",{"$f":"IF(BASE!U83=\"\",\"\",Reporte!$N83)","v":""},"",{"$f":"IFERROR(CF83*BASE!$AN$165/BASE!$AN83,\"\")","v":""},"",{"$f":"IF(BASE!V83=\"\",\"\",Reporte!$N83)","v":""},"",{"$f":"IFERROR(CJ83*BASE!$AN$165/BASE!$AN83,\"\")","v":""},"",{"$f":"IF(BASE!W83=\"\",\"\",Reporte!$N83)","v":""},"",{"$f":"IFERROR(CN83*BASE!$AN$165/BASE!$AN83,\"\")","v":""},"",{"$f":"IF(BASE!X83=\"\",\"\",Reporte!$N83)","v":""},"",{"$f":"IFERROR(CR83*BASE!$AN$165/BASE!$AN83,\"\")","v":""},"",{"$f":"IF(BASE!Y83=\"\",\"\",Reporte!$N83)","v":""},"",{"$f":"IFERROR(CV83*BASE!$AN$165/BASE!$AN83,\"\")","v":""},"",{"$f":"IF(BASE!Z83=\"\",\"\",Reporte!$N83)","v":""},"",{"$f":"IFERROR(CZ83*BASE!$AN$165/BASE!$AN83,\"\")","v":""},"",{"$f":"IF(BASE!AA83=\"\",\"\",Reporte!$N83)","v":""},"",{"$f":"IFERROR(DD83*BASE!$AN$165/BASE!$AN83,\"\")","v":""},"",{"$f":"IF(BASE!AB83=\"\",\"\",Reporte!$N83)","v":""},"",{"$f":"IFERROR(DH83*BASE!$AN$165/BASE!$AN83,\"\")","v":""},"",{"$f":"IF(BASE!AC83=\"\",\"\",Reporte!$N83)","v":""},"",{"$f":"IFERROR(DL83*BASE!$AN$165/BASE!$AN83,\"\")","v":""},"",{"$f":"IF(BASE!AD83=\"\",\"\",Reporte!$N83)","v":""},"",{"$f":"IFERROR(DP83*BASE!$AN$165/BASE!$AN83,\"\")","v":""},"",{"$f":"IF(BASE!AE83=\"\",\"\",Reporte!$N83)","v":""},"",{"$f":"IFERROR(DT83*BASE!$AN$165/BASE!$AN83,\"\")","v":""},"",{"$f":"IF(BASE!AF83=\"\",\"\",Reporte!$N83)","v":""},"",{"$f":"IFERROR(DX83*BASE!$AN$165/BASE!$AN83,\"\")","v":""},"",{"$f":"IF(BASE!AG83=\"\",\"\",Reporte!$N83)","v":""},"",{"$f":"IFERROR(EB83*BASE!$AN$165/BASE!$AN83,\"\")","v":""},"",{"$f":"IF(BASE!AH83=\"\",\"\",Reporte!$N83)","v":""},"",{"$f":"IFERROR(EF83*BASE!$AN$165/BASE!$AN83,\"\")","v":""},"",{"$f":"IF(BASE!AI83=\"\",\"\",Reporte!$N83)","v":""},"",{"$f":"IFERROR(EJ83*BASE!$AN$165/BASE!$AN83,\"\")","v":""},"",{"$f":"IF(BASE!AJ83=\"\",\"\",Reporte!$N83)","v":""},"",{"$f":"IFERROR(EN83*BASE!$AN$165/BASE!$AN83,\"\")","v":""},"",{"$f":"IF(BASE!AK83=\"\",\"\",Reporte!$N83)","v":""},"",{"$f":"IFERROR(ER83*BASE!$AN$165/BASE!$AN83,\"\")","v":""},"",{"$f":"IF(BASE!AL83=\"\",\"\",Reporte!$N83)","v":""},"",{"$f":"IFERROR(EV83*BASE!$AN$165/BASE!$AN83,\"\")","v":""},""]
[null,null,"Criterio Evaluación 4.2","",{"$f":"'Educacion Fisica'!E15","v":1},{"$f":"'Educacion Fisica'!F15","v":0.05},{"$f":"'Educacion Fisica'!G15","v":""},null,null,null,null,null,"Criterio Evaluación 4.2","",{"$f":"'Peso criterios carga horaria'!F84","v":2.5},{"$f":"O84*BASE!$AN$165/BASE!AN84","v":3.3178571428571431},5.7273768613974796E-3,"",{"$f":"IF(BASE!E84=\"\",\"\",Reporte!$N84)","v":""},"",{"$f":"IFERROR(T84*BASE!$AN$165/BASE!$AN84,\"\")","v":""},"",{"$f":"IF(BASE!F84=\"\",\"\",Reporte!$N84)","v":""},"",{"$f":"IFERROR(X84*BASE!$AN$165/BASE!$AN84,\"\")","v":""},"",{"$f":"IF(BASE!G84=\"\",\"\",Reporte!$N84)","v":""},"",{"$f":"IFERROR(AB84*BASE!$AN$165/BASE!$AN84,\"\")","v":""},"",{"$f":"IF(BASE!H84=\"\",\"\",Reporte!$N84)","v":""},"",{"$f":"IFERROR(AF84*BASE!$AN$165/BASE!$AN84,\"\")","v":""},"",{"$f":"IF(BASE!I84=\"\",\"\",Reporte!$N84)","v":""},"",{"$f":"IFERROR(AJ84*BASE!$AN$165/BASE!$AN84,\"\")","v":""},"",{"$f":"IF(BASE!J84=\"\",\"\",Reporte!$N84)","v":""},"",{"$f":"IFERROR(AN84*BASE!$AN$165/BASE!$AN84,\"\")","v":""},"",{"$f":"IF(BASE!K84=\"\",\"\",Reporte!$N84)","v":""},"",{"$f":"IFERROR(AR84*BASE!$AN$165/BASE!$AN84,\"\")","v":""},"",{"$f":"IF(BASE!L84=\"\",\"\",Reporte!$N84)","v":""},"",{"$f":"IFERROR(AV84*BASE!$AN$165/BASE!$AN84,\"\")","v":""},"",{"$f":"IF(BASE!M84=\"\",\"\",Reporte!$N84)","v":""},"",{"$f":"IFERROR(AZ84*BASE!$AN$165/BASE!$AN84,\"\")","v":""},"",{"$f":"IF(BASE!N84=\"\",\"\",Reporte!$N84)","v":""},"",{"$f":"IFERROR(BD84*BASE!$AN$165/BASE!$AN84,\"\")","v":""},"",{"$f":"IF(BASE!O84=\"\",\"\",Reporte!$N84)","v":""},"",{"$f":"IFERROR(BH84*BASE!$AN$165/BASE!$AN84,\"\")","v":""},"",{"$f":"IF(BASE!P84=\"\",\"\",Reporte!$N84)","v":""},"",{"$f":"IFERROR(BL84*BASE!$AN$165/BASE!$AN84,\"\")","v":""},"",{"$f":"IF(BASE!Q84=\"\",\"\",Reporte!$N84)","v":""},"",{"$f":"IFERROR(BP84*BASE!$AN$165/BASE!$AN84,\"\")","v":""},"",{"$f":"IF(BASE!R84=\"\",\"\",Reporte!$N84)","v":""},"",{"$f":"IFERROR(BT84*BASE!$AN$165/BASE!$AN84,\"\")","v":""},"",{"$f":"IF(BASE!S84=\"\",\"\",Reporte!$N84)","v":""},"",{"$f":"IFERROR(BX84*BASE!$AN$165/BASE!$AN84,\"\")","v":""},"",{"$f":"IF(BASE!T84=\"\",\"\",Reporte!$N84)","v":""},"",{"$f":"IFERROR(CB84*BASE!$AN$165/BASE!$AN84,\"\")","v":""},"",{"$f":"IF(BASE!U84=\"\",\"\",Reporte!$N84)","v":""},"",{"$f":"IFERROR(CF84*BASE!$AN$165/BASE!$AN84,\"\")","v":""},"",{"$f":"IF(BASE!V84=\"\",\"\",Reporte!$N84)","v":""},"",{"$f":"IFERROR(CJ84*BASE!$AN$165/BASE!$AN84,\"\")","v":""},"",{"$f":"IF(BASE!W84=\"\",\"\",Reporte!$N84)","v":""},"",{"$f":"IFERROR(CN84*BASE!$AN$165/BASE!$AN84,\"\")","v":""},"",{"$f":"IF(BASE!X84=\"\",\"\",Reporte!$N84)","v":""},"",{"$f":"IFERROR(CR84*BASE!$AN$165/BASE!$AN84,\"\")","v":""},"",{"$f":"IF(BASE!Y84=\"\",\"\",Reporte!$N84)","v":""},"",{"$f":"IFERROR(CV84*BASE!$AN$165/BASE!$AN84,\"\")","v":""},"",{"$f":"IF(BASE!Z84=\"\",\"\",Reporte!$N84)","v":""},"",{"$f":"IFERROR(CZ84*BASE!$AN$165/BASE!$AN84,\"\")","v":""},"",{"$f":"IF(BASE!AA84=\"\",\"\",Reporte!$N84)","v":""},"",{"$f":"IFERROR(DD84*BASE!$AN$165/BASE!$AN84,\"\")","v":""},"",{"$f":"IF(BASE!AB84=\"\",\"\",Reporte!$N84)","v":""},"",{"$f":"IFERROR(DH84*BASE!$AN$165/BASE!$AN84,\"\")","v":""},"",{"$f":"IF(BASE!AC84=\"\",\"\",Reporte!$N84)","v":""},"",{"$f":"IFERROR(DL84*BASE!$AN$165/BASE!$AN84,\"\")","v":""},"",{"$f":"IF(BASE!AD84=\"\",\"\",Reporte!$N84)","v":""},"",{"$f":"IFERROR(DP84*BASE!$AN$165/BASE!$AN84,\"\")","v":""},"",{"$f":"IF(BASE!AE84=\"\",\"\",Reporte!$N84)","v":""},"",{"$f":"IFERROR(DT84*BASE!$AN$165/BASE!$AN84,\"\")","v":""},"",{"$f":"IF(BASE!AF84=\"\",\"\",Reporte!$N84)","v":""},"",{"$f":"IFERROR(DX84*BASE!$AN$165/BASE!$AN84,\"\")","v":""},"",{"$f":"IF(BASE!AG84=\"\",\"\",Reporte!$N84)","v":""},"",{"$f":"IFERROR(EB84*BASE!$AN$165/BASE!$AN84,\"\")","v":""},"",{"$f":"IF(BASE!AH84=\"\",\"\",Reporte!$N84)","v":""},"",{"$f":"IFERROR(EF84*BASE!$AN$165/BASE!$AN84,\"\")","v":""},"",{"$f":"IF(BASE!AI84=\"\",\"\",Reporte!$N84)","v":""},"",{"$f":"IFERROR(EJ84*BASE!$AN$165/BASE!$AN84,\"\")","v":""},"",{"$f":"IF(BASE!AJ84=\"\",\"\",Reporte!$N84)","v":""},"",{"$f":"IFERROR(EN84*BASE!$AN$165/BASE!$AN84,\"\")","v":""},"",{"$f":"IF(BASE!AK84=\"\",\"\",Reporte!$N84)","v":""},"",{"$f":"IFERROR(ER84*BASE!$AN$165/BASE!$AN84,\"\")","v":""},"",{"$f":"IF(BASE!AL84=\"\",\"\",Reporte!$N84)","v":""},"",{"$f":"IFERROR(EV84*BASE!$AN$165/BASE!$AN84,\"\")","v":""},""]
[null,null,"Criterio Evaluación 4.3","",{"$f":"'Educacion Fisica'!E16","v":1},{"$f":"'Educacion Fisica'!F16","v":0.05},{"$f":"'Educacion Fisica'!G16","v":""},null,null,null,null,null,"Criterio Evaluación 4.3","",{"$f":"'Peso criterios carga horaria'!F85","v":2.5},{"$f":"O85*BASE!$AN$165/BASE!AN85","v":3.3178571428571431},5.7273768613974796E-3,"",{"$f":"IF(BASE!E85=\"\",\"\",Reporte!$N85)","v":""},"",{"$f":"IFERROR(T85*BASE!$AN$165/BASE!$AN85,\"\")","v":""},"",{"$f":"IF(BASE!F85=\"\",\"\",Reporte!$N85)","v":""},"",{"$f":"IFERROR(X85*BASE!$AN$165/BASE!$AN85,\"\")","v":""},"",{"$f":"IF(BASE!G85=\"\",\"\",Reporte!$N85)","v":""},"",{"$f":"IFERROR(AB85*BASE!$AN$165/BASE!$AN85,\"\")","v":""},"",{"$f":"IF(BASE!H85=\"\",\"\",Reporte!$N85)","v":""},"",{"$f":"IFERROR(AF85*BASE!$AN$165/BASE!$AN85,\"\")","v":""},"",{"$f":"IF(BASE!I85=\"\",\"\",Reporte!$N85)","v":""},"",{"$f":"IFERROR(AJ85*BASE!$AN$165/BASE!$AN85,\"\")","v":""},"",{"$f":"IF(BASE!J85=\"\",\"\",Reporte!$N85)","v":""},"",{"$f":"IFERROR(AN85*BASE!$AN$165/BASE!$AN85,\"\")","v":""},"",{"$f":"IF(BASE!K85=\"\",\"\",Reporte!$N85)","v":""},"",{"$f":"IFERROR(AR85*BASE!$AN$165/BASE!$AN85,\"\")","v":""},"",{"$f":"IF(BASE!L85=\"\",\"\",Reporte!$N85)","v":""},"",{"$f":"IFERROR(AV85*BASE!$AN$165/BASE!$AN85,\"\")","v":""},"",{"$f":"IF(BASE!M85=\"\",\"\",Reporte!$N85)","v":""},"",{"$f":"IFERROR(AZ85*BASE!$AN$165/BASE!$AN85,\"\")","v":""},"",{"$f":"IF(BASE!N85=\"\",\"\",Reporte!$N85)","v":""},"",{"$f":"IFERROR(BD85*BASE!$AN$165/BASE!$AN85,\"\")","v":""},"",{"$f":"IF(BASE!O85=\"\",\"\",Reporte!$N85)","v":""},"",{"$f":"IFERROR(BH85*BASE!$AN$165/BASE!$AN85,\"\")","v":""},"",{"$f":"IF(BASE!P85=\"\",\"\",Reporte!$N85)","v":""},"",{"$f":"IFERROR(BL85*BASE!$AN$165/BASE!$AN85,\"\")","v":""},"",{"$f":"IF(BASE!Q85=\"\",\"\",Reporte!$N85)","v":""},"",{"$f":"IFERROR(BP85*BASE!$AN$165/BASE!$AN85,\"\")","v":""},"",{"$f":"IF(BASE!R85=\"\",\"\",Reporte!$N85)","v":""},"",{"$f":"IFERROR(BT85*BASE!$AN$165/BASE!$AN85,\"\")","v":""},"",{"$f":"IF(BASE!S85=\"\",\"\",Reporte!$N85)","v":""},"",{"$f":"IFERROR(BX85*BASE!$AN$165/BASE!$AN85,\"\")","v":""},"",{"$f":"IF(BASE!T85=\"\",\"\",Reporte!$N85)","v":""},"",{"$f":"IFERROR(CB85*BASE!$AN$165/BASE!$AN85,\"\")","v":""},"",{"$f":"IF(BASE!U85=\"\",\"\",Reporte!$N85)","v":""},"",{"$f":"IFERROR(CF85*BASE!$AN$165/BASE!$AN85,\"\")","v":""},"",{"$f":"IF(BASE!V85=\"\",\"\",Reporte!$N85)","v":""},"",{"$f":"IFERROR(CJ85*BASE!$AN$165/BASE!$AN85,\"\")","v":""},"",{"$f":"IF(BASE!W85=\"\",\"\",Reporte!$N85)","v":""},"",{"$f":"IFERROR(CN85*BASE!$AN$165/BASE!$AN85,\"\")","v":""},"",{"$f":"IF(BASE!X85=\"\",\"\",Reporte!$N85)","v":""},"",{"$f":"IFERROR(CR85*BASE!$AN$165/BASE!$AN85,\"\")","v":""},"",{"$f":"IF(BASE!Y85=\"\",\"\",Reporte!$N85)","v":""},"",{"$f":"IFERROR(CV85*BASE!$AN$165/BASE!$AN85,\"\")","v":""},"",{"$f":"IF(BASE!Z85=\"\",\"\",Reporte!$N85)","v":""},"",{"$f":"IFERROR(CZ85*BASE!$AN$165/BASE!$AN85,\"\")","v":""},"",{"$f":"IF(BASE!AA85=\"\",\"\",Reporte!$N85)","v":""},"",{"$f":"IFERROR(DD85*BASE!$AN$165/BASE!$AN85,\"\")","v":""},"",{"$f":"IF(BASE!AB85=\"\",\"\",Reporte!$N85)","v":""},"",{"$f":"IFERROR(DH85*BASE!$AN$165/BASE!$AN85,\"\")","v":""},"",{"$f":"IF(BASE!AC85=\"\",\"\",Reporte!$N85)","v":""},"",{"$f":"IFERROR(DL85*BASE!$AN$165/BASE!$AN85,\"\")","v":""},"",{"$f":"IF(BASE!AD85=\"\",\"\",Reporte!$N85)","v":""},"",{"$f":"IFERROR(DP85*BASE!$AN$165/BASE!$AN85,\"\")","v":""},"",{"$f":"IF(BASE!AE85=\"\",\"\",Reporte!$N85)","v":""},"",{"$f":"IFERROR(DT85*BASE!$AN$165/BASE!$AN85,\"\")","v":""},"",{"$f":"IF(BASE!AF85=\"\",\"\",Reporte!$N85)","v":""},"",{"$f":"IFERROR(DX85*BASE!$AN$165/BASE!$AN85,\"\")","v":""},"",{"$f":"IF(BASE!AG85=\"\",\"\",Reporte!$N85)","v":""},"",{"$f":"IFERROR(EB85*BASE!$AN$165/BASE!$AN85,\"\")","v":""},"",{"$f":"IF(BASE!AH85=\"\",\"\",Reporte!$N85)","v":""},"",{"$f":"IFERROR(EF85*BASE!$AN$165/BASE!$AN85,\"\")","v":""},"",{"$f":"IF(BASE!AI85=\"\",\"\",Reporte!$N85)","v":""},"",{"$f":"IFERROR(EJ85*BASE!$AN$165/BASE!$AN85,\"\")","v":""},"",{"$f":"IF(BASE!AJ85=\"\",\"\",Reporte!$N85)","v":""},"",{"$f":"IFERROR(EN85*BASE!$AN$165/BASE!$AN85,\"\")","v":""},"",{"$f":"IF(BASE!AK85=\"\",\"\",Reporte!$N85)","v":""},"",{"$f":"IFERROR(ER85*BASE!$AN$165/BASE!$AN85,\"\")","v":""},"",{"$f":"IF(BASE!AL85=\"\",\"\",Reporte!$N85)","v":""},"",{"$f":"IFERROR(EV85*BASE!$AN$165/BASE!$AN85,\"\")","v":""},""]
[null,null,"Criterio Evaluación 4.4","",{"$f":"'Educacion Fisica'!E17","v":1},{"$f":"'Educacion Fisica'!F17","v":0.05},{"$f":"'Educacion Fisica'!G17","v":""},null,null,null,null,null,"Criterio Evaluación 4.4","",{"$f":"'Peso criterios carga horaria'!F86","v":2.5},{"$f":"O86*BASE!$AN$165/BASE!AN86","v":3.3178571428571431},5.7273768613974796E-3,"",{"$f":"IF(BASE!E86=\"\",\"\",Reporte!$N86)","v":""},"",{"$f":"IFERROR(T86*BASE!$AN$165/BASE!$AN86,\"\")","v":""},"",{"$f":"IF(BASE!F86=\"\",\"\",Reporte!$N86)","v":""},"",{"$f":"IFERROR(X86*BASE!$AN$165/BASE!$AN86,\"\")","v":""},"",{"$f":"IF(BASE!G86=\"\",\"\",Reporte!$N86)","v":""},"",{"$f":"IFERROR(AB86*BASE!$AN$165/BASE!$AN86,\"\")","v":""},"",{"$f":"IF(BASE!H86=\"\",\"\",Reporte!$N86)","v":""},"",{"$f":"IFERROR(AF86*BASE!$AN$165/BASE!$AN86,\"\")","v":""},"",{"$f":"IF(BASE!I86=\"\",\"\",Reporte!$N86)","v":""},"",{"$f":"IFERROR(AJ86*BASE!$AN$165/BASE!$AN86,\"\")","v":""},"",{"$f":"IF(BASE!J86=\"\",\"\",Reporte!$N86)","v":""},"",{"$f":"IFERROR(AN86*BASE!$AN$165/BASE!$AN86,\"\")","v":""},"",{"$f":"IF(BASE!K86=\"\",\"\",Reporte!$N86)","v":""},"",{"$f":"IFERROR(AR86*BASE!$AN$165/BASE!$AN86,\"\")","v":""},"",{"$f":"IF(BASE!L86=\"\",\"\",Reporte!$N86)","v":""},"",{"$f":"IFERROR(AV86*BASE!$AN$165/BASE!$AN86,\"\")","v":""},"",{"$f":"IF(BASE!M86=\"\",\"\",Reporte!$N86)","v":""},"",{"$f":"IFERROR(AZ86*BASE!$AN$165/BASE!$AN86,\"\")","v":""},"",{"$f":"IF(BASE!N86=\"\",\"\",Reporte!$N86)","v":""},"",{"$f":"IFERROR(BD86*BASE!$AN$165/BASE!$AN86,\"\")","v":""},"",{"$f":"IF(BASE!O86=\"\",\"\",Reporte!$N86)","v":""},"",{"$f":"IFERROR(BH86*BASE!$AN$165/BASE!$AN86,\"\")","v":""},"",{"$f":"IF(BASE!P86=\"\",\"\",Reporte!$N86)","v":""},"",{"$f":"IFERROR(BL86*BASE!$AN$165/BASE!$AN86,\"\")","v":""},"",{"$f":"IF(BASE!Q86=\"\",\"\",Reporte!$N86)","v":""},"",{"$f":"IFERROR(BP86*BASE!$AN$165/BASE!$AN86,\"\")","v":""},"",{"$f":"IF(BASE!R86=\"\",\"\",Reporte!$N86)","v":""},"",{"$f":"IFERROR(BT86*BASE!$AN$165/BASE!$AN86,\"\")","v":""},"",{"$f":"IF(BASE!S86=\"\",\"\",Reporte!$N86)","v":""},"",{"$f":"IFERROR(BX86*BASE!$AN$165/BASE!$AN86,\"\")","v":""},"",{"$f":"IF(BASE!T86=\"\",\"\",Reporte!$N86)","v":""},"",{"$f":"IFERROR(CB86*BASE!$AN$165/BASE!$AN86,\"\")","v":""},"",{"$f":"IF(BASE!U86=\"\",\"\",Reporte!$N86)","v":""},"",{"$f":"IFERROR(CF86*BASE!$AN$165/BASE!$AN86,\"\")","v":""},"",{"$f":"IF(BASE!V86=\"\",\"\",Reporte!$N86)","v":""},"",{"$f":"IFERROR(CJ86*BASE!$AN$165/BASE!$AN86,\"\")","v":""},"",{"$f":"IF(BASE!W86=\"\",\"\",Reporte!$N86)","v":""},"",{"$f":"IFERROR(CN86*BASE!$AN$165/BASE!$AN86,\"\")","v":""},"",{"$f":"IF(BASE!X86=\"\",\"\",Reporte!$N86)","v":""},"",{"$f":"IFERROR(CR86*BASE!$AN$165/BASE!$AN86,\"\")","v":""},"",{"$f":"IF(BASE!Y86=\"\",\"\",Reporte!$N86)","v":""},"",{"$f":"IFERROR(CV86*BASE!$AN$165/BASE!$AN86,\"\")","v":""},"",{"$f":"IF(BASE!Z86=\"\",\"\",Reporte!$N86)","v":""},"",{"$f":"IFERROR(CZ86*BASE!$AN$165/BASE!$AN86,\"\")","v":""},"",{"$f":"IF(BASE!AA86=\"\",\"\",Reporte!$N86)","v":""},"",{"$f":"IFERROR(DD86*BASE!$AN$165/BASE!$AN86,\"\")","v":""},"",{"$f":"IF(BASE!AB86=\"\",\"\",Reporte!$N86)","v":""},"",{"$f":"IFERROR(DH86*BASE!$AN$165/BASE!$AN86,\"\")","v":""},"",{"$f":"IF(BASE!AC86=\"\",\"\",Reporte!$N86)","v":""},"",{"$f":"IFERROR(DL86*BASE!$AN$165/BASE!$AN86,\"\")","v":""},"",{"$f":"IF(BASE!AD86=\"\",\"\",Reporte!$N86)","v":""},"",{"$f":"IFERROR(DP86*BASE!$AN$165/BASE!$AN86,\"\")","v":""},"",{"$f":"IF(BASE!AE86=\"\",\"\",Reporte!$N86)","v":""},"",{"$f":"IFERROR(DT86*BASE!$AN$165/BASE!$AN86,\"\")","v":""},"",{"$f":"IF(BASE!AF86=\"\",\"\",Reporte!$N86)","v":""},"",{"$f":"IFERROR(DX86*BASE!$AN$165/BASE!$AN86,\"\")","v":""},"",{"$f":"IF(BASE!AG86=\"\",\"\",Reporte!$N86)","v":""},"",{"$f":"IFERROR(EB86*BASE!$AN$165/BASE!$AN86,\"\")","v":""},"",{"$f":"IF(BASE!AH86=\"\",\"\",Reporte!$N86)","v":""},"",{"$f":"IFERROR(EF86*BASE!$AN$165/BASE!$AN86,\"\")","v":""},"",{"$f":"IF(BASE!AI86=\"\",\"\",Reporte!$N86)","v":""},"",{"$f":"IFERROR(EJ86*BASE!$AN$165/BASE!$AN86,\"\")","v":""},"",{"$f":"IF(BASE!AJ86=\"\",\"\",Reporte!$N86)","v":""},"",{"$f":"IFERROR(EN86*BASE!$AN$165/BASE!$AN86,\"\")","v":""},"",{"$f":"IF(BASE!AK86=\"\",\"\",Reporte!$N86)","v":""},"",{"$f":"IFERROR(ER86*BASE!$AN$165/BASE!$AN86,\"\")","v":""},"",{"$f":"IF(BASE!AL86=\"\",\"\",Reporte!$N86)","v":""},"",{"$f":"IFERROR(EV86*BASE!$AN$165/BASE!$AN86,\"\")","v":""},""]
[null,"Comp. Esp. 5","Criterio Evaluación 5.1","",{"$f":"'Educacion Fisica'!E18","v":1},{"$f":"'Educacion Fisica'!F18","v":0.05},{"$f":"'Educacion Fisica'!G18","v":""},null,null,null,null,"Comp. Esp. 5","Criterio Evaluación 5.1","",{"$f":"'Peso criterios carga horaria'!F87","v":2.5},{"$f":"O87*BASE!$AN$165/BASE!AN87","v":3.3178571428571431},5.7273768613974796E-3,"",{"$f":"IF(BASE!E87=\"\",\"\",Reporte!$N87)","v":""},"",{"$f":"IFERROR(T87*BASE!$AN$165/BASE!$AN87,\"\")","v":""},"",{"$f":"IF(BASE!F87=\"\",\"\",Reporte!$N87)","v":""},"",{"$f":"IFERROR(X87*BASE!$AN$165/BASE!$AN87,\"\")","v":""},"",{"$f":"IF(BASE!G87=\"\",\"\",Reporte!$N87)","v":""},"",{"$f":"IFERROR(AB87*BASE!$AN$165/BASE!$AN87,\"\")","v":""},"",{"$f":"IF(BASE!H87=\"\",\"\",Reporte!$N87)","v":""},"",{"$f":"IFERROR(AF87*BASE!$AN$165/BASE!$AN87,\"\")","v":""},"",{"$f":"IF(BASE!I87=\"\",\"\",Reporte!$N87)","v":""},"",{"$f":"IFERROR(AJ87*BASE!$AN$165/BASE!$AN87,\"\")","v":""},"",{"$f":"IF(BASE!J87=\"\",\"\",Reporte!$N87)","v":""},"",{"$f":"IFERROR(AN87*BASE!$AN$165/BASE!$AN87,\"\")","v":""},"",{"$f":"IF(BASE!K87=\"\",\"\",Reporte!$N87)","v":""},"",{"$f":"IFERROR(AR87*BASE!$AN$165/BASE!$AN87,\"\")","v":""},"",{"$f":"IF(BASE!L87=\"\",\"\",Reporte!$N87)","v":""},"",{"$f":"IFERROR(AV87*BASE!$AN$165/BASE!$AN87,\"\")","v":""},"",{"$f":"IF(BASE!M87=\"\",\"\",Reporte!$N87)","v":""},"",{"$f":"IFERROR(AZ87*BASE!$AN$165/BASE!$AN87,\"\")","v":""},"",{"$f":"IF(BASE!N87=\"\",\"\",Reporte!$N87)","v":""},"",{"$f":"IFERROR(BD87*BASE!$AN$165/BASE!$AN87,\"\")","v":""},"",{"$f":"IF(BASE!O87=\"\",\"\",Reporte!$N87)","v":""},"",{"$f":"IFERROR(BH87*BASE!$AN$165/BASE!$AN87,\"\")","v":""},"",{"$f":"IF(BASE!P87=\"\",\"\",Reporte!$N87)","v":""},"",{"$f":"IFERROR(BL87*BASE!$AN$165/BASE!$AN87,\"\")","v":""},"",{"$f":"IF(BASE!Q87=\"\",\"\",Reporte!$N87)","v":""},"",{"$f":"IFERROR(BP87*BASE!$AN$165/BASE!$AN87,\"\")","v":""},"",{"$f":"IF(BASE!R87=\"\",\"\",Reporte!$N87)","v":""},"",{"$f":"IFERROR(BT87*BASE!$AN$165/BASE!$AN87,\"\")","v":""},"",{"$f":"IF(BASE!S87=\"\",\"\",Reporte!$N87)","v":""},"",{"$f":"IFERROR(BX87*BASE!$AN$165/BASE!$AN87,\"\")","v":""},"",{"$f":"IF(BASE!T87=\"\",\"\",Reporte!$N87)","v":""},"",{"$f":"IFERROR(CB87*BASE!$AN$165/BASE!$AN87,\"\")","v":""},"",{"$f":"IF(BASE!U87=\"\",\"\",Reporte!$N87)","v":""},"",{"$f":"IFERROR(CF87*BASE!$AN$165/BASE!$AN87,\"\")","v":""},"",{"$f":"IF(BASE!V87=\"\",\"\",Reporte!$N87)","v":""},"",{"$f":"IFERROR(CJ87*BASE!$AN$165/BASE!$AN87,\"\")","v":""},"",{"$f":"IF(BASE!W87=\"\",\"\",Reporte!$N87)","v":""},"",{"$f":"IFERROR(CN87*BASE!$AN$165/BASE!$AN87,\"\")","v":""},"",{"$f":"IF(BASE!X87=\"\",\"\",Reporte!$N87)","v":""},"",{"$f":"IFERROR(CR87*BASE!$AN$165/BASE!$AN87,\"\")","v":""},"",{"$f":"IF(BASE!Y87=\"\",\"\",Reporte!$N87)","v":""},"",{"$f":"IFERROR(CV87*BASE!$AN$165/BASE!$AN87,\"\")","v":""},"",{"$f":"IF(BASE!Z87=\"\",\"\",Reporte!$N87)","v":""},"",{"$f":"IFERROR(CZ87*BASE!$AN$165/BASE!$AN87,\"\")","v":""},"",{"$f":"IF(BASE!AA87=\"\",\"\",Reporte!$N87)","v":""},"",{"$f":"IFERROR(DD87*BASE!$AN$165/BASE!$AN87,\"\")","v":""},"",{"$f":"IF(BASE!AB87=\"\",\"\",Reporte!$N87)","v":""},"",{"$f":"IFERROR(DH87*BASE!$AN$165/BASE!$AN87,\"\")","v":""},"",{"$f":"IF(BASE!AC87=\"\",\"\",Reporte!$N87)","v":""},"",{"$f":"IFERROR(DL87*BASE!$AN$165/BASE!$AN87,\"\")","v":""},"",{"$f":"IF(BASE!AD87=\"\",\"\",Reporte!$N87)","v":""},"",{"$f":"IFERROR(DP87*BASE!$AN$165/BASE!$AN87,\"\")","v":""},"",{"$f":"IF(BASE!AE87=\"\",\"\",Reporte!$N87)","v":""},"",{"$f":"IFERROR(DT87*BASE!$AN$165/BASE!$AN87,\"\")","v":""},"",{"$f":"IF(BASE!AF87=\"\",\"\",Reporte!$N87)","v":""},"",{"$f":"IFERROR(DX87*BASE!$AN$165/BASE!$AN87,\"\")","v":""},"",{"$f":"IF(BASE!AG87=\"\",\"\",Reporte!$N87)","v":""},"",{"$f":"IFERROR(EB87*BASE!$AN$165/BASE!$AN87,\"\")","v":""},"",{"$f":"IF(BASE!AH87=\"\",\"\",Reporte!$N87)","v":""},"",{"$f":"IFERROR(EF87*BASE!$AN$165/BASE!$AN87,\"\")","v":""},"",{"$f":"IF(BASE!AI87=\"\",\"\",Reporte!$N87)","v":""},"",{"$f":"IFERROR(EJ87*BASE!$AN$165/BASE!$AN87,\"\")","v":""},"",{"$f":"IF(BASE!AJ87=\"\",\"\",Reporte!$N87)","v":""},"",{"$f":"IFERROR(EN87*BASE!$AN$165/BASE!$AN87,\"\")","v":""},"",{"$f":"IF(BASE!AK87=\"\",\"\",Reporte!$N87)","v":""},"",{"$f":"IFERROR(ER87*BASE!$AN$165/BASE!$AN87,\"\")","v":""},"",{"$f":"IF(BASE!AL87=\"\",\"\",Reporte!$N87)","v":""},"",{"$f":"IFERROR(EV87*BASE!$AN$165/BASE!$AN87,\"\")","v":""},""]
[null,null,"Criterio Evaluación 5.2","",{"$f":"'Educacion Fisica'!E19","v":1},{"$f":"'Educacion Fisica'!F19","v":0.05},{"$f":"'Educacion Fisica'!G19","v":""},null,null,null,null,null,"Criterio Evaluación 5.2","",{"$f":"'Peso criterios carga horaria'!F88","v":2.5},{"$f":"O88*BASE!$AN$165/BASE!AN88","v":3.3178571428571431},5.7273768613974796E-3,"",{"$f":"IF(BASE!E88=\"\",\"\",Reporte!$N88)","v":""},"",{"$f":"IFERROR(T88*BASE!$AN$165/BASE!$AN88,\"\")","v":""},"",{"$f":"IF(BASE!F88=\"\",\"\",Reporte!$N88)","v":""},"",{"$f":"IFERROR(X88*BASE!$AN$165/BASE!$AN88,\"\")","v":""},"",{"$f":"IF(BASE!G88=\"\",\"\",Reporte!$N88)","v":""},"",{"$f":"IFERROR(AB88*BASE!$AN$165/BASE!$AN88,\"\")","v":""},"",{"$f":"IF(BASE!H88=\"\",\"\",Reporte!$N88)","v":""},"",{"$f":"IFERROR(AF88*BASE!$AN$165/BASE!$AN88,\"\")","v":""},"",{"$f":"IF(BASE!I88=\"\",\"\",Reporte!$N88)","v":""},"",{"$f":"IFERROR(AJ88*BASE!$AN$165/BASE!$AN88,\"\")","v":""},"",{"$f":"IF(BASE!J88=\"\",\"\",Reporte!$N88)","v":""},"",{"$f":"IFERROR(AN88*BASE!$AN$165/BASE!$AN88,\"\")","v":""},"",{"$f":"IF(BASE!K88=\"\",\"\",Reporte!$N88)","v":""},"",{"$f":"IFERROR(AR88*BASE!$AN$165/BASE!$AN88,\"\")","v":""},"",{"$f":"IF(BASE!L88=\"\",\"\",Reporte!$N88)","v":""},"",{"$f":"IFERROR(AV88*BASE!$AN$165/BASE!$AN88,\"\")","v":""},"",{"$f":"IF(BASE!M88=\"\",\"\",Reporte!$N88)","v":""},"",{"$f":"IFERROR(AZ88*BASE!$AN$165/BASE!$AN88,\"\")","v":""},"",{"$f":"IF(BASE!N88=\"\",\"\",Reporte!$N88)","v":""},"",{"$f":"IFERROR(BD88*BASE!$AN$165/BASE!$AN88,\"\")","v":""},"",{"$f":"IF(BASE!O88=\"\",\"\",Reporte!$N88)","v":""},"",{"$f":"IFERROR(BH88*BASE!$AN$165/BASE!$AN88,\"\")","v":""},"",{"$f":"IF(BASE!P88=\"\",\"\",Reporte!$N88)","v":""},"",{"$f":"IFERROR(BL88*BASE!$AN$165/BASE!$AN88,\"\")","v":""},"",{"$f":"IF(BASE!Q88=\"\",\"\",Reporte!$N88)","v":""},"",{"$f":"IFERROR(BP88*BASE!$AN$165/BASE!$AN88,\"\")","v":""},"",{"$f":"IF(BASE!R88=\"\",\"\",Reporte!$N88)","v":""},"",{"$f":"IFERROR(BT88*BASE!$AN$165/BASE!$AN88,\"\")","v":""},"",{"$f":"IF(BASE!S88=\"\",\"\",Reporte!$N88)","v":""},"",{"$f":"IFERROR(BX88*BASE!$AN$165/BASE!$AN88,\"\")","v":""},"",{"$f":"IF(BASE!T88=\"\",\"\",Reporte!$N88)","v":""},"",{"$f":"IFERROR(CB88*BASE!$AN$165/BASE!$AN88,\"\")","v":""},"",{"$f":"IF(BASE!U88=\"\",\"\",Reporte!$N88)","v":""},"",{"$f":"IFERROR(CF88*BASE!$AN$165/BASE!$AN88,\"\")","v":""},"",{"$f":"IF(BASE!V88=\"\",\"\",Reporte!$N88)","v":""},"",{"$f":"IFERROR(CJ88*BASE!$AN$165/BASE!$AN88,\"\")","v":""},"",{"$f":"IF(BASE!W88=\"\",\"\",Reporte!$N88)","v":""},"",{"$f":"IFERROR(CN88*BASE!$AN$165/BASE!$AN88,\"\")","v":""},"",{"$f":"IF(BASE!X88=\"\",\"\",Reporte!$N88)","v":""},"",{"$f":"IFERROR(CR88*BASE!$AN$165/BASE!$AN88,\"\")","v":""},"",{"$f":"IF(BASE!Y88=\"\",\"\",Reporte!$N88)","v":""},"",{"$f":"IFERROR(CV88*BASE!$AN$165/BASE!$AN88,\"\")","v":""},"",{"$f":"IF(BASE!Z88=\"\",\"\",Reporte!$N88)","v":""},"",{"$f":"IFERROR(CZ88*BASE!$AN$165/BASE!$AN88,\"\")","v":""},"",{"$f":"IF(BASE!AA88=\"\",\"\",Reporte!$N88)","v":""},"",{"$f":"IFERROR(DD88*BASE!$AN$165/BASE!$AN88,\"\")","v":""},"",{"$f":"IF(BASE!AB88=\"\",\"\",Reporte!$N88)","v":""},"",{"$f":"IFERROR(DH88*BASE!$AN$165/BASE!$AN88,\"\")","v":""},"",{"$f":"IF(BASE!AC88=\"\",\"\",Reporte!$N88)","v":""},"",{"$f":"IFERROR(DL88*BASE!$AN$165/BASE!$AN88,\"\")","v":""},"",{"$f":"IF(BASE!AD88=\"\",\"\",Reporte!$N88)","v":""},"",{"$f":"IFERROR(DP88*BASE!$AN$165/BASE!$AN88,\"\")","v":""},"",{"$f":"IF(BASE!AE88=\"\",\"\",Reporte!$N88)","v":""},"",{"$f":"IFERROR(DT88*BASE!$AN$165/BASE!$AN88,\"\")","v":""},"",{"$f":"IF(BASE!AF88=\"\",\"\",Reporte!$N88)","v":""},"",{"$f":"IFERROR(DX88*BASE!$AN$165/BASE!$AN88,\"\")","v":""},"",{"$f":"IF(BASE!AG88=\"\",\"\",Reporte!$N88)","v":""},"",{"$f":"IFERROR(EB88*BASE!$AN$165/BASE!$AN88,\"\")","v":""},"",{"$f":"IF(BASE!AH88=\"\",\"\",Reporte!$N88)","v":""},"",{"$f":"IFERROR(EF88*BASE!$AN$165/BASE!$AN88,\"\")","v":""},"",{"$f":"IF(BASE!AI88=\"\",\"\",Reporte!$N88)","v":""},"",{"$f":"IFERROR(EJ88*BASE!$AN$165/BASE!$AN88,\"\")","v":""},"",{"$f":"IF(BASE!AJ88=\"\",\"\",Reporte!$N88)","v":""},"",{"$f":"IFERROR(EN88*BASE!$AN$165/BASE!$AN88,\"\")","v":""},"",{"$f":"IF(BASE!AK88=\"\",\"\",Reporte!$N88)","v":""},"",{"$f":"IFERROR(ER88*BASE!$AN$165/BASE!$AN88,\"\")","v":""},"",{"$f":"IF(BASE!AL88=\"\",\"\",Reporte!$N88)","v":""},"",{"$f":"IFERROR(EV88*BASE!$AN$165/BASE!$AN88,\"\")","v":""},""]
[null,null,"Criterio Evaluación 5.3","",{"$f":"'Educacion Fisica'!E20","v":1},{"$f":"'Educacion Fisica'!F20","v":0.05},{"$f":"'Educacion Fisica'!G20","v":""},null,null,null,null,null,"Criterio Evaluación 5.3","",{"$f":"'Peso criterios carga horaria'!F89","v":2.5},{"$f":"O89*BASE!$AN$165/BASE!AN89","v":3.3178571428571431},5.7273768613974796E-3,"",{"$f":"IF(BASE!E89=\"\",\"\",Reporte!$N89)","v":""},"",{"$f":"IFERROR(T89*BASE!$AN$165/BASE!$AN89,\"\")","v":""},"",{"$f":"IF(BASE!F89=\"\",\"\",Reporte!$N89)","v":""},"",{"$f":"IFERROR(X89*BASE!$AN$165/BASE!$AN89,\"\")","v":""},"",{"$f":"IF(BASE!G89=\"\",\"\",Reporte!$N89)","v":""},"",{"$f":"IFERROR(AB89*BASE!$AN$165/BASE!$AN89,\"\")","v":""},"",{"$f":"IF(BASE!H89=\"\",\"\",Reporte!$N89)","v":""},"",{"$f":"IFERROR(AF89*BASE!$AN$165/BASE!$AN89,\"\")","v":""},"",{"$f":"IF(BASE!I89=\"\",\"\",Reporte!$N89)","v":""},"",{"$f":"IFERROR(AJ89*BASE!$AN$165/BASE!$AN89,\"\")","v":""},"",{"$f":"IF(BASE!J89=\"\",\"\",Reporte!$N89)","v":""},"",{"$f":"IFERROR(AN89*BASE!$AN$165/BASE!$AN89,\"\")","v":""},"",{"$f":"IF(BASE!K89=\"\",\"\",Reporte!$N89)","v":""},"",{"$f":"IFERROR(AR89*BASE!$AN$165/BASE!$AN89,\"\")","v":""},"",{"$f":"IF(BASE!L89=\"\",\"\",Reporte!$N89)","v":""},"",{"$f":"IFERROR(AV89*BASE!$AN$165/BASE!$AN89,\"\")","v":""},"",{"$f":"IF(BASE!M89=\"\",\"\",Reporte!$N89)","v":""},"",{"$f":"IFERROR(AZ89*BASE!$AN$165/BASE!$AN89,\"\")","v":""},"",{"$f":"IF(BASE!N89=\"\",\"\",Reporte!$N89)","v":""},"",{"$f":"IFERROR(BD89*BASE!$AN$165/BASE!$AN89,\"\")","v":""},"",{"$f":"IF(BASE!O89=\"\",\"\",Reporte!$N89)","v":""},"",{"$f":"IFERROR(BH89*BASE!$AN$165/BASE!$AN89,\"\")","v":""},"",{"$f":"IF(BASE!P89=\"\",\"\",Reporte!$N89)","v":""},"",{"$f":"IFERROR(BL89*BASE!$AN$165/BASE!$AN89,\"\")","v":""},"",{"$f":"IF(BASE!Q89=\"\",\"\",Reporte!$N89)","v":""},"",{"$f":"IFERROR(BP89*BASE!$AN$165/BASE!$AN89,\"\")","v":""},"",{"$f":"IF(BASE!R89=\"\",\"\",Reporte!$N89)","v":""},"",{"$f":"IFERROR(BT89*BASE!$AN$165/BASE!$AN89,\"\")","v":""},"",{"$f":"IF(BASE!S89=\"\",\"\",Reporte!$N89)","v":""},"",{"$f":"IFERROR(BX89*BASE!$AN$165/BASE!$AN89,\"\")","v":""},"",{"$f":"IF(BASE!T89=\"\",\"\",Reporte!$N89)","v":""},"",{"$f":"IFERROR(CB89*BASE!$AN$165/BASE!$AN89,\"\")","v":""},"",{"$f":"IF(BASE!U89=\"\",\"\",Reporte!$N89)","v":""},"",{"$f":"IFERROR(CF89*BASE!$AN$165/BASE!$AN89,\"\")","v":""},"",{"$f":"IF(BASE!V89=\"\",\"\",Reporte!$N89)","v":""},"",{"$f":"IFERROR(CJ89*BASE!$AN$165/BASE!$AN89,\"\")","v":""},"",{"$f":"IF(BASE!W89=\"\",\"\",Reporte!$N89)","v":""},"",{"$f":"IFERROR(CN89*BASE!$AN$165/BASE!$AN89,\"\")","v":""},"",{"$f":"IF(BASE!X89=\"\",\"\",Reporte!$N89)","v":""},"",{"$f":"IFERROR(CR89*BASE!$AN$165/BASE!$AN89,\"\")","v":""},"",{"$f":"IF(BASE!Y89=\"\",\"\",Reporte!$N89)","v":""},"",{"$f":"IFERROR(CV89*BASE!$AN$165/BASE!$AN89,\"\")","v":""},"",{"$f":"IF(BASE!Z89=\"\",\"\",Reporte!$N89)","v":""},"",{"$f":"IFERROR(CZ89*BASE!$AN$165/BASE!$AN89,\"\")","v":""},"",{"$f":"IF(BASE!AA89=\"\",\"\",Reporte!$N89)","v":""},"",{"$f":"IFERROR(DD89*BASE!$AN$165/BASE!$AN89,\"\")","v":""},"",{"$f":"IF(BASE!AB89=\"\",\"\",Reporte!$N89)","v":""},"",{"$f":"IFERROR(DH89*BASE!$AN$165/BASE!$AN89,\"\")","v":""},"",{"$f":"IF(BASE!AC89=\"\",\"\",Reporte!$N89)","v":""},"",{"$f":"IFERROR(DL89*BASE!$AN$165/BASE!$AN89,\"\")","v":""},"",{"$f":"IF(BASE!AD89=\"\",\"\",Reporte!$N89)","v":""},"",{"$f":"IFERROR(DP89*BASE!$AN$165/BASE!$AN89,\"\")","v":""},"",{"$f":"IF(BASE!AE89=\"\",\"\",Reporte!$N89)","v":""},"",{"$f":"IFERROR(DT89*BASE!$AN$165/BASE!$AN89,\"\")","v":""},"",{"$f":"IF(BASE!AF89=\"\",\"\",Reporte!$N89)","v":""},"",{"$f":"IFERROR(DX89*BASE!$AN$165/BASE!$AN89,\"\")","v":""},"",{"$f":"IF(BASE!AG89=\"\",\"\",Reporte!$N89)","v":""},"",{"$f":"IFERROR(EB89*BASE!$AN$165/BASE!$AN89,\"\")","v":""},"",{"$f":"IF(BASE!AH89=\"\",\"\",Reporte!$N89)","v":""},"",{"$f":"IFERROR(EF89*BASE!$AN$165/BASE!$AN89,\"\")","v":""},"",{"$f":"IF(BASE!AI89=\"\",\"\",Reporte!$N89)","v":""},"",{"$f":"IFERROR(EJ89*BASE!$AN$165/BASE!$AN89,\"\")","v":""},"",{"$f":"IF(BASE!AJ89=\"\",\"\",Reporte!$N89)","v":""},"",{"$f":"IFERROR(EN89*BASE!$AN$165/BASE!$AN89,\"\")","v":""},"",{"$f":"IF(BASE!AK89=\"\",\"\",Reporte!$N89)","v":""},"",{"$f":"IFERROR(ER89*BASE!$AN$165/BASE!$AN89,\"\")","v":""},"",{"$f":"IF(BASE!AL89=\"\",\"\",Reporte!$N89)","v":""},"",{"$f":"IFERROR(EV89*BASE!$AN$165/BASE!$AN89,\"\")","v":""},""]
[null,"Comp. Esp. 6","Criterio Evaluación 6.1","",{"$f":"'Educacion Fisica'!E21","v":1},{"$f":"'Educacion Fisica'!F21","v":0.05},{"$f":"'Educacion Fisica'!G21","v":""},null,null,null,null,"Comp. Esp. 6","Criterio Evaluación 6.1","",{"$f":"'Peso criterios carga horaria'!F90","v":2.5},{"$f":"O90*BASE!$AN$165/BASE!AN90","v":3.3178571428571431},5.7273768613974796E-3,"",{"$f":"IF(BASE!E90=\"\",\"\",Reporte!$N90)","v":""},"",{"$f":"IFERROR(T90*BASE!$AN$165/BASE!$AN90,\"\")","v":""},"",{"$f":"IF(BASE!F90=\"\",\"\",Reporte!$N90)","v":""},"",{"$f":"IFERROR(X90*BASE!$AN$165/BASE!$AN90,\"\")","v":""},"",{"$f":"IF(BASE!G90=\"\",\"\",Reporte!$N90)","v":""},"",{"$f":"IFERROR(AB90*BASE!$AN$165/BASE!$AN90,\"\")","v":""},"",{"$f":"IF(BASE!H90=\"\",\"\",Reporte!$N90)","v":""},"",{"$f":"IFERROR(AF90*BASE!$AN$165/BASE!$AN90,\"\")","v":""},"",{"$f":"IF(BASE!I90=\"\",\"\",Reporte!$N90)","v":""},"",{"$f":"IFERROR(AJ90*BASE!$AN$165/BASE!$AN90,\"\")","v":""},"",{"$f":"IF(BASE!J90=\"\",\"\",Reporte!$N90)","v":""},"",{"$f":"IFERROR(AN90*BASE!$AN$165/BASE!$AN90,\"\")","v":""},"",{"$f":"IF(BASE!K90=\"\",\"\",Reporte!$N90)","v":""},"",{"$f":"IFERROR(AR90*BASE!$AN$165/BASE!$AN90,\"\")","v":""},"",{"$f":"IF(BASE!L90=\"\",\"\",Reporte!$N90)","v":""},"",{"$f":"IFERROR(AV90*BASE!$AN$165/BASE!$AN90,\"\")","v":""},"",{"$f":"IF(BASE!M90=\"\",\"\",Reporte!$N90)","v":""},"",{"$f":"IFERROR(AZ90*BASE!$AN$165/BASE!$AN90,\"\")","v":""},"",{"$f":"IF(BASE!N90=\"\",\"\",Reporte!$N90)","v":""},"",{"$f":"IFERROR(BD90*BASE!$AN$165/BASE!$AN90,\"\")","v":""},"",{"$f":"IF(BASE!O90=\"\",\"\",Reporte!$N90)","v":""},"",{"$f":"IFERROR(BH90*BASE!$AN$165/BASE!$AN90,\"\")","v":""},"",{"$f":"IF(BASE!P90=\"\",\"\",Reporte!$N90)","v":""},"",{"$f":"IFERROR(BL90*BASE!$AN$165/BASE!$AN90,\"\")","v":""},"",{"$f":"IF(BASE!Q90=\"\",\"\",Reporte!$N90)","v":""},"",{"$f":"IFERROR(BP90*BASE!$AN$165/BASE!$AN90,\"\")","v":""},"",{"$f":"IF(BASE!R90=\"\",\"\",Reporte!$N90)","v":""},"",{"$f":"IFERROR(BT90*BASE!$AN$165/BASE!$AN90,\"\")","v":""},"",{"$f":"IF(BASE!S90=\"\",\"\",Reporte!$N90)","v":""},"",{"$f":"IFERROR(BX90*BASE!$AN$165/BASE!$AN90,\"\")","v":""},"",{"$f":"IF(BASE!T90=\"\",\"\",Reporte!$N90)","v":""},"",{"$f":"IFERROR(CB90*BASE!$AN$165/BASE!$AN90,\"\")","v":""},"",{"$f":"IF(BASE!U90=\"\",\"\",Reporte!$N90)","v":""},"",{"$f":"IFERROR(CF90*BASE!$AN$165/BASE!$AN90,\"\")","v":""},"",{"$f":"IF(BASE!V90=\"\",\"\",Reporte!$N90)","v":""},"",{"$f":"IFERROR(CJ90*BASE!$AN$165/BASE!$AN90,\"\")","v":""},"",{"$f":"IF(BASE!W90=\"\",\"\",Reporte!$N90)","v":""},"",{"$f":"IFERROR(CN90*BASE!$AN$165/BASE!$AN90,\"\")","v":""},"",{"$f":"IF(BASE!X90=\"\",\"\",Reporte!$N90)","v":""},"",{"$f":"IFERROR(CR90*BASE!$AN$165/BASE!$AN90,\"\")","v":""},"",{"$f":"IF(BASE!Y90=\"\",\"\",Reporte!$N90)","v":""},"",{"$f":"IFERROR(CV90*BASE!$AN$165/BASE!$AN90,\"\")","v":""},"",{"$f":"IF(BASE!Z90=\"\",\"\",Reporte!$N90)","v":""},"",{"$f":"IFERROR(CZ90*BASE!$AN$165/BASE!$AN90,\"\")","v":""},"",{"$f":"IF(BASE!AA90=\"\",\"\",Reporte!$N90)","v":""},"",{"$f":"IFERROR(DD90*BASE!$AN$165/BASE!$AN90,\"\")","v":""},"",{"$f":"IF(BASE!AB90=\"\",\"\",Reporte!$N90)","v":""},"",{"$f":"IFERROR(DH90*BASE!$AN$165/BASE!$AN90,\"\")","v":""},"",{"$f":"IF(BASE!AC90=\"\",\"\",Reporte!$N90)","v":""},"",{"$f":"IFERROR(DL90*BASE!$AN$165/BASE!$AN90,\"\")","v":""},"",{"$f":"IF(BASE!AD90=\"\",\"\",Reporte!$N90)","v":""},"",{"$f":"IFERROR(DP90*BASE!$AN$165/BASE!$AN90,\"\")","v":""},"",{"$f":"IF(BASE!AE90=\"\",\"\",Reporte!$N90)","v":""},"",{"$f":"IFERROR(DT90*BASE!$AN$165/BASE!$AN90,\"\")","v":""},"",{"$f":"IF(BASE!AF90=\"\",\"\",Reporte!$N90)","v":""},"",{"$f":"IFERROR(DX90*BASE!$AN$165/BASE!$AN90,\"\")","v":""},"",{"$f":"IF(BASE!AG90=\"\",\"\",Reporte!$N90)","v":""},"",{"$f":"IFERROR(EB90*BASE!$AN$165/BASE!$AN90,\"\")","v":""},"",{"$f":"IF(BASE!AH90=\"\",\"\",Reporte!$N90)","v":""},"",{"$f":"IFERROR(EF90*BASE!$AN$165/BASE!$AN90,\"\")","v":""},"",{"$f":"IF(BASE!AI90=\"\",\"\",Reporte!$N90)","v":""},"",{"$f":"IFERROR(EJ90*BASE!$AN$165/BASE!$AN90,\"\")","v":""},"",{"$f":"IF(BASE!AJ90=\"\",\"\",Reporte!$N90)","v":""},"",{"$f":"IFERROR(EN90*BASE!$AN$165/BASE!$AN90,\"\")","v":""},"",{"$f":"IF(BASE!AK90=\"\",\"\",Reporte!$N90)","v":""},"",{"$f":"IFERROR(ER90*BASE!$AN$165/BASE!$AN90,\"\")","v":""},"",{"$f":"IF(BASE!AL90=\"\",\"\",Reporte!$N90)","v":""},"",{"$f":"IFERROR(EV90*BASE!$AN$165/BASE!$AN90,\"\")","v":""},""]
[null,null,"Criterio Evaluación 6.2","",{"$f":"'Educacion Fisica'!E22","v":1},{"$f":"'Educacion Fisica'!F22","v":0.05},{"$f":"'Educacion Fisica'!G22","v":""},null,null,null,null,null,"Criterio Evaluación 6.2","",{"$f":"'Peso criterios carga horaria'!F91","v":2.5},{"$f":"O91*BASE!$AN$165/BASE!AN91","v":3.3178571428571431},5.7273768613974796E-3,"",{"$f":"IF(BASE!E91=\"\",\"\",Reporte!$N91)","v":""},"",{"$f":"IFERROR(T91*BASE!$AN$165/BASE!$AN91,\"\")","v":""},"",{"$f":"IF(BASE!F91=\"\",\"\",Reporte!$N91)","v":""},"",{"$f":"IFERROR(X91*BASE!$AN$165/BASE!$AN91,\"\")","v":""},"",{"$f":"IF(BASE!G91=\"\",\"\",Reporte!$N91)","v":""},"",{"$f":"IFERROR(AB91*BASE!$AN$165/BASE!$AN91,\"\")","v":""},"",{"$f":"IF(BASE!H91=\"\",\"\",Reporte!$N91)","v":""},"",{"$f":"IFERROR(AF91*BASE!$AN$165/BASE!$AN91,\"\")","v":""},"",{"$f":"IF(BASE!I91=\"\",\"\",Reporte!$N91)","v":""},"",{"$f":"IFERROR(AJ91*BASE!$AN$165/BASE!$AN91,\"\")","v":""},"",{"$f":"IF(BASE!J91=\"\",\"\",Reporte!$N91)","v":""},"",{"$f":"IFERROR(AN91*BASE!$AN$165/BASE!$AN91,\"\")","v":""},"",{"$f":"IF(BASE!K91=\"\",\"\",Reporte!$N91)","v":""},"",{"$f":"IFERROR(AR91*BASE!$AN$165/BASE!$AN91,\"\")","v":""},"",{"$f":"IF(BASE!L91=\"\",\"\",Reporte!$N91)","v":""},"",{"$f":"IFERROR(AV91*BASE!$AN$165/BASE!$AN91,\"\")","v":""},"",{"$f":"IF(BASE!M91=\"\",\"\",Reporte!$N91)","v":""},"",{"$f":"IFERROR(AZ91*BASE!$AN$165/BASE!$AN91,\"\")","v":""},"",{"$f":"IF(BASE!N91=\"\",\"\",Reporte!$N91)","v":""},"",{"$f":"IFERROR(BD91*BASE!$AN$165/BASE!$AN91,\"\")","v":""},"",{"$f":"IF(BASE!O91=\"\",\"\",Reporte!$N91)","v":""},"",{"$f":"IFERROR(BH91*BASE!$AN$165/BASE!$AN91,\"\")","v":""},"",{"$f":"IF(BASE!P91=\"\",\"\",Reporte!$N91)","v":""},"",{"$f":"IFERROR(BL91*BASE!$AN$165/BASE!$AN91,\"\")","v":""},"",{"$f":"IF(BASE!Q91=\"\",\"\",Reporte!$N91)","v":""},"",{"$f":"IFERROR(BP91*BASE!$AN$165/BASE!$AN91,\"\")","v":""},"",{"$f":"IF(BASE!R91=\"\",\"\",Reporte!$N91)","v":""},"",{"$f":"IFERROR(BT91*BASE!$AN$165/BASE!$AN91,\"\")","v":""},"",{"$f":"IF(BASE!S91=\"\",\"\",Reporte!$N91)","v":""},"",{"$f":"IFERROR(BX91*BASE!$AN$165/BASE!$AN91,\"\")","v":""},"",{"$f":"IF(BASE!T91=\"\",\"\",Reporte!$N91)","v":""},"",{"$f":"IFERROR(CB91*BASE!$AN$165/BASE!$AN91,\"\")","v":""},"",{"$f":"IF(BASE!U91=\"\",\"\",Reporte!$N91)","v":""},"",{"$f":"IFERROR(CF91*BASE!$AN$165/BASE!$AN91,\"\")","v":""},"",{"$f":"IF(BASE!V91=\"\",\"\",Reporte!$N91)","v":""},"",{"$f":"IFERROR(CJ91*BASE!$AN$165/BASE!$AN91,\"\")","v":""},"",{"$f":"IF(BASE!W91=\"\",\"\",Reporte!$N91)","v":""},"",{"$f":"IFERROR(CN91*BASE!$AN$165/BASE!$AN91,\"\")","v":""},"",{"$f":"IF(BASE!X91=\"\",\"\",Reporte!$N91)","v":""},"",{"$f":"IFERROR(CR91*BASE!$AN$165/BASE!$AN91,\"\")","v":""},"",{"$f":"IF(BASE!Y91=\"\",\"\",Reporte!$N91)","v":""},"",{"$f":"IFERROR(CV91*BASE!$AN$165/BASE!$AN91,\"\")","v":""},"",{"$f":"IF(BASE!Z91=\"\",\"\",Reporte!$N91)","v":""},"",{"$f":"IFERROR(CZ91*BASE!$AN$165/BASE!$AN91,\"\")","v":""},"",{"$f":"IF(BASE!AA91=\"\",\"\",Reporte!$N91)","v":""},"",{"$f":"IFERROR(DD91*BASE!$AN$165/BASE!$AN91,\"\")","v":""},"",{"$f":"IF(BASE!AB91=\"\",\"\",Reporte!$N91)","v":""},"",{"$f":"IFERROR(DH91*BASE!$AN$165/BASE!$AN91,\"\")","v":""},"",{"$f":"IF(BASE!AC91=\"\",\"\",Reporte!$N91)","v":""},"",{"$f":"IFERROR(DL91*BASE!$AN$165/BASE!$AN91,\"\")","v":""},"",{"$f":"IF(BASE!AD91=\"\",\"\",Reporte!$N91)","v":""},"",{"$f":"IFERROR(DP91*BASE!$AN$165/BASE!$AN91,\"\")","v":""},"",{"$f":"IF(BASE!AE91=\"\",\"\",Reporte!$N91)","v":""},"",{"$f":"IFERROR(DT91*BASE!$AN$165/BASE!$AN91,\"\")","v":""},"",{"$f":"IF(BASE!AF91=\"\",\"\",Reporte!$N91)","v":""},"",{"$f":"IFERROR(DX91*BASE!$AN$165/BASE!$AN91,\"\")","v":""},"",{"$f":"IF(BASE!AG91=\"\",\"\",Reporte!$N91)","v":""},"",{"$f":"IFERROR(EB91*BASE!$AN$165/BASE!$AN91,\"\")","v":""},"",{"$f":"IF(BASE!AH91=\"\",\"\",Reporte!$N91)","v":""},"",{"$f":"IFERROR(EF91*BASE!$AN$165/BASE!$AN91,\"\")","v":""},"",{"$f":"IF(BASE!AI91=\"\",\"\",Reporte!$N91)","v":""},"",{"$f":"IFERROR(EJ91*BASE!$AN$165/BASE!$AN91,\"\")","v":""},"",{"$f":"IF(BASE!AJ91=\"\",\"\",Reporte!$N91)","v":""},"",{"$f":"IFERROR(EN91*BASE!$AN$165/BASE!$AN91,\"\")","v":""},"",{"$f":"IF(BASE!AK91=\"\",\"\",Reporte!$N91)","v":""},"",{"$f":"IFERROR(ER91*BASE!$AN$165/BASE!$AN91,\"\")","v":""},"",{"$f":"IF(BASE!AL91=\"\",\"\",Reporte!$N91)","v":""},"",{"$f":"IFERROR(EV91*BASE!$AN$165/BASE!$AN91,\"\")","v":""},""]
[null,null,"Criterio Evaluación 6.3","",{"$f":"'Educacion Fisica'!E23","v":1},{"$f":"'Educacion Fisica'!F23","v":0.05},{"$f":"'Educacion Fisica'!G23","v":""},null,null,null,null,null,"Criterio Evaluación 6.3","",{"$f":"'Peso criterios carga horaria'!F92","v":2.5},{"$f":"O92*BASE!$AN$165/BASE!AN92","v":3.3178571428571431},5.7273768613974796E-3,"",{"$f":"IF(BASE!E92=\"\",\"\",Reporte!$N92)","v":""},"",{"$f":"IFERROR(T92*BASE!$AN$165/BASE!$AN92,\"\")","v":""},"",{"$f":"IF(BASE!F92=\"\",\"\",Reporte!$N92)","v":""},"",{"$f":"IFERROR(X92*BASE!$AN$165/BASE!$AN92,\"\")","v":""},"",{"$f":"IF(BASE!G92=\"\",\"\",Reporte!$N92)","v":""},"",{"$f":"IFERROR(AB92*BASE!$AN$165/BASE!$AN92,\"\")","v":""},"",{"$f":"IF(BASE!H92=\"\",\"\",Reporte!$N92)","v":""},"",{"$f":"IFERROR(AF92*BASE!$AN$165/BASE!$AN92,\"\")","v":""},"",{"$f":"IF(BASE!I92=\"\",\"\",Reporte!$N92)","v":""},"",{"$f":"IFERROR(AJ92*BASE!$AN$165/BASE!$AN92,\"\")","v":""},"",{"$f":"IF(BASE!J92=\"\",\"\",Reporte!$N92)","v":""},"",{"$f":"IFERROR(AN92*BASE!$AN$165/BASE!$AN92,\"\")","v":""},"",{"$f":"IF(BASE!K92=\"\",\"\",Reporte!$N92)","v":""},"",{"$f":"IFERROR(AR92*BASE!$AN$165/BASE!$AN92,\"\")","v":""},"",{"$f":"IF(BASE!L92=\"\",\"\",Reporte!$N92)","v":""},"",{"$f":"IFERROR(AV92*BASE!$AN$165/BASE!$AN92,\"\")","v":""},"",{"$f":"IF(BASE!M92=\"\",\"\",Reporte!$N92)","v":""},"",{"$f":"IFERROR(AZ92*BASE!$AN$165/BASE!$AN92,\"\")","v":""},"",{"$f":"IF(BASE!N92=\"\",\"\",Reporte!$N92)","v":""},"",{"$f":"IFERROR(BD92*BASE!$AN$165/BASE!$AN92,\"\")","v":""},"",{"$f":"IF(BASE!O92=\"\",\"\",Reporte!$N92)","v":""},"",{"$f":"IFERROR(BH92*BASE!$AN$165/BASE!$AN92,\"\")","v":""},"",{"$f":"IF(BASE!P92=\"\",\"\",Reporte!$N92)","v":""},"",{"$f":"IFERROR(BL92*BASE!$AN$165/BASE!$AN92,\"\")","v":""},"",{"$f":"IF(BASE!Q92=\"\",\"\",Reporte!$N92)","v":""},"",{"$f":"IFERROR(BP92*BASE!$AN$165/BASE!$AN92,\"\")","v":""},"",{"$f":"IF(BASE!R92=\"\",\"\",Reporte!$N92)","v":""},"",{"$f":"IFERROR(BT92*BASE!$AN$165/BASE!$AN92,\"\")","v":""},"",{"$f":"IF(BASE!S92=\"\",\"\",Reporte!$N92)","v":""},"",{"$f":"IFERROR(BX92*BASE!$AN$165/BASE!$AN92,\"\")","v":""},"",{"$f":"IF(BASE!T92=\"\",\"\",Reporte!$N92)","v":""},"",{"$f":"IFERROR(CB92*BASE!$AN$165/BASE!$AN92,\"\")","v":""},"",{"$f":"IF(BASE!U92=\"\",\"\",Reporte!$N92)","v":""},"",{"$f":"IFERROR(CF92*BASE!$AN$165/BASE!$AN92,\"\")","v":""},"",{"$f":"IF(BASE!V92=\"\",\"\",Reporte!$N92)","v":""},"",{"$f":"IFERROR(CJ92*BASE!$AN$165/BASE!$AN92,\"\")","v":""},"",{"$f":"IF(BASE!W92=\"\",\"\",Reporte!$N92)","v":""},"",{"$f":"IFERROR(CN92*BASE!$AN$165/BASE!$AN92,\"\")","v":""},"",{"$f":"IF(BASE!X92=\"\",\"\",Reporte!$N92)","v":""},"",{"$f":"IFERROR(CR92*BASE!$AN$165/BASE!$AN92,\"\")","v":""},"",{"$f":"IF(BASE!Y92=\"\",\"\",Reporte!$N92)","v":""},"",{"$f":"IFERROR(CV92*BASE!$AN$165/BASE!$AN92,\"\")","v":""},"",{"$f":"IF(BASE!Z92=\"\",\"\",Reporte!$N92)","v":""},"",{"$f":"IFERROR(CZ92*BASE!$AN$165/BASE!$AN92,\"\")","v":""},"",{"$f":"IF(BASE!AA92=\"\",\"\",Reporte!$N92)","v":""},"",{"$f":"IFERROR(DD92*BASE!$AN$165/BASE!$AN92,\"\")","v":""},"",{"$f":"IF(BASE!AB92=\"\",\"\",Reporte!$N92)","v":""},"",{"$f":"IFERROR(DH92*BASE!$AN$165/BASE!$AN92,\"\")","v":""},"",{"$f":"IF(BASE!AC92=\"\",\"\",Reporte!$N92)","v":""},"",{"$f":"IFERROR(DL92*BASE!$AN$165/BASE!$AN92,\"\")","v":""},"",{"$f":"IF(BASE!AD92=\"\",\"\",Reporte!$N92)","v":""},"",{"$f":"IFERROR(DP92*BASE!$AN$165/BASE!$AN92,\"\")","v":""},"",{"$f":"IF(BASE!AE92=\"\",\"\",Reporte!$N92)","v":""},"",{"$f":"IFERROR(DT92*BASE!$AN$165/BASE!$AN92,\"\")","v":""},"",{"$f":"IF(BASE!AF92=\"\",\"\",Reporte!$N92)","v":""},"",{"$f":"IFERROR(DX92*BASE!$AN$165/BASE!$AN92,\"\")","v":""},"",{"$f":"IF(BASE!AG92=\"\",\"\",Reporte!$N92)","v":""},"",{"$f":"IFERROR(EB92*BASE!$AN$165/BASE!$AN92,\"\")","v":""},"",{"$f":"IF(BASE!AH92=\"\",\"\",Reporte!$N92)","v":""},"",{"$f":"IFERROR(EF92*BASE!$AN$165/BASE!$AN92,\"\")","v":""},"",{"$f":"IF(BASE!AI92=\"\",\"\",Reporte!$N92)","v":""},"",{"$f":"IFERROR(EJ92*BASE!$AN$165/BASE!$AN92,\"\")","v":""},"",{"$f":"IF(BASE!AJ92=\"\",\"\",Reporte!$N92)","v":""},"",{"$f":"IFERROR(EN92*BASE!$AN$165/BASE!$AN92,\"\")","v":""},"",{"$f":"IF(BASE!AK92=\"\",\"\",Reporte!$N92)","v":""},"",{"$f":"IFERROR(ER92*BASE!$AN$165/BASE!$AN92,\"\")","v":""},"",{"$f":"IF(BASE!AL92=\"\",\"\",Reporte!$N92)","v":""},"",{"$f":"IFERROR(EV92*BASE!$AN$165/BASE!$AN92,\"\")","v":""},""]
["Lengua Castellana y Literatura","Comp. Esp. 1","Criterio Evaluación 1.1","",{"$f":"'Lengua Castellana y Lit.'!E4","v":1},{"$f":"'Lengua Castellana y Lit.'!F4","v":3.8461538461538464E-2},{"$f":"'Lengua Castellana y Lit.'!G4","v":""},{"$f":"IFERROR(SUMPRODUCT(D93:D118,E93:E118)/SUMIF(D93:D118,\">=0\",E93:E118),\"\")","v":""},null,null,"Lengua Castellana y Literatura","Comp. Esp. 1","Criterio Evaluación 1.1","",{"$f":"'Peso criterios carga horaria'!F93","v":5.5},{"$f":"O93*BASE!$AN$165/BASE!AN93","v":3.0966666666666671},1.2600229095074456E-2,"",{"$f":"IF(BASE!E93=\"\",\"\",Reporte!$N93)","v":""},"",{"$f":"IFERROR(T93*BASE!$AN$165/BASE!$AN93,\"\")","v":""},"",{"$f":"IF(BASE!F93=\"\",\"\",Reporte!$N93)","v":""},"",{"$f":"IFERROR(X93*BASE!$AN$165/BASE!$AN93,\"\")","v":""},"",{"$f":"IF(BASE!G93=\"\",\"\",Reporte!$N93)","v":""},"",{"$f":"IFERROR(AB93*BASE!$AN$165/BASE!$AN93,\"\")","v":""},"",{"$f":"IF(BASE!H93=\"\",\"\",Reporte!$N93)","v":""},"",{"$f":"IFERROR(AF93*BASE!$AN$165/BASE!$AN93,\"\")","v":""},"",{"$f":"IF(BASE!I93=\"\",\"\",Reporte!$N93)","v":""},"",{"$f":"IFERROR(AJ93*BASE!$AN$165/BASE!$AN93,\"\")","v":""},"",{"$f":"IF(BASE!J93=\"\",\"\",Reporte!$N93)","v":""},"",{"$f":"IFERROR(AN93*BASE!$AN$165/BASE!$AN93,\"\")","v":""},"",{"$f":"IF(BASE!K93=\"\",\"\",Reporte!$N93)","v":""},"",{"$f":"IFERROR(AR93*BASE!$AN$165/BASE!$AN93,\"\")","v":""},"",{"$f":"IF(BASE!L93=\"\",\"\",Reporte!$N93)","v":""},"",{"$f":"IFERROR(AV93*BASE!$AN$165/BASE!$AN93,\"\")","v":""},"",{"$f":"IF(BASE!M93=\"\",\"\",Reporte!$N93)","v":""},"",{"$f":"IFERROR(AZ93*BASE!$AN$165/BASE!$AN93,\"\")","v":""},"",{"$f":"IF(BASE!N93=\"\",\"\",Reporte!$N93)","v":""},"",{"$f":"IFERROR(BD93*BASE!$AN$165/BASE!$AN93,\"\")","v":""},"",{"$f":"IF(BASE!O93=\"\",\"\",Reporte!$N93)","v":""},"",{"$f":"IFERROR(BH93*BASE!$AN$165/BASE!$AN93,\"\")","v":""},"",{"$f":"IF(BASE!P93=\"\",\"\",Reporte!$N93)","v":""},"",{"$f":"IFERROR(BL93*BASE!$AN$165/BASE!$AN93,\"\")","v":""},"",{"$f":"IF(BASE!Q93=\"\",\"\",Reporte!$N93)","v":""},"",{"$f":"IFERROR(BP93*BASE!$AN$165/BASE!$AN93,\"\")","v":""},"",{"$f":"IF(BASE!R93=\"\",\"\",Reporte!$N93)","v":""},"",{"$f":"IFERROR(BT93*BASE!$AN$165/BASE!$AN93,\"\")","v":""},"",{"$f":"IF(BASE!S93=\"\",\"\",Reporte!$N93)","v":""},"",{"$f":"IFERROR(BX93*BASE!$AN$165/BASE!$AN93,\"\")","v":""},"",{"$f":"IF(BASE!T93=\"\",\"\",Reporte!$N93)","v":""},"",{"$f":"IFERROR(CB93*BASE!$AN$165/BASE!$AN93,\"\")","v":""},"",{"$f":"IF(BASE!U93=\"\",\"\",Reporte!$N93)","v":""},"",{"$f":"IFERROR(CF93*BASE!$AN$165/BASE!$AN93,\"\")","v":""},"",{"$f":"IF(BASE!V93=\"\",\"\",Reporte!$N93)","v":""},"",{"$f":"IFERROR(CJ93*BASE!$AN$165/BASE!$AN93,\"\")","v":""},"",{"$f":"IF(BASE!W93=\"\",\"\",Reporte!$N93)","v":""},"",{"$f":"IFERROR(CN93*BASE!$AN$165/BASE!$AN93,\"\")","v":""},"",{"$f":"IF(BASE!X93=\"\",\"\",Reporte!$N93)","v":""},"",{"$f":"IFERROR(CR93*BASE!$AN$165/BASE!$AN93,\"\")","v":""},"",{"$f":"IF(BASE!Y93=\"\",\"\",Reporte!$N93)","v":""},"",{"$f":"IFERROR(CV93*BASE!$AN$165/BASE!$AN93,\"\")","v":""},"",{"$f":"IF(BASE!Z93=\"\",\"\",Reporte!$N93)","v":""},"",{"$f":"IFERROR(CZ93*BASE!$AN$165/BASE!$AN93,\"\")","v":""},"",{"$f":"IF(BASE!AA93=\"\",\"\",Reporte!$N93)","v":""},"",{"$f":"IFERROR(DD93*BASE!$AN$165/BASE!$AN93,\"\")","v":""},"",{"$f":"IF(BASE!AB93=\"\",\"\",Reporte!$N93)","v":""},"",{"$f":"IFERROR(DH93*BASE!$AN$165/BASE!$AN93,\"\")","v":""},"",{"$f":"IF(BASE!AC93=\"\",\"\",Reporte!$N93)","v":""},"",{"$f":"IFERROR(DL93*BASE!$AN$165/BASE!$AN93,\"\")","v":""},"",{"$f":"IF(BASE!AD93=\"\",\"\",Reporte!$N93)","v":""},"",{"$f":"IFERROR(DP93*BASE!$AN$165/BASE!$AN93,\"\")","v":""},"",{"$f":"IF(BASE!AE93=\"\",\"\",Reporte!$N93)","v":""},"",{"$f":"IFERROR(DT93*BASE!$AN$165/BASE!$AN93,\"\")","v":""},"",{"$f":"IF(BASE!AF93=\"\",\"\",Reporte!$N93)","v":""},"",{"$f":"IFERROR(DX93*BASE!$AN$165/BASE!$AN93,\"\")","v":""},"",{"$f":"IF(BASE!AG93=\"\",\"\",Reporte!$N93)","v":""},"",{"$f":"IFERROR(EB93*BASE!$AN$165/BASE!$AN93,\"\")","v":""},"",{"$f":"IF(BASE!AH93=\"\",\"\",Reporte!$N93)","v":""},"",{"$f":"IFERROR(EF93*BASE!$AN$165/BASE!$AN93,\"\")","v":""},"",{"$f":"IF(BASE!AI93=\"\",\"\",Reporte!$N93)","v":""},"",{"$f":"IFERROR(EJ93*BASE!$AN$165/BASE!$AN93,\"\")","v":""},"",{"$f":"IF(BASE!AJ93=\"\",\"\",Reporte!$N93)","v":""},"",{"$f":"IFERROR(EN93*BASE!$AN$165/BASE!$AN93,\"\")","v":""},"",{"$f":"IF(BASE!AK93=\"\",\"\",Reporte!$N93)","v":""},"",{"$f":"IFERROR(ER93*BASE!$AN$165/BASE!$AN93,\"\")","v":""},"",{"$f":"IF(BASE!AL93=\"\",\"\",Reporte!$N93)","v":""},"",{"$f":"IFERROR(EV93*BASE!$AN$165/BASE!$AN93,\"\")","v":""},""]
[null,null,"Criterio Evaluación 1.2","",{"$f":"'Lengua Castellana y Lit.'!E5","v":1},{"$f":"'Lengua Castellana y Lit.'!F5","v":3.8461538461538464E-2},{"$f":"'Lengua Castellana y Lit.'!G5","v":""},null,null,null,null,null,"Criterio Evaluación 1.2","",{"$f":"'Peso criterios carga horaria'!F94","v":5.5},{"$f":"O94*BASE!$AN$165/BASE!AN94","v":3.0966666666666671},1.2600229095074456E-2,"",{"$f":"IF(BASE!E94=\"\",\"\",Reporte!$N94)","v":""},"",{"$f":"IFERROR(T94*BASE!$AN$165/BASE!$AN94,\"\")","v":""},"",{"$f":"IF(BASE!F94=\"\",\"\",Reporte!$N94)","v":""},"",{"$f":"IFERROR(X94*BASE!$AN$165/BASE!$AN94,\"\")","v":""},"",{"$f":"IF(BASE!G94=\"\",\"\",Reporte!$N94)","v":""},"",{"$f":"IFERROR(AB94*BASE!$AN$165/BASE!$AN94,\"\")","v":""},"",{"$f":"IF(BASE!H94=\"\",\"\",Reporte!$N94)","v":""},"",{"$f":"IFERROR(AF94*BASE!$AN$165/BASE!$AN94,\"\")","v":""},"",{"$f":"IF(BASE!I94=\"\",\"\",Reporte!$N94)","v":""},"",{"$f":"IFERROR(AJ94*BASE!$AN$165/BASE!$AN94,\"\")","v":""},"",{"$f":"IF(BASE!J94=\"\",\"\",Reporte!$N94)","v":""},"",{"$f":"IFERROR(AN94*BASE!$AN$165/BASE!$AN94,\"\")","v":""},"",{"$f":"IF(BASE!K94=\"\",\"\",Reporte!$N94)","v":""},"",{"$f":"IFERROR(AR94*BASE!$AN$165/BASE!$AN94,\"\")","v":""},"",{"$f":"IF(BASE!L94=\"\",\"\",Reporte!$N94)","v":""},"",{"$f":"IFERROR(AV94*BASE!$AN$165/BASE!$AN94,\"\")","v":""},"",{"$f":"IF(BASE!M94=\"\",\"\",Reporte!$N94)","v":""},"",{"$f":"IFERROR(AZ94*BASE!$AN$165/BASE!$AN94,\"\")","v":""},"",{"$f":"IF(BASE!N94=\"\",\"\",Reporte!$N94)","v":""},"",{"$f":"IFERROR(BD94*BASE!$AN$165/BASE!$AN94,\"\")","v":""},"",{"$f":"IF(BASE!O94=\"\",\"\",Reporte!$N94)","v":""},"",{"$f":"IFERROR(BH94*BASE!$AN$165/BASE!$AN94,\"\")","v":""},"",{"$f":"IF(BASE!P94=\"\",\"\",Reporte!$N94)","v":""},"",{"$f":"IFERROR(BL94*BASE!$AN$165/BASE!$AN94,\"\")","v":""},"",{"$f":"IF(BASE!Q94=\"\",\"\",Reporte!$N94)","v":""},"",{"$f":"IFERROR(BP94*BASE!$AN$165/BASE!$AN94,\"\")","v":""},"",{"$f":"IF(BASE!R94=\"\",\"\",Reporte!$N94)","v":""},"",{"$f":"IFERROR(BT94*BASE!$AN$165/BASE!$AN94,\"\")","v":""},"",{"$f":"IF(BASE!S94=\"\",\"\",Reporte!$N94)","v":""},"",{"$f":"IFERROR(BX94*BASE!$AN$165/BASE!$AN94,\"\")","v":""},"",{"$f":"IF(BASE!T94=\"\",\"\",Reporte!$N94)","v":""},"",{"$f":"IFERROR(CB94*BASE!$AN$165/BASE!$AN94,\"\")","v":""},"",{"$f":"IF(BASE!U94=\"\",\"\",Reporte!$N94)","v":""},"",{"$f":"IFERROR(CF94*BASE!$AN$165/BASE!$AN94,\"\")","v":""},"",{"$f":"IF(BASE!V94=\"\",\"\",Reporte!$N94)","v":""},"",{"$f":"IFERROR(CJ94*BASE!$AN$165/BASE!$AN94,\"\")","v":""},"",{"$f":"IF(BASE!W94=\"\",\"\",Reporte!$N94)","v":""},"",{"$f":"IFERROR(CN94*BASE!$AN$165/BASE!$AN94,\"\")","v":""},"",{"$f":"IF(BASE!X94=\"\",\"\",Reporte!$N94)","v":""},"",{"$f":"IFERROR(CR94*BASE!$AN$165/BASE!$AN94,\"\")","v":""},"",{"$f":"IF(BASE!Y94=\"\",\"\",Reporte!$N94)","v":""},"",{"$f":"IFERROR(CV94*BASE!$AN$165/BASE!$AN94,\"\")","v":""},"",{"$f":"IF(BASE!Z94=\"\",\"\",Reporte!$N94)","v":""},"",{"$f":"IFERROR(CZ94*BASE!$AN$165/BASE!$AN94,\"\")","v":""},"",{"$f":"IF(BASE!AA94=\"\",\"\",Reporte!$N94)","v":""},"",{"$f":"IFERROR(DD94*BASE!$AN$165/BASE!$AN94,\"\")","v":""},"",{"$f":"IF(BASE!AB94=\"\",\"\",Reporte!$N94)","v":""},"",{"$f":"IFERROR(DH94*BASE!$AN$165/BASE!$AN94,\"\")","v":""},"",{"$f":"IF(BASE!AC94=\"\",\"\",Reporte!$N94)","v":""},"",{"$f":"IFERROR(DL94*BASE!$AN$165/BASE!$AN94,\"\")","v":""},"",{"$f":"IF(BASE!AD94=\"\",\"\",Reporte!$N94)","v":""},"",{"$f":"IFERROR(DP94*BASE!$AN$165/BASE!$AN94,\"\")","v":""},"",{"$f":"IF(BASE!AE94=\"\",\"\",Reporte!$N94)","v":""},"",{"$f":"IFERROR(DT94*BASE!$AN$165/BASE!$AN94,\"\")","v":""},"",{"$f":"IF(BASE!AF94=\"\",\"\",Reporte!$N94)","v":""},"",{"$f":"IFERROR(DX94*BASE!$AN$165/BASE!$AN94,\"\")","v":""},"",{"$f":"IF(BASE!AG94=\"\",\"\",Reporte!$N94)","v":""},"",{"$f":"IFERROR(EB94*BASE!$AN$165/BASE!$AN94,\"\")","v":""},"",{"$f":"IF(BASE!AH94=\"\",\"\",Reporte!$N94)","v":""},"",{"$f":"IFERROR(EF94*BASE!$AN$165/BASE!$AN94,\"\")","v":""},"",{"$f":"IF(BASE!AI94=\"\",\"\",Reporte!$N94)","v":""},"",{"$f":"IFERROR(EJ94*BASE!$AN$165/BASE!$AN94,\"\")","v":""},"",{"$f":"IF(BASE!AJ94=\"\",\"\",Reporte!$N94)","v":""},"",{"$f":"IFERROR(EN94*BASE!$AN$165/BASE!$AN94,\"\")","v":""},"",{"$f":"IF(BASE!AK94=\"\",\"\",Reporte!$N94)","v":""},"",{"$f":"IFERROR(ER94*BASE!$AN$165/BASE!$AN94,\"\")","v":""},"",{"$f":"IF(BASE!AL94=\"\",\"\",Reporte!$N94)","v":""},"",{"$f":"IFERROR(EV94*BASE!$AN$165/BASE!$AN94,\"\")","v":""},""]
[null,"Comp. Esp. 2","Criterio Evaluación 2.1","",{"$f":"'Lengua Castellana y Lit.'!E6","v":1},{"$f":"'Lengua Castellana y Lit.'!F6","v":3.8461538461538464E-2},{"$f":"'Lengua Castellana y Lit.'!G6","v":""},null,null,null,null,"Comp. Esp. 2","Criterio Evaluación 2.1","",{"$f":"'Peso criterios carga horaria'!F95","v":5.5},{"$f":"O95*BASE!$AN$165/BASE!AN95","v":3.0966666666666671},1.2600229095074456E-2,"",{"$f":"IF(BASE!E95=\"\",\"\",Reporte!$N95)","v":""},"",{"$f":"IFERROR(T95*BASE!$AN$165/BASE!$AN95,\"\")","v":""},"",{"$f":"IF(BASE!F95=\"\",\"\",Reporte!$N95)","v":""},"",{"$f":"IFERROR(X95*BASE!$AN$165/BASE!$AN95,\"\")","v":""},"",{"$f":"IF(BASE!G95=\"\",\"\",Reporte!$N95)","v":""},"",{"$f":"IFERROR(AB95*BASE!$AN$165/BASE!$AN95,\"\")","v":""},"",{"$f":"IF(BASE!H95=\"\",\"\",Reporte!$N95)","v":""},"",{"$f":"IFERROR(AF95*BASE!$AN$165/BASE!$AN95,\"\")","v":""},"",{"$f":"IF(BASE!I95=\"\",\"\",Reporte!$N95)","v":""},"",{"$f":"IFERROR(AJ95*BASE!$AN$165/BASE!$AN95,\"\")","v":""},"",{"$f":"IF(BASE!J95=\"\",\"\",Reporte!$N95)","v":""},"",{"$f":"IFERROR(AN95*BASE!$AN$165/BASE!$AN95,\"\")","v":""},"",{"$f":"IF(BASE!K95=\"\",\"\",Reporte!$N95)","v":""},"",{"$f":"IFERROR(AR95*BASE!$AN$165/BASE!$AN95,\"\")","v":""},"",{"$f":"IF(BASE!L95=\"\",\"\",Reporte!$N95)","v":""},"",{"$f":"IFERROR(AV95*BASE!$AN$165/BASE!$AN95,\"\")","v":""},"",{"$f":"IF(BASE!M95=\"\",\"\",Reporte!$N95)","v":""},"",{"$f":"IFERROR(AZ95*BASE!$AN$165/BASE!$AN95,\"\")","v":""},"",{"$f":"IF(BASE!N95=\"\",\"\",Reporte!$N95)","v":""},"",{"$f":"IFERROR(BD95*BASE!$AN$165/BASE!$AN95,\"\")","v":""},"",{"$f":"IF(BASE!O95=\"\",\"\",Reporte!$N95)","v":""},"",{"$f":"IFERROR(BH95*BASE!$AN$165/BASE!$AN95,\"\")","v":""},"",{"$f":"IF(BASE!P95=\"\",\"\",Reporte!$N95)","v":""},"",{"$f":"IFERROR(BL95*BASE!$AN$165/BASE!$AN95,\"\")","v":""},"",{"$f":"IF(BASE!Q95=\"\",\"\",Reporte!$N95)","v":""},"",{"$f":"IFERROR(BP95*BASE!$AN$165/BASE!$AN95,\"\")","v":""},"",{"$f":"IF(BASE!R95=\"\",\"\",Reporte!$N95)","v":""},"",{"$f":"IFERROR(BT95*BASE!$AN$165/BASE!$AN95,\"\")","v":""},"",{"$f":"IF(BASE!S95=\"\",\"\",Reporte!$N95)","v":""},"",{"$f":"IFERROR(BX95*BASE!$AN$165/BASE!$AN95,\"\")","v":""},"",{"$f":"IF(BASE!T95=\"\",\"\",Reporte!$N95)","v":""},"",{"$f":"IFERROR(CB95*BASE!$AN$165/BASE!$AN95,\"\")","v":""},"",{"$f":"IF(BASE!U95=\"\",\"\",Reporte!$N95)","v":""},"",{"$f":"IFERROR(CF95*BASE!$AN$165/BASE!$AN95,\"\")","v":""},"",{"$f":"IF(BASE!V95=\"\",\"\",Reporte!$N95)","v":""},"",{"$f":"IFERROR(CJ95*BASE!$AN$165/BASE!$AN95,\"\")","v":""},"",{"$f":"IF(BASE!W95=\"\",\"\",Reporte!$N95)","v":""},"",{"$f":"IFERROR(CN95*BASE!$AN$165/BASE!$AN95,\"\")","v":""},"",{"$f":"IF(BASE!X95=\"\",\"\",Reporte!$N95)","v":""},"",{"$f":"IFERROR(CR95*BASE!$AN$165/BASE!$AN95,\"\")","v":""},"",{"$f":"IF(BASE!Y95=\"\",\"\",Reporte!$N95)","v":""},"",{"$f":"IFERROR(CV95*BASE!$AN$165/BASE!$AN95,\"\")","v":""},"",{"$f":"IF(BASE!Z95=\"\",\"\",Reporte!$N95)","v":""},"",{"$f":"IFERROR(CZ95*BASE!$AN$165/BASE!$AN95,\"\")","v":""},"",{"$f":"IF(BASE!AA95=\"\",\"\",Reporte!$N95)","v":""},"",{"$f":"IFERROR(DD95*BASE!$AN$165/BASE!$AN95,\"\")","v":""},"",{"$f":"IF(BASE!AB95=\"\",\"\",Reporte!$N95)","v":""},"",{"$f":"IFERROR(DH95*BASE!$AN$165/BASE!$AN95,\"\")","v":""},"",{"$f":"IF(BASE!AC95=\"\",\"\",Reporte!$N95)","v":""},"",{"$f":"IFERROR(DL95*BASE!$AN$165/BASE!$AN95,\"\")","v":""},"",{"$f":"IF(BASE!AD95=\"\",\"\",Reporte!$N95)","v":""},"",{"$f":"IFERROR(DP95*BASE!$AN$165/BASE!$AN95,\"\")","v":""},"",{"$f":"IF(BASE!AE95=\"\",\"\",Reporte!$N95)","v":""},"",{"$f":"IFERROR(DT95*BASE!$AN$165/BASE!$AN95,\"\")","v":""},"",{"$f":"IF(BASE!AF95=\"\",\"\",Reporte!$N95)","v":""},"",{"$f":"IFERROR(DX95*BASE!$AN$165/BASE!$AN95,\"\")","v":""},"",{"$f":"IF(BASE!AG95=\"\",\"\",Reporte!$N95)","v":""},"",{"$f":"IFERROR(EB95*BASE!$AN$165/BASE!$AN95,\"\")","v":""},"",{"$f":"IF(BASE!AH95=\"\",\"\",Reporte!$N95)","v":""},"",{"$f":"IFERROR(EF95*BASE!$AN$165/BASE!$AN95,\"\")","v":""},"",{"$f":"IF(BASE!AI95=\"\",\"\",Reporte!$N95)","v":""},"",{"$f":"IFERROR(EJ95*BASE!$AN$165/BASE!$AN95,\"\")","v":""},"",{"$f":"IF(BASE!AJ95=\"\",\"\",Reporte!$N95)","v":""},"",{"$f":"IFERROR(EN95*BASE!$AN$165/BASE!$AN95,\"\")","v":""},"",{"$f":"IF(BASE!AK95=\"\",\"\",Reporte!$N95)","v":""},"",{"$f":"IFERROR(ER95*BASE!$AN$165/BASE!$AN95,\"\")","v":""},"",{"$f":"IF(BASE!AL95=\"\",\"\",Reporte!$N95)","v":""},"",{"$f":"IFERROR(EV95*BASE!$AN$165/BASE!$AN95,\"\")","v":""},""]
[null,null,"Criterio Evaluación 2.2","",{"$f":"'Lengua Castellana y Lit.'!E7","v":1},{"$f":"'Lengua Castellana y Lit.'!F7","v":3.8461538461538464E-2},{"$f":"'Lengua Castellana y Lit.'!G7","v":""},null,null,null,null,null,"Criterio Evaluación 2.2","",{"$f":"'Peso criterios carga horaria'!F96","v":5.5},{"$f":"O96*BASE!$AN$165/BASE!AN96","v":3.0966666666666671},1.2600229095074456E-2,"",{"$f":"IF(BASE!E96=\"\",\"\",Reporte!$N96)","v":""},"",{"$f":"IFERROR(T96*BASE!$AN$165/BASE!$AN96,\"\")","v":""},"",{"$f":"IF(BASE!F96=\"\",\"\",Reporte!$N96)","v":""},"",{"$f":"IFERROR(X96*BASE!$AN$165/BASE!$AN96,\"\")","v":""},"",{"$f":"IF(BASE!G96=\"\",\"\",Reporte!$N96)","v":""},"",{"$f":"IFERROR(AB96*BASE!$AN$165/BASE!$AN96,\"\")","v":""},"",{"$f":"IF(BASE!H96=\"\",\"\",Reporte!$N96)","v":""},"",{"$f":"IFERROR(AF96*BASE!$AN$165/BASE!$AN96,\"\")","v":""},"",{"$f":"IF(BASE!I96=\"\",\"\",Reporte!$N96)","v":""},"",{"$f":"IFERROR(AJ96*BASE!$AN$165/BASE!$AN96,\"\")","v":""},"",{"$f":"IF(BASE!J96=\"\",\"\",Reporte!$N96)","v":""},"",{"$f":"IFERROR(AN96*BASE!$AN$165/BASE!$AN96,\"\")","v":""},"",{"$f":"IF(BASE!K96=\"\",\"\",Reporte!$N96)","v":""},"",{"$f":"IFERROR(AR96*BASE!$AN$165/BASE!$AN96,\"\")","v":""},"",{"$f":"IF(BASE!L96=\"\",\"\",Reporte!$N96)","v":""},"",{"$f":"IFERROR(AV96*BASE!$AN$165/BASE!$AN96,\"\")","v":""},"",{"$f":"IF(BASE!M96=\"\",\"\",Reporte!$N96)","v":""},"",{"$f":"IFERROR(AZ96*BASE!$AN$165/BASE!$AN96,\"\")","v":""},"",{"$f":"IF(BASE!N96=\"\",\"\",Reporte!$N96)","v":""},"",{"$f":"IFERROR(BD96*BASE!$AN$165/BASE!$AN96,\"\")","v":""},"",{"$f":"IF(BASE!O96=\"\",\"\",Reporte!$N96)","v":""},"",{"$f":"IFERROR(BH96*BASE!$AN$165/BASE!$AN96,\"\")","v":""},"",{"$f":"IF(BASE!P96=\"\",\"\",Reporte!$N96)","v":""},"",{"$f":"IFERROR(BL96*BASE!$AN$165/BASE!$AN96,\"\")","v":""},"",{"$f":"IF(BASE!Q96=\"\",\"\",Reporte!$N96)","v":""},"",{"$f":"IFERROR(BP96*BASE!$AN$165/BASE!$AN96,\"\")","v":""},"",{"$f":"IF(BASE!R96=\"\",\"\",Reporte!$N96)","v":""},"",{"$f":"IFERROR(BT96*BASE!$AN$165/BASE!$AN96,\"\")","v":""},"",{"$f":"IF(BASE!S96=\"\",\"\",Reporte!$N96)","v":""},"",{"$f":"IFERROR(BX96*BASE!$AN$165/BASE!$AN96,\"\")","v":""},"",{"$f":"IF(BASE!T96=\"\",\"\",Reporte!$N96)","v":""},"",{"$f":"IFERROR(CB96*BASE!$AN$165/BASE!$AN96,\"\")","v":""},"",{"$f":"IF(BASE!U96=\"\",\"\",Reporte!$N96)","v":""},"",{"$f":"IFERROR(CF96*BASE!$AN$165/BASE!$AN96,\"\")","v":""},"",{"$f":"IF(BASE!V96=\"\",\"\",Reporte!$N96)","v":""},"",{"$f":"IFERROR(CJ96*BASE!$AN$165/BASE!$AN96,\"\")","v":""},"",{"$f":"IF(BASE!W96=\"\",\"\",Reporte!$N96)","v":""},"",{"$f":"IFERROR(CN96*BASE!$AN$165/BASE!$AN96,\"\")","v":""},"",{"$f":"IF(BASE!X96=\"\",\"\",Reporte!$N96)","v":""},"",{"$f":"IFERROR(CR96*BASE!$AN$165/BASE!$AN96,\"\")","v":""},"",{"$f":"IF(BASE!Y96=\"\",\"\",Reporte!$N96)","v":""},"",{"$f":"IFERROR(CV96*BASE!$AN$165/BASE!$AN96,\"\")","v":""},"",{"$f":"IF(BASE!Z96=\"\",\"\",Reporte!$N96)","v":""},"",{"$f":"IFERROR(CZ96*BASE!$AN$165/BASE!$AN96,\"\")","v":""},"",{"$f":"IF(BASE!AA96=\"\",\"\",Reporte!$N96)","v":""},"",{"$f":"IFERROR(DD96*BASE!$AN$165/BASE!$AN96,\"\")","v":""},"",{"$f":"IF(BASE!AB96=\"\",\"\",Reporte!$N96)","v":""},"",{"$f":"IFERROR(DH96*BASE!$AN$165/BASE!$AN96,\"\")","v":""},"",{"$f":"IF(BASE!AC96=\"\",\"\",Reporte!$N96)","v":""},"",{"$f":"IFERROR(DL96*BASE!$AN$165/BASE!$AN96,\"\")","v":""},"",{"$f":"IF(BASE!AD96=\"\",\"\",Reporte!$N96)","v":""},"",{"$f":"IFERROR(DP96*BASE!$AN$165/BASE!$AN96,\"\")","v":""},"",{"$f":"IF(BASE!AE96=\"\",\"\",Reporte!$N96)","v":""},"",{"$f":"IFERROR(DT96*BASE!$AN$165/BASE!$AN96,\"\")","v":""},"",{"$f":"IF(BASE!AF96=\"\",\"\",Reporte!$N96)","v":""},"",{"$f":"IFERROR(DX96*BASE!$AN$165/BASE!$AN96,\"\")","v":""},"",{"$f":"IF(BASE!AG96=\"\",\"\",Reporte!$N96)","v":""},"",{"$f":"IFERROR(EB96*BASE!$AN$165/BASE!$AN96,\"\")","v":""},"",{"$f":"IF(BASE!AH96=\"\",\"\",Reporte!$N96)","v":""},"",{"$f":"IFERROR(EF96*BASE!$AN$165/BASE!$AN96,\"\")","v":""},"",{"$f":"IF(BASE!AI96=\"\",\"\",Reporte!$N96)","v":""},"",{"$f":"IFERROR(EJ96*BASE!$AN$165/BASE!$AN96,\"\")","v":""},"",{"$f":"IF(BASE!AJ96=\"\",\"\",Reporte!$N96)","v":""},"",{"$f":"IFERROR(EN96*BASE!$AN$165/BASE!$AN96,\"\")","v":""},"",{"$f":"IF(BASE!AK96=\"\",\"\",Reporte!$N96)","v":""},"",{"$f":"IFERROR(ER96*BASE!$AN$165/BASE!$AN96,\"\")","v":""},"",{"$f":"IF(BASE!AL96=\"\",\"\",Reporte!$N96)","v":""},"",{"$f":"IFERROR(EV96*BASE!$AN$165/BASE!$AN96,\"\")","v":""},""]
[null,"Comp. Esp. 3","Criterio Evaluación 3.1","",{"$f":"'Lengua Castellana y Lit.'!E8","v":1},{"$f":"'Lengua Castellana y Lit.'!F8","v":3.8461538461538464E-2},{"$f":"'Lengua Castellana y Lit.'!G8","v":""},null,null,null,null,"Comp. Esp. 3","Criterio Evaluación 3.1","",{"$f":"'Peso criterios carga horaria'!F97","v":5.5},{"$f":"O97*BASE!$AN$165/BASE!AN97","v":3.0966666666666671},1.2600229095074456E-2,"",{"$f":"IF(BASE!E97=\"\",\"\",Reporte!$N97)","v":""},"",{"$f":"IFERROR(T97*BASE!$AN$165/BASE!$AN97,\"\")","v":""},"",{"$f":"IF(BASE!F97=\"\",\"\",Reporte!$N97)","v":""},"",{"$f":"IFERROR(X97*BASE!$AN$165/BASE!$AN97,\"\")","v":""},"",{"$f":"IF(BASE!G97=\"\",\"\",Reporte!$N97)","v":""},"",{"$f":"IFERROR(AB97*BASE!$AN$165/BASE!$AN97,\"\")","v":""},"",{"$f":"IF(BASE!H97=\"\",\"\",Reporte!$N97)","v":""},"",{"$f":"IFERROR(AF97*BASE!$AN$165/BASE!$AN97,\"\")","v":""},"",{"$f":"IF(BASE!I97=\"\",\"\",Reporte!$N97)","v":""},"",{"$f":"IFERROR(AJ97*BASE!$AN$165/BASE!$AN97,\"\")","v":""},"",{"$f":"IF(BASE!J97=\"\",\"\",Reporte!$N97)","v":""},"",{"$f":"IFERROR(AN97*BASE!$AN$165/BASE!$AN97,\"\")","v":""},"",{"$f":"IF(BASE!K97=\"\",\"\",Reporte!$N97)","v":""},"",{"$f":"IFERROR(AR97*BASE!$AN$165/BASE!$AN97,\"\")","v":""},"",{"$f":"IF(BASE!L97=\"\",\"\",Reporte!$N97)","v":""},"",{"$f":"IFERROR(AV97*BASE!$AN$165/BASE!$AN97,\"\")","v":""},"",{"$f":"IF(BASE!M97=\"\",\"\",Reporte!$N97)","v":""},"",{"$f":"IFERROR(AZ97*BASE!$AN$165/BASE!$AN97,\"\")","v":""},"",{"$f":"IF(BASE!N97=\"\",\"\",Reporte!$N97)","v":""},"",{"$f":"IFERROR(BD97*BASE!$AN$165/BASE!$AN97,\"\")","v":""},"",{"$f":"IF(BASE!O97=\"\",\"\",Reporte!$N97)","v":""},"",{"$f":"IFERROR(BH97*BASE!$AN$165/BASE!$AN97,\"\")","v":""},"",{"$f":"IF(BASE!P97=\"\",\"\",Reporte!$N97)","v":""},"",{"$f":"IFERROR(BL97*BASE!$AN$165/BASE!$AN97,\"\")","v":""},"",{"$f":"IF(BASE!Q97=\"\",\"\",Reporte!$N97)","v":""},"",{"$f":"IFERROR(BP97*BASE!$AN$165/BASE!$AN97,\"\")","v":""},"",{"$f":"IF(BASE!R97=\"\",\"\",Reporte!$N97)","v":""},"",{"$f":"IFERROR(BT97*BASE!$AN$165/BASE!$AN97,\"\")","v":""},"",{"$f":"IF(BASE!S97=\"\",\"\",Reporte!$N97)","v":""},"",{"$f":"IFERROR(BX97*BASE!$AN$165/BASE!$AN97,\"\")","v":""},"",{"$f":"IF(BASE!T97=\"\",\"\",Reporte!$N97)","v":""},"",{"$f":"IFERROR(CB97*BASE!$AN$165/BASE!$AN97,\"\")","v":""},"",{"$f":"IF(BASE!U97=\"\",\"\",Reporte!$N97)","v":""},"",{"$f":"IFERROR(CF97*BASE!$AN$165/BASE!$AN97,\"\")","v":""},"",{"$f":"IF(BASE!V97=\"\",\"\",Reporte!$N97)","v":""},"",{"$f":"IFERROR(CJ97*BASE!$AN$165/BASE!$AN97,\"\")","v":""},"",{"$f":"IF(BASE!W97=\"\",\"\",Reporte!$N97)","v":""},"",{"$f":"IFERROR(CN97*BASE!$AN$165/BASE!$AN97,\"\")","v":""},"",{"$f":"IF(BASE!X97=\"\",\"\",Reporte!$N97)","v":""},"",{"$f":"IFERROR(CR97*BASE!$AN$165/BASE!$AN97,\"\")","v":""},"",{"$f":"IF(BASE!Y97=\"\",\"\",Reporte!$N97)","v":""},"",{"$f":"IFERROR(CV97*BASE!$AN$165/BASE!$AN97,\"\")","v":""},"",{"$f":"IF(BASE!Z97=\"\",\"\",Reporte!$N97)","v":""},"",{"$f":"IFERROR(CZ97*BASE!$AN$165/BASE!$AN97,\"\")","v":""},"",{"$f":"IF(BASE!AA97=\"\",\"\",Reporte!$N97)","v":""},"",{"$f":"IFERROR(DD97*BASE!$AN$165/BASE!$AN97,\"\")","v":""},"",{"$f":"IF(BASE!AB97=\"\",\"\",Reporte!$N97)","v":""},"",{"$f":"IFERROR(DH97*BASE!$AN$165/BASE!$AN97,\"\")","v":""},"",{"$f":"IF(BASE!AC97=\"\",\"\",Reporte!$N97)","v":""},"",{"$f":"IFERROR(DL97*BASE!$AN$165/BASE!$AN97,\"\")","v":""},"",{"$f":"IF(BASE!AD97=\"\",\"\",Reporte!$N97)","v":""},"",{"$f":"IFERROR(DP97*BASE!$AN$165/BASE!$AN97,\"\")","v":""},"",{"$f":"IF(BASE!AE97=\"\",\"\",Reporte!$N97)","v":""},"",{"$f":"IFERROR(DT97*BASE!$AN$165/BASE!$AN97,\"\")","v":""},"",{"$f":"IF(BASE!AF97=\"\",\"\",Reporte!$N97)","v":""},"",{"$f":"IFERROR(DX97*BASE!$AN$165/BASE!$AN97,\"\")","v":""},"",{"$f":"IF(BASE!AG97=\"\",\"\",Reporte!$N97)","v":""},"",{"$f":"IFERROR(EB97*BASE!$AN$165/BASE!$AN97,\"\")","v":""},"",{"$f":"IF(BASE!AH97=\"\",\"\",Reporte!$N97)","v":""},"",{"$f":"IFERROR(EF97*BASE!$AN$165/BASE!$AN97,\"\")","v":""},"",{"$f":"IF(BASE!AI97=\"\",\"\",Reporte!$N97)","v":""},"",{"$f":"IFERROR(EJ97*BASE!$AN$165/BASE!$AN97,\"\")","v":""},"",{"$f":"IF(BASE!AJ97=\"\",\"\",Reporte!$N97)","v":""},"",{"$f":"IFERROR(EN97*BASE!$AN$165/BASE!$AN97,\"\")","v":""},"",{"$f":"IF(BASE!AK97=\"\",\"\",Reporte!$N97)","v":""},"",{"$f":"IFERROR(ER97*BASE!$AN$165/BASE!$AN97,\"\")","v":""},"",{"$f":"IF(BASE!AL97=\"\",\"\",Reporte!$N97)","v":""},"",{"$f":"IFERROR(EV97*BASE!$AN$165/BASE!$AN97,\"\")","v":""},""]
[null,null,"Criterio Evaluación 3.2","",{"$f":"'Lengua Castellana y Lit.'!E9","v":1},{"$f":"'Lengua Castellana y Lit.'!F9","v":3.8461538461538464E-2},{"$f":"'Lengua Castellana y Lit.'!G9","v":""},null,null,null,null,null,"Criterio Evaluación 3.2","",{"$f":"'Peso criterios carga horaria'!F98","v":5.5},{"$f":"O98*BASE!$AN$165/BASE!AN98","v":3.0966666666666671},1.2600229095074456E-2,"",{"$f":"IF(BASE!E98=\"\",\"\",Reporte!$N98)","v":""},"",{"$f":"IFERROR(T98*BASE!$AN$165/BASE!$AN98,\"\")","v":""},"",{"$f":"IF(BASE!F98=\"\",\"\",Reporte!$N98)","v":""},"",{"$f":"IFERROR(X98*BASE!$AN$165/BASE!$AN98,\"\")","v":""},"",{"$f":"IF(BASE!G98=\"\",\"\",Reporte!$N98)","v":""},"",{"$f":"IFERROR(AB98*BASE!$AN$165/BASE!$AN98,\"\")","v":""},"",{"$f":"IF(BASE!H98=\"\",\"\",Reporte!$N98)","v":""},"",{"$f":"IFERROR(AF98*BASE!$AN$165/BASE!$AN98,\"\")","v":""},"",{"$f":"IF(BASE!I98=\"\",\"\",Reporte!$N98)","v":""},"",{"$f":"IFERROR(AJ98*BASE!$AN$165/BASE!$AN98,\"\")","v":""},"",{"$f":"IF(BASE!J98=\"\",\"\",Reporte!$N98)","v":""},"",{"$f":"IFERROR(AN98*BASE!$AN$165/BASE!$AN98,\"\")","v":""},"",{"$f":"IF(BASE!K98=\"\",\"\",Reporte!$N98)","v":""},"",{"$f":"IFERROR(AR98*BASE!$AN$165/BASE!$AN98,\"\")","v":""},"",{"$f":"IF(BASE!L98=\"\",\"\",Reporte!$N98)","v":""},"",{"$f":"IFERROR(AV98*BASE!$AN$165/BASE!$AN98,\"\")","v":""},"",{"$f":"IF(BASE!M98=\"\",\"\",Reporte!$N98)","v":""},"",{"$f":"IFERROR(AZ98*BASE!$AN$165/BASE!$AN98,\"\")","v":""},"",{"$f":"IF(BASE!N98=\"\",\"\",Reporte!$N98)","v":""},"",{"$f":"IFERROR(BD98*BASE!$AN$165/BASE!$AN98,\"\")","v":""},"",{"$f":"IF(BASE!O98=\"\",\"\",Reporte!$N98)","v":""},"",{"$f":"IFERROR(BH98*BASE!$AN$165/BASE!$AN98,\"\")","v":""},"",{"$f":"IF(BASE!P98=\"\",\"\",Reporte!$N98)","v":""},"",{"$f":"IFERROR(BL98*BASE!$AN$165/BASE!$AN98,\"\")","v":""},"",{"$f":"IF(BASE!Q98=\"\",\"\",Reporte!$N98)","v":""},"",{"$f":"IFERROR(BP98*BASE!$AN$165/BASE!$AN98,\"\")","v":""},"",{"$f":"IF(BASE!R98=\"\",\"\",Reporte!$N98)","v":""},"",{"$f":"IFERROR(BT98*BASE!$AN$165/BASE!$AN98,\"\")","v":""},"",{"$f":"IF(BASE!S98=\"\",\"\",Reporte!$N98)","v":""},"",{"$f":"IFERROR(BX98*BASE!$AN$165/BASE!$AN98,\"\")","v":""},"",{"$f":"IF(BASE!T98=\"\",\"\",Reporte!$N98)","v":""},"",{"$f":"IFERROR(CB98*BASE!$AN$165/BASE!$AN98,\"\")","v":""},"",{"$f":"IF(BASE!U98=\"\",\"\",Reporte!$N98)","v":""},"",{"$f":"IFERROR(CF98*BASE!$AN$165/BASE!$AN98,\"\")","v":""},"",{"$f":"IF(BASE!V98=\"\",\"\",Reporte!$N98)","v":""},"",{"$f":"IFERROR(CJ98*BASE!$AN$165/BASE!$AN98,\"\")","v":""},"",{"$f":"IF(BASE!W98=\"\",\"\",Reporte!$N98)","v":""},"",{"$f":"IFERROR(CN98*BASE!$AN$165/BASE!$AN98,\"\")","v":""},"",{"$f":"IF(BASE!X98=\"\",\"\",Reporte!$N98)","v":""},"",{"$f":"IFERROR(CR98*BASE!$AN$165/BASE!$AN98,\"\")","v":""},"",{"$f":"IF(BASE!Y98=\"\",\"\",Reporte!$N98)","v":""},"",{"$f":"IFERROR(CV98*BASE!$AN$165/BASE!$AN98,\"\")","v":""},"",{"$f":"IF(BASE!Z98=\"\",\"\",Reporte!$N98)","v":""},"",{"$f":"IFERROR(CZ98*BASE!$AN$165/BASE!$AN98,\"\")","v":""},"",{"$f":"IF(BASE!AA98=\"\",\"\",Reporte!$N98)","v":""},"",{"$f":"IFERROR(DD98*BASE!$AN$165/BASE!$AN98,\"\")","v":""},"",{"$f":"IF(BASE!AB98=\"\",\"\",Reporte!$N98)","v":""},"",{"$f":"IFERROR(DH98*BASE!$AN$165/BASE!$AN98,\"\")","v":""},"",{"$f":"IF(BASE!AC98=\"\",\"\",Reporte!$N98)","v":""},"",{"$f":"IFERROR(DL98*BASE!$AN$165/BASE!$AN98,\"\")","v":""},"",{"$f":"IF(BASE!AD98=\"\",\"\",Reporte!$N98)","v":""},"",{"$f":"IFERROR(DP98*BASE!$AN$165/BASE!$AN98,\"\")","v":""},"",{"$f":"IF(BASE!AE98=\"\",\"\",Reporte!$N98)","v":""},"",{"$f":"IFERROR(DT98*BASE!$AN$165/BASE!$AN98,\"\")","v":""},"",{"$f":"IF(BASE!AF98=\"\",\"\",Reporte!$N98)","v":""},"",{"$f":"IFERROR(DX98*BASE!$AN$165/BASE!$AN98,\"\")","v":""},"",{"$f":"IF(BASE!AG98=\"\",\"\",Reporte!$N98)","v":""},"",{"$f":"IFERROR(EB98*BASE!$AN$165/BASE!$AN98,\"\")","v":""},"",{"$f":"IF(BASE!AH98=\"\",\"\",Reporte!$N98)","v":""},"",{"$f":"IFERROR(EF98*BASE!$AN$165/BASE!$AN98,\"\")","v":""},"",{"$f":"IF(BASE!AI98=\"\",\"\",Reporte!$N98)","v":""},"",{"$f":"IFERROR(EJ98*BASE!$AN$165/BASE!$AN98,\"\")","v":""},"",{"$f":"IF(BASE!AJ98=\"\",\"\",Reporte!$N98)","v":""},"",{"$f":"IFERROR(EN98*BASE!$AN$165/BASE!$AN98,\"\")","v":""},"",{"$f":"IF(BASE!AK98=\"\",\"\",Reporte!$N98)","v":""},"",{"$f":"IFERROR(ER98*BASE!$AN$165/BASE!$AN98,\"\")","v":""},"",{"$f":"IF(BASE!AL98=\"\",\"\",Reporte!$N98)","v":""},"",{"$f":"IFERROR(EV98*BASE!$AN$165/BASE!$AN98,\"\")","v":""},""]
[null,null,"Criterio Evaluación 3.3","",{"$f":"'Lengua Castellana y Lit.'!E10","v":1},{"$f":"'Lengua Castellana y Lit.'!F10","v":3.8461538461538464E-2},{"$f":"'Lengua Castellana y Lit.'!G10","v":""},null,null,null,null,null,"Criterio Evaluación 3.3","",{"$f":"'Peso criterios carga horaria'!F99","v":5.5},{"$f":"O99*BASE!$AN$165/BASE!AN99","v":3.0966666666666671},1.2600229095074456E-2,"",{"$f":"IF(BASE!E99=\"\",\"\",Reporte!$N99)","v":""},"",{"$f":"IFERROR(T99*BASE!$AN$165/BASE!$AN99,\"\")","v":""},"",{"$f":"IF(BASE!F99=\"\",\"\",Reporte!$N99)","v":""},"",{"$f":"IFERROR(X99*BASE!$AN$165/BASE!$AN99,\"\")","v":""},"",{"$f":"IF(BASE!G99=\"\",\"\",Reporte!$N99)","v":""},"",{"$f":"IFERROR(AB99*BASE!$AN$165/BASE!$AN99,\"\")","v":""},"",{"$f":"IF(BASE!H99=\"\",\"\",Reporte!$N99)","v":""},"",{"$f":"IFERROR(AF99*BASE!$AN$165/BASE!$AN99,\"\")","v":""},"",{"$f":"IF(BASE!I99=\"\",\"\",Reporte!$N99)","v":""},"",{"$f":"IFERROR(AJ99*BASE!$AN$165/BASE!$AN99,\"\")","v":""},"",{"$f":"IF(BASE!J99=\"\",\"\",Reporte!$N99)","v":""},"",{"$f":"IFERROR(AN99*BASE!$AN$165/BASE!$AN99,\"\")","v":""},"",{"$f":"IF(BASE!K99=\"\",\"\",Reporte!$N99)","v":""},"",{"$f":"IFERROR(AR99*BASE!$AN$165/BASE!$AN99,\"\")","v":""},"",{"$f":"IF(BASE!L99=\"\",\"\",Reporte!$N99)","v":""},"",{"$f":"IFERROR(AV99*BASE!$AN$165/BASE!$AN99,\"\")","v":""},"",{"$f":"IF(BASE!M99=\"\",\"\",Reporte!$N99)","v":""},"",{"$f":"IFERROR(AZ99*BASE!$AN$165/BASE!$AN99,\"\")","v":""},"",{"$f":"IF(BASE!N99=\"\",\"\",Reporte!$N99)","v":""},"",{"$f":"IFERROR(BD99*BASE!$AN$165/BASE!$AN99,\"\")","v":""},"",{"$f":"IF(BASE!O99=\"\",\"\",Reporte!$N99)","v":""},"",{"$f":"IFERROR(BH99*BASE!$AN$165/BASE!$AN99,\"\")","v":""},"",{"$f":"IF(BASE!P99=\"\",\"\",Reporte!$N99)","v":""},"",{"$f":"IFERROR(BL99*BASE!$AN$165/BASE!$AN99,\"\")","v":""},"",{"$f":"IF(BASE!Q99=\"\",\"\",Reporte!$N99)","v":""},"",{"$f":"IFERROR(BP99*BASE!$AN$165/BASE!$AN99,\"\")","v":""},"",{"$f":"IF(BASE!R99=\"\",\"\",Reporte!$N99)","v":""},"",{"$f":"IFERROR(BT99*BASE!$AN$165/BASE!$AN99,\"\")","v":""},"",{"$f":"IF(BASE!S99=\"\",\"\",Reporte!$N99)","v":""},"",{"$f":"IFERROR(BX99*BASE!$AN$165/BASE!$AN99,\"\")","v":""},"",{"$f":"IF(BASE!T99=\"\",\"\",Reporte!$N99)","v":""},"",{"$f":"IFERROR(CB99*BASE!$AN$165/BASE!$AN99,\"\")","v":""},"",{"$f":"IF(BASE!U99=\"\",\"\",Reporte!$N99)","v":""},"",{"$f":"IFERROR(CF99*BASE!$AN$165/BASE!$AN99,\"\")","v":""},"",{"$f":"IF(BASE!V99=\"\",\"\",Reporte!$N99)","v":""},"",{"$f":"IFERROR(CJ99*BASE!$AN$165/BASE!$AN99,\"\")","v":""},"",{"$f":"IF(BASE!W99=\"\",\"\",Reporte!$N99)","v":""},"",{"$f":"IFERROR(CN99*BASE!$AN$165/BASE!$AN99,\"\")","v":""},"",{"$f":"IF(BASE!X99=\"\",\"\",Reporte!$N99)","v":""},"",{"$f":"IFERROR(CR99*BASE!$AN$165/BASE!$AN99,\"\")","v":""},"",{"$f":"IF(BASE!Y99=\"\",\"\",Reporte!$N99)","v":""},"",{"$f":"IFERROR(CV99*BASE!$AN$165/BASE!$AN99,\"\")","v":""},"",{"$f":"IF(BASE!Z99=\"\",\"\",Reporte!$N99)","v":""},"",{"$f":"IFERROR(CZ99*BASE!$AN$165/BASE!$AN99,\"\")","v":""},"",{"$f":"IF(BASE!AA99=\"\",\"\",Reporte!$N99)","v":""},"",{"$f":"IFERROR(DD99*BASE!$AN$165/BASE!$AN99,\"\")","v":""},"",{"$f":"IF(BASE!AB99=\"\",\"\",Reporte!$N99)","v":""},"",{"$f":"IFERROR(DH99*BASE!$AN$165/BASE!$AN99,\"\")","v":""},"",{"$f":"IF(BASE!AC99=\"\",\"\",Reporte!$N99)","v":""},"",{"$f":"IFERROR(DL99*BASE!$AN$165/BASE!$AN99,\"\")","v":""},"",{"$f":"IF(BASE!AD99=\"\",\"\",Reporte!$N99)","v":""},"",{"$f":"IFERROR(DP99*BASE!$AN$165/BASE!$AN99,\"\")","v":""},"",{"$f":"IF(BASE!AE99=\"\",\"\",Reporte!$N99)","v":""},"",{"$f":"IFERROR(DT99*BASE!$AN$165/BASE!$AN99,\"\")","v":""},"",{"$f":"IF(BASE!AF99=\"\",\"\",Reporte!$N99)","v":""},"",{"$f":"IFERROR(DX99*BASE!$AN$165/BASE!$AN99,\"\")","v":""},"",{"$f":"IF(BASE!AG99=\"\",\"\",Reporte!$N99)","v":""},"",{"$f":"IFERROR(EB99*BASE!$AN$165/BASE!$AN99,\"\")","v":""},"",{"$f":"IF(BASE!AH99=\"\",\"\",Reporte!$N99)","v":""},"",{"$f":"IFERROR(EF99*BASE!$AN$165/BASE!$AN99,\"\")","v":""},"",{"$f":"IF(BASE!AI99=\"\",\"\",Reporte!$N99)","v":""},"",{"$f":"IFERROR(EJ99*BASE!$AN$165/BASE!$AN99,\"\")","v":""},"",{"$f":"IF(BASE!AJ99=\"\",\"\",Reporte!$N99)","v":""},"",{"$f":"IFERROR(EN99*BASE!$AN$165/BASE!$AN99,\"\")","v":""},"",{"$f":"IF(BASE!AK99=\"\",\"\",Reporte!$N99)","v":""},"",{"$f":"IFERROR(ER99*BASE!$AN$165/BASE!$AN99,\"\")","v":""},"",{"$f":"IF(BASE!AL99=\"\",\"\",Reporte!$N99)","v":""},"",{"$f":"IFERROR(EV99*BASE!$AN$165/BASE!$AN99,\"\")","v":""},""]
[null,"Comp. Esp. 4","Criterio Evaluación 4.1","",{"$f":"'Lengua Castellana y Lit.'!E11","v":1},{"$f":"'Lengua Castellana y Lit.'!F11","v":3.8461538461538464E-2},{"$f":"'Lengua Castellana y Lit.'!G11","v":""},null,null,null,null,"Comp. Esp. 4","Criterio Evaluación 4.1","",{"$f":"'Peso criterios carga horaria'!F100","v":5.5},{"$f":"O100*BASE!$AN$165/BASE!AN100","v":3.0966666666666671},1.2600229095074456E-2,"",{"$f":"IF(BASE!E100=\"\",\"\",Reporte!$N100)","v":""},"",{"$f":"IFERROR(T100*BASE!$AN$165/BASE!$AN100,\"\")","v":""},"",{"$f":"IF(BASE!F100=\"\",\"\",Reporte!$N100)","v":""},"",{"$f":"IFERROR(X100*BASE!$AN$165/BASE!$AN100,\"\")","v":""},"",{"$f":"IF(BASE!G100=\"\",\"\",Reporte!$N100)","v":""},"",{"$f":"IFERROR(AB100*BASE!$AN$165/BASE!$AN100,\"\")","v":""},"",{"$f":"IF(BASE!H100=\"\",\"\",Reporte!$N100)","v":""},"",{"$f":"IFERROR(AF100*BASE!$AN$165/BASE!$AN100,\"\")","v":""},"",{"$f":"IF(BASE!I100=\"\",\"\",Reporte!$N100)","v":""},"",{"$f":"IFERROR(AJ100*BASE!$AN$165/BASE!$AN100,\"\")","v":""},"",{"$f":"IF(BASE!J100=\"\",\"\",Reporte!$N100)","v":""},"",{"$f":"IFERROR(AN100*BASE!$AN$165/BASE!$AN100,\"\")","v":""},"",{"$f":"IF(BASE!K100=\"\",\"\",Reporte!$N100)","v":""},"",{"$f":"IFERROR(AR100*BASE!$AN$165/BASE!$AN100,\"\")","v":""},"",{"$f":"IF(BASE!L100=\"\",\"\",Reporte!$N100)","v":""},"",{"$f":"IFERROR(AV100*BASE!$AN$165/BASE!$AN100,\"\")","v":""},"",{"$f":"IF(BASE!M100=\"\",\"\",Reporte!$N100)","v":""},"",{"$f":"IFERROR(AZ100*BASE!$AN$165/BASE!$AN100,\"\")","v":""},"",{"$f":"IF(BASE!N100=\"\",\"\",Reporte!$N100)","v":""},"",{"$f":"IFERROR(BD100*BASE!$AN$165/BASE!$AN100,\"\")","v":""},"",{"$f":"IF(BASE!O100=\"\",\"\",Reporte!$N100)","v":""},"",{"$f":"IFERROR(BH100*BASE!$AN$165/BASE!$AN100,\"\")","v":""},"",{"$f":"IF(BASE!P100=\"\",\"\",Reporte!$N100)","v":""},"",{"$f":"IFERROR(BL100*BASE!$AN$165/BASE!$AN100,\"\")","v":""},"",{"$f":"IF(BASE!Q100=\"\",\"\",Reporte!$N100)","v":""},"",{"$f":"IFERROR(BP100*BASE!$AN$165/BASE!$AN100,\"\")","v":""},"",{"$f":"IF(BASE!R100=\"\",\"\",Reporte!$N100)","v":""},"",{"$f":"IFERROR(BT100*BASE!$AN$165/BASE!$AN100,\"\")","v":""},"",{"$f":"IF(BASE!S100=\"\",\"\",Reporte!$N100)","v":""},"",{"$f":"IFERROR(BX100*BASE!$AN$165/BASE!$AN100,\"\")","v":""},"",{"$f":"IF(BASE!T100=\"\",\"\",Reporte!$N100)","v":""},"",{"$f":"IFERROR(CB100*BASE!$AN$165/BASE!$AN100,\"\")","v":""},"",{"$f":"IF(BASE!U100=\"\",\"\",Reporte!$N100)","v":""},"",{"$f":"IFERROR(CF100*BASE!$AN$165/BASE!$AN100,\"\")","v":""},"",{"$f":"IF(BASE!V100=\"\",\"\",Reporte!$N100)","v":""},"",{"$f":"IFERROR(CJ100*BASE!$AN$165/BASE!$AN100,\"\")","v":""},"",{"$f":"IF(BASE!W100=\"\",\"\",Reporte!$N100)","v":""},"",{"$f":"IFERROR(CN100*BASE!$AN$165/BASE!$AN100,\"\")","v":""},"",{"$f":"IF(BASE!X100=\"\",\"\",Reporte!$N100)","v":""},"",{"$f":"IFERROR(CR100*BASE!$AN$165/BASE!$AN100,\"\")","v":""},"",{"$f":"IF(BASE!Y100=\"\",\"\",Reporte!$N100)","v":""},"",{"$f":"IFERROR(CV100*BASE!$AN$165/BASE!$AN100,\"\")","v":""},"",{"$f":"IF(BASE!Z100=\"\",\"\",Reporte!$N100)","v":""},"",{"$f":"IFERROR(CZ100*BASE!$AN$165/BASE!$AN100,\"\")","v":""},"",{"$f":"IF(BASE!AA100=\"\",\"\",Reporte!$N100)","v":""},"",{"$f":"IFERROR(DD100*BASE!$AN$165/BASE!$AN100,\"\")","v":""},"",{"$f":"IF(BASE!AB100=\"\",\"\",Reporte!$N100)","v":""},"",{"$f":"IFERROR(DH100*BASE!$AN$165/BASE!$AN100,\"\")","v":""},"",{"$f":"IF(BASE!AC100=\"\",\"\",Reporte!$N100)","v":""},"",{"$f":"IFERROR(DL100*BASE!$AN$165/BASE!$AN100,\"\")","v":""},"",{"$f":"IF(BASE!AD100=\"\",\"\",Reporte!$N100)","v":""},"",{"$f":"IFERROR(DP100*BASE!$AN$165/BASE!$AN100,\"\")","v":""},"",{"$f":"IF(BASE!AE100=\"\",\"\",Reporte!$N100)","v":""},"",{"$f":"IFERROR(DT100*BASE!$AN$165/BASE!$AN100,\"\")","v":""},"",{"$f":"IF(BASE!AF100=\"\",\"\",Reporte!$N100)","v":""},"",{"$f":"IFERROR(DX100*BASE!$AN$165/BASE!$AN100,\"\")","v":""},"",{"$f":"IF(BASE!AG100=\"\",\"\",Reporte!$N100)","v":""},"",{"$f":"IFERROR(EB100*BASE!$AN$165/BASE!$AN100,\"\")","v":""},"",{"$f":"IF(BASE!AH100=\"\",\"\",Reporte!$N100)","v":""},"",{"$f":"IFERROR(EF100*BASE!$AN$165/BASE!$AN100,\"\")","v":""},"",{"$f":"IF(BASE!AI100=\"\",\"\",Reporte!$N100)","v":""},"",{"$f":"IFERROR(EJ100*BASE!$AN$165/BASE!$AN100,\"\")","v":""},"",{"$f":"IF(BASE!AJ100=\"\",\"\",Reporte!$N100)","v":""},"",{"$f":"IFERROR(EN100*BASE!$AN$165/BASE!$AN100,\"\")","v":""},"",{"$f":"IF(BASE!AK100=\"\",\"\",Reporte!$N100)","v":""},"",{"$f":"IFERROR(ER100*BASE!$AN$165/BASE!$AN100,\"\")","v":""},"",{"$f":"IF(BASE!AL100=\"\",\"\",Reporte!$N100)","v":""},"",{"$f":"IFERROR(EV100*BASE!$AN$165/BASE!$AN100,\"\")","v":""},""]
[null,null,"Criterio Evaluación 4.2","",{"$f":"'Lengua Castellana y Lit.'!E12","v":1},{"$f":"'Lengua Castellana y Lit.'!F12","v":3.8461538461538464E-2},{"$f":"'Lengua Castellana y Lit.'!G12","v":""},null,null,null,null,null,"Criterio Evaluación 4.2","",{"$f":"'Peso criterios carga horaria'!F101","v":5.5},{"$f":"O101*BASE!$AN$165/BASE!AN101","v":3.0966666666666671},{"$f":"IF($P$3=\"SÍ\",O101/SUM($O$5:$O$163),\"\")","v":1.2600229095074456E-2},{"$f":"IF($P$3=\"SÍ\",IF(N101=\"\",\"\",Q101/R$176),\"\")","v":""},{"$f":"IF(BASE!E101=\"\",\"\",Reporte!$N101)","v":""},"",{"$f":"IFERROR(T101*BASE!$AN$165/BASE!$AN101,\"\")","v":""},"",{"$f":"IF(BASE!F101=\"\",\"\",Reporte!$N101)","v":""},"",{"$f":"IFERROR(X101*BASE!$AN$165/BASE!$AN101,\"\")","v":""},"",{"$f":"IF(BASE!G101=\"\",\"\",Reporte!$N101)","v":""},"",{"$f":"IFERROR(AB101*BASE!$AN$165/BASE!$AN101,\"\")","v":""},"",{"$f":"IF(BASE!H101=\"\",\"\",Reporte!$N101)","v":""},"",{"$f":"IFERROR(AF101*BASE!$AN$165/BASE!$AN101,\"\")","v":""},"",{"$f":"IF(BASE!I101=\"\",\"\",Reporte!$N101)","v":""},"",{"$f":"IFERROR(AJ101*BASE!$AN$165/BASE!$AN101,\"\")","v":""},"",{"$f":"IF(BASE!J101=\"\",\"\",Reporte!$N101)","v":""},"",{"$f":"IFERROR(AN101*BASE!$AN$165/BASE!$AN101,\"\")","v":""},"",{"$f":"IF(BASE!K101=\"\",\"\",Reporte!$N101)","v":""},"",{"$f":"IFERROR(AR101*BASE!$AN$165/BASE!$AN101,\"\")","v":""},"",{"$f":"IF(BASE!L101=\"\",\"\",Reporte!$N101)","v":""},"",{"$f":"IFERROR(AV101*BASE!$AN$165/BASE!$AN101,\"\")","v":""},"",{"$f":"IF(BASE!M101=\"\",\"\",Reporte!$N101)","v":""},"",{"$f":"IFERROR(AZ101*BASE!$AN$165/BASE!$AN101,\"\")","v":""},"",{"$f":"IF(BASE!N101=\"\",\"\",Reporte!$N101)","v":""},"",{"$f":"IFERROR(BD101*BASE!$AN$165/BASE!$AN101,\"\")","v":""},"",{"$f":"IF(BASE!O101=\"\",\"\",Reporte!$N101)","v":""},"",{"$f":"IFERROR(BH101*BASE!$AN$165/BASE!$AN101,\"\")","v":""},"",{"$f":"IF(BASE!P101=\"\",\"\",Reporte!$N101)","v":""},"",{"$f":"IFERROR(BL101*BASE!$AN$165/BASE!$AN101,\"\")","v":""},"",{"$f":"IF(BASE!Q101=\"\",\"\",Reporte!$N101)","v":""},"",{"$f":"IFERROR(BP101*BASE!$AN$165/BASE!$AN101,\"\")","v":""},"",{"$f":"IF(BASE!R101=\"\",\"\",Reporte!$N101)","v":""},"",{"$f":"IFERROR(BT101*BASE!$AN$165/BASE!$AN101,\"\")","v":""},"",{"$f":"IF(BASE!S101=\"\",\"\",Reporte!$N101)","v":""},"",{"$f":"IFERROR(BX101*BASE!$AN$165/BASE!$AN101,\"\")","v":""},"",{"$f":"IF(BASE!T101=\"\",\"\",Reporte!$N101)","v":""},"",{"$f":"IFERROR(CB101*BASE!$AN$165/BASE!$AN101,\"\")","v":""},"",{"$f":"IF(BASE!U101=\"\",\"\",Reporte!$N101)","v":""},"",{"$f":"IFERROR(CF101*BASE!$AN$165/BASE!$AN101,\"\")","v":""},"",{"$f":"IF(BASE!V101=\"\",\"\",Reporte!$N101)","v":""},"",{"$f":"IFERROR(CJ101*BASE!$AN$165/BASE!$AN101,\"\")","v":""},"",{"$f":"IF(BASE!W101=\"\",\"\",Reporte!$N101)","v":""},"",{"$f":"IFERROR(CN101*BASE!$AN$165/BASE!$AN101,\"\")","v":""},"",{"$f":"IF(BASE!X101=\"\",\"\",Reporte!$N101)","v":""},"",{"$f":"IFERROR(CR101*BASE!$AN$165/BASE!$AN101,\"\")","v":""},"",{"$f":"IF(BASE!Y101=\"\",\"\",Reporte!$N101)","v":""},"",{"$f":"IFERROR(CV101*BASE!$AN$165/BASE!$AN101,\"\")","v":""},"",{"$f":"IF(BASE!Z101=\"\",\"\",Reporte!$N101)","v":""},"",{"$f":"IFERROR(CZ101*BASE!$AN$165/BASE!$AN101,\"\")","v":""},"",{"$f":"IF(BASE!AA101=\"\",\"\",Reporte!$N101)","v":""},"",{"$f":"IFERROR(DD101*BASE!$AN$165/BASE!$AN101,\"\")","v":""},"",{"$f":"IF(BASE!AB101=\"\",\"\",Reporte!$N101)","v":""},"",{"$f":"IFERROR(DH101*BASE!$AN$165/BASE!$AN101,\"\")","v":""},"",{"$f":"IF(BASE!AC101=\"\",\"\",Reporte!$N101)","v":""},"",{"$f":"IFERROR(DL101*BASE!$AN$165/BASE!$AN101,\"\")","v":""},"",{"$f":"IF(BASE!AD101=\"\",\"\",Reporte!$N101)","v":""},"",{"$f":"IFERROR(DP101*BASE!$AN$165/BASE!$AN101,\"\")","v":""},"",{"$f":"IF(BASE!AE101=\"\",\"\",Reporte!$N101)","v":""},"",{"$f":"IFERROR(DT101*BASE!$AN$165/BASE!$AN101,\"\")","v":""},"",{"$f":"IF(BASE!AF101=\"\",\"\",Reporte!$N101)","v":""},"",{"$f":"IFERROR(DX101*BASE!$AN$165/BASE!$AN101,\"\")","v":""},"",{"$f":"IF(BASE!AG101=\"\",\"\",Reporte!$N101)","v":""},"",{"$f":"IFERROR(EB101*BASE!$AN$165/BASE!$AN101,\"\")","v":""},"",{"$f":"IF(BASE!AH101=\"\",\"\",Reporte!$N101)","v":""},"",{"$f":"IFERROR(EF101*BASE!$AN$165/BASE!$AN101,\"\")","v":""},"",{"$f":"IF(BASE!AI101=\"\",\"\",Reporte!$N101)","v":""},"",{"$f":"IFERROR(EJ101*BASE!$AN$165/BASE!$AN101,\"\")","v":""},"",{"$f":"IF(BASE!AJ101=\"\",\"\",Reporte!$N101)","v":""},"",{"$f":"IFERROR(EN101*BASE!$AN$165/BASE!$AN101,\"\")","v":""},"",{"$f":"IF(BASE!AK101=\"\",\"\",Reporte!$N101)","v":""},"",{"$f":"IFERROR(ER101*BASE!$AN$165/BASE!$AN101,\"\")","v":""},"",{"$f":"IF(BASE!AL101=\"\",\"\",Reporte!$N101)","v":""},"",{"$f":"IFERROR(EV101*BASE!$AN$165/BASE!$AN101,\"\")","v":""},""]
[null,null,"Criterio Evaluación 4.3","",{"$f":"'Lengua Castellana y Lit.'!E13","v":1},{"$f":"'Lengua Castellana y Lit.'!F13","v":3.8461538461538464E-2},{"$f":"'Lengua Castellana y Lit.'!G13","v":""},null,null,null,null,null,"Criterio Evaluación 4.3","",{"$f":"'Peso criterios carga horaria'!F102","v":5.5},{"$f":"O102*BASE!$AN$165/BASE!AN102","v":3.0966666666666671},1.2600229095074456E-2,"",{"$f":"IF(BASE!E102=\"\",\"\",Reporte!$N102)","v":""},"",{"$f":"IFERROR(T102*BASE!$AN$165/BASE!$AN102,\"\")","v":""},"",{"$f":"IF(BASE!F102=\"\",\"\",Reporte!$N102)","v":""},"",{"$f":"IFERROR(X102*BASE!$AN$165/BASE!$AN102,\"\")","v":""},"",{"$f":"IF(BASE!G102=\"\",\"\",Reporte!$N102)","v":""},"",{"$f":"IFERROR(AB102*BASE!$AN$165/BASE!$AN102,\"\")","v":""},"",{"$f":"IF(BASE!H102=\"\",\"\",Reporte!$N102)","v":""},"",{"$f":"IFERROR(AF102*BASE!$AN$165/BASE!$AN102,\"\")","v":""},"",{"$f":"IF(BASE!I102=\"\",\"\",Reporte!$N102)","v":""},"",{"$f":"IFERROR(AJ102*BASE!$AN$165/BASE!$AN102,\"\")","v":""},"",{"$f":"IF(BASE!J102=\"\",\"\",Reporte!$N102)","v":""},"",{"$f":"IFERROR(AN102*BASE!$AN$165/BASE!$AN102,\"\")","v":""},"",{"$f":"IF(BASE!K102=\"\",\"\",Reporte!$N102)","v":""},"",{"$f":"IFERROR(AR102*BASE!$AN$165/BASE!$AN102,\"\")","v":""},"",{"$f":"IF(BASE!L102=\"\",\"\",Reporte!$N102)","v":""},"",{"$f":"IFERROR(AV102*BASE!$AN$165/BASE!$AN102,\"\")","v":""},"",{"$f":"IF(BASE!M102=\"\",\"\",Reporte!$N102)","v":""},"",{"$f":"IFERROR(AZ102*BASE!$AN$165/BASE!$AN102,\"\")","v":""},"",{"$f":"IF(BASE!N102=\"\",\"\",Reporte!$N102)","v":""},"",{"$f":"IFERROR(BD102*BASE!$AN$165/BASE!$AN102,\"\")","v":""},"",{"$f":"IF(BASE!O102=\"\",\"\",Reporte!$N102)","v":""},"",{"$f":"IFERROR(BH102*BASE!$AN$165/BASE!$AN102,\"\")","v":""},"",{"$f":"IF(BASE!P102=\"\",\"\",Reporte!$N102)","v":""},"",{"$f":"IFERROR(BL102*BASE!$AN$165/BASE!$AN102,\"\")","v":""},"",{"$f":"IF(BASE!Q102=\"\",\"\",Reporte!$N102)","v":""},"",{"$f":"IFERROR(BP102*BASE!$AN$165/BASE!$AN102,\"\")","v":""},"",{"$f":"IF(BASE!R102=\"\",\"\",Reporte!$N102)","v":""},"",{"$f":"IFERROR(BT102*BASE!$AN$165/BASE!$AN102,\"\")","v":""},"",{"$f":"IF(BASE!S102=\"\",\"\",Reporte!$N102)","v":""},"",{"$f":"IFERROR(BX102*BASE!$AN$165/BASE!$AN102,\"\")","v":""},"",{"$f":"IF(BASE!T102=\"\",\"\",Reporte!$N102)","v":""},"",{"$f":"IFERROR(CB102*BASE!$AN$165/BASE!$AN102,\"\")","v":""},"",{"$f":"IF(BASE!U102=\"\",\"\",Reporte!$N102)","v":""},"",{"$f":"IFERROR(CF102*BASE!$AN$165/BASE!$AN102,\"\")","v":""},"",{"$f":"IF(BASE!V102=\"\",\"\",Reporte!$N102)","v":""},"",{"$f":"IFERROR(CJ102*BASE!$AN$165/BASE!$AN102,\"\")","v":""},"",{"$f":"IF(BASE!W102=\"\",\"\",Reporte!$N102)","v":""},"",{"$f":"IFERROR(CN102*BASE!$AN$165/BASE!$AN102,\"\")","v":""},"",{"$f":"IF(BASE!X102=\"\",\"\",Reporte!$N102)","v":""},"",{"$f":"IFERROR(CR102*BASE!$AN$165/BASE!$AN102,\"\")","v":""},"",{"$f":"IF(BASE!Y102=\"\",\"\",Reporte!$N102)","v":""},"",{"$f":"IFERROR(CV102*BASE!$AN$165/BASE!$AN102,\"\")","v":""},"",{"$f":"IF(BASE!Z102=\"\",\"\",Reporte!$N102)","v":""},"",{"$f":"IFERROR(CZ102*BASE!$AN$165/BASE!$AN102,\"\")","v":""},"",{"$f":"IF(BASE!AA102=\"\",\"\",Reporte!$N102)","v":""},"",{"$f":"IFERROR(DD102*BASE!$AN$165/BASE!$AN102,\"\")","v":""},"",{"$f":"IF(BASE!AB102=\"\",\"\",Reporte!$N102)","v":""},"",{"$f":"IFERROR(DH102*BASE!$AN$165/BASE!$AN102,\"\")","v":""},"",{"$f":"IF(BASE!AC102=\"\",\"\",Reporte!$N102)","v":""},"",{"$f":"IFERROR(DL102*BASE!$AN$165/BASE!$AN102,\"\")","v":""},"",{"$f":"IF(BASE!AD102=\"\",\"\",Reporte!$N102)","v":""},"",{"$f":"IFERROR(DP102*BASE!$AN$165/BASE!$AN102,\"\")","v":""},"",{"$f":"IF(BASE!AE102=\"\",\"\",Reporte!$N102)","v":""},"",{"$f":"IFERROR(DT102*BASE!$AN$165/BASE!$AN102,\"\")","v":""},"",{"$f":"IF(BASE!AF102=\"\",\"\",Reporte!$N102)","v":""},"",{"$f":"IFERROR(DX102*BASE!$AN$165/BASE!$AN102,\"\")","v":""},"",{"$f":"IF(BASE!AG102=\"\",\"\",Reporte!$N102)","v":""},"",{"$f":"IFERROR(EB102*BASE!$AN$165/BASE!$AN102,\"\")","v":""},"",{"$f":"IF(BASE!AH102=\"\",\"\",Reporte!$N102)","v":""},"",{"$f":"IFERROR(EF102*BASE!$AN$165/BASE!$AN102,\"\")","v":""},"",{"$f":"IF(BASE!AI102=\"\",\"\",Reporte!$N102)","v":""},"",{"$f":"IFERROR(EJ102*BASE!$AN$165/BASE!$AN102,\"\")","v":""},"",{"$f":"IF(BASE!AJ102=\"\",\"\",Reporte!$N102)","v":""},"",{"$f":"IFERROR(EN102*BASE!$AN$165/BASE!$AN102,\"\")","v":""},"",{"$f":"IF(BASE!AK102=\"\",\"\",Reporte!$N102)","v":""},"",{"$f":"IFERROR(ER102*BASE!$AN$165/BASE!$AN102,\"\")","v":""},"",{"$f":"IF(BASE!AL102=\"\",\"\",Reporte!$N102)","v":""},"",{"$f":"IFERROR(EV102*BASE!$AN$165/BASE!$AN102,\"\")","v":""},""]
[null,"Comp. Esp. 5","Criterio Evaluación 5.1","",{"$f":"'Lengua Castellana y Lit.'!E14","v":1},{"$f":"'Lengua Castellana y Lit.'!F14","v":3.8461538461538464E-2},{"$f":"'Lengua Castellana y Lit.'!G14","v":""},null,null,null,null,"Comp. Esp. 5","Criterio Evaluación 5.1","",{"$f":"'Peso criterios carga horaria'!F103","v":5.5},{"$f":"O103*BASE!$AN$165/BASE!AN103","v":3.0966666666666671},1.2600229095074456E-2,"",{"$f":"IF(BASE!E103=\"\",\"\",Reporte!$N103)","v":""},"",{"$f":"IFERROR(T103*BASE!$AN$165/BASE!$AN103,\"\")","v":""},"",{"$f":"IF(BASE!F103=\"\",\"\",Reporte!$N103)","v":""},"",{"$f":"IFERROR(X103*BASE!$AN$165/BASE!$AN103,\"\")","v":""},"",{"$f":"IF(BASE!G103=\"\",\"\",Reporte!$N103)","v":""},"",{"$f":"IFERROR(AB103*BASE!$AN$165/BASE!$AN103,\"\")","v":""},"",{"$f":"IF(BASE!H103=\"\",\"\",Reporte!$N103)","v":""},"",{"$f":"IFERROR(AF103*BASE!$AN$165/BASE!$AN103,\"\")","v":""},"",{"$f":"IF(BASE!I103=\"\",\"\",Reporte!$N103)","v":""},"",{"$f":"IFERROR(AJ103*BASE!$AN$165/BASE!$AN103,\"\")","v":""},"",{"$f":"IF(BASE!J103=\"\",\"\",Reporte!$N103)","v":""},"",{"$f":"IFERROR(AN103*BASE!$AN$165/BASE!$AN103,\"\")","v":""},"",{"$f":"IF(BASE!K103=\"\",\"\",Reporte!$N103)","v":""},"",{"$f":"IFERROR(AR103*BASE!$AN$165/BASE!$AN103,\"\")","v":""},"",{"$f":"IF(BASE!L103=\"\",\"\",Reporte!$N103)","v":""},"",{"$f":"IFERROR(AV103*BASE!$AN$165/BASE!$AN103,\"\")","v":""},"",{"$f":"IF(BASE!M103=\"\",\"\",Reporte!$N103)","v":""},"",{"$f":"IFERROR(AZ103*BASE!$AN$165/BASE!$AN103,\"\")","v":""},"",{"$f":"IF(BASE!N103=\"\",\"\",Reporte!$N103)","v":""},"",{"$f":"IFERROR(BD103*BASE!$AN$165/BASE!$AN103,\"\")","v":""},"",{"$f":"IF(BASE!O103=\"\",\"\",Reporte!$N103)","v":""},"",{"$f":"IFERROR(BH103*BASE!$AN$165/BASE!$AN103,\"\")","v":""},"",{"$f":"IF(BASE!P103=\"\",\"\",Reporte!$N103)","v":""},"",{"$f":"IFERROR(BL103*BASE!$AN$165/BASE!$AN103,\"\")","v":""},"",{"$f":"IF(BASE!Q103=\"\",\"\",Reporte!$N103)","v":""},"",{"$f":"IFERROR(BP103*BASE!$AN$165/BASE!$AN103,\"\")","v":""},"",{"$f":"IF(BASE!R103=\"\",\"\",Reporte!$N103)","v":""},"",{"$f":"IFERROR(BT103*BASE!$AN$165/BASE!$AN103,\"\")","v":""},"",{"$f":"IF(BASE!S103=\"\",\"\",Reporte!$N103)","v":""},"",{"$f":"IFERROR(BX103*BASE!$AN$165/BASE!$AN103,\"\")","v":""},"",{"$f":"IF(BASE!T103=\"\",\"\",Reporte!$N103)","v":""},"",{"$f":"IFERROR(CB103*BASE!$AN$165/BASE!$AN103,\"\")","v":""},"",{"$f":"IF(BASE!U103=\"\",\"\",Reporte!$N103)","v":""},"",{"$f":"IFERROR(CF103*BASE!$AN$165/BASE!$AN103,\"\")","v":""},"",{"$f":"IF(BASE!V103=\"\",\"\",Reporte!$N103)","v":""},"",{"$f":"IFERROR(CJ103*BASE!$AN$165/BASE!$AN103,\"\")","v":""},"",{"$f":"IF(BASE!W103=\"\",\"\",Reporte!$N103)","v":""},"",{"$f":"IFERROR(CN103*BASE!$AN$165/BASE!$AN103,\"\")","v":""},"",{"$f":"IF(BASE!X103=\"\",\"\",Reporte!$N103)","v":""},"",{"$f":"IFERROR(CR103*BASE!$AN$165/BASE!$AN103,\"\")","v":""},"",{"$f":"IF(BASE!Y103=\"\",\"\",Reporte!$N103)","v":""},"",{"$f":"IFERROR(CV103*BASE!$AN$165/BASE!$AN103,\"\")","v":""},"",{"$f":"IF(BASE!Z103=\"\",\"\",Reporte!$N103)","v":""},"",{"$f":"IFERROR(CZ103*BASE!$AN$165/BASE!$AN103,\"\")","v":""},"",{"$f":"IF(BASE!AA103=\"\",\"\",Reporte!$N103)","v":""},"",{"$f":"IFERROR(DD103*BASE!$AN$165/BASE!$AN103,\"\")","v":""},"",{"$f":"IF(BASE!AB103=\"\",\"\",Reporte!$N103)","v":""},"",{"$f":"IFERROR(DH103*BASE!$AN$165/BASE!$AN103,\"\")","v":""},"",{"$f":"IF(BASE!AC103=\"\",\"\",Reporte!$N103)","v":""},"",{"$f":"IFERROR(DL103*BASE!$AN$165/BASE!$AN103,\"\")","v":""},"",{"$f":"IF(BASE!AD103=\"\",\"\",Reporte!$N103)","v":""},"",{"$f":"IFERROR(DP103*BASE!$AN$165/BASE!$AN103,\"\")","v":""},"",{"$f":"IF(BASE!AE103=\"\",\"\",Reporte!$N103)","v":""},"",{"$f":"IFERROR(DT103*BASE!$AN$165/BASE!$AN103,\"\")","v":""},"",{"$f":"IF(BASE!AF103=\"\",\"\",Reporte!$N103)","v":""},"",{"$f":"IFERROR(DX103*BASE!$AN$165/BASE!$AN103,\"\")","v":""},"",{"$f":"IF(BASE!AG103=\"\",\"\",Reporte!$N103)","v":""},"",{"$f":"IFERROR(EB103*BASE!$AN$165/BASE!$AN103,\"\")","v":""},"",{"$f":"IF(BASE!AH103=\"\",\"\",Reporte!$N103)","v":""},"",{"$f":"IFERROR(EF103*BASE!$AN$165/BASE!$AN103,\"\")","v":""},"",{"$f":"IF(BASE!AI103=\"\",\"\",Reporte!$N103)","v":""},"",{"$f":"IFERROR(EJ103*BASE!$AN$165/BASE!$AN103,\"\")","v":""},"",{"$f":"IF(BASE!AJ103=\"\",\"\",Reporte!$N103)","v":""},"",{"$f":"IFERROR(EN103*BASE!$AN$165/BASE!$AN103,\"\")","v":""},"",{"$f":"IF(BASE!AK103=\"\",\"\",Reporte!$N103)","v":""},"",{"$f":"IFERROR(ER103*BASE!$AN$165/BASE!$AN103,\"\")","v":""},"",{"$f":"IF(BASE!AL103=\"\",\"\",Reporte!$N103)","v":""},"",{"$f":"IFERROR(EV103*BASE!$AN$165/BASE!$AN103,\"\")","v":""},""]
[null,null,"Criterio Evaluación 5.2","",{"$f":"'Lengua Castellana y Lit.'!E15","v":1},{"$f":"'Lengua Castellana y Lit.'!F15","v":3.8461538461538464E-2},{"$f":"'Lengua Castellana y Lit.'!G15","v":""},null,null,null,null,null,"Criterio Evaluación 5.2","",{"$f":"'Peso criterios carga horaria'!F104","v":5.5},{"$f":"O104*BASE!$AN$165/BASE!AN104","v":3.0966666666666671},1.2600229095074456E-2,"",{"$f":"IF(BASE!E104=\"\",\"\",Reporte!$N104)","v":""},"",{"$f":"IFERROR(T104*BASE!$AN$165/BASE!$AN104,\"\")","v":""},"",{"$f":"IF(BASE!F104=\"\",\"\",Reporte!$N104)","v":""},"",{"$f":"IFERROR(X104*BASE!$AN$165/BASE!$AN104,\"\")","v":""},"",{"$f":"IF(BASE!G104=\"\",\"\",Reporte!$N104)","v":""},"",{"$f":"IFERROR(AB104*BASE!$AN$165/BASE!$AN104,\"\")","v":""},"",{"$f":"IF(BASE!H104=\"\",\"\",Reporte!$N104)","v":""},"",{"$f":"IFERROR(AF104*BASE!$AN$165/BASE!$AN104,\"\")","v":""},"",{"$f":"IF(BASE!I104=\"\",\"\",Reporte!$N104)","v":""},"",{"$f":"IFERROR(AJ104*BASE!$AN$165/BASE!$AN104,\"\")","v":""},"",{"$f":"IF(BASE!J104=\"\",\"\",Reporte!$N104)","v":""},"",{"$f":"IFERROR(AN104*BASE!$AN$165/BASE!$AN104,\"\")","v":""},"",{"$f":"IF(BASE!K104=\"\",\"\",Reporte!$N104)","v":""},"",{"$f":"IFERROR(AR104*BASE!$AN$165/BASE!$AN104,\"\")","v":""},"",{"$f":"IF(BASE!L104=\"\",\"\",Reporte!$N104)","v":""},"",{"$f":"IFERROR(AV104*BASE!$AN$165/BASE!$AN104,\"\")","v":""},"",{"$f":"IF(BASE!M104=\"\",\"\",Reporte!$N104)","v":""},"",{"$f":"IFERROR(AZ104*BASE!$AN$165/BASE!$AN104,\"\")","v":""},"",{"$f":"IF(BASE!N104=\"\",\"\",Reporte!$N104)","v":""},"",{"$f":"IFERROR(BD104*BASE!$AN$165/BASE!$AN104,\"\")","v":""},"",{"$f":"IF(BASE!O104=\"\",\"\",Reporte!$N104)","v":""},"",{"$f":"IFERROR(BH104*BASE!$AN$165/BASE!$AN104,\"\")","v":""},"",{"$f":"IF(BASE!P104=\"\",\"\",Reporte!$N104)","v":""},"",{"$f":"IFERROR(BL104*BASE!$AN$165/BASE!$AN104,\"\")","v":""},"",{"$f":"IF(BASE!Q104=\"\",\"\",Reporte!$N104)","v":""},"",{"$f":"IFERROR(BP104*BASE!$AN$165/BASE!$AN104,\"\")","v":""},"",{"$f":"IF(BASE!R104=\"\",\"\",Reporte!$N104)","v":""},"",{"$f":"IFERROR(BT104*BASE!$AN$165/BASE!$AN104,\"\")","v":""},"",{"$f":"IF(BASE!S104=\"\",\"\",Reporte!$N104)","v":""},"",{"$f":"IFERROR(BX104*BASE!$AN$165/BASE!$AN104,\"\")","v":""},"",{"$f":"IF(BASE!T104=\"\",\"\",Reporte!$N104)","v":""},"",{"$f":"IFERROR(CB104*BASE!$AN$165/BASE!$AN104,\"\")","v":""},"",{"$f":"IF(BASE!U104=\"\",\"\",Reporte!$N104)","v":""},"",{"$f":"IFERROR(CF104*BASE!$AN$165/BASE!$AN104,\"\")","v":""},"",{"$f":"IF(BASE!V104=\"\",\"\",Reporte!$N104)","v":""},"",{"$f":"IFERROR(CJ104*BASE!$AN$165/BASE!$AN104,\"\")","v":""},"",{"$f":"IF(BASE!W104=\"\",\"\",Reporte!$N104)","v":""},"",{"$f":"IFERROR(CN104*BASE!$AN$165/BASE!$AN104,\"\")","v":""},"",{"$f":"IF(BASE!X104=\"\",\"\",Reporte!$N104)","v":""},"",{"$f":"IFERROR(CR104*BASE!$AN$165/BASE!$AN104,\"\")","v":""},"",{"$f":"IF(BASE!Y104=\"\",\"\",Reporte!$N104)","v":""},"",{"$f":"IFERROR(CV104*BASE!$AN$165/BASE!$AN104,\"\")","v":""},"",{"$f":"IF(BASE!Z104=\"\",\"\",Reporte!$N104)","v":""},"",{"$f":"IFERROR(CZ104*BASE!$AN$165/BASE!$AN104,\"\")","v":""},"",{"$f":"IF(BASE!AA104=\"\",\"\",Reporte!$N104)","v":""},"",{"$f":"IFERROR(DD104*BASE!$AN$165/BASE!$AN104,\"\")","v":""},"",{"$f":"IF(BASE!AB104=\"\",\"\",Reporte!$N104)","v":""},"",{"$f":"IFERROR(DH104*BASE!$AN$165/BASE!$AN104,\"\")","v":""},"",{"$f":"IF(BASE!AC104=\"\",\"\",Reporte!$N104)","v":""},"",{"$f":"IFERROR(DL104*BASE!$AN$165/BASE!$AN104,\"\")","v":""},"",{"$f":"IF(BASE!AD104=\"\",\"\",Reporte!$N104)","v":""},"",{"$f":"IFERROR(DP104*BASE!$AN$165/BASE!$AN104,\"\")","v":""},"",{"$f":"IF(BASE!AE104=\"\",\"\",Reporte!$N104)","v":""},"",{"$f":"IFERROR(DT104*BASE!$AN$165/BASE!$AN104,\"\")","v":""},"",{"$f":"IF(BASE!AF104=\"\",\"\",Reporte!$N104)","v":""},"",{"$f":"IFERROR(DX104*BASE!$AN$165/BASE!$AN104,\"\")","v":""},"",{"$f":"IF(BASE!AG104=\"\",\"\",Reporte!$N104)","v":""},"",{"$f":"IFERROR(EB104*BASE!$AN$165/BASE!$AN104,\"\")","v":""},"",{"$f":"IF(BASE!AH104=\"\",\"\",Reporte!$N104)","v":""},"",{"$f":"IFERROR(EF104*BASE!$AN$165/BASE!$AN104,\"\")","v":""},"",{"$f":"IF(BASE!AI104=\"\",\"\",Reporte!$N104)","v":""},"",{"$f":"IFERROR(EJ104*BASE!$AN$165/BASE!$AN104,\"\")","v":""},"",{"$f":"IF(BASE!AJ104=\"\",\"\",Reporte!$N104)","v":""},"",{"$f":"IFERROR(EN104*BASE!$AN$165/BASE!$AN104,\"\")","v":""},"",{"$f":"IF(BASE!AK104=\"\",\"\",Reporte!$N104)","v":""},"",{"$f":"IFERROR(ER104*BASE!$AN$165/BASE!$AN104,\"\")","v":""},"",{"$f":"IF(BASE!AL104=\"\",\"\",Reporte!$N104)","v":""},"",{"$f":"IFERROR(EV104*BASE!$AN$165/BASE!$AN104,\"\")","v":""},""]
[null,"Comp. Esp. 6","Criterio Evaluación 6.1","",{"$f":"'Lengua Castellana y Lit.'!E16","v":1},{"$f":"'Lengua Castellana y Lit.'!F16","v":3.8461538461538464E-2},{"$f":"'Lengua Castellana y Lit.'!G16","v":""},null,null,null,null,"Comp. Esp. 6","Criterio Evaluación 6.1","",{"$f":"'Peso criterios carga horaria'!F105","v":5.5},{"$f":"O105*BASE!$AN$165/BASE!AN105","v":3.0966666666666671},1.2600229095074456E-2,"",{"$f":"IF(BASE!E105=\"\",\"\",Reporte!$N105)","v":""},"",{"$f":"IFERROR(T105*BASE!$AN$165/BASE!$AN105,\"\")","v":""},"",{"$f":"IF(BASE!F105=\"\",\"\",Reporte!$N105)","v":""},"",{"$f":"IFERROR(X105*BASE!$AN$165/BASE!$AN105,\"\")","v":""},"",{"$f":"IF(BASE!G105=\"\",\"\",Reporte!$N105)","v":""},"",{"$f":"IFERROR(AB105*BASE!$AN$165/BASE!$AN105,\"\")","v":""},"",{"$f":"IF(BASE!H105=\"\",\"\",Reporte!$N105)","v":""},"",{"$f":"IFERROR(AF105*BASE!$AN$165/BASE!$AN105,\"\")","v":""},"",{"$f":"IF(BASE!I105=\"\",\"\",Reporte!$N105)","v":""},"",{"$f":"IFERROR(AJ105*BASE!$AN$165/BASE!$AN105,\"\")","v":""},"",{"$f":"IF(BASE!J105=\"\",\"\",Reporte!$N105)","v":""},"",{"$f":"IFERROR(AN105*BASE!$AN$165/BASE!$AN105,\"\")","v":""},"",{"$f":"IF(BASE!K105=\"\",\"\",Reporte!$N105)","v":""},"",{"$f":"IFERROR(AR105*BASE!$AN$165/BASE!$AN105,\"\")","v":""},"",{"$f":"IF(BASE!L105=\"\",\"\",Reporte!$N105)","v":""},"",{"$f":"IFERROR(AV105*BASE!$AN$165/BASE!$AN105,\"\")","v":""},"",{"$f":"IF(BASE!M105=\"\",\"\",Reporte!$N105)","v":""},"",{"$f":"IFERROR(AZ105*BASE!$AN$165/BASE!$AN105,\"\")","v":""},"",{"$f":"IF(BASE!N105=\"\",\"\",Reporte!$N105)","v":""},"",{"$f":"IFERROR(BD105*BASE!$AN$165/BASE!$AN105,\"\")","v":""},"",{"$f":"IF(BASE!O105=\"\",\"\",Reporte!$N105)","v":""},"",{"$f":"IFERROR(BH105*BASE!$AN$165/BASE!$AN105,\"\")","v":""},"",{"$f":"IF(BASE!P105=\"\",\"\",Reporte!$N105)","v":""},"",{"$f":"IFERROR(BL105*BASE!$AN$165/BASE!$AN105,\"\")","v":""},"",{"$f":"IF(BASE!Q105=\"\",\"\",Reporte!$N105)","v":""},"",{"$f":"IFERROR(BP105*BASE!$AN$165/BASE!$AN105,\"\")","v":""},"",{"$f":"IF(BASE!R105=\"\",\"\",Reporte!$N105)","v":""},"",{"$f":"IFERROR(BT105*BASE!$AN$165/BASE!$AN105,\"\")","v":""},"",{"$f":"IF(BASE!S105=\"\",\"\",Reporte!$N105)","v":""},"",{"$f":"IFERROR(BX105*BASE!$AN$165/BASE!$AN105,\"\")","v":""},"",{"$f":"IF(BASE!T105=\"\",\"\",Reporte!$N105)","v":""},"",{"$f":"IFERROR(CB105*BASE!$AN$165/BASE!$AN105,\"\")","v":""},"",{"$f":"IF(BASE!U105=\"\",\"\",Reporte!$N105)","v":""},"",{"$f":"IFERROR(CF105*BASE!$AN$165/BASE!$AN105,\"\")","v":""},"",{"$f":"IF(BASE!V105=\"\",\"\",Reporte!$N105)","v":""},"",{"$f":"IFERROR(CJ105*BASE!$AN$165/BASE!$AN105,\"\")","v":""},"",{"$f":"IF(BASE!W105=\"\",\"\",Reporte!$N105)","v":""},"",{"$f":"IFERROR(CN105*BASE!$AN$165/BASE!$AN105,\"\")","v":""},"",{"$f":"IF(BASE!X105=\"\",\"\",Reporte!$N105)","v":""},"",{"$f":"IFERROR(CR105*BASE!$AN$165/BASE!$AN105,\"\")","v":""},"",{"$f":"IF(BASE!Y105=\"\",\"\",Reporte!$N105)","v":""},"",{"$f":"IFERROR(CV105*BASE!$AN$165/BASE!$AN105,\"\")","v":""},"",{"$f":"IF(BASE!Z105=\"\",\"\",Reporte!$N105)","v":""},"",{"$f":"IFERROR(CZ105*BASE!$AN$165/BASE!$AN105,\"\")","v":""},"",{"$f":"IF(BASE!AA105=\"\",\"\",Reporte!$N105)","v":""},"",{"$f":"IFERROR(DD105*BASE!$AN$165/BASE!$AN105,\"\")","v":""},"",{"$f":"IF(BASE!AB105=\"\",\"\",Reporte!$N105)","v":""},"",{"$f":"IFERROR(DH105*BASE!$AN$165/BASE!$AN105,\"\")","v":""},"",{"$f":"IF(BASE!AC105=\"\",\"\",Reporte!$N105)","v":""},"",{"$f":"IFERROR(DL105*BASE!$AN$165/BASE!$AN105,\"\")","v":""},"",{"$f":"IF(BASE!AD105=\"\",\"\",Reporte!$N105)","v":""},"",{"$f":"IFERROR(DP105*BASE!$AN$165/BASE!$AN105,\"\")","v":""},"",{"$f":"IF(BASE!AE105=\"\",\"\",Reporte!$N105)","v":""},"",{"$f":"IFERROR(DT105*BASE!$AN$165/BASE!$AN105,\"\")","v":""},"",{"$f":"IF(BASE!AF105=\"\",\"\",Reporte!$N105)","v":""},"",{"$f":"IFERROR(DX105*BASE!$AN$165/BASE!$AN105,\"\")","v":""},"",{"$f":"IF(BASE!AG105=\"\",\"\",Reporte!$N105)","v":""},"",{"$f":"IFERROR(EB105*BASE!$AN$165/BASE!$AN105,\"\")","v":""},"",{"$f":"IF(BASE!AH105=\"\",\"\",Reporte!$N105)","v":""},"",{"$f":"IFERROR(EF105*BASE!$AN$165/BASE!$AN105,\"\")","v":""},"",{"$f":"IF(BASE!AI105=\"\",\"\",Reporte!$N105)","v":""},"",{"$f":"IFERROR(EJ105*BASE!$AN$165/BASE!$AN105,\"\")","v":""},"",{"$f":"IF(BASE!AJ105=\"\",\"\",Reporte!$N105)","v":""},"",{"$f":"IFERROR(EN105*BASE!$AN$165/BASE!$AN105,\"\")","v":""},"",{"$f":"IF(BASE!AK105=\"\",\"\",Reporte!$N105)","v":""},"",{"$f":"IFERROR(ER105*BASE!$AN$165/BASE!$AN105,\"\")","v":""},"",{"$f":"IF(BASE!AL105=\"\",\"\",Reporte!$N105)","v":""},"",{"$f":"IFERROR(EV105*BASE!$AN$165/BASE!$AN105,\"\")","v":""},""]
[null,null,"Criterio Evaluación 6.2","",{"$f":"'Lengua Castellana y Lit.'!E17","v":1},{"$f":"'Lengua Castellana y Lit.'!F17","v":3.8461538461538464E-2},{"$f":"'Lengua Castellana y Lit.'!G17","v":""},null,null,null,null,null,"Criterio Evaluación 6.2","",{"$f":"'Peso criterios carga horaria'!F106","v":5.5},{"$f":"O106*BASE!$AN$165/BASE!AN106","v":3.0966666666666671},1.2600229095074456E-2,"",{"$f":"IF(BASE!E106=\"\",\"\",Reporte!$N106)","v":""},"",{"$f":"IFERROR(T106*BASE!$AN$165/BASE!$AN106,\"\")","v":""},"",{"$f":"IF(BASE!F106=\"\",\"\",Reporte!$N106)","v":""},"",{"$f":"IFERROR(X106*BASE!$AN$165/BASE!$AN106,\"\")","v":""},"",{"$f":"IF(BASE!G106=\"\",\"\",Reporte!$N106)","v":""},"",{"$f":"IFERROR(AB106*BASE!$AN$165/BASE!$AN106,\"\")","v":""},"",{"$f":"IF(BASE!H106=\"\",\"\",Reporte!$N106)","v":""},"",{"$f":"IFERROR(AF106*BASE!$AN$165/BASE!$AN106,\"\")","v":""},"",{"$f":"IF(BASE!I106=\"\",\"\",Reporte!$N106)","v":""},"",{"$f":"IFERROR(AJ106*BASE!$AN$165/BASE!$AN106,\"\")","v":""},"",{"$f":"IF(BASE!J106=\"\",\"\",Reporte!$N106)","v":""},"",{"$f":"IFERROR(AN106*BASE!$AN$165/BASE!$AN106,\"\")","v":""},"",{"$f":"IF(BASE!K106=\"\",\"\",Reporte!$N106)","v":""},"",{"$f":"IFERROR(AR106*BASE!$AN$165/BASE!$AN106,\"\")","v":""},"",{"$f":"IF(BASE!L106=\"\",\"\",Reporte!$N106)","v":""},"",{"$f":"IFERROR(AV106*BASE!$AN$165/BASE!$AN106,\"\")","v":""},"",{"$f":"IF(BASE!M106=\"\",\"\",Reporte!$N106)","v":""},"",{"$f":"IFERROR(AZ106*BASE!$AN$165/BASE!$AN106,\"\")","v":""},"",{"$f":"IF(BASE!N106=\"\",\"\",Reporte!$N106)","v":""},"",{"$f":"IFERROR(BD106*BASE!$AN$165/BASE!$AN106,\"\")","v":""},"",{"$f":"IF(BASE!O106=\"\",\"\",Reporte!$N106)","v":""},"",{"$f":"IFERROR(BH106*BASE!$AN$165/BASE!$AN106,\"\")","v":""},"",{"$f":"IF(BASE!P106=\"\",\"\",Reporte!$N106)","v":""},"",{"$f":"IFERROR(BL106*BASE!$AN$165/BASE!$AN106,\"\")","v":""},"",{"$f":"IF(BASE!Q106=\"\",\"\",Reporte!$N106)","v":""},"",{"$f":"IFERROR(BP106*BASE!$AN$165/BASE!$AN106,\"\")","v":""},"",{"$f":"IF(BASE!R106=\"\",\"\",Reporte!$N106)","v":""},"",{"$f":"IFERROR(BT106*BASE!$AN$165/BASE!$AN106,\"\")","v":""},"",{"$f":"IF(BASE!S106=\"\",\"\",Reporte!$N106)","v":""},"",{"$f":"IFERROR(BX106*BASE!$AN$165/BASE!$AN106,\"\")","v":""},"",{"$f":"IF(BASE!T106=\"\",\"\",Reporte!$N106)","v":""},"",{"$f":"IFERROR(CB106*BASE!$AN$165/BASE!$AN106,\"\")","v":""},"",{"$f":"IF(BASE!U106=\"\",\"\",Reporte!$N106)","v":""},"",{"$f":"IFERROR(CF106*BASE!$AN$165/BASE!$AN106,\"\")","v":""},"",{"$f":"IF(BASE!V106=\"\",\"\",Reporte!$N106)","v":""},"",{"$f":"IFERROR(CJ106*BASE!$AN$165/BASE!$AN106,\"\")","v":""},"",{"$f":"IF(BASE!W106=\"\",\"\",Reporte!$N106)","v":""},"",{"$f":"IFERROR(CN106*BASE!$AN$165/BASE!$AN106,\"\")","v":""},"",{"$f":"IF(BASE!X106=\"\",\"\",Reporte!$N106)","v":""},"",{"$f":"IFERROR(CR106*BASE!$AN$165/BASE!$AN106,\"\")","v":""},"",{"$f":"IF(BASE!Y106=\"\",\"\",Reporte!$N106)","v":""},"",{"$f":"IFERROR(CV106*BASE!$AN$165/BASE!$AN106,\"\")","v":""},"",{"$f":"IF(BASE!Z106=\"\",\"\",Reporte!$N106)","v":""},"",{"$f":"IFERROR(CZ106*BASE!$AN$165/BASE!$AN106,\"\")","v":""},"",{"$f":"IF(BASE!AA106=\"\",\"\",Reporte!$N106)","v":""},"",{"$f":"IFERROR(DD106*BASE!$AN$165/BASE!$AN106,\"\")","v":""},"",{"$f":"IF(BASE!AB106=\"\",\"\",Reporte!$N106)","v":""},"",{"$f":"IFERROR(DH106*BASE!$AN$165/BASE!$AN106,\"\")","v":""},"",{"$f":"IF(BASE!AC106=\"\",\"\",Reporte!$N106)","v":""},"",{"$f":"IFERROR(DL106*BASE!$AN$165/BASE!$AN106,\"\")","v":""},"",{"$f":"IF(BASE!AD106=\"\",\"\",Reporte!$N106)","v":""},"",{"$f":"IFERROR(DP106*BASE!$AN$165/BASE!$AN106,\"\")","v":""},"",{"$f":"IF(BASE!AE106=\"\",\"\",Reporte!$N106)","v":""},"",{"$f":"IFERROR(DT106*BASE!$AN$165/BASE!$AN106,\"\")","v":""},"",{"$f":"IF(BASE!AF106=\"\",\"\",Reporte!$N106)","v":""},"",{"$f":"IFERROR(DX106*BASE!$AN$165/BASE!$AN106,\"\")","v":""},"",{"$f":"IF(BASE!AG106=\"\",\"\",Reporte!$N106)","v":""},"",{"$f":"IFERROR(EB106*BASE!$AN$165/BASE!$AN106,\"\")","v":""},"",{"$f":"IF(BASE!AH106=\"\",\"\",Reporte!$N106)","v":""},"",{"$f":"IFERROR(EF106*BASE!$AN$165/BASE!$AN106,\"\")","v":""},"",{"$f":"IF(BASE!AI106=\"\",\"\",Reporte!$N106)","v":""},"",{"$f":"IFERROR(EJ106*BASE!$AN$165/BASE!$AN106,\"\")","v":""},"",{"$f":"IF(BASE!AJ106=\"\",\"\",Reporte!$N106)","v":""},"",{"$f":"IFERROR(EN106*BASE!$AN$165/BASE!$AN106,\"\")","v":""},"",{"$f":"IF(BASE!AK106=\"\",\"\",Reporte!$N106)","v":""},"",{"$f":"IFERROR(ER106*BASE!$AN$165/BASE!$AN106,\"\")","v":""},"",{"$f":"IF(BASE!AL106=\"\",\"\",Reporte!$N106)","v":""},"",{"$f":"IFERROR(EV106*BASE!$AN$165/BASE!$AN106,\"\")","v":""},""]
[null,null,"Criterio Evaluación 6.3","",{"$f":"'Lengua Castellana y Lit.'!E18","v":1},{"$f":"'Lengua Castellana y Lit.'!F18","v":3.8461538461538464E-2},{"$f":"'Lengua Castellana y Lit.'!G18","v":""},null,null,null,null,null,"Criterio Evaluación 6.3","",{"$f":"'Peso criterios carga horaria'!F107","v":5.5},{"$f":"O107*BASE!$AN$165/BASE!AN107","v":3.0966666666666671},1.2600229095074456E-2,"",{"$f":"IF(BASE!E107=\"\",\"\",Reporte!$N107)","v":""},"",{"$f":"IFERROR(T107*BASE!$AN$165/BASE!$AN107,\"\")","v":""},"",{"$f":"IF(BASE!F107=\"\",\"\",Reporte!$N107)","v":""},"",{"$f":"IFERROR(X107*BASE!$AN$165/BASE!$AN107,\"\")","v":""},"",{"$f":"IF(BASE!G107=\"\",\"\",Reporte!$N107)","v":""},"",{"$f":"IFERROR(AB107*BASE!$AN$165/BASE!$AN107,\"\")","v":""},"",{"$f":"IF(BASE!H107=\"\",\"\",Reporte!$N107)","v":""},"",{"$f":"IFERROR(AF107*BASE!$AN$165/BASE!$AN107,\"\")","v":""},"",{"$f":"IF(BASE!I107=\"\",\"\",Reporte!$N107)","v":""},"",{"$f":"IFERROR(AJ107*BASE!$AN$165/BASE!$AN107,\"\")","v":""},"",{"$f":"IF(BASE!J107=\"\",\"\",Reporte!$N107)","v":""},"",{"$f":"IFERROR(AN107*BASE!$AN$165/BASE!$AN107,\"\")","v":""},"",{"$f":"IF(BASE!K107=\"\",\"\",Reporte!$N107)","v":""},"",{"$f":"IFERROR(AR107*BASE!$AN$165/BASE!$AN107,\"\")","v":""},"",{"$f":"IF(BASE!L107=\"\",\"\",Reporte!$N107)","v":""},"",{"$f":"IFERROR(AV107*BASE!$AN$165/BASE!$AN107,\"\")","v":""},"",{"$f":"IF(BASE!M107=\"\",\"\",Reporte!$N107)","v":""},"",{"$f":"IFERROR(AZ107*BASE!$AN$165/BASE!$AN107,\"\")","v":""},"",{"$f":"IF(BASE!N107=\"\",\"\",Reporte!$N107)","v":""},"",{"$f":"IFERROR(BD107*BASE!$AN$165/BASE!$AN107,\"\")","v":""},"",{"$f":"IF(BASE!O107=\"\",\"\",Reporte!$N107)","v":""},"",{"$f":"IFERROR(BH107*BASE!$AN$165/BASE!$AN107,\"\")","v":""},"",{"$f":"IF(BASE!P107=\"\",\"\",Reporte!$N107)","v":""},"",{"$f":"IFERROR(BL107*BASE!$AN$165/BASE!$AN107,\"\")","v":""},"",{"$f":"IF(BASE!Q107=\"\",\"\",Reporte!$N107)","v":""},"",{"$f":"IFERROR(BP107*BASE!$AN$165/BASE!$AN107,\"\")","v":""},"",{"$f":"IF(BASE!R107=\"\",\"\",Reporte!$N107)","v":""},"",{"$f":"IFERROR(BT107*BASE!$AN$165/BASE!$AN107,\"\")","v":""},"",{"$f":"IF(BASE!S107=\"\",\"\",Reporte!$N107)","v":""},"",{"$f":"IFERROR(BX107*BASE!$AN$165/BASE!$AN107,\"\")","v":""},"",{"$f":"IF(BASE!T107=\"\",\"\",Reporte!$N107)","v":""},"",{"$f":"IFERROR(CB107*BASE!$AN$165/BASE!$AN107,\"\")","v":""},"",{"$f":"IF(BASE!U107=\"\",\"\",Reporte!$N107)","v":""},"",{"$f":"IFERROR(CF107*BASE!$AN$165/BASE!$AN107,\"\")","v":""},"",{"$f":"IF(BASE!V107=\"\",\"\",Reporte!$N107)","v":""},"",{"$f":"IFERROR(CJ107*BASE!$AN$165/BASE!$AN107,\"\")","v":""},"",{"$f":"IF(BASE!W107=\"\",\"\",Reporte!$N107)","v":""},"",{"$f":"IFERROR(CN107*BASE!$AN$165/BASE!$AN107,\"\")","v":""},"",{"$f":"IF(BASE!X107=\"\",\"\",Reporte!$N107)","v":""},"",{"$f":"IFERROR(CR107*BASE!$AN$165/BASE!$AN107,\"\")","v":""},"",{"$f":"IF(BASE!Y107=\"\",\"\",Reporte!$N107)","v":""},"",{"$f":"IFERROR(CV107*BASE!$AN$165/BASE!$AN107,\"\")","v":""},"",{"$f":"IF(BASE!Z107=\"\",\"\",Reporte!$N107)","v":""},"",{"$f":"IFERROR(CZ107*BASE!$AN$165/BASE!$AN107,\"\")","v":""},"",{"$f":"IF(BASE!AA107=\"\",\"\",Reporte!$N107)","v":""},"",{"$f":"IFERROR(DD107*BASE!$AN$165/BASE!$AN107,\"\")","v":""},"",{"$f":"IF(BASE!AB107=\"\",\"\",Reporte!$N107)","v":""},"",{"$f":"IFERROR(DH107*BASE!$AN$165/BASE!$AN107,\"\")","v":""},"",{"$f":"IF(BASE!AC107=\"\",\"\",Reporte!$N107)","v":""},"",{"$f":"IFERROR(DL107*BASE!$AN$165/BASE!$AN107,\"\")","v":""},"",{"$f":"IF(BASE!AD107=\"\",\"\",Reporte!$N107)","v":""},"",{"$f":"IFERROR(DP107*BASE!$AN$165/BASE!$AN107,\"\")","v":""},"",{"$f":"IF(BASE!AE107=\"\",\"\",Reporte!$N107)","v":""},"",{"$f":"IFERROR(DT107*BASE!$AN$165/BASE!$AN107,\"\")","v":""},"",{"$f":"IF(BASE!AF107=\"\",\"\",Reporte!$N107)","v":""},"",{"$f":"IFERROR(DX107*BASE!$AN$165/BASE!$AN107,\"\")","v":""},"",{"$f":"IF(BASE!AG107=\"\",\"\",Reporte!$N107)","v":""},"",{"$f":"IFERROR(EB107*BASE!$AN$165/BASE!$AN107,\"\")","v":""},"",{"$f":"IF(BASE!AH107=\"\",\"\",Reporte!$N107)","v":""},"",{"$f":"IFERROR(EF107*BASE!$AN$165/BASE!$AN107,\"\")","v":""},"",{"$f":"IF(BASE!AI107=\"\",\"\",Reporte!$N107)","v":""},"",{"$f":"IFERROR(EJ107*BASE!$AN$165/BASE!$AN107,\"\")","v":""},"",{"$f":"IF(BASE!AJ107=\"\",\"\",Reporte!$N107)","v":""},"",{"$f":"IFERROR(EN107*BASE!$AN$165/BASE!$AN107,\"\")","v":""},"",{"$f":"IF(BASE!AK107=\"\",\"\",Reporte!$N107)","v":""},"",{"$f":"IFERROR(ER107*BASE!$AN$165/BASE!$AN107,\"\")","v":""},"",{"$f":"IF(BASE!AL107=\"\",\"\",Reporte!$N107)","v":""},"",{"$f":"IFERROR(EV107*BASE!$AN$165/BASE!$AN107,\"\")","v":""},""]
[null,null,"Criterio Evaluación 6.4","",{"$f":"'Lengua Castellana y Lit.'!E19","v":1},{"$f":"'Lengua Castellana y Lit.'!F19","v":3.8461538461538464E-2},{"$f":"'Lengua Castellana y Lit.'!G19","v":""},null,null,null,null,null,"Criterio Evaluación 6.4","",{"$f":"'Peso criterios carga horaria'!F108","v":5.5},{"$f":"O108*BASE!$AN$165/BASE!AN108","v":3.0966666666666671},1.2600229095074456E-2,"",{"$f":"IF(BASE!E108=\"\",\"\",Reporte!$N108)","v":""},"",{"$f":"IFERROR(T108*BASE!$AN$165/BASE!$AN108,\"\")","v":""},"",{"$f":"IF(BASE!F108=\"\",\"\",Reporte!$N108)","v":""},"",{"$f":"IFERROR(X108*BASE!$AN$165/BASE!$AN108,\"\")","v":""},"",{"$f":"IF(BASE!G108=\"\",\"\",Reporte!$N108)","v":""},"",{"$f":"IFERROR(AB108*BASE!$AN$165/BASE!$AN108,\"\")","v":""},"",{"$f":"IF(BASE!H108=\"\",\"\",Reporte!$N108)","v":""},"",{"$f":"IFERROR(AF108*BASE!$AN$165/BASE!$AN108,\"\")","v":""},"",{"$f":"IF(BASE!I108=\"\",\"\",Reporte!$N108)","v":""},"",{"$f":"IFERROR(AJ108*BASE!$AN$165/BASE!$AN108,\"\")","v":""},"",{"$f":"IF(BASE!J108=\"\",\"\",Reporte!$N108)","v":""},"",{"$f":"IFERROR(AN108*BASE!$AN$165/BASE!$AN108,\"\")","v":""},"",{"$f":"IF(BASE!K108=\"\",\"\",Reporte!$N108)","v":""},"",{"$f":"IFERROR(AR108*BASE!$AN$165/BASE!$AN108,\"\")","v":""},"",{"$f":"IF(BASE!L108=\"\",\"\",Reporte!$N108)","v":""},"",{"$f":"IFERROR(AV108*BASE!$AN$165/BASE!$AN108,\"\")","v":""},"",{"$f":"IF(BASE!M108=\"\",\"\",Reporte!$N108)","v":""},"",{"$f":"IFERROR(AZ108*BASE!$AN$165/BASE!$AN108,\"\")","v":""},"",{"$f":"IF(BASE!N108=\"\",\"\",Reporte!$N108)","v":""},"",{"$f":"IFERROR(BD108*BASE!$AN$165/BASE!$AN108,\"\")","v":""},"",{"$f":"IF(BASE!O108=\"\",\"\",Reporte!$N108)","v":""},"",{"$f":"IFERROR(BH108*BASE!$AN$165/BASE!$AN108,\"\")","v":""},"",{"$f":"IF(BASE!P108=\"\",\"\",Reporte!$N108)","v":""},"",{"$f":"IFERROR(BL108*BASE!$AN$165/BASE!$AN108,\"\")","v":""},"",{"$f":"IF(BASE!Q108=\"\",\"\",Reporte!$N108)","v":""},"",{"$f":"IFERROR(BP108*BASE!$AN$165/BASE!$AN108,\"\")","v":""},"",{"$f":"IF(BASE!R108=\"\",\"\",Reporte!$N108)","v":""},"",{"$f":"IFERROR(BT108*BASE!$AN$165/BASE!$AN108,\"\")","v":""},"",{"$f":"IF(BASE!S108=\"\",\"\",Reporte!$N108)","v":""},"",{"$f":"IFERROR(BX108*BASE!$AN$165/BASE!$AN108,\"\")","v":""},"",{"$f":"IF(BASE!T108=\"\",\"\",Reporte!$N108)","v":""},"",{"$f":"IFERROR(CB108*BASE!$AN$165/BASE!$AN108,\"\")","v":""},"",{"$f":"IF(BASE!U108=\"\",\"\",Reporte!$N108)","v":""},"",{"$f":"IFERROR(CF108*BASE!$AN$165/BASE!$AN108,\"\")","v":""},"",{"$f":"IF(BASE!V108=\"\",\"\",Reporte!$N108)","v":""},"",{"$f":"IFERROR(CJ108*BASE!$AN$165/BASE!$AN108,\"\")","v":""},"",{"$f":"IF(BASE!W108=\"\",\"\",Reporte!$N108)","v":""},"",{"$f":"IFERROR(CN108*BASE!$AN$165/BASE!$AN108,\"\")","v":""},"",{"$f":"IF(BASE!X108=\"\",\"\",Reporte!$N108)","v":""},"",{"$f":"IFERROR(CR108*BASE!$AN$165/BASE!$AN108,\"\")","v":""},"",{"$f":"IF(BASE!Y108=\"\",\"\",Reporte!$N108)","v":""},"",{"$f":"IFERROR(CV108*BASE!$AN$165/BASE!$AN108,\"\")","v":""},"",{"$f":"IF(BASE!Z108=\"\",\"\",Reporte!$N108)","v":""},"",{"$f":"IFERROR(CZ108*BASE!$AN$165/BASE!$AN108,\"\")","v":""},"",{"$f":"IF(BASE!AA108=\"\",\"\",Reporte!$N108)","v":""},"",{"$f":"IFERROR(DD108*BASE!$AN$165/BASE!$AN108,\"\")","v":""},"",{"$f":"IF(BASE!AB108=\"\",\"\",Reporte!$N108)","v":""},"",{"$f":"IFERROR(DH108*BASE!$AN$165/BASE!$AN108,\"\")","v":""},"",{"$f":"IF(BASE!AC108=\"\",\"\",Reporte!$N108)","v":""},"",{"$f":"IFERROR(DL108*BASE!$AN$165/BASE!$AN108,\"\")","v":""},"",{"$f":"IF(BASE!AD108=\"\",\"\",Reporte!$N108)","v":""},"",{"$f":"IFERROR(DP108*BASE!$AN$165/BASE!$AN108,\"\")","v":""},"",{"$f":"IF(BASE!AE108=\"\",\"\",Reporte!$N108)","v":""},"",{"$f":"IFERROR(DT108*BASE!$AN$165/BASE!$AN108,\"\")","v":""},"",{"$f":"IF(BASE!AF108=\"\",\"\",Reporte!$N108)","v":""},"",{"$f":"IFERROR(DX108*BASE!$AN$165/BASE!$AN108,\"\")","v":""},"",{"$f":"IF(BASE!AG108=\"\",\"\",Reporte!$N108)","v":""},"",{"$f":"IFERROR(EB108*BASE!$AN$165/BASE!$AN108,\"\")","v":""},"",{"$f":"IF(BASE!AH108=\"\",\"\",Reporte!$N108)","v":""},"",{"$f":"IFERROR(EF108*BASE!$AN$165/BASE!$AN108,\"\")","v":""},"",{"$f":"IF(BASE!AI108=\"\",\"\",Reporte!$N108)","v":""},"",{"$f":"IFERROR(EJ108*BASE!$AN$165/BASE!$AN108,\"\")","v":""},"",{"$f":"IF(BASE!AJ108=\"\",\"\",Reporte!$N108)","v":""},"",{"$f":"IFERROR(EN108*BASE!$AN$165/BASE!$AN108,\"\")","v":""},"",{"$f":"IF(BASE!AK108=\"\",\"\",Reporte!$N108)","v":""},"",{"$f":"IFERROR(ER108*BASE!$AN$165/BASE!$AN108,\"\")","v":""},"",{"$f":"IF(BASE!AL108=\"\",\"\",Reporte!$N108)","v":""},"",{"$f":"IFERROR(EV108*BASE!$AN$165/BASE!$AN108,\"\")","v":""},""]
[null,"Comp. Esp. 7","Criterio Evaluación 7.1","",{"$f":"'Lengua Castellana y Lit.'!E20","v":1},{"$f":"'Lengua Castellana y Lit.'!F20","v":3.8461538461538464E-2},{"$f":"'Lengua Castellana y Lit.'!G20","v":""},null,null,null,null,"Comp. Esp. 7","Criterio Evaluación 7.1","",{"$f":"'Peso criterios carga horaria'!F109","v":5.5},{"$f":"O109*BASE!$AN$165/BASE!AN109","v":3.0966666666666671},1.2600229095074456E-2,"",{"$f":"IF(BASE!E109=\"\",\"\",Reporte!$N109)","v":""},"",{"$f":"IFERROR(T109*BASE!$AN$165/BASE!$AN109,\"\")","v":""},"",{"$f":"IF(BASE!F109=\"\",\"\",Reporte!$N109)","v":""},"",{"$f":"IFERROR(X109*BASE!$AN$165/BASE!$AN109,\"\")","v":""},"",{"$f":"IF(BASE!G109=\"\",\"\",Reporte!$N109)","v":""},"",{"$f":"IFERROR(AB109*BASE!$AN$165/BASE!$AN109,\"\")","v":""},"",{"$f":"IF(BASE!H109=\"\",\"\",Reporte!$N109)","v":""},"",{"$f":"IFERROR(AF109*BASE!$AN$165/BASE!$AN109,\"\")","v":""},"",{"$f":"IF(BASE!I109=\"\",\"\",Reporte!$N109)","v":""},"",{"$f":"IFERROR(AJ109*BASE!$AN$165/BASE!$AN109,\"\")","v":""},"",{"$f":"IF(BASE!J109=\"\",\"\",Reporte!$N109)","v":""},"",{"$f":"IFERROR(AN109*BASE!$AN$165/BASE!$AN109,\"\")","v":""},"",{"$f":"IF(BASE!K109=\"\",\"\",Reporte!$N109)","v":""},"",{"$f":"IFERROR(AR109*BASE!$AN$165/BASE!$AN109,\"\")","v":""},"",{"$f":"IF(BASE!L109=\"\",\"\",Reporte!$N109)","v":""},"",{"$f":"IFERROR(AV109*BASE!$AN$165/BASE!$AN109,\"\")","v":""},"",{"$f":"IF(BASE!M109=\"\",\"\",Reporte!$N109)","v":""},"",{"$f":"IFERROR(AZ109*BASE!$AN$165/BASE!$AN109,\"\")","v":""},"",{"$f":"IF(BASE!N109=\"\",\"\",Reporte!$N109)","v":""},"",{"$f":"IFERROR(BD109*BASE!$AN$165/BASE!$AN109,\"\")","v":""},"",{"$f":"IF(BASE!O109=\"\",\"\",Reporte!$N109)","v":""},"",{"$f":"IFERROR(BH109*BASE!$AN$165/BASE!$AN109,\"\")","v":""},"",{"$f":"IF(BASE!P109=\"\",\"\",Reporte!$N109)","v":""},"",{"$f":"IFERROR(BL109*BASE!$AN$165/BASE!$AN109,\"\")","v":""},"",{"$f":"IF(BASE!Q109=\"\",\"\",Reporte!$N109)","v":""},"",{"$f":"IFERROR(BP109*BASE!$AN$165/BASE!$AN109,\"\")","v":""},"",{"$f":"IF(BASE!R109=\"\",\"\",Reporte!$N109)","v":""},"",{"$f":"IFERROR(BT109*BASE!$AN$165/BASE!$AN109,\"\")","v":""},"",{"$f":"IF(BASE!S109=\"\",\"\",Reporte!$N109)","v":""},"",{"$f":"IFERROR(BX109*BASE!$AN$165/BASE!$AN109,\"\")","v":""},"",{"$f":"IF(BASE!T109=\"\",\"\",Reporte!$N109)","v":""},"",{"$f":"IFERROR(CB109*BASE!$AN$165/BASE!$AN109,\"\")","v":""},"",{"$f":"IF(BASE!U109=\"\",\"\",Reporte!$N109)","v":""},"",{"$f":"IFERROR(CF109*BASE!$AN$165/BASE!$AN109,\"\")","v":""},"",{"$f":"IF(BASE!V109=\"\",\"\",Reporte!$N109)","v":""},"",{"$f":"IFERROR(CJ109*BASE!$AN$165/BASE!$AN109,\"\")","v":""},"",{"$f":"IF(BASE!W109=\"\",\"\",Reporte!$N109)","v":""},"",{"$f":"IFERROR(CN109*BASE!$AN$165/BASE!$AN109,\"\")","v":""},"",{"$f":"IF(BASE!X109=\"\",\"\",Reporte!$N109)","v":""},"",{"$f":"IFERROR(CR109*BASE!$AN$165/BASE!$AN109,\"\")","v":""},"",{"$f":"IF(BASE!Y109=\"\",\"\",Reporte!$N109)","v":""},"",{"$f":"IFERROR(CV109*BASE!$AN$165/BASE!$AN109,\"\")","v":""},"",{"$f":"IF(BASE!Z109=\"\",\"\",Reporte!$N109)","v":""},"",{"$f":"IFERROR(CZ109*BASE!$AN$165/BASE!$AN109,\"\")","v":""},"",{"$f":"IF(BASE!AA109=\"\",\"\",Reporte!$N109)","v":""},"",{"$f":"IFERROR(DD109*BASE!$AN$165/BASE!$AN109,\"\")","v":""},"",{"$f":"IF(BASE!AB109=\"\",\"\",Reporte!$N109)","v":""},"",{"$f":"IFERROR(DH109*BASE!$AN$165/BASE!$AN109,\"\")","v":""},"",{"$f":"IF(BASE!AC109=\"\",\"\",Reporte!$N109)","v":""},"",{"$f":"IFERROR(DL109*BASE!$AN$165/BASE!$AN109,\"\")","v":""},"",{"$f":"IF(BASE!AD109=\"\",\"\",Reporte!$N109)","v":""},"",{"$f":"IFERROR(DP109*BASE!$AN$165/BASE!$AN109,\"\")","v":""},"",{"$f":"IF(BASE!AE109=\"\",\"\",Reporte!$N109)","v":""},"",{"$f":"IFERROR(DT109*BASE!$AN$165/BASE!$AN109,\"\")","v":""},"",{"$f":"IF(BASE!AF109=\"\",\"\",Reporte!$N109)","v":""},"",{"$f":"IFERROR(DX109*BASE!$AN$165/BASE!$AN109,\"\")","v":""},"",{"$f":"IF(BASE!AG109=\"\",\"\",Reporte!$N109)","v":""},"",{"$f":"IFERROR(EB109*BASE!$AN$165/BASE!$AN109,\"\")","v":""},"",{"$f":"IF(BASE!AH109=\"\",\"\",Reporte!$N109)","v":""},"",{"$f":"IFERROR(EF109*BASE!$AN$165/BASE!$AN109,\"\")","v":""},"",{"$f":"IF(BASE!AI109=\"\",\"\",Reporte!$N109)","v":""},"",{"$f":"IFERROR(EJ109*BASE!$AN$165/BASE!$AN109,\"\")","v":""},"",{"$f":"IF(BASE!AJ109=\"\",\"\",Reporte!$N109)","v":""},"",{"$f":"IFERROR(EN109*BASE!$AN$165/BASE!$AN109,\"\")","v":""},"",{"$f":"IF(BASE!AK109=\"\",\"\",Reporte!$N109)","v":""},"",{"$f":"IFERROR(ER109*BASE!$AN$165/BASE!$AN109,\"\")","v":""},"",{"$f":"IF(BASE!AL109=\"\",\"\",Reporte!$N109)","v":""},"",{"$f":"IFERROR(EV109*BASE!$AN$165/BASE!$AN109,\"\")","v":""},""]
[null,null,"Criterio Evaluación 7.2","",{"$f":"'Lengua Castellana y Lit.'!E21","v":1},{"$f":"'Lengua Castellana y Lit.'!F21","v":3.8461538461538464E-2},{"$f":"'Lengua Castellana y Lit.'!G21","v":""},null,null,null,null,null,"Criterio Evaluación 7.2","",{"$f":"'Peso criterios carga horaria'!F110","v":5.5},{"$f":"O110*BASE!$AN$165/BASE!AN110","v":3.0966666666666671},1.2600229095074456E-2,"",{"$f":"IF(BASE!E110=\"\",\"\",Reporte!$N110)","v":""},"",{"$f":"IFERROR(T110*BASE!$AN$165/BASE!$AN110,\"\")","v":""},"",{"$f":"IF(BASE!F110=\"\",\"\",Reporte!$N110)","v":""},"",{"$f":"IFERROR(X110*BASE!$AN$165/BASE!$AN110,\"\")","v":""},"",{"$f":"IF(BASE!G110=\"\",\"\",Reporte!$N110)","v":""},"",{"$f":"IFERROR(AB110*BASE!$AN$165/BASE!$AN110,\"\")","v":""},"",{"$f":"IF(BASE!H110=\"\",\"\",Reporte!$N110)","v":""},"",{"$f":"IFERROR(AF110*BASE!$AN$165/BASE!$AN110,\"\")","v":""},"",{"$f":"IF(BASE!I110=\"\",\"\",Reporte!$N110)","v":""},"",{"$f":"IFERROR(AJ110*BASE!$AN$165/BASE!$AN110,\"\")","v":""},"",{"$f":"IF(BASE!J110=\"\",\"\",Reporte!$N110)","v":""},"",{"$f":"IFERROR(AN110*BASE!$AN$165/BASE!$AN110,\"\")","v":""},"",{"$f":"IF(BASE!K110=\"\",\"\",Reporte!$N110)","v":""},"",{"$f":"IFERROR(AR110*BASE!$AN$165/BASE!$AN110,\"\")","v":""},"",{"$f":"IF(BASE!L110=\"\",\"\",Reporte!$N110)","v":""},"",{"$f":"IFERROR(AV110*BASE!$AN$165/BASE!$AN110,\"\")","v":""},"",{"$f":"IF(BASE!M110=\"\",\"\",Reporte!$N110)","v":""},"",{"$f":"IFERROR(AZ110*BASE!$AN$165/BASE!$AN110,\"\")","v":""},"",{"$f":"IF(BASE!N110=\"\",\"\",Reporte!$N110)","v":""},"",{"$f":"IFERROR(BD110*BASE!$AN$165/BASE!$AN110,\"\")","v":""},"",{"$f":"IF(BASE!O110=\"\",\"\",Reporte!$N110)","v":""},"",{"$f":"IFERROR(BH110*BASE!$AN$165/BASE!$AN110,\"\")","v":""},"",{"$f":"IF(BASE!P110=\"\",\"\",Reporte!$N110)","v":""},"",{"$f":"IFERROR(BL110*BASE!$AN$165/BASE!$AN110,\"\")","v":""},"",{"$f":"IF(BASE!Q110=\"\",\"\",Reporte!$N110)","v":""},"",{"$f":"IFERROR(BP110*BASE!$AN$165/BASE!$AN110,\"\")","v":""},"",{"$f":"IF(BASE!R110=\"\",\"\",Reporte!$N110)","v":""},"",{"$f":"IFERROR(BT110*BASE!$AN$165/BASE!$AN110,\"\")","v":""},"",{"$f":"IF(BASE!S110=\"\",\"\",Reporte!$N110)","v":""},"",{"$f":"IFERROR(BX110*BASE!$AN$165/BASE!$AN110,\"\")","v":""},"",{"$f":"IF(BASE!T110=\"\",\"\",Reporte!$N110)","v":""},"",{"$f":"IFERROR(CB110*BASE!$AN$165/BASE!$AN110,\"\")","v":""},"",{"$f":"IF(BASE!U110=\"\",\"\",Reporte!$N110)","v":""},"",{"$f":"IFERROR(CF110*BASE!$AN$165/BASE!$AN110,\"\")","v":""},"",{"$f":"IF(BASE!V110=\"\",\"\",Reporte!$N110)","v":""},"",{"$f":"IFERROR(CJ110*BASE!$AN$165/BASE!$AN110,\"\")","v":""},"",{"$f":"IF(BASE!W110=\"\",\"\",Reporte!$N110)","v":""},"",{"$f":"IFERROR(CN110*BASE!$AN$165/BASE!$AN110,\"\")","v":""},"",{"$f":"IF(BASE!X110=\"\",\"\",Reporte!$N110)","v":""},"",{"$f":"IFERROR(CR110*BASE!$AN$165/BASE!$AN110,\"\")","v":""},"",{"$f":"IF(BASE!Y110=\"\",\"\",Reporte!$N110)","v":""},"",{"$f":"IFERROR(CV110*BASE!$AN$165/BASE!$AN110,\"\")","v":""},"",{"$f":"IF(BASE!Z110=\"\",\"\",Reporte!$N110)","v":""},"",{"$f":"IFERROR(CZ110*BASE!$AN$165/BASE!$AN110,\"\")","v":""},"",{"$f":"IF(BASE!AA110=\"\",\"\",Reporte!$N110)","v":""},"",{"$f":"IFERROR(DD110*BASE!$AN$165/BASE!$AN110,\"\")","v":""},"",{"$f":"IF(BASE!AB110=\"\",\"\",Reporte!$N110)","v":""},"",{"$f":"IFERROR(DH110*BASE!$AN$165/BASE!$AN110,\"\")","v":""},"",{"$f":"IF(BASE!AC110=\"\",\"\",Reporte!$N110)","v":""},"",{"$f":"IFERROR(DL110*BASE!$AN$165/BASE!$AN110,\"\")","v":""},"",{"$f":"IF(BASE!AD110=\"\",\"\",Reporte!$N110)","v":""},"",{"$f":"IFERROR(DP110*BASE!$AN$165/BASE!$AN110,\"\")","v":""},"",{"$f":"IF(BASE!AE110=\"\",\"\",Reporte!$N110)","v":""},"",{"$f":"IFERROR(DT110*BASE!$AN$165/BASE!$AN110,\"\")","v":""},"",{"$f":"IF(BASE!AF110=\"\",\"\",Reporte!$N110)","v":""},"",{"$f":"IFERROR(DX110*BASE!$AN$165/BASE!$AN110,\"\")","v":""},"",{"$f":"IF(BASE!AG110=\"\",\"\",Reporte!$N110)","v":""},"",{"$f":"IFERROR(EB110*BASE!$AN$165/BASE!$AN110,\"\")","v":""},"",{"$f":"IF(BASE!AH110=\"\",\"\",Reporte!$N110)","v":""},"",{"$f":"IFERROR(EF110*BASE!$AN$165/BASE!$AN110,\"\")","v":""},"",{"$f":"IF(BASE!AI110=\"\",\"\",Reporte!$N110)","v":""},"",{"$f":"IFERROR(EJ110*BASE!$AN$165/BASE!$AN110,\"\")","v":""},"",{"$f":"IF(BASE!AJ110=\"\",\"\",Reporte!$N110)","v":""},"",{"$f":"IFERROR(EN110*BASE!$AN$165/BASE!$AN110,\"\")","v":""},"",{"$f":"IF(BASE!AK110=\"\",\"\",Reporte!$N110)","v":""},"",{"$f":"IFERROR(ER110*BASE!$AN$165/BASE!$AN110,\"\")","v":""},"",{"$f":"IF(BASE!AL110=\"\",\"\",Reporte!$N110)","v":""},"",{"$f":"IFERROR(EV110*BASE!$AN$165/BASE!$AN110,\"\")","v":""},""]
[null,null,"Criterio Evaluación 7.3","",{"$f":"'Lengua Castellana y Lit.'!E22","v":1},{"$f":"'Lengua Castellana y Lit.'!F22","v":3.8461538461538464E-2},{"$f":"'Lengua Castellana y Lit.'!G22","v":""},null,null,null,null,null,"Criterio Evaluación 7.3","",{"$f":"'Peso criterios carga horaria'!F111","v":5.5},{"$f":"O111*BASE!$AN$165/BASE!AN111","v":3.0966666666666671},1.2600229095074456E-2,"",{"$f":"IF(BASE!E111=\"\",\"\",Reporte!$N111)","v":""},"",{"$f":"IFERROR(T111*BASE!$AN$165/BASE!$AN111,\"\")","v":""},"",{"$f":"IF(BASE!F111=\"\",\"\",Reporte!$N111)","v":""},"",{"$f":"IFERROR(X111*BASE!$AN$165/BASE!$AN111,\"\")","v":""},"",{"$f":"IF(BASE!G111=\"\",\"\",Reporte!$N111)","v":""},"",{"$f":"IFERROR(AB111*BASE!$AN$165/BASE!$AN111,\"\")","v":""},"",{"$f":"IF(BASE!H111=\"\",\"\",Reporte!$N111)","v":""},"",{"$f":"IFERROR(AF111*BASE!$AN$165/BASE!$AN111,\"\")","v":""},"",{"$f":"IF(BASE!I111=\"\",\"\",Reporte!$N111)","v":""},"",{"$f":"IFERROR(AJ111*BASE!$AN$165/BASE!$AN111,\"\")","v":""},"",{"$f":"IF(BASE!J111=\"\",\"\",Reporte!$N111)","v":""},"",{"$f":"IFERROR(AN111*BASE!$AN$165/BASE!$AN111,\"\")","v":""},"",{"$f":"IF(BASE!K111=\"\",\"\",Reporte!$N111)","v":""},"",{"$f":"IFERROR(AR111*BASE!$AN$165/BASE!$AN111,\"\")","v":""},"",{"$f":"IF(BASE!L111=\"\",\"\",Reporte!$N111)","v":""},"",{"$f":"IFERROR(AV111*BASE!$AN$165/BASE!$AN111,\"\")","v":""},"",{"$f":"IF(BASE!M111=\"\",\"\",Reporte!$N111)","v":""},"",{"$f":"IFERROR(AZ111*BASE!$AN$165/BASE!$AN111,\"\")","v":""},"",{"$f":"IF(BASE!N111=\"\",\"\",Reporte!$N111)","v":""},"",{"$f":"IFERROR(BD111*BASE!$AN$165/BASE!$AN111,\"\")","v":""},"",{"$f":"IF(BASE!O111=\"\",\"\",Reporte!$N111)","v":""},"",{"$f":"IFERROR(BH111*BASE!$AN$165/BASE!$AN111,\"\")","v":""},"",{"$f":"IF(BASE!P111=\"\",\"\",Reporte!$N111)","v":""},"",{"$f":"IFERROR(BL111*BASE!$AN$165/BASE!$AN111,\"\")","v":""},"",{"$f":"IF(BASE!Q111=\"\",\"\",Reporte!$N111)","v":""},"",{"$f":"IFERROR(BP111*BASE!$AN$165/BASE!$AN111,\"\")","v":""},"",{"$f":"IF(BASE!R111=\"\",\"\",Reporte!$N111)","v":""},"",{"$f":"IFERROR(BT111*BASE!$AN$165/BASE!$AN111,\"\")","v":""},"",{"$f":"IF(BASE!S111=\"\",\"\",Reporte!$N111)","v":""},"",{"$f":"IFERROR(BX111*BASE!$AN$165/BASE!$AN111,\"\")","v":""},"",{"$f":"IF(BASE!T111=\"\",\"\",Reporte!$N111)","v":""},"",{"$f":"IFERROR(CB111*BASE!$AN$165/BASE!$AN111,\"\")","v":""},"",{"$f":"IF(BASE!U111=\"\",\"\",Reporte!$N111)","v":""},"",{"$f":"IFERROR(CF111*BASE!$AN$165/BASE!$AN111,\"\")","v":""},"",{"$f":"IF(BASE!V111=\"\",\"\",Reporte!$N111)","v":""},"",{"$f":"IFERROR(CJ111*BASE!$AN$165/BASE!$AN111,\"\")","v":""},"",{"$f":"IF(BASE!W111=\"\",\"\",Reporte!$N111)","v":""},"",{"$f":"IFERROR(CN111*BASE!$AN$165/BASE!$AN111,\"\")","v":""},"",{"$f":"IF(BASE!X111=\"\",\"\",Reporte!$N111)","v":""},"",{"$f":"IFERROR(CR111*BASE!$AN$165/BASE!$AN111,\"\")","v":""},"",{"$f":"IF(BASE!Y111=\"\",\"\",Reporte!$N111)","v":""},"",{"$f":"IFERROR(CV111*BASE!$AN$165/BASE!$AN111,\"\")","v":""},"",{"$f":"IF(BASE!Z111=\"\",\"\",Reporte!$N111)","v":""},"",{"$f":"IFERROR(CZ111*BASE!$AN$165/BASE!$AN111,\"\")","v":""},"",{"$f":"IF(BASE!AA111=\"\",\"\",Reporte!$N111)","v":""},"",{"$f":"IFERROR(DD111*BASE!$AN$165/BASE!$AN111,\"\")","v":""},"",{"$f":"IF(BASE!AB111=\"\",\"\",Reporte!$N111)","v":""},"",{"$f":"IFERROR(DH111*BASE!$AN$165/BASE!$AN111,\"\")","v":""},"",{"$f":"IF(BASE!AC111=\"\",\"\",Reporte!$N111)","v":""},"",{"$f":"IFERROR(DL111*BASE!$AN$165/BASE!$AN111,\"\")","v":""},"",{"$f":"IF(BASE!AD111=\"\",\"\",Reporte!$N111)","v":""},"",{"$f":"IFERROR(DP111*BASE!$AN$165/BASE!$AN111,\"\")","v":""},"",{"$f":"IF(BASE!AE111=\"\",\"\",Reporte!$N111)","v":""},"",{"$f":"IFERROR(DT111*BASE!$AN$165/BASE!$AN111,\"\")","v":""},"",{"$f":"IF(BASE!AF111=\"\",\"\",Reporte!$N111)","v":""},"",{"$f":"IFERROR(DX111*BASE!$AN$165/BASE!$AN111,\"\")","v":""},"",{"$f":"IF(BASE!AG111=\"\",\"\",Reporte!$N111)","v":""},"",{"$f":"IFERROR(EB111*BASE!$AN$165/BASE!$AN111,\"\")","v":""},"",{"$f":"IF(BASE!AH111=\"\",\"\",Reporte!$N111)","v":""},"",{"$f":"IFERROR(EF111*BASE!$AN$165/BASE!$AN111,\"\")","v":""},"",{"$f":"IF(BASE!AI111=\"\",\"\",Reporte!$N111)","v":""},"",{"$f":"IFERROR(EJ111*BASE!$AN$165/BASE!$AN111,\"\")","v":""},"",{"$f":"IF(BASE!AJ111=\"\",\"\",Reporte!$N111)","v":""},"",{"$f":"IFERROR(EN111*BASE!$AN$165/BASE!$AN111,\"\")","v":""},"",{"$f":"IF(BASE!AK111=\"\",\"\",Reporte!$N111)","v":""},"",{"$f":"IFERROR(ER111*BASE!$AN$165/BASE!$AN111,\"\")","v":""},"",{"$f":"IF(BASE!AL111=\"\",\"\",Reporte!$N111)","v":""},"",{"$f":"IFERROR(EV111*BASE!$AN$165/BASE!$AN111,\"\")","v":""},""]
[null,"Comp. Esp. 8","Criterio Evaluación 8.1","",{"$f":"'Lengua Castellana y Lit.'!E23","v":1},{"$f":"'Lengua Castellana y Lit.'!F23","v":3.8461538461538464E-2},{"$f":"'Lengua Castellana y Lit.'!G23","v":""},null,null,null,null,"Comp. Esp. 8","Criterio Evaluación 8.1","",{"$f":"'Peso criterios carga horaria'!F112","v":5.5},{"$f":"O112*BASE!$AN$165/BASE!AN112","v":3.0966666666666671},1.2600229095074456E-2,"",{"$f":"IF(BASE!E112=\"\",\"\",Reporte!$N112)","v":""},"",{"$f":"IFERROR(T112*BASE!$AN$165/BASE!$AN112,\"\")","v":""},"",{"$f":"IF(BASE!F112=\"\",\"\",Reporte!$N112)","v":""},"",{"$f":"IFERROR(X112*BASE!$AN$165/BASE!$AN112,\"\")","v":""},"",{"$f":"IF(BASE!G112=\"\",\"\",Reporte!$N112)","v":""},"",{"$f":"IFERROR(AB112*BASE!$AN$165/BASE!$AN112,\"\")","v":""},"",{"$f":"IF(BASE!H112=\"\",\"\",Reporte!$N112)","v":""},"",{"$f":"IFERROR(AF112*BASE!$AN$165/BASE!$AN112,\"\")","v":""},"",{"$f":"IF(BASE!I112=\"\",\"\",Reporte!$N112)","v":""},"",{"$f":"IFERROR(AJ112*BASE!$AN$165/BASE!$AN112,\"\")","v":""},"",{"$f":"IF(BASE!J112=\"\",\"\",Reporte!$N112)","v":""},"",{"$f":"IFERROR(AN112*BASE!$AN$165/BASE!$AN112,\"\")","v":""},"",{"$f":"IF(BASE!K112=\"\",\"\",Reporte!$N112)","v":""},"",{"$f":"IFERROR(AR112*BASE!$AN$165/BASE!$AN112,\"\")","v":""},"",{"$f":"IF(BASE!L112=\"\",\"\",Reporte!$N112)","v":""},"",{"$f":"IFERROR(AV112*BASE!$AN$165/BASE!$AN112,\"\")","v":""},"",{"$f":"IF(BASE!M112=\"\",\"\",Reporte!$N112)","v":""},"",{"$f":"IFERROR(AZ112*BASE!$AN$165/BASE!$AN112,\"\")","v":""},"",{"$f":"IF(BASE!N112=\"\",\"\",Reporte!$N112)","v":""},"",{"$f":"IFERROR(BD112*BASE!$AN$165/BASE!$AN112,\"\")","v":""},"",{"$f":"IF(BASE!O112=\"\",\"\",Reporte!$N112)","v":""},"",{"$f":"IFERROR(BH112*BASE!$AN$165/BASE!$AN112,\"\")","v":""},"",{"$f":"IF(BASE!P112=\"\",\"\",Reporte!$N112)","v":""},"",{"$f":"IFERROR(BL112*BASE!$AN$165/BASE!$AN112,\"\")","v":""},"",{"$f":"IF(BASE!Q112=\"\",\"\",Reporte!$N112)","v":""},"",{"$f":"IFERROR(BP112*BASE!$AN$165/BASE!$AN112,\"\")","v":""},"",{"$f":"IF(BASE!R112=\"\",\"\",Reporte!$N112)","v":""},"",{"$f":"IFERROR(BT112*BASE!$AN$165/BASE!$AN112,\"\")","v":""},"",{"$f":"IF(BASE!S112=\"\",\"\",Reporte!$N112)","v":""},"",{"$f":"IFERROR(BX112*BASE!$AN$165/BASE!$AN112,\"\")","v":""},"",{"$f":"IF(BASE!T112=\"\",\"\",Reporte!$N112)","v":""},"",{"$f":"IFERROR(CB112*BASE!$AN$165/BASE!$AN112,\"\")","v":""},"",{"$f":"IF(BASE!U112=\"\",\"\",Reporte!$N112)","v":""},"",{"$f":"IFERROR(CF112*BASE!$AN$165/BASE!$AN112,\"\")","v":""},"",{"$f":"IF(BASE!V112=\"\",\"\",Reporte!$N112)","v":""},"",{"$f":"IFERROR(CJ112*BASE!$AN$165/BASE!$AN112,\"\")","v":""},"",{"$f":"IF(BASE!W112=\"\",\"\",Reporte!$N112)","v":""},"",{"$f":"IFERROR(CN112*BASE!$AN$165/BASE!$AN112,\"\")","v":""},"",{"$f":"IF(BASE!X112=\"\",\"\",Reporte!$N112)","v":""},"",{"$f":"IFERROR(CR112*BASE!$AN$165/BASE!$AN112,\"\")","v":""},"",{"$f":"IF(BASE!Y112=\"\",\"\",Reporte!$N112)","v":""},"",{"$f":"IFERROR(CV112*BASE!$AN$165/BASE!$AN112,\"\")","v":""},"",{"$f":"IF(BASE!Z112=\"\",\"\",Reporte!$N112)","v":""},"",{"$f":"IFERROR(CZ112*BASE!$AN$165/BASE!$AN112,\"\")","v":""},"",{"$f":"IF(BASE!AA112=\"\",\"\",Reporte!$N112)","v":""},"",{"$f":"IFERROR(DD112*BASE!$AN$165/BASE!$AN112,\"\")","v":""},"",{"$f":"IF(BASE!AB112=\"\",\"\",Reporte!$N112)","v":""},"",{"$f":"IFERROR(DH112*BASE!$AN$165/BASE!$AN112,\"\")","v":""},"",{"$f":"IF(BASE!AC112=\"\",\"\",Reporte!$N112)","v":""},"",{"$f":"IFERROR(DL112*BASE!$AN$165/BASE!$AN112,\"\")","v":""},"",{"$f":"IF(BASE!AD112=\"\",\"\",Reporte!$N112)","v":""},"",{"$f":"IFERROR(DP112*BASE!$AN$165/BASE!$AN112,\"\")","v":""},"",{"$f":"IF(BASE!AE112=\"\",\"\",Reporte!$N112)","v":""},"",{"$f":"IFERROR(DT112*BASE!$AN$165/BASE!$AN112,\"\")","v":""},"",{"$f":"IF(BASE!AF112=\"\",\"\",Reporte!$N112)","v":""},"",{"$f":"IFERROR(DX112*BASE!$AN$165/BASE!$AN112,\"\")","v":""},"",{"$f":"IF(BASE!AG112=\"\",\"\",Reporte!$N112)","v":""},"",{"$f":"IFERROR(EB112*BASE!$AN$165/BASE!$AN112,\"\")","v":""},"",{"$f":"IF(BASE!AH112=\"\",\"\",Reporte!$N112)","v":""},"",{"$f":"IFERROR(EF112*BASE!$AN$165/BASE!$AN112,\"\")","v":""},"",{"$f":"IF(BASE!AI112=\"\",\"\",Reporte!$N112)","v":""},"",{"$f":"IFERROR(EJ112*BASE!$AN$165/BASE!$AN112,\"\")","v":""},"",{"$f":"IF(BASE!AJ112=\"\",\"\",Reporte!$N112)","v":""},"",{"$f":"IFERROR(EN112*BASE!$AN$165/BASE!$AN112,\"\")","v":""},"",{"$f":"IF(BASE!AK112=\"\",\"\",Reporte!$N112)","v":""},"",{"$f":"IFERROR(ER112*BASE!$AN$165/BASE!$AN112,\"\")","v":""},"",{"$f":"IF(BASE!AL112=\"\",\"\",Reporte!$N112)","v":""},"",{"$f":"IFERROR(EV112*BASE!$AN$165/BASE!$AN112,\"\")","v":""},""]
[null,null,"Criterio Evaluación 8.2","",{"$f":"'Lengua Castellana y Lit.'!E24","v":1},{"$f":"'Lengua Castellana y Lit.'!F24","v":3.8461538461538464E-2},{"$f":"'Lengua Castellana y Lit.'!G24","v":""},null,null,null,null,null,"Criterio Evaluación 8.2","",{"$f":"'Peso criterios carga horaria'!F113","v":5.5},{"$f":"O113*BASE!$AN$165/BASE!AN113","v":3.0966666666666671},1.2600229095074456E-2,"",{"$f":"IF(BASE!E113=\"\",\"\",Reporte!$N113)","v":""},"",{"$f":"IFERROR(T113*BASE!$AN$165/BASE!$AN113,\"\")","v":""},"",{"$f":"IF(BASE!F113=\"\",\"\",Reporte!$N113)","v":""},"",{"$f":"IFERROR(X113*BASE!$AN$165/BASE!$AN113,\"\")","v":""},"",{"$f":"IF(BASE!G113=\"\",\"\",Reporte!$N113)","v":""},"",{"$f":"IFERROR(AB113*BASE!$AN$165/BASE!$AN113,\"\")","v":""},"",{"$f":"IF(BASE!H113=\"\",\"\",Reporte!$N113)","v":""},"",{"$f":"IFERROR(AF113*BASE!$AN$165/BASE!$AN113,\"\")","v":""},"",{"$f":"IF(BASE!I113=\"\",\"\",Reporte!$N113)","v":""},"",{"$f":"IFERROR(AJ113*BASE!$AN$165/BASE!$AN113,\"\")","v":""},"",{"$f":"IF(BASE!J113=\"\",\"\",Reporte!$N113)","v":""},"",{"$f":"IFERROR(AN113*BASE!$AN$165/BASE!$AN113,\"\")","v":""},"",{"$f":"IF(BASE!K113=\"\",\"\",Reporte!$N113)","v":""},"",{"$f":"IFERROR(AR113*BASE!$AN$165/BASE!$AN113,\"\")","v":""},"",{"$f":"IF(BASE!L113=\"\",\"\",Reporte!$N113)","v":""},"",{"$f":"IFERROR(AV113*BASE!$AN$165/BASE!$AN113,\"\")","v":""},"",{"$f":"IF(BASE!M113=\"\",\"\",Reporte!$N113)","v":""},"",{"$f":"IFERROR(AZ113*BASE!$AN$165/BASE!$AN113,\"\")","v":""},"",{"$f":"IF(BASE!N113=\"\",\"\",Reporte!$N113)","v":""},"",{"$f":"IFERROR(BD113*BASE!$AN$165/BASE!$AN113,\"\")","v":""},"",{"$f":"IF(BASE!O113=\"\",\"\",Reporte!$N113)","v":""},"",{"$f":"IFERROR(BH113*BASE!$AN$165/BASE!$AN113,\"\")","v":""},"",{"$f":"IF(BASE!P113=\"\",\"\",Reporte!$N113)","v":""},"",{"$f":"IFERROR(BL113*BASE!$AN$165/BASE!$AN113,\"\")","v":""},"",{"$f":"IF(BASE!Q113=\"\",\"\",Reporte!$N113)","v":""},"",{"$f":"IFERROR(BP113*BASE!$AN$165/BASE!$AN113,\"\")","v":""},"",{"$f":"IF(BASE!R113=\"\",\"\",Reporte!$N113)","v":""},"",{"$f":"IFERROR(BT113*BASE!$AN$165/BASE!$AN113,\"\")","v":""},"",{"$f":"IF(BASE!S113=\"\",\"\",Reporte!$N113)","v":""},"",{"$f":"IFERROR(BX113*BASE!$AN$165/BASE!$AN113,\"\")","v":""},"",{"$f":"IF(BASE!T113=\"\",\"\",Reporte!$N113)","v":""},"",{"$f":"IFERROR(CB113*BASE!$AN$165/BASE!$AN113,\"\")","v":""},"",{"$f":"IF(BASE!U113=\"\",\"\",Reporte!$N113)","v":""},"",{"$f":"IFERROR(CF113*BASE!$AN$165/BASE!$AN113,\"\")","v":""},"",{"$f":"IF(BASE!V113=\"\",\"\",Reporte!$N113)","v":""},"",{"$f":"IFERROR(CJ113*BASE!$AN$165/BASE!$AN113,\"\")","v":""},"",{"$f":"IF(BASE!W113=\"\",\"\",Reporte!$N113)","v":""},"",{"$f":"IFERROR(CN113*BASE!$AN$165/BASE!$AN113,\"\")","v":""},"",{"$f":"IF(BASE!X113=\"\",\"\",Reporte!$N113)","v":""},"",{"$f":"IFERROR(CR113*BASE!$AN$165/BASE!$AN113,\"\")","v":""},"",{"$f":"IF(BASE!Y113=\"\",\"\",Reporte!$N113)","v":""},"",{"$f":"IFERROR(CV113*BASE!$AN$165/BASE!$AN113,\"\")","v":""},"",{"$f":"IF(BASE!Z113=\"\",\"\",Reporte!$N113)","v":""},"",{"$f":"IFERROR(CZ113*BASE!$AN$165/BASE!$AN113,\"\")","v":""},"",{"$f":"IF(BASE!AA113=\"\",\"\",Reporte!$N113)","v":""},"",{"$f":"IFERROR(DD113*BASE!$AN$165/BASE!$AN113,\"\")","v":""},"",{"$f":"IF(BASE!AB113=\"\",\"\",Reporte!$N113)","v":""},"",{"$f":"IFERROR(DH113*BASE!$AN$165/BASE!$AN113,\"\")","v":""},"",{"$f":"IF(BASE!AC113=\"\",\"\",Reporte!$N113)","v":""},"",{"$f":"IFERROR(DL113*BASE!$AN$165/BASE!$AN113,\"\")","v":""},"",{"$f":"IF(BASE!AD113=\"\",\"\",Reporte!$N113)","v":""},"",{"$f":"IFERROR(DP113*BASE!$AN$165/BASE!$AN113,\"\")","v":""},"",{"$f":"IF(BASE!AE113=\"\",\"\",Reporte!$N113)","v":""},"",{"$f":"IFERROR(DT113*BASE!$AN$165/BASE!$AN113,\"\")","v":""},"",{"$f":"IF(BASE!AF113=\"\",\"\",Reporte!$N113)","v":""},"",{"$f":"IFERROR(DX113*BASE!$AN$165/BASE!$AN113,\"\")","v":""},"",{"$f":"IF(BASE!AG113=\"\",\"\",Reporte!$N113)","v":""},"",{"$f":"IFERROR(EB113*BASE!$AN$165/BASE!$AN113,\"\")","v":""},"",{"$f":"IF(BASE!AH113=\"\",\"\",Reporte!$N113)","v":""},"",{"$f":"IFERROR(EF113*BASE!$AN$165/BASE!$AN113,\"\")","v":""},"",{"$f":"IF(BASE!AI113=\"\",\"\",Reporte!$N113)","v":""},"",{"$f":"IFERROR(EJ113*BASE!$AN$165/BASE!$AN113,\"\")","v":""},"",{"$f":"IF(BASE!AJ113=\"\",\"\",Reporte!$N113)","v":""},"",{"$f":"IFERROR(EN113*BASE!$AN$165/BASE!$AN113,\"\")","v":""},"",{"$f":"IF(BASE!AK113=\"\",\"\",Reporte!$N113)","v":""},"",{"$f":"IFERROR(ER113*BASE!$AN$165/BASE!$AN113,\"\")","v":""},"",{"$f":"IF(BASE!AL113=\"\",\"\",Reporte!$N113)","v":""},"",{"$f":"IFERROR(EV113*BASE!$AN$165/BASE!$AN113,\"\")","v":""},""]
[null,null,"Criterio Evaluación 8.3","",{"$f":"'Lengua Castellana y Lit.'!E25","v":1},{"$f":"'Lengua Castellana y Lit.'!F25","v":3.8461538461538464E-2},{"$f":"'Lengua Castellana y Lit.'!G25","v":""},null,null,null,null,null,"Criterio Evaluación 8.3","",{"$f":"'Peso criterios carga horaria'!F114","v":5.5},{"$f":"O114*BASE!$AN$165/BASE!AN114","v":3.0966666666666671},1.2600229095074456E-2,"",{"$f":"IF(BASE!E114=\"\",\"\",Reporte!$N114)","v":""},"",{"$f":"IFERROR(T114*BASE!$AN$165/BASE!$AN114,\"\")","v":""},"",{"$f":"IF(BASE!F114=\"\",\"\",Reporte!$N114)","v":""},"",{"$f":"IFERROR(X114*BASE!$AN$165/BASE!$AN114,\"\")","v":""},"",{"$f":"IF(BASE!G114=\"\",\"\",Reporte!$N114)","v":""},"",{"$f":"IFERROR(AB114*BASE!$AN$165/BASE!$AN114,\"\")","v":""},"",{"$f":"IF(BASE!H114=\"\",\"\",Reporte!$N114)","v":""},"",{"$f":"IFERROR(AF114*BASE!$AN$165/BASE!$AN114,\"\")","v":""},"",{"$f":"IF(BASE!I114=\"\",\"\",Reporte!$N114)","v":""},"",{"$f":"IFERROR(AJ114*BASE!$AN$165/BASE!$AN114,\"\")","v":""},"",{"$f":"IF(BASE!J114=\"\",\"\",Reporte!$N114)","v":""},"",{"$f":"IFERROR(AN114*BASE!$AN$165/BASE!$AN114,\"\")","v":""},"",{"$f":"IF(BASE!K114=\"\",\"\",Reporte!$N114)","v":""},"",{"$f":"IFERROR(AR114*BASE!$AN$165/BASE!$AN114,\"\")","v":""},"",{"$f":"IF(BASE!L114=\"\",\"\",Reporte!$N114)","v":""},"",{"$f":"IFERROR(AV114*BASE!$AN$165/BASE!$AN114,\"\")","v":""},"",{"$f":"IF(BASE!M114=\"\",\"\",Reporte!$N114)","v":""},"",{"$f":"IFERROR(AZ114*BASE!$AN$165/BASE!$AN114,\"\")","v":""},"",{"$f":"IF(BASE!N114=\"\",\"\",Reporte!$N114)","v":""},"",{"$f":"IFERROR(BD114*BASE!$AN$165/BASE!$AN114,\"\")","v":""},"",{"$f":"IF(BASE!O114=\"\",\"\",Reporte!$N114)","v":""},"",{"$f":"IFERROR(BH114*BASE!$AN$165/BASE!$AN114,\"\")","v":""},"",{"$f":"IF(BASE!P114=\"\",\"\",Reporte!$N114)","v":""},"",{"$f":"IFERROR(BL114*BASE!$AN$165/BASE!$AN114,\"\")","v":""},"",{"$f":"IF(BASE!Q114=\"\",\"\",Reporte!$N114)","v":""},"",{"$f":"IFERROR(BP114*BASE!$AN$165/BASE!$AN114,\"\")","v":""},"",{"$f":"IF(BASE!R114=\"\",\"\",Reporte!$N114)","v":""},"",{"$f":"IFERROR(BT114*BASE!$AN$165/BASE!$AN114,\"\")","v":""},"",{"$f":"IF(BASE!S114=\"\",\"\",Reporte!$N114)","v":""},"",{"$f":"IFERROR(BX114*BASE!$AN$165/BASE!$AN114,\"\")","v":""},"",{"$f":"IF(BASE!T114=\"\",\"\",Reporte!$N114)","v":""},"",{"$f":"IFERROR(CB114*BASE!$AN$165/BASE!$AN114,\"\")","v":""},"",{"$f":"IF(BASE!U114=\"\",\"\",Reporte!$N114)","v":""},"",{"$f":"IFERROR(CF114*BASE!$AN$165/BASE!$AN114,\"\")","v":""},"",{"$f":"IF(BASE!V114=\"\",\"\",Reporte!$N114)","v":""},"",{"$f":"IFERROR(CJ114*BASE!$AN$165/BASE!$AN114,\"\")","v":""},"",{"$f":"IF(BASE!W114=\"\",\"\",Reporte!$N114)","v":""},"",{"$f":"IFERROR(CN114*BASE!$AN$165/BASE!$AN114,\"\")","v":""},"",{"$f":"IF(BASE!X114=\"\",\"\",Reporte!$N114)","v":""},"",{"$f":"IFERROR(CR114*BASE!$AN$165/BASE!$AN114,\"\")","v":""},"",{"$f":"IF(BASE!Y114=\"\",\"\",Reporte!$N114)","v":""},"",{"$f":"IFERROR(CV114*BASE!$AN$165/BASE!$AN114,\"\")","v":""},"",{"$f":"IF(BASE!Z114=\"\",\"\",Reporte!$N114)","v":""},"",{"$f":"IFERROR(CZ114*BASE!$AN$165/BASE!$AN114,\"\")","v":""},"",{"$f":"IF(BASE!AA114=\"\",\"\",Reporte!$N114)","v":""},"",{"$f":"IFERROR(DD114*BASE!$AN$165/BASE!$AN114,\"\")","v":""},"",{"$f":"IF(BASE!AB114=\"\",\"\",Reporte!$N114)","v":""},"",{"$f":"IFERROR(DH114*BASE!$AN$165/BASE!$AN114,\"\")","v":""},"",{"$f":"IF(BASE!AC114=\"\",\"\",Reporte!$N114)","v":""},"",{"$f":"IFERROR(DL114*BASE!$AN$165/BASE!$AN114,\"\")","v":""},"",{"$f":"IF(BASE!AD114=\"\",\"\",Reporte!$N114)","v":""},"",{"$f":"IFERROR(DP114*BASE!$AN$165/BASE!$AN114,\"\")","v":""},"",{"$f":"IF(BASE!AE114=\"\",\"\",Reporte!$N114)","v":""},"",{"$f":"IFERROR(DT114*BASE!$AN$165/BASE!$AN114,\"\")","v":""},"",{"$f":"IF(BASE!AF114=\"\",\"\",Reporte!$N114)","v":""},"",{"$f":"IFERROR(DX114*BASE!$AN$165/BASE!$AN114,\"\")","v":""},"",{"$f":"IF(BASE!AG114=\"\",\"\",Reporte!$N114)","v":""},"",{"$f":"IFERROR(EB114*BASE!$AN$165/BASE!$AN114,\"\")","v":""},"",{"$f":"IF(BASE!AH114=\"\",\"\",Reporte!$N114)","v":""},"",{"$f":"IFERROR(EF114*BASE!$AN$165/BASE!$AN114,\"\")","v":""},"",{"$f":"IF(BASE!AI114=\"\",\"\",Reporte!$N114)","v":""},"",{"$f":"IFERROR(EJ114*BASE!$AN$165/BASE!$AN114,\"\")","v":""},"",{"$f":"IF(BASE!AJ114=\"\",\"\",Reporte!$N114)","v":""},"",{"$f":"IFERROR(EN114*BASE!$AN$165/BASE!$AN114,\"\")","v":""},"",{"$f":"IF(BASE!AK114=\"\",\"\",Reporte!$N114)","v":""},"",{"$f":"IFERROR(ER114*BASE!$AN$165/BASE!$AN114,\"\")","v":""},"",{"$f":"IF(BASE!AL114=\"\",\"\",Reporte!$N114)","v":""},"",{"$f":"IFERROR(EV114*BASE!$AN$165/BASE!$AN114,\"\")","v":""},""]
[null,"Comp. Esp. 9","Criterio Evaluación 9.1","",{"$f":"'Lengua Castellana y Lit.'!E26","v":1},{"$f":"'Lengua Castellana y Lit.'!F26","v":3.8461538461538464E-2},{"$f":"'Lengua Castellana y Lit.'!G26","v":""},null,null,null,null,"Comp. Esp. 9","Criterio Evaluación 9.1","",{"$f":"'Peso criterios carga horaria'!F115","v":5.5},{"$f":"O115*BASE!$AN$165/BASE!AN115","v":3.0966666666666671},1.2600229095074456E-2,"",{"$f":"IF(BASE!E115=\"\",\"\",Reporte!$N115)","v":""},"",{"$f":"IFERROR(T115*BASE!$AN$165/BASE!$AN115,\"\")","v":""},"",{"$f":"IF(BASE!F115=\"\",\"\",Reporte!$N115)","v":""},"",{"$f":"IFERROR(X115*BASE!$AN$165/BASE!$AN115,\"\")","v":""},"",{"$f":"IF(BASE!G115=\"\",\"\",Reporte!$N115)","v":""},"",{"$f":"IFERROR(AB115*BASE!$AN$165/BASE!$AN115,\"\")","v":""},"",{"$f":"IF(BASE!H115=\"\",\"\",Reporte!$N115)","v":""},"",{"$f":"IFERROR(AF115*BASE!$AN$165/BASE!$AN115,\"\")","v":""},"",{"$f":"IF(BASE!I115=\"\",\"\",Reporte!$N115)","v":""},"",{"$f":"IFERROR(AJ115*BASE!$AN$165/BASE!$AN115,\"\")","v":""},"",{"$f":"IF(BASE!J115=\"\",\"\",Reporte!$N115)","v":""},"",{"$f":"IFERROR(AN115*BASE!$AN$165/BASE!$AN115,\"\")","v":""},"",{"$f":"IF(BASE!K115=\"\",\"\",Reporte!$N115)","v":""},"",{"$f":"IFERROR(AR115*BASE!$AN$165/BASE!$AN115,\"\")","v":""},"",{"$f":"IF(BASE!L115=\"\",\"\",Reporte!$N115)","v":""},"",{"$f":"IFERROR(AV115*BASE!$AN$165/BASE!$AN115,\"\")","v":""},"",{"$f":"IF(BASE!M115=\"\",\"\",Reporte!$N115)","v":""},"",{"$f":"IFERROR(AZ115*BASE!$AN$165/BASE!$AN115,\"\")","v":""},"",{"$f":"IF(BASE!N115=\"\",\"\",Reporte!$N115)","v":""},"",{"$f":"IFERROR(BD115*BASE!$AN$165/BASE!$AN115,\"\")","v":""},"",{"$f":"IF(BASE!O115=\"\",\"\",Reporte!$N115)","v":""},"",{"$f":"IFERROR(BH115*BASE!$AN$165/BASE!$AN115,\"\")","v":""},"",{"$f":"IF(BASE!P115=\"\",\"\",Reporte!$N115)","v":""},"",{"$f":"IFERROR(BL115*BASE!$AN$165/BASE!$AN115,\"\")","v":""},"",{"$f":"IF(BASE!Q115=\"\",\"\",Reporte!$N115)","v":""},"",{"$f":"IFERROR(BP115*BASE!$AN$165/BASE!$AN115,\"\")","v":""},"",{"$f":"IF(BASE!R115=\"\",\"\",Reporte!$N115)","v":""},"",{"$f":"IFERROR(BT115*BASE!$AN$165/BASE!$AN115,\"\")","v":""},"",{"$f":"IF(BASE!S115=\"\",\"\",Reporte!$N115)","v":""},"",{"$f":"IFERROR(BX115*BASE!$AN$165/BASE!$AN115,\"\")","v":""},"",{"$f":"IF(BASE!T115=\"\",\"\",Reporte!$N115)","v":""},"",{"$f":"IFERROR(CB115*BASE!$AN$165/BASE!$AN115,\"\")","v":""},"",{"$f":"IF(BASE!U115=\"\",\"\",Reporte!$N115)","v":""},"",{"$f":"IFERROR(CF115*BASE!$AN$165/BASE!$AN115,\"\")","v":""},"",{"$f":"IF(BASE!V115=\"\",\"\",Reporte!$N115)","v":""},"",{"$f":"IFERROR(CJ115*BASE!$AN$165/BASE!$AN115,\"\")","v":""},"",{"$f":"IF(BASE!W115=\"\",\"\",Reporte!$N115)","v":""},"",{"$f":"IFERROR(CN115*BASE!$AN$165/BASE!$AN115,\"\")","v":""},"",{"$f":"IF(BASE!X115=\"\",\"\",Reporte!$N115)","v":""},"",{"$f":"IFERROR(CR115*BASE!$AN$165/BASE!$AN115,\"\")","v":""},"",{"$f":"IF(BASE!Y115=\"\",\"\",Reporte!$N115)","v":""},"",{"$f":"IFERROR(CV115*BASE!$AN$165/BASE!$AN115,\"\")","v":""},"",{"$f":"IF(BASE!Z115=\"\",\"\",Reporte!$N115)","v":""},"",{"$f":"IFERROR(CZ115*BASE!$AN$165/BASE!$AN115,\"\")","v":""},"",{"$f":"IF(BASE!AA115=\"\",\"\",Reporte!$N115)","v":""},"",{"$f":"IFERROR(DD115*BASE!$AN$165/BASE!$AN115,\"\")","v":""},"",{"$f":"IF(BASE!AB115=\"\",\"\",Reporte!$N115)","v":""},"",{"$f":"IFERROR(DH115*BASE!$AN$165/BASE!$AN115,\"\")","v":""},"",{"$f":"IF(BASE!AC115=\"\",\"\",Reporte!$N115)","v":""},"",{"$f":"IFERROR(DL115*BASE!$AN$165/BASE!$AN115,\"\")","v":""},"",{"$f":"IF(BASE!AD115=\"\",\"\",Reporte!$N115)","v":""},"",{"$f":"IFERROR(DP115*BASE!$AN$165/BASE!$AN115,\"\")","v":""},"",{"$f":"IF(BASE!AE115=\"\",\"\",Reporte!$N115)","v":""},"",{"$f":"IFERROR(DT115*BASE!$AN$165/BASE!$AN115,\"\")","v":""},"",{"$f":"IF(BASE!AF115=\"\",\"\",Reporte!$N115)","v":""},"",{"$f":"IFERROR(DX115*BASE!$AN$165/BASE!$AN115,\"\")","v":""},"",{"$f":"IF(BASE!AG115=\"\",\"\",Reporte!$N115)","v":""},"",{"$f":"IFERROR(EB115*BASE!$AN$165/BASE!$AN115,\"\")","v":""},"",{"$f":"IF(BASE!AH115=\"\",\"\",Reporte!$N115)","v":""},"",{"$f":"IFERROR(EF115*BASE!$AN$165/BASE!$AN115,\"\")","v":""},"",{"$f":"IF(BASE!AI115=\"\",\"\",Reporte!$N115)","v":""},"",{"$f":"IFERROR(EJ115*BASE!$AN$165/BASE!$AN115,\"\")","v":""},"",{"$f":"IF(BASE!AJ115=\"\",\"\",Reporte!$N115)","v":""},"",{"$f":"IFERROR(EN115*BASE!$AN$165/BASE!$AN115,\"\")","v":""},"",{"$f":"IF(BASE!AK115=\"\",\"\",Reporte!$N115)","v":""},"",{"$f":"IFERROR(ER115*BASE!$AN$165/BASE!$AN115,\"\")","v":""},"",{"$f":"IF(BASE!AL115=\"\",\"\",Reporte!$N115)","v":""},"",{"$f":"IFERROR(EV115*BASE!$AN$165/BASE!$AN115,\"\")","v":""},""]
[null,null,"Criterio Evaluación 9.2","",{"$f":"'Lengua Castellana y Lit.'!E27","v":1},{"$f":"'Lengua Castellana y Lit.'!F27","v":3.8461538461538464E-2},{"$f":"'Lengua Castellana y Lit.'!G27","v":""},null,null,null,null,null,"Criterio Evaluación 9.2","",{"$f":"'Peso criterios carga horaria'!F116","v":5.5},{"$f":"O116*BASE!$AN$165/BASE!AN116","v":3.0966666666666671},1.2600229095074456E-2,"",{"$f":"IF(BASE!E116=\"\",\"\",Reporte!$N116)","v":""},"",{"$f":"IFERROR(T116*BASE!$AN$165/BASE!$AN116,\"\")","v":""},"",{"$f":"IF(BASE!F116=\"\",\"\",Reporte!$N116)","v":""},"",{"$f":"IFERROR(X116*BASE!$AN$165/BASE!$AN116,\"\")","v":""},"",{"$f":"IF(BASE!G116=\"\",\"\",Reporte!$N116)","v":""},"",{"$f":"IFERROR(AB116*BASE!$AN$165/BASE!$AN116,\"\")","v":""},"",{"$f":"IF(BASE!H116=\"\",\"\",Reporte!$N116)","v":""},"",{"$f":"IFERROR(AF116*BASE!$AN$165/BASE!$AN116,\"\")","v":""},"",{"$f":"IF(BASE!I116=\"\",\"\",Reporte!$N116)","v":""},"",{"$f":"IFERROR(AJ116*BASE!$AN$165/BASE!$AN116,\"\")","v":""},"",{"$f":"IF(BASE!J116=\"\",\"\",Reporte!$N116)","v":""},"",{"$f":"IFERROR(AN116*BASE!$AN$165/BASE!$AN116,\"\")","v":""},"",{"$f":"IF(BASE!K116=\"\",\"\",Reporte!$N116)","v":""},"",{"$f":"IFERROR(AR116*BASE!$AN$165/BASE!$AN116,\"\")","v":""},"",{"$f":"IF(BASE!L116=\"\",\"\",Reporte!$N116)","v":""},"",{"$f":"IFERROR(AV116*BASE!$AN$165/BASE!$AN116,\"\")","v":""},"",{"$f":"IF(BASE!M116=\"\",\"\",Reporte!$N116)","v":""},"",{"$f":"IFERROR(AZ116*BASE!$AN$165/BASE!$AN116,\"\")","v":""},"",{"$f":"IF(BASE!N116=\"\",\"\",Reporte!$N116)","v":""},"",{"$f":"IFERROR(BD116*BASE!$AN$165/BASE!$AN116,\"\")","v":""},"",{"$f":"IF(BASE!O116=\"\",\"\",Reporte!$N116)","v":""},"",{"$f":"IFERROR(BH116*BASE!$AN$165/BASE!$AN116,\"\")","v":""},"",{"$f":"IF(BASE!P116=\"\",\"\",Reporte!$N116)","v":""},"",{"$f":"IFERROR(BL116*BASE!$AN$165/BASE!$AN116,\"\")","v":""},"",{"$f":"IF(BASE!Q116=\"\",\"\",Reporte!$N116)","v":""},"",{"$f":"IFERROR(BP116*BASE!$AN$165/BASE!$AN116,\"\")","v":""},"",{"$f":"IF(BASE!R116=\"\",\"\",Reporte!$N116)","v":""},"",{"$f":"IFERROR(BT116*BASE!$AN$165/BASE!$AN116,\"\")","v":""},"",{"$f":"IF(BASE!S116=\"\",\"\",Reporte!$N116)","v":""},"",{"$f":"IFERROR(BX116*BASE!$AN$165/BASE!$AN116,\"\")","v":""},"",{"$f":"IF(BASE!T116=\"\",\"\",Reporte!$N116)","v":""},"",{"$f":"IFERROR(CB116*BASE!$AN$165/BASE!$AN116,\"\")","v":""},"",{"$f":"IF(BASE!U116=\"\",\"\",Reporte!$N116)","v":""},"",{"$f":"IFERROR(CF116*BASE!$AN$165/BASE!$AN116,\"\")","v":""},"",{"$f":"IF(BASE!V116=\"\",\"\",Reporte!$N116)","v":""},"",{"$f":"IFERROR(CJ116*BASE!$AN$165/BASE!$AN116,\"\")","v":""},"",{"$f":"IF(BASE!W116=\"\",\"\",Reporte!$N116)","v":""},"",{"$f":"IFERROR(CN116*BASE!$AN$165/BASE!$AN116,\"\")","v":""},"",{"$f":"IF(BASE!X116=\"\",\"\",Reporte!$N116)","v":""},"",{"$f":"IFERROR(CR116*BASE!$AN$165/BASE!$AN116,\"\")","v":""},"",{"$f":"IF(BASE!Y116=\"\",\"\",Reporte!$N116)","v":""},"",{"$f":"IFERROR(CV116*BASE!$AN$165/BASE!$AN116,\"\")","v":""},"",{"$f":"IF(BASE!Z116=\"\",\"\",Reporte!$N116)","v":""},"",{"$f":"IFERROR(CZ116*BASE!$AN$165/BASE!$AN116,\"\")","v":""},"",{"$f":"IF(BASE!AA116=\"\",\"\",Reporte!$N116)","v":""},"",{"$f":"IFERROR(DD116*BASE!$AN$165/BASE!$AN116,\"\")","v":""},"",{"$f":"IF(BASE!AB116=\"\",\"\",Reporte!$N116)","v":""},"",{"$f":"IFERROR(DH116*BASE!$AN$165/BASE!$AN116,\"\")","v":""},"",{"$f":"IF(BASE!AC116=\"\",\"\",Reporte!$N116)","v":""},"",{"$f":"IFERROR(DL116*BASE!$AN$165/BASE!$AN116,\"\")","v":""},"",{"$f":"IF(BASE!AD116=\"\",\"\",Reporte!$N116)","v":""},"",{"$f":"IFERROR(DP116*BASE!$AN$165/BASE!$AN116,\"\")","v":""},"",{"$f":"IF(BASE!AE116=\"\",\"\",Reporte!$N116)","v":""},"",{"$f":"IFERROR(DT116*BASE!$AN$165/BASE!$AN116,\"\")","v":""},"",{"$f":"IF(BASE!AF116=\"\",\"\",Reporte!$N116)","v":""},"",{"$f":"IFERROR(DX116*BASE!$AN$165/BASE!$AN116,\"\")","v":""},"",{"$f":"IF(BASE!AG116=\"\",\"\",Reporte!$N116)","v":""},"",{"$f":"IFERROR(EB116*BASE!$AN$165/BASE!$AN116,\"\")","v":""},"",{"$f":"IF(BASE!AH116=\"\",\"\",Reporte!$N116)","v":""},"",{"$f":"IFERROR(EF116*BASE!$AN$165/BASE!$AN116,\"\")","v":""},"",{"$f":"IF(BASE!AI116=\"\",\"\",Reporte!$N116)","v":""},"",{"$f":"IFERROR(EJ116*BASE!$AN$165/BASE!$AN116,\"\")","v":""},"",{"$f":"IF(BASE!AJ116=\"\",\"\",Reporte!$N116)","v":""},"",{"$f":"IFERROR(EN116*BASE!$AN$165/BASE!$AN116,\"\")","v":""},"",{"$f":"IF(BASE!AK116=\"\",\"\",Reporte!$N116)","v":""},"",{"$f":"IFERROR(ER116*BASE!$AN$165/BASE!$AN116,\"\")","v":""},"",{"$f":"IF(BASE!AL116=\"\",\"\",Reporte!$N116)","v":""},"",{"$f":"IFERROR(EV116*BASE!$AN$165/BASE!$AN116,\"\")","v":""},""]
[null,"Comp. Esp. 10","Criterio Evaluación 10.1","",{"$f":"'Lengua Castellana y Lit.'!E28","v":1},{"$f":"'Lengua Castellana y Lit.'!F28","v":3.8461538461538464E-2},{"$f":"'Lengua Castellana y Lit.'!G28","v":""},null,null,null,null,"Comp. Esp. 10","Criterio Evaluación 10.1","",{"$f":"'Peso criterios carga horaria'!F117","v":5.5},{"$f":"O117*BASE!$AN$165/BASE!AN117","v":3.0966666666666671},1.2600229095074456E-2,"",{"$f":"IF(BASE!E117=\"\",\"\",Reporte!$N117)","v":""},"",{"$f":"IFERROR(T117*BASE!$AN$165/BASE!$AN117,\"\")","v":""},"",{"$f":"IF(BASE!F117=\"\",\"\",Reporte!$N117)","v":""},"",{"$f":"IFERROR(X117*BASE!$AN$165/BASE!$AN117,\"\")","v":""},"",{"$f":"IF(BASE!G117=\"\",\"\",Reporte!$N117)","v":""},"",{"$f":"IFERROR(AB117*BASE!$AN$165/BASE!$AN117,\"\")","v":""},"",{"$f":"IF(BASE!H117=\"\",\"\",Reporte!$N117)","v":""},"",{"$f":"IFERROR(AF117*BASE!$AN$165/BASE!$AN117,\"\")","v":""},"",{"$f":"IF(BASE!I117=\"\",\"\",Reporte!$N117)","v":""},"",{"$f":"IFERROR(AJ117*BASE!$AN$165/BASE!$AN117,\"\")","v":""},"",{"$f":"IF(BASE!J117=\"\",\"\",Reporte!$N117)","v":""},"",{"$f":"IFERROR(AN117*BASE!$AN$165/BASE!$AN117,\"\")","v":""},"",{"$f":"IF(BASE!K117=\"\",\"\",Reporte!$N117)","v":""},"",{"$f":"IFERROR(AR117*BASE!$AN$165/BASE!$AN117,\"\")","v":""},"",{"$f":"IF(BASE!L117=\"\",\"\",Reporte!$N117)","v":""},"",{"$f":"IFERROR(AV117*BASE!$AN$165/BASE!$AN117,\"\")","v":""},"",{"$f":"IF(BASE!M117=\"\",\"\",Reporte!$N117)","v":""},"",{"$f":"IFERROR(AZ117*BASE!$AN$165/BASE!$AN117,\"\")","v":""},"",{"$f":"IF(BASE!N117=\"\",\"\",Reporte!$N117)","v":""},"",{"$f":"IFERROR(BD117*BASE!$AN$165/BASE!$AN117,\"\")","v":""},"",{"$f":"IF(BASE!O117=\"\",\"\",Reporte!$N117)","v":""},"",{"$f":"IFERROR(BH117*BASE!$AN$165/BASE!$AN117,\"\")","v":""},"",{"$f":"IF(BASE!P117=\"\",\"\",Reporte!$N117)","v":""},"",{"$f":"IFERROR(BL117*BASE!$AN$165/BASE!$AN117,\"\")","v":""},"",{"$f":"IF(BASE!Q117=\"\",\"\",Reporte!$N117)","v":""},"",{"$f":"IFERROR(BP117*BASE!$AN$165/BASE!$AN117,\"\")","v":""},"",{"$f":"IF(BASE!R117=\"\",\"\",Reporte!$N117)","v":""},"",{"$f":"IFERROR(BT117*BASE!$AN$165/BASE!$AN117,\"\")","v":""},"",{"$f":"IF(BASE!S117=\"\",\"\",Reporte!$N117)","v":""},"",{"$f":"IFERROR(BX117*BASE!$AN$165/BASE!$AN117,\"\")","v":""},"",{"$f":"IF(BASE!T117=\"\",\"\",Reporte!$N117)","v":""},"",{"$f":"IFERROR(CB117*BASE!$AN$165/BASE!$AN117,\"\")","v":""},"",{"$f":"IF(BASE!U117=\"\",\"\",Reporte!$N117)","v":""},"",{"$f":"IFERROR(CF117*BASE!$AN$165/BASE!$AN117,\"\")","v":""},"",{"$f":"IF(BASE!V117=\"\",\"\",Reporte!$N117)","v":""},"",{"$f":"IFERROR(CJ117*BASE!$AN$165/BASE!$AN117,\"\")","v":""},"",{"$f":"IF(BASE!W117=\"\",\"\",Reporte!$N117)","v":""},"",{"$f":"IFERROR(CN117*BASE!$AN$165/BASE!$AN117,\"\")","v":""},"",{"$f":"IF(BASE!X117=\"\",\"\",Reporte!$N117)","v":""},"",{"$f":"IFERROR(CR117*BASE!$AN$165/BASE!$AN117,\"\")","v":""},"",{"$f":"IF(BASE!Y117=\"\",\"\",Reporte!$N117)","v":""},"",{"$f":"IFERROR(CV117*BASE!$AN$165/BASE!$AN117,\"\")","v":""},"",{"$f":"IF(BASE!Z117=\"\",\"\",Reporte!$N117)","v":""},"",{"$f":"IFERROR(CZ117*BASE!$AN$165/BASE!$AN117,\"\")","v":""},"",{"$f":"IF(BASE!AA117=\"\",\"\",Reporte!$N117)","v":""},"",{"$f":"IFERROR(DD117*BASE!$AN$165/BASE!$AN117,\"\")","v":""},"",{"$f":"IF(BASE!AB117=\"\",\"\",Reporte!$N117)","v":""},"",{"$f":"IFERROR(DH117*BASE!$AN$165/BASE!$AN117,\"\")","v":""},"",{"$f":"IF(BASE!AC117=\"\",\"\",Reporte!$N117)","v":""},"",{"$f":"IFERROR(DL117*BASE!$AN$165/BASE!$AN117,\"\")","v":""},"",{"$f":"IF(BASE!AD117=\"\",\"\",Reporte!$N117)","v":""},"",{"$f":"IFERROR(DP117*BASE!$AN$165/BASE!$AN117,\"\")","v":""},"",{"$f":"IF(BASE!AE117=\"\",\"\",Reporte!$N117)","v":""},"",{"$f":"IFERROR(DT117*BASE!$AN$165/BASE!$AN117,\"\")","v":""},"",{"$f":"IF(BASE!AF117=\"\",\"\",Reporte!$N117)","v":""},"",{"$f":"IFERROR(DX117*BASE!$AN$165/BASE!$AN117,\"\")","v":""},"",{"$f":"IF(BASE!AG117=\"\",\"\",Reporte!$N117)","v":""},"",{"$f":"IFERROR(EB117*BASE!$AN$165/BASE!$AN117,\"\")","v":""},"",{"$f":"IF(BASE!AH117=\"\",\"\",Reporte!$N117)","v":""},"",{"$f":"IFERROR(EF117*BASE!$AN$165/BASE!$AN117,\"\")","v":""},"",{"$f":"IF(BASE!AI117=\"\",\"\",Reporte!$N117)","v":""},"",{"$f":"IFERROR(EJ117*BASE!$AN$165/BASE!$AN117,\"\")","v":""},"",{"$f":"IF(BASE!AJ117=\"\",\"\",Reporte!$N117)","v":""},"",{"$f":"IFERROR(EN117*BASE!$AN$165/BASE!$AN117,\"\")","v":""},"",{"$f":"IF(BASE!AK117=\"\",\"\",Reporte!$N117)","v":""},"",{"$f":"IFERROR(ER117*BASE!$AN$165/BASE!$AN117,\"\")","v":""},"",{"$f":"IF(BASE!AL117=\"\",\"\",Reporte!$N117)","v":""},"",{"$f":"IFERROR(EV117*BASE!$AN$165/BASE!$AN117,\"\")","v":""},""]
[null,null,"Criterio Evaluación 10.2","",{"$f":"'Lengua Castellana y Lit.'!E29","v":1},{"$f":"'Lengua Castellana y Lit.'!F29","v":3.8461538461538464E-2},{"$f":"'Lengua Castellana y Lit.'!G29","v":""},null,null,null,null,null,"Criterio Evaluación 10.2","",{"$f":"'Peso criterios carga horaria'!F118","v":5.5},{"$f":"O118*BASE!$AN$165/BASE!AN118","v":3.0966666666666671},1.2600229095074456E-2,"",{"$f":"IF(BASE!E118=\"\",\"\",Reporte!$N118)","v":""},"",{"$f":"IFERROR(T118*BASE!$AN$165/BASE!$AN118,\"\")","v":""},"",{"$f":"IF(BASE!F118=\"\",\"\",Reporte!$N118)","v":""},"",{"$f":"IFERROR(X118*BASE!$AN$165/BASE!$AN118,\"\")","v":""},"",{"$f":"IF(BASE!G118=\"\",\"\",Reporte!$N118)","v":""},"",{"$f":"IFERROR(AB118*BASE!$AN$165/BASE!$AN118,\"\")","v":""},"",{"$f":"IF(BASE!H118=\"\",\"\",Reporte!$N118)","v":""},"",{"$f":"IFERROR(AF118*BASE!$AN$165/BASE!$AN118,\"\")","v":""},"",{"$f":"IF(BASE!I118=\"\",\"\",Reporte!$N118)","v":""},"",{"$f":"IFERROR(AJ118*BASE!$AN$165/BASE!$AN118,\"\")","v":""},"",{"$f":"IF(BASE!J118=\"\",\"\",Reporte!$N118)","v":""},"",{"$f":"IFERROR(AN118*BASE!$AN$165/BASE!$AN118,\"\")","v":""},"",{"$f":"IF(BASE!K118=\"\",\"\",Reporte!$N118)","v":""},"",{"$f":"IFERROR(AR118*BASE!$AN$165/BASE!$AN118,\"\")","v":""},"",{"$f":"IF(BASE!L118=\"\",\"\",Reporte!$N118)","v":""},"",{"$f":"IFERROR(AV118*BASE!$AN$165/BASE!$AN118,\"\")","v":""},"",{"$f":"IF(BASE!M118=\"\",\"\",Reporte!$N118)","v":""},"",{"$f":"IFERROR(AZ118*BASE!$AN$165/BASE!$AN118,\"\")","v":""},"",{"$f":"IF(BASE!N118=\"\",\"\",Reporte!$N118)","v":""},"",{"$f":"IFERROR(BD118*BASE!$AN$165/BASE!$AN118,\"\")","v":""},"",{"$f":"IF(BASE!O118=\"\",\"\",Reporte!$N118)","v":""},"",{"$f":"IFERROR(BH118*BASE!$AN$165/BASE!$AN118,\"\")","v":""},"",{"$f":"IF(BASE!P118=\"\",\"\",Reporte!$N118)","v":""},"",{"$f":"IFERROR(BL118*BASE!$AN$165/BASE!$AN118,\"\")","v":""},"",{"$f":"IF(BASE!Q118=\"\",\"\",Reporte!$N118)","v":""},"",{"$f":"IFERROR(BP118*BASE!$AN$165/BASE!$AN118,\"\")","v":""},"",{"$f":"IF(BASE!R118=\"\",\"\",Reporte!$N118)","v":""},"",{"$f":"IFERROR(BT118*BASE!$AN$165/BASE!$AN118,\"\")","v":""},"",{"$f":"IF(BASE!S118=\"\",\"\",Reporte!$N118)","v":""},"",{"$f":"IFERROR(BX118*BASE!$AN$165/BASE!$AN118,\"\")","v":""},"",{"$f":"IF(BASE!T118=\"\",\"\",Reporte!$N118)","v":""},"",{"$f":"IFERROR(CB118*BASE!$AN$165/BASE!$AN118,\"\")","v":""},"",{"$f":"IF(BASE!U118=\"\",\"\",Reporte!$N118)","v":""},"",{"$f":"IFERROR(CF118*BASE!$AN$165/BASE!$AN118,\"\")","v":""},"",{"$f":"IF(BASE!V118=\"\",\"\",Reporte!$N118)","v":""},"",{"$f":"IFERROR(CJ118*BASE!$AN$165/BASE!$AN118,\"\")","v":""},"",{"$f":"IF(BASE!W118=\"\",\"\",Reporte!$N118)","v":""},"",{"$f":"IFERROR(CN118*BASE!$AN$165/BASE!$AN118,\"\")","v":""},"",{"$f":"IF(BASE!X118=\"\",\"\",Reporte!$N118)","v":""},"",{"$f":"IFERROR(CR118*BASE!$AN$165/BASE!$AN118,\"\")","v":""},"",{"$f":"IF(BASE!Y118=\"\",\"\",Reporte!$N118)","v":""},"",{"$f":"IFERROR(CV118*BASE!$AN$165/BASE!$AN118,\"\")","v":""},"",{"$f":"IF(BASE!Z118=\"\",\"\",Reporte!$N118)","v":""},"",{"$f":"IFERROR(CZ118*BASE!$AN$165/BASE!$AN118,\"\")","v":""},"",{"$f":"IF(BASE!AA118=\"\",\"\",Reporte!$N118)","v":""},"",{"$f":"IFERROR(DD118*BASE!$AN$165/BASE!$AN118,\"\")","v":""},"",{"$f":"IF(BASE!AB118=\"\",\"\",Reporte!$N118)","v":""},"",{"$f":"IFERROR(DH118*BASE!$AN$165/BASE!$AN118,\"\")","v":""},"",{"$f":"IF(BASE!AC118=\"\",\"\",Reporte!$N118)","v":""},"",{"$f":"IFERROR(DL118*BASE!$AN$165/BASE!$AN118,\"\")","v":""},"",{"$f":"IF(BASE!AD118=\"\",\"\",Reporte!$N118)","v":""},"",{"$f":"IFERROR(DP118*BASE!$AN$165/BASE!$AN118,\"\")","v":""},"",{"$f":"IF(BASE!AE118=\"\",\"\",Reporte!$N118)","v":""},"",{"$f":"IFERROR(DT118*BASE!$AN$165/BASE!$AN118,\"\")","v":""},"",{"$f":"IF(BASE!AF118=\"\",\"\",Reporte!$N118)","v":""},"",{"$f":"IFERROR(DX118*BASE!$AN$165/BASE!$AN118,\"\")","v":""},"",{"$f":"IF(BASE!AG118=\"\",\"\",Reporte!$N118)","v":""},"",{"$f":"IFERROR(EB118*BASE!$AN$165/BASE!$AN118,\"\")","v":""},"",{"$f":"IF(BASE!AH118=\"\",\"\",Reporte!$N118)","v":""},"",{"$f":"IFERROR(EF118*BASE!$AN$165/BASE!$AN118,\"\")","v":""},"",{"$f":"IF(BASE!AI118=\"\",\"\",Reporte!$N118)","v":""},"",{"$f":"IFERROR(EJ118*BASE!$AN$165/BASE!$AN118,\"\")","v":""},"",{"$f":"IF(BASE!AJ118=\"\",\"\",Reporte!$N118)","v":""},"",{"$f":"IFERROR(EN118*BASE!$AN$165/BASE!$AN118,\"\")","v":""},"",{"$f":"IF(BASE!AK118=\"\",\"\",Reporte!$N118)","v":""},"",{"$f":"IFERROR(ER118*BASE!$AN$165/BASE!$AN118,\"\")","v":""},"",{"$f":"IF(BASE!AL118=\"\",\"\",Reporte!$N118)","v":""},"",{"$f":"IFERROR(EV118*BASE!$AN$165/BASE!$AN118,\"\")","v":""},""]
["Lengua Extranjera","Comp. Esp. 1","Criterio Evaluación 1.1","",{"$f":"'Lengua extranjera'!E4","v":1},{"$f":"'Lengua extranjera'!F4","v":6.6666666666666666E-2},{"$f":"'Lengua extranjera'!G4","v":""},{"$f":"IFERROR(SUMPRODUCT(D119:D133,E119:E133)/SUMIF(D119:D133,\">=0\",E119:E133),\"\")","v":""},null,null,"Lengua Extranjera","Comp. Esp. 1","Criterio Evaluación 1.1","",{"$f":"'Peso criterios carga horaria'!F119","v":2.5},{"$f":"O119*BASE!$AN$165/BASE!AN119","v":2.8323170731707319},5.7273768613974796E-3,"",{"$f":"IF(BASE!E119=\"\",\"\",Reporte!$N119)","v":""},"",{"$f":"IFERROR(T119*BASE!$AN$165/BASE!$AN119,\"\")","v":""},"",{"$f":"IF(BASE!F119=\"\",\"\",Reporte!$N119)","v":""},"",{"$f":"IFERROR(X119*BASE!$AN$165/BASE!$AN119,\"\")","v":""},"",{"$f":"IF(BASE!G119=\"\",\"\",Reporte!$N119)","v":""},"",{"$f":"IFERROR(AB119*BASE!$AN$165/BASE!$AN119,\"\")","v":""},"",{"$f":"IF(BASE!H119=\"\",\"\",Reporte!$N119)","v":""},"",{"$f":"IFERROR(AF119*BASE!$AN$165/BASE!$AN119,\"\")","v":""},"",{"$f":"IF(BASE!I119=\"\",\"\",Reporte!$N119)","v":""},"",{"$f":"IFERROR(AJ119*BASE!$AN$165/BASE!$AN119,\"\")","v":""},"",{"$f":"IF(BASE!J119=\"\",\"\",Reporte!$N119)","v":""},"",{"$f":"IFERROR(AN119*BASE!$AN$165/BASE!$AN119,\"\")","v":""},"",{"$f":"IF(BASE!K119=\"\",\"\",Reporte!$N119)","v":""},"",{"$f":"IFERROR(AR119*BASE!$AN$165/BASE!$AN119,\"\")","v":""},"",{"$f":"IF(BASE!L119=\"\",\"\",Reporte!$N119)","v":""},"",{"$f":"IFERROR(AV119*BASE!$AN$165/BASE!$AN119,\"\")","v":""},"",{"$f":"IF(BASE!M119=\"\",\"\",Reporte!$N119)","v":""},"",{"$f":"IFERROR(AZ119*BASE!$AN$165/BASE!$AN119,\"\")","v":""},"",{"$f":"IF(BASE!N119=\"\",\"\",Reporte!$N119)","v":""},"",{"$f":"IFERROR(BD119*BASE!$AN$165/BASE!$AN119,\"\")","v":""},"",{"$f":"IF(BASE!O119=\"\",\"\",Reporte!$N119)","v":""},"",{"$f":"IFERROR(BH119*BASE!$AN$165/BASE!$AN119,\"\")","v":""},"",{"$f":"IF(BASE!P119=\"\",\"\",Reporte!$N119)","v":""},"",{"$f":"IFERROR(BL119*BASE!$AN$165/BASE!$AN119,\"\")","v":""},"",{"$f":"IF(BASE!Q119=\"\",\"\",Reporte!$N119)","v":""},"",{"$f":"IFERROR(BP119*BASE!$AN$165/BASE!$AN119,\"\")","v":""},"",{"$f":"IF(BASE!R119=\"\",\"\",Reporte!$N119)","v":""},"",{"$f":"IFERROR(BT119*BASE!$AN$165/BASE!$AN119,\"\")","v":""},"",{"$f":"IF(BASE!S119=\"\",\"\",Reporte!$N119)","v":""},"",{"$f":"IFERROR(BX119*BASE!$AN$165/BASE!$AN119,\"\")","v":""},"",{"$f":"IF(BASE!T119=\"\",\"\",Reporte!$N119)","v":""},"",{"$f":"IFERROR(CB119*BASE!$AN$165/BASE!$AN119,\"\")","v":""},"",{"$f":"IF(BASE!U119=\"\",\"\",Reporte!$N119)","v":""},"",{"$f":"IFERROR(CF119*BASE!$AN$165/BASE!$AN119,\"\")","v":""},"",{"$f":"IF(BASE!V119=\"\",\"\",Reporte!$N119)","v":""},"",{"$f":"IFERROR(CJ119*BASE!$AN$165/BASE!$AN119,\"\")","v":""},"",{"$f":"IF(BASE!W119=\"\",\"\",Reporte!$N119)","v":""},"",{"$f":"IFERROR(CN119*BASE!$AN$165/BASE!$AN119,\"\")","v":""},"",{"$f":"IF(BASE!X119=\"\",\"\",Reporte!$N119)","v":""},"",{"$f":"IFERROR(CR119*BASE!$AN$165/BASE!$AN119,\"\")","v":""},"",{"$f":"IF(BASE!Y119=\"\",\"\",Reporte!$N119)","v":""},"",{"$f":"IFERROR(CV119*BASE!$AN$165/BASE!$AN119,\"\")","v":""},"",{"$f":"IF(BASE!Z119=\"\",\"\",Reporte!$N119)","v":""},"",{"$f":"IFERROR(CZ119*BASE!$AN$165/BASE!$AN119,\"\")","v":""},"",{"$f":"IF(BASE!AA119=\"\",\"\",Reporte!$N119)","v":""},"",{"$f":"IFERROR(DD119*BASE!$AN$165/BASE!$AN119,\"\")","v":""},"",{"$f":"IF(BASE!AB119=\"\",\"\",Reporte!$N119)","v":""},"",{"$f":"IFERROR(DH119*BASE!$AN$165/BASE!$AN119,\"\")","v":""},"",{"$f":"IF(BASE!AC119=\"\",\"\",Reporte!$N119)","v":""},"",{"$f":"IFERROR(DL119*BASE!$AN$165/BASE!$AN119,\"\")","v":""},"",{"$f":"IF(BASE!AD119=\"\",\"\",Reporte!$N119)","v":""},"",{"$f":"IFERROR(DP119*BASE!$AN$165/BASE!$AN119,\"\")","v":""},"",{"$f":"IF(BASE!AE119=\"\",\"\",Reporte!$N119)","v":""},"",{"$f":"IFERROR(DT119*BASE!$AN$165/BASE!$AN119,\"\")","v":""},"",{"$f":"IF(BASE!AF119=\"\",\"\",Reporte!$N119)","v":""},"",{"$f":"IFERROR(DX119*BASE!$AN$165/BASE!$AN119,\"\")","v":""},"",{"$f":"IF(BASE!AG119=\"\",\"\",Reporte!$N119)","v":""},"",{"$f":"IFERROR(EB119*BASE!$AN$165/BASE!$AN119,\"\")","v":""},"",{"$f":"IF(BASE!AH119=\"\",\"\",Reporte!$N119)","v":""},"",{"$f":"IFERROR(EF119*BASE!$AN$165/BASE!$AN119,\"\")","v":""},"",{"$f":"IF(BASE!AI119=\"\",\"\",Reporte!$N119)","v":""},"",{"$f":"IFERROR(EJ119*BASE!$AN$165/BASE!$AN119,\"\")","v":""},"",{"$f":"IF(BASE!AJ119=\"\",\"\",Reporte!$N119)","v":""},"",{"$f":"IFERROR(EN119*BASE!$AN$165/BASE!$AN119,\"\")","v":""},"",{"$f":"IF(BASE!AK119=\"\",\"\",Reporte!$N119)","v":""},"",{"$f":"IFERROR(ER119*BASE!$AN$165/BASE!$AN119,\"\")","v":""},"",{"$f":"IF(BASE!AL119=\"\",\"\",Reporte!$N119)","v":""},"",{"$f":"IFERROR(EV119*BASE!$AN$165/BASE!$AN119,\"\")","v":""},""]
[null,null,"Criterio Evaluación 1.2","",{"$f":"'Lengua extranjera'!E5","v":1},{"$f":"'Lengua extranjera'!F5","v":6.6666666666666666E-2},{"$f":"'Lengua extranjera'!G5","v":""},null,null,null,null,null,"Criterio Evaluación 1.2","",{"$f":"'Peso criterios carga horaria'!F120","v":2.5},{"$f":"O120*BASE!$AN$165/BASE!AN120","v":2.8323170731707319},5.7273768613974796E-3,"",{"$f":"IF(BASE!E120=\"\",\"\",Reporte!$N120)","v":""},"",{"$f":"IFERROR(T120*BASE!$AN$165/BASE!$AN120,\"\")","v":""},"",{"$f":"IF(BASE!F120=\"\",\"\",Reporte!$N120)","v":""},"",{"$f":"IFERROR(X120*BASE!$AN$165/BASE!$AN120,\"\")","v":""},"",{"$f":"IF(BASE!G120=\"\",\"\",Reporte!$N120)","v":""},"",{"$f":"IFERROR(AB120*BASE!$AN$165/BASE!$AN120,\"\")","v":""},"",{"$f":"IF(BASE!H120=\"\",\"\",Reporte!$N120)","v":""},"",{"$f":"IFERROR(AF120*BASE!$AN$165/BASE!$AN120,\"\")","v":""},"",{"$f":"IF(BASE!I120=\"\",\"\",Reporte!$N120)","v":""},"",{"$f":"IFERROR(AJ120*BASE!$AN$165/BASE!$AN120,\"\")","v":""},"",{"$f":"IF(BASE!J120=\"\",\"\",Reporte!$N120)","v":""},"",{"$f":"IFERROR(AN120*BASE!$AN$165/BASE!$AN120,\"\")","v":""},"",{"$f":"IF(BASE!K120=\"\",\"\",Reporte!$N120)","v":""},"",{"$f":"IFERROR(AR120*BASE!$AN$165/BASE!$AN120,\"\")","v":""},"",{"$f":"IF(BASE!L120=\"\",\"\",Reporte!$N120)","v":""},"",{"$f":"IFERROR(AV120*BASE!$AN$165/BASE!$AN120,\"\")","v":""},"",{"$f":"IF(BASE!M120=\"\",\"\",Reporte!$N120)","v":""},"",{"$f":"IFERROR(AZ120*BASE!$AN$165/BASE!$AN120,\"\")","v":""},"",{"$f":"IF(BASE!N120=\"\",\"\",Reporte!$N120)","v":""},"",{"$f":"IFERROR(BD120*BASE!$AN$165/BASE!$AN120,\"\")","v":""},"",{"$f":"IF(BASE!O120=\"\",\"\",Reporte!$N120)","v":""},"",{"$f":"IFERROR(BH120*BASE!$AN$165/BASE!$AN120,\"\")","v":""},"",{"$f":"IF(BASE!P120=\"\",\"\",Reporte!$N120)","v":""},"",{"$f":"IFERROR(BL120*BASE!$AN$165/BASE!$AN120,\"\")","v":""},"",{"$f":"IF(BASE!Q120=\"\",\"\",Reporte!$N120)","v":""},"",{"$f":"IFERROR(BP120*BASE!$AN$165/BASE!$AN120,\"\")","v":""},"",{"$f":"IF(BASE!R120=\"\",\"\",Reporte!$N120)","v":""},"",{"$f":"IFERROR(BT120*BASE!$AN$165/BASE!$AN120,\"\")","v":""},"",{"$f":"IF(BASE!S120=\"\",\"\",Reporte!$N120)","v":""},"",{"$f":"IFERROR(BX120*BASE!$AN$165/BASE!$AN120,\"\")","v":""},"",{"$f":"IF(BASE!T120=\"\",\"\",Reporte!$N120)","v":""},"",{"$f":"IFERROR(CB120*BASE!$AN$165/BASE!$AN120,\"\")","v":""},"",{"$f":"IF(BASE!U120=\"\",\"\",Reporte!$N120)","v":""},"",{"$f":"IFERROR(CF120*BASE!$AN$165/BASE!$AN120,\"\")","v":""},"",{"$f":"IF(BASE!V120=\"\",\"\",Reporte!$N120)","v":""},"",{"$f":"IFERROR(CJ120*BASE!$AN$165/BASE!$AN120,\"\")","v":""},"",{"$f":"IF(BASE!W120=\"\",\"\",Reporte!$N120)","v":""},"",{"$f":"IFERROR(CN120*BASE!$AN$165/BASE!$AN120,\"\")","v":""},"",{"$f":"IF(BASE!X120=\"\",\"\",Reporte!$N120)","v":""},"",{"$f":"IFERROR(CR120*BASE!$AN$165/BASE!$AN120,\"\")","v":""},"",{"$f":"IF(BASE!Y120=\"\",\"\",Reporte!$N120)","v":""},"",{"$f":"IFERROR(CV120*BASE!$AN$165/BASE!$AN120,\"\")","v":""},"",{"$f":"IF(BASE!Z120=\"\",\"\",Reporte!$N120)","v":""},"",{"$f":"IFERROR(CZ120*BASE!$AN$165/BASE!$AN120,\"\")","v":""},"",{"$f":"IF(BASE!AA120=\"\",\"\",Reporte!$N120)","v":""},"",{"$f":"IFERROR(DD120*BASE!$AN$165/BASE!$AN120,\"\")","v":""},"",{"$f":"IF(BASE!AB120=\"\",\"\",Reporte!$N120)","v":""},"",{"$f":"IFERROR(DH120*BASE!$AN$165/BASE!$AN120,\"\")","v":""},"",{"$f":"IF(BASE!AC120=\"\",\"\",Reporte!$N120)","v":""},"",{"$f":"IFERROR(DL120*BASE!$AN$165/BASE!$AN120,\"\")","v":""},"",{"$f":"IF(BASE!AD120=\"\",\"\",Reporte!$N120)","v":""},"",{"$f":"IFERROR(DP120*BASE!$AN$165/BASE!$AN120,\"\")","v":""},"",{"$f":"IF(BASE!AE120=\"\",\"\",Reporte!$N120)","v":""},"",{"$f":"IFERROR(DT120*BASE!$AN$165/BASE!$AN120,\"\")","v":""},"",{"$f":"IF(BASE!AF120=\"\",\"\",Reporte!$N120)","v":""},"",{"$f":"IFERROR(DX120*BASE!$AN$165/BASE!$AN120,\"\")","v":""},"",{"$f":"IF(BASE!AG120=\"\",\"\",Reporte!$N120)","v":""},"",{"$f":"IFERROR(EB120*BASE!$AN$165/BASE!$AN120,\"\")","v":""},"",{"$f":"IF(BASE!AH120=\"\",\"\",Reporte!$N120)","v":""},"",{"$f":"IFERROR(EF120*BASE!$AN$165/BASE!$AN120,\"\")","v":""},"",{"$f":"IF(BASE!AI120=\"\",\"\",Reporte!$N120)","v":""},"",{"$f":"IFERROR(EJ120*BASE!$AN$165/BASE!$AN120,\"\")","v":""},"",{"$f":"IF(BASE!AJ120=\"\",\"\",Reporte!$N120)","v":""},"",{"$f":"IFERROR(EN120*BASE!$AN$165/BASE!$AN120,\"\")","v":""},"",{"$f":"IF(BASE!AK120=\"\",\"\",Reporte!$N120)","v":""},"",{"$f":"IFERROR(ER120*BASE!$AN$165/BASE!$AN120,\"\")","v":""},"",{"$f":"IF(BASE!AL120=\"\",\"\",Reporte!$N120)","v":""},"",{"$f":"IFERROR(EV120*BASE!$AN$165/BASE!$AN120,\"\")","v":""},""]
[null,"Comp. Esp. 2","Criterio Evaluación 2.1","",{"$f":"'Lengua extranjera'!E6","v":1},{"$f":"'Lengua extranjera'!F6","v":6.6666666666666666E-2},{"$f":"'Lengua extranjera'!G6","v":""},null,null,null,null,"Comp. Esp. 2","Criterio Evaluación 2.1","",{"$f":"'Peso criterios carga horaria'!F121","v":2.5},{"$f":"O121*BASE!$AN$165/BASE!AN121","v":2.8323170731707319},5.7273768613974796E-3,"",{"$f":"IF(BASE!E121=\"\",\"\",Reporte!$N121)","v":""},"",{"$f":"IFERROR(T121*BASE!$AN$165/BASE!$AN121,\"\")","v":""},"",{"$f":"IF(BASE!F121=\"\",\"\",Reporte!$N121)","v":""},"",{"$f":"IFERROR(X121*BASE!$AN$165/BASE!$AN121,\"\")","v":""},"",{"$f":"IF(BASE!G121=\"\",\"\",Reporte!$N121)","v":""},"",{"$f":"IFERROR(AB121*BASE!$AN$165/BASE!$AN121,\"\")","v":""},"",{"$f":"IF(BASE!H121=\"\",\"\",Reporte!$N121)","v":""},"",{"$f":"IFERROR(AF121*BASE!$AN$165/BASE!$AN121,\"\")","v":""},"",{"$f":"IF(BASE!I121=\"\",\"\",Reporte!$N121)","v":""},"",{"$f":"IFERROR(AJ121*BASE!$AN$165/BASE!$AN121,\"\")","v":""},"",{"$f":"IF(BASE!J121=\"\",\"\",Reporte!$N121)","v":""},"",{"$f":"IFERROR(AN121*BASE!$AN$165/BASE!$AN121,\"\")","v":""},"",{"$f":"IF(BASE!K121=\"\",\"\",Reporte!$N121)","v":""},"",{"$f":"IFERROR(AR121*BASE!$AN$165/BASE!$AN121,\"\")","v":""},"",{"$f":"IF(BASE!L121=\"\",\"\",Reporte!$N121)","v":""},"",{"$f":"IFERROR(AV121*BASE!$AN$165/BASE!$AN121,\"\")","v":""},"",{"$f":"IF(BASE!M121=\"\",\"\",Reporte!$N121)","v":""},"",{"$f":"IFERROR(AZ121*BASE!$AN$165/BASE!$AN121,\"\")","v":""},"",{"$f":"IF(BASE!N121=\"\",\"\",Reporte!$N121)","v":""},"",{"$f":"IFERROR(BD121*BASE!$AN$165/BASE!$AN121,\"\")","v":""},"",{"$f":"IF(BASE!O121=\"\",\"\",Reporte!$N121)","v":""},"",{"$f":"IFERROR(BH121*BASE!$AN$165/BASE!$AN121,\"\")","v":""},"",{"$f":"IF(BASE!P121=\"\",\"\",Reporte!$N121)","v":""},"",{"$f":"IFERROR(BL121*BASE!$AN$165/BASE!$AN121,\"\")","v":""},"",{"$f":"IF(BASE!Q121=\"\",\"\",Reporte!$N121)","v":""},"",{"$f":"IFERROR(BP121*BASE!$AN$165/BASE!$AN121,\"\")","v":""},"",{"$f":"IF(BASE!R121=\"\",\"\",Reporte!$N121)","v":""},"",{"$f":"IFERROR(BT121*BASE!$AN$165/BASE!$AN121,\"\")","v":""},"",{"$f":"IF(BASE!S121=\"\",\"\",Reporte!$N121)","v":""},"",{"$f":"IFERROR(BX121*BASE!$AN$165/BASE!$AN121,\"\")","v":""},"",{"$f":"IF(BASE!T121=\"\",\"\",Reporte!$N121)","v":""},"",{"$f":"IFERROR(CB121*BASE!$AN$165/BASE!$AN121,\"\")","v":""},"",{"$f":"IF(BASE!U121=\"\",\"\",Reporte!$N121)","v":""},"",{"$f":"IFERROR(CF121*BASE!$AN$165/BASE!$AN121,\"\")","v":""},"",{"$f":"IF(BASE!V121=\"\",\"\",Reporte!$N121)","v":""},"",{"$f":"IFERROR(CJ121*BASE!$AN$165/BASE!$AN121,\"\")","v":""},"",{"$f":"IF(BASE!W121=\"\",\"\",Reporte!$N121)","v":""},"",{"$f":"IFERROR(CN121*BASE!$AN$165/BASE!$AN121,\"\")","v":""},"",{"$f":"IF(BASE!X121=\"\",\"\",Reporte!$N121)","v":""},"",{"$f":"IFERROR(CR121*BASE!$AN$165/BASE!$AN121,\"\")","v":""},"",{"$f":"IF(BASE!Y121=\"\",\"\",Reporte!$N121)","v":""},"",{"$f":"IFERROR(CV121*BASE!$AN$165/BASE!$AN121,\"\")","v":""},"",{"$f":"IF(BASE!Z121=\"\",\"\",Reporte!$N121)","v":""},"",{"$f":"IFERROR(CZ121*BASE!$AN$165/BASE!$AN121,\"\")","v":""},"",{"$f":"IF(BASE!AA121=\"\",\"\",Reporte!$N121)","v":""},"",{"$f":"IFERROR(DD121*BASE!$AN$165/BASE!$AN121,\"\")","v":""},"",{"$f":"IF(BASE!AB121=\"\",\"\",Reporte!$N121)","v":""},"",{"$f":"IFERROR(DH121*BASE!$AN$165/BASE!$AN121,\"\")","v":""},"",{"$f":"IF(BASE!AC121=\"\",\"\",Reporte!$N121)","v":""},"",{"$f":"IFERROR(DL121*BASE!$AN$165/BASE!$AN121,\"\")","v":""},"",{"$f":"IF(BASE!AD121=\"\",\"\",Reporte!$N121)","v":""},"",{"$f":"IFERROR(DP121*BASE!$AN$165/BASE!$AN121,\"\")","v":""},"",{"$f":"IF(BASE!AE121=\"\",\"\",Reporte!$N121)","v":""},"",{"$f":"IFERROR(DT121*BASE!$AN$165/BASE!$AN121,\"\")","v":""},"",{"$f":"IF(BASE!AF121=\"\",\"\",Reporte!$N121)","v":""},"",{"$f":"IFERROR(DX121*BASE!$AN$165/BASE!$AN121,\"\")","v":""},"",{"$f":"IF(BASE!AG121=\"\",\"\",Reporte!$N121)","v":""},"",{"$f":"IFERROR(EB121*BASE!$AN$165/BASE!$AN121,\"\")","v":""},"",{"$f":"IF(BASE!AH121=\"\",\"\",Reporte!$N121)","v":""},"",{"$f":"IFERROR(EF121*BASE!$AN$165/BASE!$AN121,\"\")","v":""},"",{"$f":"IF(BASE!AI121=\"\",\"\",Reporte!$N121)","v":""},"",{"$f":"IFERROR(EJ121*BASE!$AN$165/BASE!$AN121,\"\")","v":""},"",{"$f":"IF(BASE!AJ121=\"\",\"\",Reporte!$N121)","v":""},"",{"$f":"IFERROR(EN121*BASE!$AN$165/BASE!$AN121,\"\")","v":""},"",{"$f":"IF(BASE!AK121=\"\",\"\",Reporte!$N121)","v":""},"",{"$f":"IFERROR(ER121*BASE!$AN$165/BASE!$AN121,\"\")","v":""},"",{"$f":"IF(BASE!AL121=\"\",\"\",Reporte!$N121)","v":""},"",{"$f":"IFERROR(EV121*BASE!$AN$165/BASE!$AN121,\"\")","v":""},""]
[null,null,"Criterio Evaluación 2.2","",{"$f":"'Lengua extranjera'!E7","v":1},{"$f":"'Lengua extranjera'!F7","v":6.6666666666666666E-2},{"$f":"'Lengua extranjera'!G7","v":""},null,null,null,null,null,"Criterio Evaluación 2.2","",{"$f":"'Peso criterios carga horaria'!F122","v":2.5},{"$f":"O122*BASE!$AN$165/BASE!AN122","v":2.8323170731707319},5.7273768613974796E-3,"",{"$f":"IF(BASE!E122=\"\",\"\",Reporte!$N122)","v":""},"",{"$f":"IFERROR(T122*BASE!$AN$165/BASE!$AN122,\"\")","v":""},"",{"$f":"IF(BASE!F122=\"\",\"\",Reporte!$N122)","v":""},"",{"$f":"IFERROR(X122*BASE!$AN$165/BASE!$AN122,\"\")","v":""},"",{"$f":"IF(BASE!G122=\"\",\"\",Reporte!$N122)","v":""},"",{"$f":"IFERROR(AB122*BASE!$AN$165/BASE!$AN122,\"\")","v":""},"",{"$f":"IF(BASE!H122=\"\",\"\",Reporte!$N122)","v":""},"",{"$f":"IFERROR(AF122*BASE!$AN$165/BASE!$AN122,\"\")","v":""},"",{"$f":"IF(BASE!I122=\"\",\"\",Reporte!$N122)","v":""},"",{"$f":"IFERROR(AJ122*BASE!$AN$165/BASE!$AN122,\"\")","v":""},"",{"$f":"IF(BASE!J122=\"\",\"\",Reporte!$N122)","v":""},"",{"$f":"IFERROR(AN122*BASE!$AN$165/BASE!$AN122,\"\")","v":""},"",{"$f":"IF(BASE!K122=\"\",\"\",Reporte!$N122)","v":""},"",{"$f":"IFERROR(AR122*BASE!$AN$165/BASE!$AN122,\"\")","v":""},"",{"$f":"IF(BASE!L122=\"\",\"\",Reporte!$N122)","v":""},"",{"$f":"IFERROR(AV122*BASE!$AN$165/BASE!$AN122,\"\")","v":""},"",{"$f":"IF(BASE!M122=\"\",\"\",Reporte!$N122)","v":""},"",{"$f":"IFERROR(AZ122*BASE!$AN$165/BASE!$AN122,\"\")","v":""},"",{"$f":"IF(BASE!N122=\"\",\"\",Reporte!$N122)","v":""},"",{"$f":"IFERROR(BD122*BASE!$AN$165/BASE!$AN122,\"\")","v":""},"",{"$f":"IF(BASE!O122=\"\",\"\",Reporte!$N122)","v":""},"",{"$f":"IFERROR(BH122*BASE!$AN$165/BASE!$AN122,\"\")","v":""},"",{"$f":"IF(BASE!P122=\"\",\"\",Reporte!$N122)","v":""},"",{"$f":"IFERROR(BL122*BASE!$AN$165/BASE!$AN122,\"\")","v":""},"",{"$f":"IF(BASE!Q122=\"\",\"\",Reporte!$N122)","v":""},"",{"$f":"IFERROR(BP122*BASE!$AN$165/BASE!$AN122,\"\")","v":""},"",{"$f":"IF(BASE!R122=\"\",\"\",Reporte!$N122)","v":""},"",{"$f":"IFERROR(BT122*BASE!$AN$165/BASE!$AN122,\"\")","v":""},"",{"$f":"IF(BASE!S122=\"\",\"\",Reporte!$N122)","v":""},"",{"$f":"IFERROR(BX122*BASE!$AN$165/BASE!$AN122,\"\")","v":""},"",{"$f":"IF(BASE!T122=\"\",\"\",Reporte!$N122)","v":""},"",{"$f":"IFERROR(CB122*BASE!$AN$165/BASE!$AN122,\"\")","v":""},"",{"$f":"IF(BASE!U122=\"\",\"\",Reporte!$N122)","v":""},"",{"$f":"IFERROR(CF122*BASE!$AN$165/BASE!$AN122,\"\")","v":""},"",{"$f":"IF(BASE!V122=\"\",\"\",Reporte!$N122)","v":""},"",{"$f":"IFERROR(CJ122*BASE!$AN$165/BASE!$AN122,\"\")","v":""},"",{"$f":"IF(BASE!W122=\"\",\"\",Reporte!$N122)","v":""},"",{"$f":"IFERROR(CN122*BASE!$AN$165/BASE!$AN122,\"\")","v":""},"",{"$f":"IF(BASE!X122=\"\",\"\",Reporte!$N122)","v":""},"",{"$f":"IFERROR(CR122*BASE!$AN$165/BASE!$AN122,\"\")","v":""},"",{"$f":"IF(BASE!Y122=\"\",\"\",Reporte!$N122)","v":""},"",{"$f":"IFERROR(CV122*BASE!$AN$165/BASE!$AN122,\"\")","v":""},"",{"$f":"IF(BASE!Z122=\"\",\"\",Reporte!$N122)","v":""},"",{"$f":"IFERROR(CZ122*BASE!$AN$165/BASE!$AN122,\"\")","v":""},"",{"$f":"IF(BASE!AA122=\"\",\"\",Reporte!$N122)","v":""},"",{"$f":"IFERROR(DD122*BASE!$AN$165/BASE!$AN122,\"\")","v":""},"",{"$f":"IF(BASE!AB122=\"\",\"\",Reporte!$N122)","v":""},"",{"$f":"IFERROR(DH122*BASE!$AN$165/BASE!$AN122,\"\")","v":""},"",{"$f":"IF(BASE!AC122=\"\",\"\",Reporte!$N122)","v":""},"",{"$f":"IFERROR(DL122*BASE!$AN$165/BASE!$AN122,\"\")","v":""},"",{"$f":"IF(BASE!AD122=\"\",\"\",Reporte!$N122)","v":""},"",{"$f":"IFERROR(DP122*BASE!$AN$165/BASE!$AN122,\"\")","v":""},"",{"$f":"IF(BASE!AE122=\"\",\"\",Reporte!$N122)","v":""},"",{"$f":"IFERROR(DT122*BASE!$AN$165/BASE!$AN122,\"\")","v":""},"",{"$f":"IF(BASE!AF122=\"\",\"\",Reporte!$N122)","v":""},"",{"$f":"IFERROR(DX122*BASE!$AN$165/BASE!$AN122,\"\")","v":""},"",{"$f":"IF(BASE!AG122=\"\",\"\",Reporte!$N122)","v":""},"",{"$f":"IFERROR(EB122*BASE!$AN$165/BASE!$AN122,\"\")","v":""},"",{"$f":"IF(BASE!AH122=\"\",\"\",Reporte!$N122)","v":""},"",{"$f":"IFERROR(EF122*BASE!$AN$165/BASE!$AN122,\"\")","v":""},"",{"$f":"IF(BASE!AI122=\"\",\"\",Reporte!$N122)","v":""},"",{"$f":"IFERROR(EJ122*BASE!$AN$165/BASE!$AN122,\"\")","v":""},"",{"$f":"IF(BASE!AJ122=\"\",\"\",Reporte!$N122)","v":""},"",{"$f":"IFERROR(EN122*BASE!$AN$165/BASE!$AN122,\"\")","v":""},"",{"$f":"IF(BASE!AK122=\"\",\"\",Reporte!$N122)","v":""},"",{"$f":"IFERROR(ER122*BASE!$AN$165/BASE!$AN122,\"\")","v":""},"",{"$f":"IF(BASE!AL122=\"\",\"\",Reporte!$N122)","v":""},"",{"$f":"IFERROR(EV122*BASE!$AN$165/BASE!$AN122,\"\")","v":""},""]
[null,null,"Criterio Evaluación 2.3","",{"$f":"'Lengua extranjera'!E8","v":1},{"$f":"'Lengua extranjera'!F8","v":6.6666666666666666E-2},{"$f":"'Lengua extranjera'!G8","v":""},null,null,null,null,null,"Criterio Evaluación 2.3","",{"$f":"'Peso criterios carga horaria'!F123","v":2.5},{"$f":"O123*BASE!$AN$165/BASE!AN123","v":2.8323170731707319},5.7273768613974796E-3,"",{"$f":"IF(BASE!E123=\"\",\"\",Reporte!$N123)","v":""},"",{"$f":"IFERROR(T123*BASE!$AN$165/BASE!$AN123,\"\")","v":""},"",{"$f":"IF(BASE!F123=\"\",\"\",Reporte!$N123)","v":""},"",{"$f":"IFERROR(X123*BASE!$AN$165/BASE!$AN123,\"\")","v":""},"",{"$f":"IF(BASE!G123=\"\",\"\",Reporte!$N123)","v":""},"",{"$f":"IFERROR(AB123*BASE!$AN$165/BASE!$AN123,\"\")","v":""},"",{"$f":"IF(BASE!H123=\"\",\"\",Reporte!$N123)","v":""},"",{"$f":"IFERROR(AF123*BASE!$AN$165/BASE!$AN123,\"\")","v":""},"",{"$f":"IF(BASE!I123=\"\",\"\",Reporte!$N123)","v":""},"",{"$f":"IFERROR(AJ123*BASE!$AN$165/BASE!$AN123,\"\")","v":""},"",{"$f":"IF(BASE!J123=\"\",\"\",Reporte!$N123)","v":""},"",{"$f":"IFERROR(AN123*BASE!$AN$165/BASE!$AN123,\"\")","v":""},"",{"$f":"IF(BASE!K123=\"\",\"\",Reporte!$N123)","v":""},"",{"$f":"IFERROR(AR123*BASE!$AN$165/BASE!$AN123,\"\")","v":""},"",{"$f":"IF(BASE!L123=\"\",\"\",Reporte!$N123)","v":""},"",{"$f":"IFERROR(AV123*BASE!$AN$165/BASE!$AN123,\"\")","v":""},"",{"$f":"IF(BASE!M123=\"\",\"\",Reporte!$N123)","v":""},"",{"$f":"IFERROR(AZ123*BASE!$AN$165/BASE!$AN123,\"\")","v":""},"",{"$f":"IF(BASE!N123=\"\",\"\",Reporte!$N123)","v":""},"",{"$f":"IFERROR(BD123*BASE!$AN$165/BASE!$AN123,\"\")","v":""},"",{"$f":"IF(BASE!O123=\"\",\"\",Reporte!$N123)","v":""},"",{"$f":"IFERROR(BH123*BASE!$AN$165/BASE!$AN123,\"\")","v":""},"",{"$f":"IF(BASE!P123=\"\",\"\",Reporte!$N123)","v":""},"",{"$f":"IFERROR(BL123*BASE!$AN$165/BASE!$AN123,\"\")","v":""},"",{"$f":"IF(BASE!Q123=\"\",\"\",Reporte!$N123)","v":""},"",{"$f":"IFERROR(BP123*BASE!$AN$165/BASE!$AN123,\"\")","v":""},"",{"$f":"IF(BASE!R123=\"\",\"\",Reporte!$N123)","v":""},"",{"$f":"IFERROR(BT123*BASE!$AN$165/BASE!$AN123,\"\")","v":""},"",{"$f":"IF(BASE!S123=\"\",\"\",Reporte!$N123)","v":""},"",{"$f":"IFERROR(BX123*BASE!$AN$165/BASE!$AN123,\"\")","v":""},"",{"$f":"IF(BASE!T123=\"\",\"\",Reporte!$N123)","v":""},"",{"$f":"IFERROR(CB123*BASE!$AN$165/BASE!$AN123,\"\")","v":""},"",{"$f":"IF(BASE!U123=\"\",\"\",Reporte!$N123)","v":""},"",{"$f":"IFERROR(CF123*BASE!$AN$165/BASE!$AN123,\"\")","v":""},"",{"$f":"IF(BASE!V123=\"\",\"\",Reporte!$N123)","v":""},"",{"$f":"IFERROR(CJ123*BASE!$AN$165/BASE!$AN123,\"\")","v":""},"",{"$f":"IF(BASE!W123=\"\",\"\",Reporte!$N123)","v":""},"",{"$f":"IFERROR(CN123*BASE!$AN$165/BASE!$AN123,\"\")","v":""},"",{"$f":"IF(BASE!X123=\"\",\"\",Reporte!$N123)","v":""},"",{"$f":"IFERROR(CR123*BASE!$AN$165/BASE!$AN123,\"\")","v":""},"",{"$f":"IF(BASE!Y123=\"\",\"\",Reporte!$N123)","v":""},"",{"$f":"IFERROR(CV123*BASE!$AN$165/BASE!$AN123,\"\")","v":""},"",{"$f":"IF(BASE!Z123=\"\",\"\",Reporte!$N123)","v":""},"",{"$f":"IFERROR(CZ123*BASE!$AN$165/BASE!$AN123,\"\")","v":""},"",{"$f":"IF(BASE!AA123=\"\",\"\",Reporte!$N123)","v":""},"",{"$f":"IFERROR(DD123*BASE!$AN$165/BASE!$AN123,\"\")","v":""},"",{"$f":"IF(BASE!AB123=\"\",\"\",Reporte!$N123)","v":""},"",{"$f":"IFERROR(DH123*BASE!$AN$165/BASE!$AN123,\"\")","v":""},"",{"$f":"IF(BASE!AC123=\"\",\"\",Reporte!$N123)","v":""},"",{"$f":"IFERROR(DL123*BASE!$AN$165/BASE!$AN123,\"\")","v":""},"",{"$f":"IF(BASE!AD123=\"\",\"\",Reporte!$N123)","v":""},"",{"$f":"IFERROR(DP123*BASE!$AN$165/BASE!$AN123,\"\")","v":""},"",{"$f":"IF(BASE!AE123=\"\",\"\",Reporte!$N123)","v":""},"",{"$f":"IFERROR(DT123*BASE!$AN$165/BASE!$AN123,\"\")","v":""},"",{"$f":"IF(BASE!AF123=\"\",\"\",Reporte!$N123)","v":""},"",{"$f":"IFERROR(DX123*BASE!$AN$165/BASE!$AN123,\"\")","v":""},"",{"$f":"IF(BASE!AG123=\"\",\"\",Reporte!$N123)","v":""},"",{"$f":"IFERROR(EB123*BASE!$AN$165/BASE!$AN123,\"\")","v":""},"",{"$f":"IF(BASE!AH123=\"\",\"\",Reporte!$N123)","v":""},"",{"$f":"IFERROR(EF123*BASE!$AN$165/BASE!$AN123,\"\")","v":""},"",{"$f":"IF(BASE!AI123=\"\",\"\",Reporte!$N123)","v":""},"",{"$f":"IFERROR(EJ123*BASE!$AN$165/BASE!$AN123,\"\")","v":""},"",{"$f":"IF(BASE!AJ123=\"\",\"\",Reporte!$N123)","v":""},"",{"$f":"IFERROR(EN123*BASE!$AN$165/BASE!$AN123,\"\")","v":""},"",{"$f":"IF(BASE!AK123=\"\",\"\",Reporte!$N123)","v":""},"",{"$f":"IFERROR(ER123*BASE!$AN$165/BASE!$AN123,\"\")","v":""},"",{"$f":"IF(BASE!AL123=\"\",\"\",Reporte!$N123)","v":""},"",{"$f":"IFERROR(EV123*BASE!$AN$165/BASE!$AN123,\"\")","v":""},""]
[null,"Comp. Esp. 3","Criterio Evaluación 3.1","",{"$f":"'Lengua extranjera'!E9","v":1},{"$f":"'Lengua extranjera'!F9","v":6.6666666666666666E-2},{"$f":"'Lengua extranjera'!G9","v":""},null,null,null,null,"Comp. Esp. 3","Criterio Evaluación 3.1","",{"$f":"'Peso criterios carga horaria'!F124","v":2.5},{"$f":"O124*BASE!$AN$165/BASE!AN124","v":2.8323170731707319},5.7273768613974796E-3,"",{"$f":"IF(BASE!E124=\"\",\"\",Reporte!$N124)","v":""},"",{"$f":"IFERROR(T124*BASE!$AN$165/BASE!$AN124,\"\")","v":""},"",{"$f":"IF(BASE!F124=\"\",\"\",Reporte!$N124)","v":""},"",{"$f":"IFERROR(X124*BASE!$AN$165/BASE!$AN124,\"\")","v":""},"",{"$f":"IF(BASE!G124=\"\",\"\",Reporte!$N124)","v":""},"",{"$f":"IFERROR(AB124*BASE!$AN$165/BASE!$AN124,\"\")","v":""},"",{"$f":"IF(BASE!H124=\"\",\"\",Reporte!$N124)","v":""},"",{"$f":"IFERROR(AF124*BASE!$AN$165/BASE!$AN124,\"\")","v":""},"",{"$f":"IF(BASE!I124=\"\",\"\",Reporte!$N124)","v":""},"",{"$f":"IFERROR(AJ124*BASE!$AN$165/BASE!$AN124,\"\")","v":""},"",{"$f":"IF(BASE!J124=\"\",\"\",Reporte!$N124)","v":""},"",{"$f":"IFERROR(AN124*BASE!$AN$165/BASE!$AN124,\"\")","v":""},"",{"$f":"IF(BASE!K124=\"\",\"\",Reporte!$N124)","v":""},"",{"$f":"IFERROR(AR124*BASE!$AN$165/BASE!$AN124,\"\")","v":""},"",{"$f":"IF(BASE!L124=\"\",\"\",Reporte!$N124)","v":""},"",{"$f":"IFERROR(AV124*BASE!$AN$165/BASE!$AN124,\"\")","v":""},"",{"$f":"IF(BASE!M124=\"\",\"\",Reporte!$N124)","v":""},"",{"$f":"IFERROR(AZ124*BASE!$AN$165/BASE!$AN124,\"\")","v":""},"",{"$f":"IF(BASE!N124=\"\",\"\",Reporte!$N124)","v":""},"",{"$f":"IFERROR(BD124*BASE!$AN$165/BASE!$AN124,\"\")","v":""},"",{"$f":"IF(BASE!O124=\"\",\"\",Reporte!$N124)","v":""},"",{"$f":"IFERROR(BH124*BASE!$AN$165/BASE!$AN124,\"\")","v":""},"",{"$f":"IF(BASE!P124=\"\",\"\",Reporte!$N124)","v":""},"",{"$f":"IFERROR(BL124*BASE!$AN$165/BASE!$AN124,\"\")","v":""},"",{"$f":"IF(BASE!Q124=\"\",\"\",Reporte!$N124)","v":""},"",{"$f":"IFERROR(BP124*BASE!$AN$165/BASE!$AN124,\"\")","v":""},"",{"$f":"IF(BASE!R124=\"\",\"\",Reporte!$N124)","v":""},"",{"$f":"IFERROR(BT124*BASE!$AN$165/BASE!$AN124,\"\")","v":""},"",{"$f":"IF(BASE!S124=\"\",\"\",Reporte!$N124)","v":""},"",{"$f":"IFERROR(BX124*BASE!$AN$165/BASE!$AN124,\"\")","v":""},"",{"$f":"IF(BASE!T124=\"\",\"\",Reporte!$N124)","v":""},"",{"$f":"IFERROR(CB124*BASE!$AN$165/BASE!$AN124,\"\")","v":""},"",{"$f":"IF(BASE!U124=\"\",\"\",Reporte!$N124)","v":""},"",{"$f":"IFERROR(CF124*BASE!$AN$165/BASE!$AN124,\"\")","v":""},"",{"$f":"IF(BASE!V124=\"\",\"\",Reporte!$N124)","v":""},"",{"$f":"IFERROR(CJ124*BASE!$AN$165/BASE!$AN124,\"\")","v":""},"",{"$f":"IF(BASE!W124=\"\",\"\",Reporte!$N124)","v":""},"",{"$f":"IFERROR(CN124*BASE!$AN$165/BASE!$AN124,\"\")","v":""},"",{"$f":"IF(BASE!X124=\"\",\"\",Reporte!$N124)","v":""},"",{"$f":"IFERROR(CR124*BASE!$AN$165/BASE!$AN124,\"\")","v":""},"",{"$f":"IF(BASE!Y124=\"\",\"\",Reporte!$N124)","v":""},"",{"$f":"IFERROR(CV124*BASE!$AN$165/BASE!$AN124,\"\")","v":""},"",{"$f":"IF(BASE!Z124=\"\",\"\",Reporte!$N124)","v":""},"",{"$f":"IFERROR(CZ124*BASE!$AN$165/BASE!$AN124,\"\")","v":""},"",{"$f":"IF(BASE!AA124=\"\",\"\",Reporte!$N124)","v":""},"",{"$f":"IFERROR(DD124*BASE!$AN$165/BASE!$AN124,\"\")","v":""},"",{"$f":"IF(BASE!AB124=\"\",\"\",Reporte!$N124)","v":""},"",{"$f":"IFERROR(DH124*BASE!$AN$165/BASE!$AN124,\"\")","v":""},"",{"$f":"IF(BASE!AC124=\"\",\"\",Reporte!$N124)","v":""},"",{"$f":"IFERROR(DL124*BASE!$AN$165/BASE!$AN124,\"\")","v":""},"",{"$f":"IF(BASE!AD124=\"\",\"\",Reporte!$N124)","v":""},"",{"$f":"IFERROR(DP124*BASE!$AN$165/BASE!$AN124,\"\")","v":""},"",{"$f":"IF(BASE!AE124=\"\",\"\",Reporte!$N124)","v":""},"",{"$f":"IFERROR(DT124*BASE!$AN$165/BASE!$AN124,\"\")","v":""},"",{"$f":"IF(BASE!AF124=\"\",\"\",Reporte!$N124)","v":""},"",{"$f":"IFERROR(DX124*BASE!$AN$165/BASE!$AN124,\"\")","v":""},"",{"$f":"IF(BASE!AG124=\"\",\"\",Reporte!$N124)","v":""},"",{"$f":"IFERROR(EB124*BASE!$AN$165/BASE!$AN124,\"\")","v":""},"",{"$f":"IF(BASE!AH124=\"\",\"\",Reporte!$N124)","v":""},"",{"$f":"IFERROR(EF124*BASE!$AN$165/BASE!$AN124,\"\")","v":""},"",{"$f":"IF(BASE!AI124=\"\",\"\",Reporte!$N124)","v":""},"",{"$f":"IFERROR(EJ124*BASE!$AN$165/BASE!$AN124,\"\")","v":""},"",{"$f":"IF(BASE!AJ124=\"\",\"\",Reporte!$N124)","v":""},"",{"$f":"IFERROR(EN124*BASE!$AN$165/BASE!$AN124,\"\")","v":""},"",{"$f":"IF(BASE!AK124=\"\",\"\",Reporte!$N124)","v":""},"",{"$f":"IFERROR(ER124*BASE!$AN$165/BASE!$AN124,\"\")","v":""},"",{"$f":"IF(BASE!AL124=\"\",\"\",Reporte!$N124)","v":""},"",{"$f":"IFERROR(EV124*BASE!$AN$165/BASE!$AN124,\"\")","v":""},""]
[null,null,"Criterio Evaluación 3.2","",{"$f":"'Lengua extranjera'!E10","v":1},{"$f":"'Lengua extranjera'!F10","v":6.6666666666666666E-2},{"$f":"'Lengua extranjera'!G10","v":""},null,null,null,null,null,"Criterio Evaluación 3.2","",{"$f":"'Peso criterios carga horaria'!F125","v":2.5},{"$f":"O125*BASE!$AN$165/BASE!AN125","v":2.8323170731707319},5.7273768613974796E-3,"",{"$f":"IF(BASE!E125=\"\",\"\",Reporte!$N125)","v":""},"",{"$f":"IFERROR(T125*BASE!$AN$165/BASE!$AN125,\"\")","v":""},"",{"$f":"IF(BASE!F125=\"\",\"\",Reporte!$N125)","v":""},"",{"$f":"IFERROR(X125*BASE!$AN$165/BASE!$AN125,\"\")","v":""},"",{"$f":"IF(BASE!G125=\"\",\"\",Reporte!$N125)","v":""},"",{"$f":"IFERROR(AB125*BASE!$AN$165/BASE!$AN125,\"\")","v":""},"",{"$f":"IF(BASE!H125=\"\",\"\",Reporte!$N125)","v":""},"",{"$f":"IFERROR(AF125*BASE!$AN$165/BASE!$AN125,\"\")","v":""},"",{"$f":"IF(BASE!I125=\"\",\"\",Reporte!$N125)","v":""},"",{"$f":"IFERROR(AJ125*BASE!$AN$165/BASE!$AN125,\"\")","v":""},"",{"$f":"IF(BASE!J125=\"\",\"\",Reporte!$N125)","v":""},"",{"$f":"IFERROR(AN125*BASE!$AN$165/BASE!$AN125,\"\")","v":""},"",{"$f":"IF(BASE!K125=\"\",\"\",Reporte!$N125)","v":""},"",{"$f":"IFERROR(AR125*BASE!$AN$165/BASE!$AN125,\"\")","v":""},"",{"$f":"IF(BASE!L125=\"\",\"\",Reporte!$N125)","v":""},"",{"$f":"IFERROR(AV125*BASE!$AN$165/BASE!$AN125,\"\")","v":""},"",{"$f":"IF(BASE!M125=\"\",\"\",Reporte!$N125)","v":""},"",{"$f":"IFERROR(AZ125*BASE!$AN$165/BASE!$AN125,\"\")","v":""},"",{"$f":"IF(BASE!N125=\"\",\"\",Reporte!$N125)","v":""},"",{"$f":"IFERROR(BD125*BASE!$AN$165/BASE!$AN125,\"\")","v":""},"",{"$f":"IF(BASE!O125=\"\",\"\",Reporte!$N125)","v":""},"",{"$f":"IFERROR(BH125*BASE!$AN$165/BASE!$AN125,\"\")","v":""},"",{"$f":"IF(BASE!P125=\"\",\"\",Reporte!$N125)","v":""},"",{"$f":"IFERROR(BL125*BASE!$AN$165/BASE!$AN125,\"\")","v":""},"",{"$f":"IF(BASE!Q125=\"\",\"\",Reporte!$N125)","v":""},"",{"$f":"IFERROR(BP125*BASE!$AN$165/BASE!$AN125,\"\")","v":""},"",{"$f":"IF(BASE!R125=\"\",\"\",Reporte!$N125)","v":""},"",{"$f":"IFERROR(BT125*BASE!$AN$165/BASE!$AN125,\"\")","v":""},"",{"$f":"IF(BASE!S125=\"\",\"\",Reporte!$N125)","v":""},"",{"$f":"IFERROR(BX125*BASE!$AN$165/BASE!$AN125,\"\")","v":""},"",{"$f":"IF(BASE!T125=\"\",\"\",Reporte!$N125)","v":""},"",{"$f":"IFERROR(CB125*BASE!$AN$165/BASE!$AN125,\"\")","v":""},"",{"$f":"IF(BASE!U125=\"\",\"\",Reporte!$N125)","v":""},"",{"$f":"IFERROR(CF125*BASE!$AN$165/BASE!$AN125,\"\")","v":""},"",{"$f":"IF(BASE!V125=\"\",\"\",Reporte!$N125)","v":""},"",{"$f":"IFERROR(CJ125*BASE!$AN$165/BASE!$AN125,\"\")","v":""},"",{"$f":"IF(BASE!W125=\"\",\"\",Reporte!$N125)","v":""},"",{"$f":"IFERROR(CN125*BASE!$AN$165/BASE!$AN125,\"\")","v":""},"",{"$f":"IF(BASE!X125=\"\",\"\",Reporte!$N125)","v":""},"",{"$f":"IFERROR(CR125*BASE!$AN$165/BASE!$AN125,\"\")","v":""},"",{"$f":"IF(BASE!Y125=\"\",\"\",Reporte!$N125)","v":""},"",{"$f":"IFERROR(CV125*BASE!$AN$165/BASE!$AN125,\"\")","v":""},"",{"$f":"IF(BASE!Z125=\"\",\"\",Reporte!$N125)","v":""},"",{"$f":"IFERROR(CZ125*BASE!$AN$165/BASE!$AN125,\"\")","v":""},"",{"$f":"IF(BASE!AA125=\"\",\"\",Reporte!$N125)","v":""},"",{"$f":"IFERROR(DD125*BASE!$AN$165/BASE!$AN125,\"\")","v":""},"",{"$f":"IF(BASE!AB125=\"\",\"\",Reporte!$N125)","v":""},"",{"$f":"IFERROR(DH125*BASE!$AN$165/BASE!$AN125,\"\")","v":""},"",{"$f":"IF(BASE!AC125=\"\",\"\",Reporte!$N125)","v":""},"",{"$f":"IFERROR(DL125*BASE!$AN$165/BASE!$AN125,\"\")","v":""},"",{"$f":"IF(BASE!AD125=\"\",\"\",Reporte!$N125)","v":""},"",{"$f":"IFERROR(DP125*BASE!$AN$165/BASE!$AN125,\"\")","v":""},"",{"$f":"IF(BASE!AE125=\"\",\"\",Reporte!$N125)","v":""},"",{"$f":"IFERROR(DT125*BASE!$AN$165/BASE!$AN125,\"\")","v":""},"",{"$f":"IF(BASE!AF125=\"\",\"\",Reporte!$N125)","v":""},"",{"$f":"IFERROR(DX125*BASE!$AN$165/BASE!$AN125,\"\")","v":""},"",{"$f":"IF(BASE!AG125=\"\",\"\",Reporte!$N125)","v":""},"",{"$f":"IFERROR(EB125*BASE!$AN$165/BASE!$AN125,\"\")","v":""},"",{"$f":"IF(BASE!AH125=\"\",\"\",Reporte!$N125)","v":""},"",{"$f":"IFERROR(EF125*BASE!$AN$165/BASE!$AN125,\"\")","v":""},"",{"$f":"IF(BASE!AI125=\"\",\"\",Reporte!$N125)","v":""},"",{"$f":"IFERROR(EJ125*BASE!$AN$165/BASE!$AN125,\"\")","v":""},"",{"$f":"IF(BASE!AJ125=\"\",\"\",Reporte!$N125)","v":""},"",{"$f":"IFERROR(EN125*BASE!$AN$165/BASE!$AN125,\"\")","v":""},"",{"$f":"IF(BASE!AK125=\"\",\"\",Reporte!$N125)","v":""},"",{"$f":"IFERROR(ER125*BASE!$AN$165/BASE!$AN125,\"\")","v":""},"",{"$f":"IF(BASE!AL125=\"\",\"\",Reporte!$N125)","v":""},"",{"$f":"IFERROR(EV125*BASE!$AN$165/BASE!$AN125,\"\")","v":""},""]
[null,"Comp. Esp. 4","Criterio Evaluación 4.1","",{"$f":"'Lengua extranjera'!E11","v":1},{"$f":"'Lengua extranjera'!F11","v":6.6666666666666666E-2},{"$f":"'Lengua extranjera'!G11","v":""},null,null,null,null,"Comp. Esp. 4","Criterio Evaluación 4.1","",{"$f":"'Peso criterios carga horaria'!F126","v":2.5},{"$f":"O126*BASE!$AN$165/BASE!AN126","v":2.8323170731707319},5.7273768613974796E-3,"",{"$f":"IF(BASE!E126=\"\",\"\",Reporte!$N126)","v":""},"",{"$f":"IFERROR(T126*BASE!$AN$165/BASE!$AN126,\"\")","v":""},"",{"$f":"IF(BASE!F126=\"\",\"\",Reporte!$N126)","v":""},"",{"$f":"IFERROR(X126*BASE!$AN$165/BASE!$AN126,\"\")","v":""},"",{"$f":"IF(BASE!G126=\"\",\"\",Reporte!$N126)","v":""},"",{"$f":"IFERROR(AB126*BASE!$AN$165/BASE!$AN126,\"\")","v":""},"",{"$f":"IF(BASE!H126=\"\",\"\",Reporte!$N126)","v":""},"",{"$f":"IFERROR(AF126*BASE!$AN$165/BASE!$AN126,\"\")","v":""},"",{"$f":"IF(BASE!I126=\"\",\"\",Reporte!$N126)","v":""},"",{"$f":"IFERROR(AJ126*BASE!$AN$165/BASE!$AN126,\"\")","v":""},"",{"$f":"IF(BASE!J126=\"\",\"\",Reporte!$N126)","v":""},"",{"$f":"IFERROR(AN126*BASE!$AN$165/BASE!$AN126,\"\")","v":""},"",{"$f":"IF(BASE!K126=\"\",\"\",Reporte!$N126)","v":""},"",{"$f":"IFERROR(AR126*BASE!$AN$165/BASE!$AN126,\"\")","v":""},"",{"$f":"IF(BASE!L126=\"\",\"\",Reporte!$N126)","v":""},"",{"$f":"IFERROR(AV126*BASE!$AN$165/BASE!$AN126,\"\")","v":""},"",{"$f":"IF(BASE!M126=\"\",\"\",Reporte!$N126)","v":""},"",{"$f":"IFERROR(AZ126*BASE!$AN$165/BASE!$AN126,\"\")","v":""},"",{"$f":"IF(BASE!N126=\"\",\"\",Reporte!$N126)","v":""},"",{"$f":"IFERROR(BD126*BASE!$AN$165/BASE!$AN126,\"\")","v":""},"",{"$f":"IF(BASE!O126=\"\",\"\",Reporte!$N126)","v":""},"",{"$f":"IFERROR(BH126*BASE!$AN$165/BASE!$AN126,\"\")","v":""},"",{"$f":"IF(BASE!P126=\"\",\"\",Reporte!$N126)","v":""},"",{"$f":"IFERROR(BL126*BASE!$AN$165/BASE!$AN126,\"\")","v":""},"",{"$f":"IF(BASE!Q126=\"\",\"\",Reporte!$N126)","v":""},"",{"$f":"IFERROR(BP126*BASE!$AN$165/BASE!$AN126,\"\")","v":""},"",{"$f":"IF(BASE!R126=\"\",\"\",Reporte!$N126)","v":""},"",{"$f":"IFERROR(BT126*BASE!$AN$165/BASE!$AN126,\"\")","v":""},"",{"$f":"IF(BASE!S126=\"\",\"\",Reporte!$N126)","v":""},"",{"$f":"IFERROR(BX126*BASE!$AN$165/BASE!$AN126,\"\")","v":""},"",{"$f":"IF(BASE!T126=\"\",\"\",Reporte!$N126)","v":""},"",{"$f":"IFERROR(CB126*BASE!$AN$165/BASE!$AN126,\"\")","v":""},"",{"$f":"IF(BASE!U126=\"\",\"\",Reporte!$N126)","v":""},"",{"$f":"IFERROR(CF126*BASE!$AN$165/BASE!$AN126,\"\")","v":""},"",{"$f":"IF(BASE!V126=\"\",\"\",Reporte!$N126)","v":""},"",{"$f":"IFERROR(CJ126*BASE!$AN$165/BASE!$AN126,\"\")","v":""},"",{"$f":"IF(BASE!W126=\"\",\"\",Reporte!$N126)","v":""},"",{"$f":"IFERROR(CN126*BASE!$AN$165/BASE!$AN126,\"\")","v":""},"",{"$f":"IF(BASE!X126=\"\",\"\",Reporte!$N126)","v":""},"",{"$f":"IFERROR(CR126*BASE!$AN$165/BASE!$AN126,\"\")","v":""},"",{"$f":"IF(BASE!Y126=\"\",\"\",Reporte!$N126)","v":""},"",{"$f":"IFERROR(CV126*BASE!$AN$165/BASE!$AN126,\"\")","v":""},"",{"$f":"IF(BASE!Z126=\"\",\"\",Reporte!$N126)","v":""},"",{"$f":"IFERROR(CZ126*BASE!$AN$165/BASE!$AN126,\"\")","v":""},"",{"$f":"IF(BASE!AA126=\"\",\"\",Reporte!$N126)","v":""},"",{"$f":"IFERROR(DD126*BASE!$AN$165/BASE!$AN126,\"\")","v":""},"",{"$f":"IF(BASE!AB126=\"\",\"\",Reporte!$N126)","v":""},"",{"$f":"IFERROR(DH126*BASE!$AN$165/BASE!$AN126,\"\")","v":""},"",{"$f":"IF(BASE!AC126=\"\",\"\",Reporte!$N126)","v":""},"",{"$f":"IFERROR(DL126*BASE!$AN$165/BASE!$AN126,\"\")","v":""},"",{"$f":"IF(BASE!AD126=\"\",\"\",Reporte!$N126)","v":""},"",{"$f":"IFERROR(DP126*BASE!$AN$165/BASE!$AN126,\"\")","v":""},"",{"$f":"IF(BASE!AE126=\"\",\"\",Reporte!$N126)","v":""},"",{"$f":"IFERROR(DT126*BASE!$AN$165/BASE!$AN126,\"\")","v":""},"",{"$f":"IF(BASE!AF126=\"\",\"\",Reporte!$N126)","v":""},"",{"$f":"IFERROR(DX126*BASE!$AN$165/BASE!$AN126,\"\")","v":""},"",{"$f":"IF(BASE!AG126=\"\",\"\",Reporte!$N126)","v":""},"",{"$f":"IFERROR(EB126*BASE!$AN$165/BASE!$AN126,\"\")","v":""},"",{"$f":"IF(BASE!AH126=\"\",\"\",Reporte!$N126)","v":""},"",{"$f":"IFERROR(EF126*BASE!$AN$165/BASE!$AN126,\"\")","v":""},"",{"$f":"IF(BASE!AI126=\"\",\"\",Reporte!$N126)","v":""},"",{"$f":"IFERROR(EJ126*BASE!$AN$165/BASE!$AN126,\"\")","v":""},"",{"$f":"IF(BASE!AJ126=\"\",\"\",Reporte!$N126)","v":""},"",{"$f":"IFERROR(EN126*BASE!$AN$165/BASE!$AN126,\"\")","v":""},"",{"$f":"IF(BASE!AK126=\"\",\"\",Reporte!$N126)","v":""},"",{"$f":"IFERROR(ER126*BASE!$AN$165/BASE!$AN126,\"\")","v":""},"",{"$f":"IF(BASE!AL126=\"\",\"\",Reporte!$N126)","v":""},"",{"$f":"IFERROR(EV126*BASE!$AN$165/BASE!$AN126,\"\")","v":""},""]
[null,null,"Criterio Evaluación 4.2","",{"$f":"'Lengua extranjera'!E12","v":1},{"$f":"'Lengua extranjera'!F12","v":6.6666666666666666E-2},{"$f":"'Lengua extranjera'!G12","v":""},null,null,null,null,null,"Criterio Evaluación 4.2","",{"$f":"'Peso criterios carga horaria'!F127","v":2.5},{"$f":"O127*BASE!$AN$165/BASE!AN127","v":2.8323170731707319},5.7273768613974796E-3,"",{"$f":"IF(BASE!E127=\"\",\"\",Reporte!$N127)","v":""},"",{"$f":"IFERROR(T127*BASE!$AN$165/BASE!$AN127,\"\")","v":""},"",{"$f":"IF(BASE!F127=\"\",\"\",Reporte!$N127)","v":""},"",{"$f":"IFERROR(X127*BASE!$AN$165/BASE!$AN127,\"\")","v":""},"",{"$f":"IF(BASE!G127=\"\",\"\",Reporte!$N127)","v":""},"",{"$f":"IFERROR(AB127*BASE!$AN$165/BASE!$AN127,\"\")","v":""},"",{"$f":"IF(BASE!H127=\"\",\"\",Reporte!$N127)","v":""},"",{"$f":"IFERROR(AF127*BASE!$AN$165/BASE!$AN127,\"\")","v":""},"",{"$f":"IF(BASE!I127=\"\",\"\",Reporte!$N127)","v":""},"",{"$f":"IFERROR(AJ127*BASE!$AN$165/BASE!$AN127,\"\")","v":""},"",{"$f":"IF(BASE!J127=\"\",\"\",Reporte!$N127)","v":""},"",{"$f":"IFERROR(AN127*BASE!$AN$165/BASE!$AN127,\"\")","v":""},"",{"$f":"IF(BASE!K127=\"\",\"\",Reporte!$N127)","v":""},"",{"$f":"IFERROR(AR127*BASE!$AN$165/BASE!$AN127,\"\")","v":""},"",{"$f":"IF(BASE!L127=\"\",\"\",Reporte!$N127)","v":""},"",{"$f":"IFERROR(AV127*BASE!$AN$165/BASE!$AN127,\"\")","v":""},"",{"$f":"IF(BASE!M127=\"\",\"\",Reporte!$N127)","v":""},"",{"$f":"IFERROR(AZ127*BASE!$AN$165/BASE!$AN127,\"\")","v":""},"",{"$f":"IF(BASE!N127=\"\",\"\",Reporte!$N127)","v":""},"",{"$f":"IFERROR(BD127*BASE!$AN$165/BASE!$AN127,\"\")","v":""},"",{"$f":"IF(BASE!O127=\"\",\"\",Reporte!$N127)","v":""},"",{"$f":"IFERROR(BH127*BASE!$AN$165/BASE!$AN127,\"\")","v":""},"",{"$f":"IF(BASE!P127=\"\",\"\",Reporte!$N127)","v":""},"",{"$f":"IFERROR(BL127*BASE!$AN$165/BASE!$AN127,\"\")","v":""},"",{"$f":"IF(BASE!Q127=\"\",\"\",Reporte!$N127)","v":""},"",{"$f":"IFERROR(BP127*BASE!$AN$165/BASE!$AN127,\"\")","v":""},"",{"$f":"IF(BASE!R127=\"\",\"\",Reporte!$N127)","v":""},"",{"$f":"IFERROR(BT127*BASE!$AN$165/BASE!$AN127,\"\")","v":""},"",{"$f":"IF(BASE!S127=\"\",\"\",Reporte!$N127)","v":""},"",{"$f":"IFERROR(BX127*BASE!$AN$165/BASE!$AN127,\"\")","v":""},"",{"$f":"IF(BASE!T127=\"\",\"\",Reporte!$N127)","v":""},"",{"$f":"IFERROR(CB127*BASE!$AN$165/BASE!$AN127,\"\")","v":""},"",{"$f":"IF(BASE!U127=\"\",\"\",Reporte!$N127)","v":""},"",{"$f":"IFERROR(CF127*BASE!$AN$165/BASE!$AN127,\"\")","v":""},"",{"$f":"IF(BASE!V127=\"\",\"\",Reporte!$N127)","v":""},"",{"$f":"IFERROR(CJ127*BASE!$AN$165/BASE!$AN127,\"\")","v":""},"",{"$f":"IF(BASE!W127=\"\",\"\",Reporte!$N127)","v":""},"",{"$f":"IFERROR(CN127*BASE!$AN$165/BASE!$AN127,\"\")","v":""},"",{"$f":"IF(BASE!X127=\"\",\"\",Reporte!$N127)","v":""},"",{"$f":"IFERROR(CR127*BASE!$AN$165/BASE!$AN127,\"\")","v":""},"",{"$f":"IF(BASE!Y127=\"\",\"\",Reporte!$N127)","v":""},"",{"$f":"IFERROR(CV127*BASE!$AN$165/BASE!$AN127,\"\")","v":""},"",{"$f":"IF(BASE!Z127=\"\",\"\",Reporte!$N127)","v":""},"",{"$f":"IFERROR(CZ127*BASE!$AN$165/BASE!$AN127,\"\")","v":""},"",{"$f":"IF(BASE!AA127=\"\",\"\",Reporte!$N127)","v":""},"",{"$f":"IFERROR(DD127*BASE!$AN$165/BASE!$AN127,\"\")","v":""},"",{"$f":"IF(BASE!AB127=\"\",\"\",Reporte!$N127)","v":""},"",{"$f":"IFERROR(DH127*BASE!$AN$165/BASE!$AN127,\"\")","v":""},"",{"$f":"IF(BASE!AC127=\"\",\"\",Reporte!$N127)","v":""},"",{"$f":"IFERROR(DL127*BASE!$AN$165/BASE!$AN127,\"\")","v":""},"",{"$f":"IF(BASE!AD127=\"\",\"\",Reporte!$N127)","v":""},"",{"$f":"IFERROR(DP127*BASE!$AN$165/BASE!$AN127,\"\")","v":""},"",{"$f":"IF(BASE!AE127=\"\",\"\",Reporte!$N127)","v":""},"",{"$f":"IFERROR(DT127*BASE!$AN$165/BASE!$AN127,\"\")","v":""},"",{"$f":"IF(BASE!AF127=\"\",\"\",Reporte!$N127)","v":""},"",{"$f":"IFERROR(DX127*BASE!$AN$165/BASE!$AN127,\"\")","v":""},"",{"$f":"IF(BASE!AG127=\"\",\"\",Reporte!$N127)","v":""},"",{"$f":"IFERROR(EB127*BASE!$AN$165/BASE!$AN127,\"\")","v":""},"",{"$f":"IF(BASE!AH127=\"\",\"\",Reporte!$N127)","v":""},"",{"$f":"IFERROR(EF127*BASE!$AN$165/BASE!$AN127,\"\")","v":""},"",{"$f":"IF(BASE!AI127=\"\",\"\",Reporte!$N127)","v":""},"",{"$f":"IFERROR(EJ127*BASE!$AN$165/BASE!$AN127,\"\")","v":""},"",{"$f":"IF(BASE!AJ127=\"\",\"\",Reporte!$N127)","v":""},"",{"$f":"IFERROR(EN127*BASE!$AN$165/BASE!$AN127,\"\")","v":""},"",{"$f":"IF(BASE!AK127=\"\",\"\",Reporte!$N127)","v":""},"",{"$f":"IFERROR(ER127*BASE!$AN$165/BASE!$AN127,\"\")","v":""},"",{"$f":"IF(BASE!AL127=\"\",\"\",Reporte!$N127)","v":""},"",{"$f":"IFERROR(EV127*BASE!$AN$165/BASE!$AN127,\"\")","v":""},""]
[null,"Comp. Esp. 5","Criterio Evaluación 5.1","",{"$f":"'Lengua extranjera'!E13","v":1},{"$f":"'Lengua extranjera'!F13","v":6.6666666666666666E-2},{"$f":"'Lengua extranjera'!G13","v":""},null,null,null,null,"Comp. Esp. 5","Criterio Evaluación 5.1","",{"$f":"'Peso criterios carga horaria'!F128","v":2.5},{"$f":"O128*BASE!$AN$165/BASE!AN128","v":2.8323170731707319},5.7273768613974796E-3,"",{"$f":"IF(BASE!E128=\"\",\"\",Reporte!$N128)","v":""},"",{"$f":"IFERROR(T128*BASE!$AN$165/BASE!$AN128,\"\")","v":""},"",{"$f":"IF(BASE!F128=\"\",\"\",Reporte!$N128)","v":""},"",{"$f":"IFERROR(X128*BASE!$AN$165/BASE!$AN128,\"\")","v":""},"",{"$f":"IF(BASE!G128=\"\",\"\",Reporte!$N128)","v":""},"",{"$f":"IFERROR(AB128*BASE!$AN$165/BASE!$AN128,\"\")","v":""},"",{"$f":"IF(BASE!H128=\"\",\"\",Reporte!$N128)","v":""},"",{"$f":"IFERROR(AF128*BASE!$AN$165/BASE!$AN128,\"\")","v":""},"",{"$f":"IF(BASE!I128=\"\",\"\",Reporte!$N128)","v":""},"",{"$f":"IFERROR(AJ128*BASE!$AN$165/BASE!$AN128,\"\")","v":""},"",{"$f":"IF(BASE!J128=\"\",\"\",Reporte!$N128)","v":""},"",{"$f":"IFERROR(AN128*BASE!$AN$165/BASE!$AN128,\"\")","v":""},"",{"$f":"IF(BASE!K128=\"\",\"\",Reporte!$N128)","v":""},"",{"$f":"IFERROR(AR128*BASE!$AN$165/BASE!$AN128,\"\")","v":""},"",{"$f":"IF(BASE!L128=\"\",\"\",Reporte!$N128)","v":""},"",{"$f":"IFERROR(AV128*BASE!$AN$165/BASE!$AN128,\"\")","v":""},"",{"$f":"IF(BASE!M128=\"\",\"\",Reporte!$N128)","v":""},"",{"$f":"IFERROR(AZ128*BASE!$AN$165/BASE!$AN128,\"\")","v":""},"",{"$f":"IF(BASE!N128=\"\",\"\",Reporte!$N128)","v":""},"",{"$f":"IFERROR(BD128*BASE!$AN$165/BASE!$AN128,\"\")","v":""},"",{"$f":"IF(BASE!O128=\"\",\"\",Reporte!$N128)","v":""},"",{"$f":"IFERROR(BH128*BASE!$AN$165/BASE!$AN128,\"\")","v":""},"",{"$f":"IF(BASE!P128=\"\",\"\",Reporte!$N128)","v":""},"",{"$f":"IFERROR(BL128*BASE!$AN$165/BASE!$AN128,\"\")","v":""},"",{"$f":"IF(BASE!Q128=\"\",\"\",Reporte!$N128)","v":""},"",{"$f":"IFERROR(BP128*BASE!$AN$165/BASE!$AN128,\"\")","v":""},"",{"$f":"IF(BASE!R128=\"\",\"\",Reporte!$N128)","v":""},"",{"$f":"IFERROR(BT128*BASE!$AN$165/BASE!$AN128,\"\")","v":""},"",{"$f":"IF(BASE!S128=\"\",\"\",Reporte!$N128)","v":""},"",{"$f":"IFERROR(BX128*BASE!$AN$165/BASE!$AN128,\"\")","v":""},"",{"$f":"IF(BASE!T128=\"\",\"\",Reporte!$N128)","v":""},"",{"$f":"IFERROR(CB128*BASE!$AN$165/BASE!$AN128,\"\")","v":""},"",{"$f":"IF(BASE!U128=\"\",\"\",Reporte!$N128)","v":""},"",{"$f":"IFERROR(CF128*BASE!$AN$165/BASE!$AN128,\"\")","v":""},"",{"$f":"IF(BASE!V128=\"\",\"\",Reporte!$N128)","v":""},"",{"$f":"IFERROR(CJ128*BASE!$AN$165/BASE!$AN128,\"\")","v":""},"",{"$f":"IF(BASE!W128=\"\",\"\",Reporte!$N128)","v":""},"",{"$f":"IFERROR(CN128*BASE!$AN$165/BASE!$AN128,\"\")","v":""},"",{"$f":"IF(BASE!X128=\"\",\"\",Reporte!$N128)","v":""},"",{"$f":"IFERROR(CR128*BASE!$AN$165/BASE!$AN128,\"\")","v":""},"",{"$f":"IF(BASE!Y128=\"\",\"\",Reporte!$N128)","v":""},"",{"$f":"IFERROR(CV128*BASE!$AN$165/BASE!$AN128,\"\")","v":""},"",{"$f":"IF(BASE!Z128=\"\",\"\",Reporte!$N128)","v":""},"",{"$f":"IFERROR(CZ128*BASE!$AN$165/BASE!$AN128,\"\")","v":""},"",{"$f":"IF(BASE!AA128=\"\",\"\",Reporte!$N128)","v":""},"",{"$f":"IFERROR(DD128*BASE!$AN$165/BASE!$AN128,\"\")","v":""},"",{"$f":"IF(BASE!AB128=\"\",\"\",Reporte!$N128)","v":""},"",{"$f":"IFERROR(DH128*BASE!$AN$165/BASE!$AN128,\"\")","v":""},"",{"$f":"IF(BASE!AC128=\"\",\"\",Reporte!$N128)","v":""},"",{"$f":"IFERROR(DL128*BASE!$AN$165/BASE!$AN128,\"\")","v":""},"",{"$f":"IF(BASE!AD128=\"\",\"\",Reporte!$N128)","v":""},"",{"$f":"IFERROR(DP128*BASE!$AN$165/BASE!$AN128,\"\")","v":""},"",{"$f":"IF(BASE!AE128=\"\",\"\",Reporte!$N128)","v":""},"",{"$f":"IFERROR(DT128*BASE!$AN$165/BASE!$AN128,\"\")","v":""},"",{"$f":"IF(BASE!AF128=\"\",\"\",Reporte!$N128)","v":""},"",{"$f":"IFERROR(DX128*BASE!$AN$165/BASE!$AN128,\"\")","v":""},"",{"$f":"IF(BASE!AG128=\"\",\"\",Reporte!$N128)","v":""},"",{"$f":"IFERROR(EB128*BASE!$AN$165/BASE!$AN128,\"\")","v":""},"",{"$f":"IF(BASE!AH128=\"\",\"\",Reporte!$N128)","v":""},"",{"$f":"IFERROR(EF128*BASE!$AN$165/BASE!$AN128,\"\")","v":""},"",{"$f":"IF(BASE!AI128=\"\",\"\",Reporte!$N128)","v":""},"",{"$f":"IFERROR(EJ128*BASE!$AN$165/BASE!$AN128,\"\")","v":""},"",{"$f":"IF(BASE!AJ128=\"\",\"\",Reporte!$N128)","v":""},"",{"$f":"IFERROR(EN128*BASE!$AN$165/BASE!$AN128,\"\")","v":""},"",{"$f":"IF(BASE!AK128=\"\",\"\",Reporte!$N128)","v":""},"",{"$f":"IFERROR(ER128*BASE!$AN$165/BASE!$AN128,\"\")","v":""},"",{"$f":"IF(BASE!AL128=\"\",\"\",Reporte!$N128)","v":""},"",{"$f":"IFERROR(EV128*BASE!$AN$165/BASE!$AN128,\"\")","v":""},""]
[null,null,"Criterio Evaluación 5.2","",{"$f":"'Lengua extranjera'!E14","v":1},{"$f":"'Lengua extranjera'!F14","v":6.6666666666666666E-2},{"$f":"'Lengua extranjera'!G14","v":""},null,null,null,null,null,"Criterio Evaluación 5.2","",{"$f":"'Peso criterios carga horaria'!F129","v":2.5},{"$f":"O129*BASE!$AN$165/BASE!AN129","v":2.8323170731707319},5.7273768613974796E-3,"",{"$f":"IF(BASE!E129=\"\",\"\",Reporte!$N129)","v":""},"",{"$f":"IFERROR(T129*BASE!$AN$165/BASE!$AN129,\"\")","v":""},"",{"$f":"IF(BASE!F129=\"\",\"\",Reporte!$N129)","v":""},"",{"$f":"IFERROR(X129*BASE!$AN$165/BASE!$AN129,\"\")","v":""},"",{"$f":"IF(BASE!G129=\"\",\"\",Reporte!$N129)","v":""},"",{"$f":"IFERROR(AB129*BASE!$AN$165/BASE!$AN129,\"\")","v":""},"",{"$f":"IF(BASE!H129=\"\",\"\",Reporte!$N129)","v":""},"",{"$f":"IFERROR(AF129*BASE!$AN$165/BASE!$AN129,\"\")","v":""},"",{"$f":"IF(BASE!I129=\"\",\"\",Reporte!$N129)","v":""},"",{"$f":"IFERROR(AJ129*BASE!$AN$165/BASE!$AN129,\"\")","v":""},"",{"$f":"IF(BASE!J129=\"\",\"\",Reporte!$N129)","v":""},"",{"$f":"IFERROR(AN129*BASE!$AN$165/BASE!$AN129,\"\")","v":""},"",{"$f":"IF(BASE!K129=\"\",\"\",Reporte!$N129)","v":""},"",{"$f":"IFERROR(AR129*BASE!$AN$165/BASE!$AN129,\"\")","v":""},"",{"$f":"IF(BASE!L129=\"\",\"\",Reporte!$N129)","v":""},"",{"$f":"IFERROR(AV129*BASE!$AN$165/BASE!$AN129,\"\")","v":""},"",{"$f":"IF(BASE!M129=\"\",\"\",Reporte!$N129)","v":""},"",{"$f":"IFERROR(AZ129*BASE!$AN$165/BASE!$AN129,\"\")","v":""},"",{"$f":"IF(BASE!N129=\"\",\"\",Reporte!$N129)","v":""},"",{"$f":"IFERROR(BD129*BASE!$AN$165/BASE!$AN129,\"\")","v":""},"",{"$f":"IF(BASE!O129=\"\",\"\",Reporte!$N129)","v":""},"",{"$f":"IFERROR(BH129*BASE!$AN$165/BASE!$AN129,\"\")","v":""},"",{"$f":"IF(BASE!P129=\"\",\"\",Reporte!$N129)","v":""},"",{"$f":"IFERROR(BL129*BASE!$AN$165/BASE!$AN129,\"\")","v":""},"",{"$f":"IF(BASE!Q129=\"\",\"\",Reporte!$N129)","v":""},"",{"$f":"IFERROR(BP129*BASE!$AN$165/BASE!$AN129,\"\")","v":""},"",{"$f":"IF(BASE!R129=\"\",\"\",Reporte!$N129)","v":""},"",{"$f":"IFERROR(BT129*BASE!$AN$165/BASE!$AN129,\"\")","v":""},"",{"$f":"IF(BASE!S129=\"\",\"\",Reporte!$N129)","v":""},"",{"$f":"IFERROR(BX129*BASE!$AN$165/BASE!$AN129,\"\")","v":""},"",{"$f":"IF(BASE!T129=\"\",\"\",Reporte!$N129)","v":""},"",{"$f":"IFERROR(CB129*BASE!$AN$165/BASE!$AN129,\"\")","v":""},"",{"$f":"IF(BASE!U129=\"\",\"\",Reporte!$N129)","v":""},"",{"$f":"IFERROR(CF129*BASE!$AN$165/BASE!$AN129,\"\")","v":""},"",{"$f":"IF(BASE!V129=\"\",\"\",Reporte!$N129)","v":""},"",{"$f":"IFERROR(CJ129*BASE!$AN$165/BASE!$AN129,\"\")","v":""},"",{"$f":"IF(BASE!W129=\"\",\"\",Reporte!$N129)","v":""},"",{"$f":"IFERROR(CN129*BASE!$AN$165/BASE!$AN129,\"\")","v":""},"",{"$f":"IF(BASE!X129=\"\",\"\",Reporte!$N129)","v":""},"",{"$f":"IFERROR(CR129*BASE!$AN$165/BASE!$AN129,\"\")","v":""},"",{"$f":"IF(BASE!Y129=\"\",\"\",Reporte!$N129)","v":""},"",{"$f":"IFERROR(CV129*BASE!$AN$165/BASE!$AN129,\"\")","v":""},"",{"$f":"IF(BASE!Z129=\"\",\"\",Reporte!$N129)","v":""},"",{"$f":"IFERROR(CZ129*BASE!$AN$165/BASE!$AN129,\"\")","v":""},"",{"$f":"IF(BASE!AA129=\"\",\"\",Reporte!$N129)","v":""},"",{"$f":"IFERROR(DD129*BASE!$AN$165/BASE!$AN129,\"\")","v":""},"",{"$f":"IF(BASE!AB129=\"\",\"\",Reporte!$N129)","v":""},"",{"$f":"IFERROR(DH129*BASE!$AN$165/BASE!$AN129,\"\")","v":""},"",{"$f":"IF(BASE!AC129=\"\",\"\",Reporte!$N129)","v":""},"",{"$f":"IFERROR(DL129*BASE!$AN$165/BASE!$AN129,\"\")","v":""},"",{"$f":"IF(BASE!AD129=\"\",\"\",Reporte!$N129)","v":""},"",{"$f":"IFERROR(DP129*BASE!$AN$165/BASE!$AN129,\"\")","v":""},"",{"$f":"IF(BASE!AE129=\"\",\"\",Reporte!$N129)","v":""},"",{"$f":"IFERROR(DT129*BASE!$AN$165/BASE!$AN129,\"\")","v":""},"",{"$f":"IF(BASE!AF129=\"\",\"\",Reporte!$N129)","v":""},"",{"$f":"IFERROR(DX129*BASE!$AN$165/BASE!$AN129,\"\")","v":""},"",{"$f":"IF(BASE!AG129=\"\",\"\",Reporte!$N129)","v":""},"",{"$f":"IFERROR(EB129*BASE!$AN$165/BASE!$AN129,\"\")","v":""},"",{"$f":"IF(BASE!AH129=\"\",\"\",Reporte!$N129)","v":""},"",{"$f":"IFERROR(EF129*BASE!$AN$165/BASE!$AN129,\"\")","v":""},"",{"$f":"IF(BASE!AI129=\"\",\"\",Reporte!$N129)","v":""},"",{"$f":"IFERROR(EJ129*BASE!$AN$165/BASE!$AN129,\"\")","v":""},"",{"$f":"IF(BASE!AJ129=\"\",\"\",Reporte!$N129)","v":""},"",{"$f":"IFERROR(EN129*BASE!$AN$165/BASE!$AN129,\"\")","v":""},"",{"$f":"IF(BASE!AK129=\"\",\"\",Reporte!$N129)","v":""},"",{"$f":"IFERROR(ER129*BASE!$AN$165/BASE!$AN129,\"\")","v":""},"",{"$f":"IF(BASE!AL129=\"\",\"\",Reporte!$N129)","v":""},"",{"$f":"IFERROR(EV129*BASE!$AN$165/BASE!$AN129,\"\")","v":""},""]
[null,null,"Criterio Evaluación 5.3","",{"$f":"'Lengua extranjera'!E15","v":1},{"$f":"'Lengua extranjera'!F15","v":6.6666666666666666E-2},{"$f":"'Lengua extranjera'!G15","v":""},null,null,null,null,null,"Criterio Evaluación 5.3","",{"$f":"'Peso criterios carga horaria'!F130","v":2.5},{"$f":"O130*BASE!$AN$165/BASE!AN130","v":2.8323170731707319},5.7273768613974796E-3,"",{"$f":"IF(BASE!E130=\"\",\"\",Reporte!$N130)","v":""},"",{"$f":"IFERROR(T130*BASE!$AN$165/BASE!$AN130,\"\")","v":""},"",{"$f":"IF(BASE!F130=\"\",\"\",Reporte!$N130)","v":""},"",{"$f":"IFERROR(X130*BASE!$AN$165/BASE!$AN130,\"\")","v":""},"",{"$f":"IF(BASE!G130=\"\",\"\",Reporte!$N130)","v":""},"",{"$f":"IFERROR(AB130*BASE!$AN$165/BASE!$AN130,\"\")","v":""},"",{"$f":"IF(BASE!H130=\"\",\"\",Reporte!$N130)","v":""},"",{"$f":"IFERROR(AF130*BASE!$AN$165/BASE!$AN130,\"\")","v":""},"",{"$f":"IF(BASE!I130=\"\",\"\",Reporte!$N130)","v":""},"",{"$f":"IFERROR(AJ130*BASE!$AN$165/BASE!$AN130,\"\")","v":""},"",{"$f":"IF(BASE!J130=\"\",\"\",Reporte!$N130)","v":""},"",{"$f":"IFERROR(AN130*BASE!$AN$165/BASE!$AN130,\"\")","v":""},"",{"$f":"IF(BASE!K130=\"\",\"\",Reporte!$N130)","v":""},"",{"$f":"IFERROR(AR130*BASE!$AN$165/BASE!$AN130,\"\")","v":""},"",{"$f":"IF(BASE!L130=\"\",\"\",Reporte!$N130)","v":""},"",{"$f":"IFERROR(AV130*BASE!$AN$165/BASE!$AN130,\"\")","v":""},"",{"$f":"IF(BASE!M130=\"\",\"\",Reporte!$N130)","v":""},"",{"$f":"IFERROR(AZ130*BASE!$AN$165/BASE!$AN130,\"\")","v":""},"",{"$f":"IF(BASE!N130=\"\",\"\",Reporte!$N130)","v":""},"",{"$f":"IFERROR(BD130*BASE!$AN$165/BASE!$AN130,\"\")","v":""},"",{"$f":"IF(BASE!O130=\"\",\"\",Reporte!$N130)","v":""},"",{"$f":"IFERROR(BH130*BASE!$AN$165/BASE!$AN130,\"\")","v":""},"",{"$f":"IF(BASE!P130=\"\",\"\",Reporte!$N130)","v":""},"",{"$f":"IFERROR(BL130*BASE!$AN$165/BASE!$AN130,\"\")","v":""},"",{"$f":"IF(BASE!Q130=\"\",\"\",Reporte!$N130)","v":""},"",{"$f":"IFERROR(BP130*BASE!$AN$165/BASE!$AN130,\"\")","v":""},"",{"$f":"IF(BASE!R130=\"\",\"\",Reporte!$N130)","v":""},"",{"$f":"IFERROR(BT130*BASE!$AN$165/BASE!$AN130,\"\")","v":""},"",{"$f":"IF(BASE!S130=\"\",\"\",Reporte!$N130)","v":""},"",{"$f":"IFERROR(BX130*BASE!$AN$165/BASE!$AN130,\"\")","v":""},"",{"$f":"IF(BASE!T130=\"\",\"\",Reporte!$N130)","v":""},"",{"$f":"IFERROR(CB130*BASE!$AN$165/BASE!$AN130,\"\")","v":""},"",{"$f":"IF(BASE!U130=\"\",\"\",Reporte!$N130)","v":""},"",{"$f":"IFERROR(CF130*BASE!$AN$165/BASE!$AN130,\"\")","v":""},"",{"$f":"IF(BASE!V130=\"\",\"\",Reporte!$N130)","v":""},"",{"$f":"IFERROR(CJ130*BASE!$AN$165/BASE!$AN130,\"\")","v":""},"",{"$f":"IF(BASE!W130=\"\",\"\",Reporte!$N130)","v":""},"",{"$f":"IFERROR(CN130*BASE!$AN$165/BASE!$AN130,\"\")","v":""},"",{"$f":"IF(BASE!X130=\"\",\"\",Reporte!$N130)","v":""},"",{"$f":"IFERROR(CR130*BASE!$AN$165/BASE!$AN130,\"\")","v":""},"",{"$f":"IF(BASE!Y130=\"\",\"\",Reporte!$N130)","v":""},"",{"$f":"IFERROR(CV130*BASE!$AN$165/BASE!$AN130,\"\")","v":""},"",{"$f":"IF(BASE!Z130=\"\",\"\",Reporte!$N130)","v":""},"",{"$f":"IFERROR(CZ130*BASE!$AN$165/BASE!$AN130,\"\")","v":""},"",{"$f":"IF(BASE!AA130=\"\",\"\",Reporte!$N130)","v":""},"",{"$f":"IFERROR(DD130*BASE!$AN$165/BASE!$AN130,\"\")","v":""},"",{"$f":"IF(BASE!AB130=\"\",\"\",Reporte!$N130)","v":""},"",{"$f":"IFERROR(DH130*BASE!$AN$165/BASE!$AN130,\"\")","v":""},"",{"$f":"IF(BASE!AC130=\"\",\"\",Reporte!$N130)","v":""},"",{"$f":"IFERROR(DL130*BASE!$AN$165/BASE!$AN130,\"\")","v":""},"",{"$f":"IF(BASE!AD130=\"\",\"\",Reporte!$N130)","v":""},"",{"$f":"IFERROR(DP130*BASE!$AN$165/BASE!$AN130,\"\")","v":""},"",{"$f":"IF(BASE!AE130=\"\",\"\",Reporte!$N130)","v":""},"",{"$f":"IFERROR(DT130*BASE!$AN$165/BASE!$AN130,\"\")","v":""},"",{"$f":"IF(BASE!AF130=\"\",\"\",Reporte!$N130)","v":""},"",{"$f":"IFERROR(DX130*BASE!$AN$165/BASE!$AN130,\"\")","v":""},"",{"$f":"IF(BASE!AG130=\"\",\"\",Reporte!$N130)","v":""},"",{"$f":"IFERROR(EB130*BASE!$AN$165/BASE!$AN130,\"\")","v":""},"",{"$f":"IF(BASE!AH130=\"\",\"\",Reporte!$N130)","v":""},"",{"$f":"IFERROR(EF130*BASE!$AN$165/BASE!$AN130,\"\")","v":""},"",{"$f":"IF(BASE!AI130=\"\",\"\",Reporte!$N130)","v":""},"",{"$f":"IFERROR(EJ130*BASE!$AN$165/BASE!$AN130,\"\")","v":""},"",{"$f":"IF(BASE!AJ130=\"\",\"\",Reporte!$N130)","v":""},"",{"$f":"IFERROR(EN130*BASE!$AN$165/BASE!$AN130,\"\")","v":""},"",{"$f":"IF(BASE!AK130=\"\",\"\",Reporte!$N130)","v":""},"",{"$f":"IFERROR(ER130*BASE!$AN$165/BASE!$AN130,\"\")","v":""},"",{"$f":"IF(BASE!AL130=\"\",\"\",Reporte!$N130)","v":""},"",{"$f":"IFERROR(EV130*BASE!$AN$165/BASE!$AN130,\"\")","v":""},""]
[null,"Comp. Esp. 6","Criterio Evaluación 6.1","",{"$f":"'Lengua extranjera'!E16","v":1},{"$f":"'Lengua extranjera'!F16","v":6.6666666666666666E-2},{"$f":"'Lengua extranjera'!G16","v":""},null,null,null,null,"Comp. Esp. 6","Criterio Evaluación 6.1","",{"$f":"'Peso criterios carga horaria'!F131","v":2.5},{"$f":"O131*BASE!$AN$165/BASE!AN131","v":2.8323170731707319},5.7273768613974796E-3,"",{"$f":"IF(BASE!E131=\"\",\"\",Reporte!$N131)","v":""},"",{"$f":"IFERROR(T131*BASE!$AN$165/BASE!$AN131,\"\")","v":""},"",{"$f":"IF(BASE!F131=\"\",\"\",Reporte!$N131)","v":""},"",{"$f":"IFERROR(X131*BASE!$AN$165/BASE!$AN131,\"\")","v":""},"",{"$f":"IF(BASE!G131=\"\",\"\",Reporte!$N131)","v":""},"",{"$f":"IFERROR(AB131*BASE!$AN$165/BASE!$AN131,\"\")","v":""},"",{"$f":"IF(BASE!H131=\"\",\"\",Reporte!$N131)","v":""},"",{"$f":"IFERROR(AF131*BASE!$AN$165/BASE!$AN131,\"\")","v":""},"",{"$f":"IF(BASE!I131=\"\",\"\",Reporte!$N131)","v":""},"",{"$f":"IFERROR(AJ131*BASE!$AN$165/BASE!$AN131,\"\")","v":""},"",{"$f":"IF(BASE!J131=\"\",\"\",Reporte!$N131)","v":""},"",{"$f":"IFERROR(AN131*BASE!$AN$165/BASE!$AN131,\"\")","v":""},"",{"$f":"IF(BASE!K131=\"\",\"\",Reporte!$N131)","v":""},"",{"$f":"IFERROR(AR131*BASE!$AN$165/BASE!$AN131,\"\")","v":""},"",{"$f":"IF(BASE!L131=\"\",\"\",Reporte!$N131)","v":""},"",{"$f":"IFERROR(AV131*BASE!$AN$165/BASE!$AN131,\"\")","v":""},"",{"$f":"IF(BASE!M131=\"\",\"\",Reporte!$N131)","v":""},"",{"$f":"IFERROR(AZ131*BASE!$AN$165/BASE!$AN131,\"\")","v":""},"",{"$f":"IF(BASE!N131=\"\",\"\",Reporte!$N131)","v":""},"",{"$f":"IFERROR(BD131*BASE!$AN$165/BASE!$AN131,\"\")","v":""},"",{"$f":"IF(BASE!O131=\"\",\"\",Reporte!$N131)","v":""},"",{"$f":"IFERROR(BH131*BASE!$AN$165/BASE!$AN131,\"\")","v":""},"",{"$f":"IF(BASE!P131=\"\",\"\",Reporte!$N131)","v":""},"",{"$f":"IFERROR(BL131*BASE!$AN$165/BASE!$AN131,\"\")","v":""},"",{"$f":"IF(BASE!Q131=\"\",\"\",Reporte!$N131)","v":""},"",{"$f":"IFERROR(BP131*BASE!$AN$165/BASE!$AN131,\"\")","v":""},"",{"$f":"IF(BASE!R131=\"\",\"\",Reporte!$N131)","v":""},"",{"$f":"IFERROR(BT131*BASE!$AN$165/BASE!$AN131,\"\")","v":""},"",{"$f":"IF(BASE!S131=\"\",\"\",Reporte!$N131)","v":""},"",{"$f":"IFERROR(BX131*BASE!$AN$165/BASE!$AN131,\"\")","v":""},"",{"$f":"IF(BASE!T131=\"\",\"\",Reporte!$N131)","v":""},"",{"$f":"IFERROR(CB131*BASE!$AN$165/BASE!$AN131,\"\")","v":""},"",{"$f":"IF(BASE!U131=\"\",\"\",Reporte!$N131)","v":""},"",{"$f":"IFERROR(CF131*BASE!$AN$165/BASE!$AN131,\"\")","v":""},"",{"$f":"IF(BASE!V131=\"\",\"\",Reporte!$N131)","v":""},"",{"$f":"IFERROR(CJ131*BASE!$AN$165/BASE!$AN131,\"\")","v":""},"",{"$f":"IF(BASE!W131=\"\",\"\",Reporte!$N131)","v":""},"",{"$f":"IFERROR(CN131*BASE!$AN$165/BASE!$AN131,\"\")","v":""},"",{"$f":"IF(BASE!X131=\"\",\"\",Reporte!$N131)","v":""},"",{"$f":"IFERROR(CR131*BASE!$AN$165/BASE!$AN131,\"\")","v":""},"",{"$f":"IF(BASE!Y131=\"\",\"\",Reporte!$N131)","v":""},"",{"$f":"IFERROR(CV131*BASE!$AN$165/BASE!$AN131,\"\")","v":""},"",{"$f":"IF(BASE!Z131=\"\",\"\",Reporte!$N131)","v":""},"",{"$f":"IFERROR(CZ131*BASE!$AN$165/BASE!$AN131,\"\")","v":""},"",{"$f":"IF(BASE!AA131=\"\",\"\",Reporte!$N131)","v":""},"",{"$f":"IFERROR(DD131*BASE!$AN$165/BASE!$AN131,\"\")","v":""},"",{"$f":"IF(BASE!AB131=\"\",\"\",Reporte!$N131)","v":""},"",{"$f":"IFERROR(DH131*BASE!$AN$165/BASE!$AN131,\"\")","v":""},"",{"$f":"IF(BASE!AC131=\"\",\"\",Reporte!$N131)","v":""},"",{"$f":"IFERROR(DL131*BASE!$AN$165/BASE!$AN131,\"\")","v":""},"",{"$f":"IF(BASE!AD131=\"\",\"\",Reporte!$N131)","v":""},"",{"$f":"IFERROR(DP131*BASE!$AN$165/BASE!$AN131,\"\")","v":""},"",{"$f":"IF(BASE!AE131=\"\",\"\",Reporte!$N131)","v":""},"",{"$f":"IFERROR(DT131*BASE!$AN$165/BASE!$AN131,\"\")","v":""},"",{"$f":"IF(BASE!AF131=\"\",\"\",Reporte!$N131)","v":""},"",{"$f":"IFERROR(DX131*BASE!$AN$165/BASE!$AN131,\"\")","v":""},"",{"$f":"IF(BASE!AG131=\"\",\"\",Reporte!$N131)","v":""},"",{"$f":"IFERROR(EB131*BASE!$AN$165/BASE!$AN131,\"\")","v":""},"",{"$f":"IF(BASE!AH131=\"\",\"\",Reporte!$N131)","v":""},"",{"$f":"IFERROR(EF131*BASE!$AN$165/BASE!$AN131,\"\")","v":""},"",{"$f":"IF(BASE!AI131=\"\",\"\",Reporte!$N131)","v":""},"",{"$f":"IFERROR(EJ131*BASE!$AN$165/BASE!$AN131,\"\")","v":""},"",{"$f":"IF(BASE!AJ131=\"\",\"\",Reporte!$N131)","v":""},"",{"$f":"IFERROR(EN131*BASE!$AN$165/BASE!$AN131,\"\")","v":""},"",{"$f":"IF(BASE!AK131=\"\",\"\",Reporte!$N131)","v":""},"",{"$f":"IFERROR(ER131*BASE!$AN$165/BASE!$AN131,\"\")","v":""},"",{"$f":"IF(BASE!AL131=\"\",\"\",Reporte!$N131)","v":""},"",{"$f":"IFERROR(EV131*BASE!$AN$165/BASE!$AN131,\"\")","v":""},""]
[null,null,"Criterio Evaluación 6.2",{"$f":"N132","v":""},{"$f":"'Lengua extranjera'!E17","v":1},{"$f":"'Lengua extranjera'!F17","v":6.6666666666666666E-2},{"$f":"'Lengua extranjera'!G17","v":""},null,null,null,null,null,"Criterio Evaluación 6.2","",{"$f":"'Peso criterios carga horaria'!F132","v":2.5},{"$f":"O132*BASE!$AN$165/BASE!AN132","v":2.8323170731707319},5.7273768613974796E-3,"",{"$f":"IF(BASE!E132=\"\",\"\",Reporte!$N132)","v":""},"",{"$f":"IFERROR(T132*BASE!$AN$165/BASE!$AN132,\"\")","v":""},"",{"$f":"IF(BASE!F132=\"\",\"\",Reporte!$N132)","v":""},"",{"$f":"IFERROR(X132*BASE!$AN$165/BASE!$AN132,\"\")","v":""},"",{"$f":"IF(BASE!G132=\"\",\"\",Reporte!$N132)","v":""},"",{"$f":"IFERROR(AB132*BASE!$AN$165/BASE!$AN132,\"\")","v":""},"",{"$f":"IF(BASE!H132=\"\",\"\",Reporte!$N132)","v":""},"",{"$f":"IFERROR(AF132*BASE!$AN$165/BASE!$AN132,\"\")","v":""},"",{"$f":"IF(BASE!I132=\"\",\"\",Reporte!$N132)","v":""},"",{"$f":"IFERROR(AJ132*BASE!$AN$165/BASE!$AN132,\"\")","v":""},"",{"$f":"IF(BASE!J132=\"\",\"\",Reporte!$N132)","v":""},"",{"$f":"IFERROR(AN132*BASE!$AN$165/BASE!$AN132,\"\")","v":""},"",{"$f":"IF(BASE!K132=\"\",\"\",Reporte!$N132)","v":""},"",{"$f":"IFERROR(AR132*BASE!$AN$165/BASE!$AN132,\"\")","v":""},"",{"$f":"IF(BASE!L132=\"\",\"\",Reporte!$N132)","v":""},"",{"$f":"IFERROR(AV132*BASE!$AN$165/BASE!$AN132,\"\")","v":""},"",{"$f":"IF(BASE!M132=\"\",\"\",Reporte!$N132)","v":""},"",{"$f":"IFERROR(AZ132*BASE!$AN$165/BASE!$AN132,\"\")","v":""},"",{"$f":"IF(BASE!N132=\"\",\"\",Reporte!$N132)","v":""},"",{"$f":"IFERROR(BD132*BASE!$AN$165/BASE!$AN132,\"\")","v":""},"",{"$f":"IF(BASE!O132=\"\",\"\",Reporte!$N132)","v":""},"",{"$f":"IFERROR(BH132*BASE!$AN$165/BASE!$AN132,\"\")","v":""},"",{"$f":"IF(BASE!P132=\"\",\"\",Reporte!$N132)","v":""},"",{"$f":"IFERROR(BL132*BASE!$AN$165/BASE!$AN132,\"\")","v":""},"",{"$f":"IF(BASE!Q132=\"\",\"\",Reporte!$N132)","v":""},"",{"$f":"IFERROR(BP132*BASE!$AN$165/BASE!$AN132,\"\")","v":""},"",{"$f":"IF(BASE!R132=\"\",\"\",Reporte!$N132)","v":""},"",{"$f":"IFERROR(BT132*BASE!$AN$165/BASE!$AN132,\"\")","v":""},"",{"$f":"IF(BASE!S132=\"\",\"\",Reporte!$N132)","v":""},"",{"$f":"IFERROR(BX132*BASE!$AN$165/BASE!$AN132,\"\")","v":""},"",{"$f":"IF(BASE!T132=\"\",\"\",Reporte!$N132)","v":""},"",{"$f":"IFERROR(CB132*BASE!$AN$165/BASE!$AN132,\"\")","v":""},"",{"$f":"IF(BASE!U132=\"\",\"\",Reporte!$N132)","v":""},"",{"$f":"IFERROR(CF132*BASE!$AN$165/BASE!$AN132,\"\")","v":""},"",{"$f":"IF(BASE!V132=\"\",\"\",Reporte!$N132)","v":""},"",{"$f":"IFERROR(CJ132*BASE!$AN$165/BASE!$AN132,\"\")","v":""},"",{"$f":"IF(BASE!W132=\"\",\"\",Reporte!$N132)","v":""},"",{"$f":"IFERROR(CN132*BASE!$AN$165/BASE!$AN132,\"\")","v":""},"",{"$f":"IF(BASE!X132=\"\",\"\",Reporte!$N132)","v":""},"",{"$f":"IFERROR(CR132*BASE!$AN$165/BASE!$AN132,\"\")","v":""},"",{"$f":"IF(BASE!Y132=\"\",\"\",Reporte!$N132)","v":""},"",{"$f":"IFERROR(CV132*BASE!$AN$165/BASE!$AN132,\"\")","v":""},"",{"$f":"IF(BASE!Z132=\"\",\"\",Reporte!$N132)","v":""},"",{"$f":"IFERROR(CZ132*BASE!$AN$165/BASE!$AN132,\"\")","v":""},"",{"$f":"IF(BASE!AA132=\"\",\"\",Reporte!$N132)","v":""},"",{"$f":"IFERROR(DD132*BASE!$AN$165/BASE!$AN132,\"\")","v":""},"",{"$f":"IF(BASE!AB132=\"\",\"\",Reporte!$N132)","v":""},"",{"$f":"IFERROR(DH132*BASE!$AN$165/BASE!$AN132,\"\")","v":""},"",{"$f":"IF(BASE!AC132=\"\",\"\",Reporte!$N132)","v":""},"",{"$f":"IFERROR(DL132*BASE!$AN$165/BASE!$AN132,\"\")","v":""},"",{"$f":"IF(BASE!AD132=\"\",\"\",Reporte!$N132)","v":""},"",{"$f":"IFERROR(DP132*BASE!$AN$165/BASE!$AN132,\"\")","v":""},"",{"$f":"IF(BASE!AE132=\"\",\"\",Reporte!$N132)","v":""},"",{"$f":"IFERROR(DT132*BASE!$AN$165/BASE!$AN132,\"\")","v":""},"",{"$f":"IF(BASE!AF132=\"\",\"\",Reporte!$N132)","v":""},"",{"$f":"IFERROR(DX132*BASE!$AN$165/BASE!$AN132,\"\")","v":""},"",{"$f":"IF(BASE!AG132=\"\",\"\",Reporte!$N132)","v":""},"",{"$f":"IFERROR(EB132*BASE!$AN$165/BASE!$AN132,\"\")","v":""},"",{"$f":"IF(BASE!AH132=\"\",\"\",Reporte!$N132)","v":""},"",{"$f":"IFERROR(EF132*BASE!$AN$165/BASE!$AN132,\"\")","v":""},"",{"$f":"IF(BASE!AI132=\"\",\"\",Reporte!$N132)","v":""},"",{"$f":"IFERROR(EJ132*BASE!$AN$165/BASE!$AN132,\"\")","v":""},"",{"$f":"IF(BASE!AJ132=\"\",\"\",Reporte!$N132)","v":""},"",{"$f":"IFERROR(EN132*BASE!$AN$165/BASE!$AN132,\"\")","v":""},"",{"$f":"IF(BASE!AK132=\"\",\"\",Reporte!$N132)","v":""},"",{"$f":"IFERROR(ER132*BASE!$AN$165/BASE!$AN132,\"\")","v":""},"",{"$f":"IF(BASE!AL132=\"\",\"\",Reporte!$N132)","v":""},"",{"$f":"IFERROR(EV132*BASE!$AN$165/BASE!$AN132,\"\")","v":""},""]
[null,null,"Criterio Evaluación 6.3","",{"$f":"'Lengua extranjera'!E18","v":1},{"$f":"'Lengua extranjera'!F18","v":6.6666666666666666E-2},{"$f":"'Lengua extranjera'!G18","v":""},null,null,null,null,null,"Criterio Evaluación 6.3","",{"$f":"'Peso criterios carga horaria'!F133","v":2.5},{"$f":"O133*BASE!$AN$165/BASE!AN133","v":2.8323170731707319},{"$f":"IF($P$3=\"SÍ\",O133/SUM($O$5:$O$163),\"\")","v":5.7273768613974796E-3},{"$f":"IF($P$3=\"SÍ\",IF(N133=\"\",\"\",Q133/R$176),\"\")","v":""},{"$f":"IF(BASE!E133=\"\",\"\",Reporte!$N133)","v":""},"",{"$f":"IFERROR(T133*BASE!$AN$165/BASE!$AN133,\"\")","v":""},"",{"$f":"IF(BASE!F133=\"\",\"\",Reporte!$N133)","v":""},"",{"$f":"IFERROR(X133*BASE!$AN$165/BASE!$AN133,\"\")","v":""},"",{"$f":"IF(BASE!G133=\"\",\"\",Reporte!$N133)","v":""},"",{"$f":"IFERROR(AB133*BASE!$AN$165/BASE!$AN133,\"\")","v":""},"",{"$f":"IF(BASE!H133=\"\",\"\",Reporte!$N133)","v":""},"",{"$f":"IFERROR(AF133*BASE!$AN$165/BASE!$AN133,\"\")","v":""},"",{"$f":"IF(BASE!I133=\"\",\"\",Reporte!$N133)","v":""},"",{"$f":"IFERROR(AJ133*BASE!$AN$165/BASE!$AN133,\"\")","v":""},"",{"$f":"IF(BASE!J133=\"\",\"\",Reporte!$N133)","v":""},"",{"$f":"IFERROR(AN133*BASE!$AN$165/BASE!$AN133,\"\")","v":""},"",{"$f":"IF(BASE!K133=\"\",\"\",Reporte!$N133)","v":""},"",{"$f":"IFERROR(AR133*BASE!$AN$165/BASE!$AN133,\"\")","v":""},"",{"$f":"IF(BASE!L133=\"\",\"\",Reporte!$N133)","v":""},"",{"$f":"IFERROR(AV133*BASE!$AN$165/BASE!$AN133,\"\")","v":""},"",{"$f":"IF(BASE!M133=\"\",\"\",Reporte!$N133)","v":""},"",{"$f":"IFERROR(AZ133*BASE!$AN$165/BASE!$AN133,\"\")","v":""},"",{"$f":"IF(BASE!N133=\"\",\"\",Reporte!$N133)","v":""},"",{"$f":"IFERROR(BD133*BASE!$AN$165/BASE!$AN133,\"\")","v":""},"",{"$f":"IF(BASE!O133=\"\",\"\",Reporte!$N133)","v":""},"",{"$f":"IFERROR(BH133*BASE!$AN$165/BASE!$AN133,\"\")","v":""},"",{"$f":"IF(BASE!P133=\"\",\"\",Reporte!$N133)","v":""},"",{"$f":"IFERROR(BL133*BASE!$AN$165/BASE!$AN133,\"\")","v":""},"",{"$f":"IF(BASE!Q133=\"\",\"\",Reporte!$N133)","v":""},"",{"$f":"IFERROR(BP133*BASE!$AN$165/BASE!$AN133,\"\")","v":""},"",{"$f":"IF(BASE!R133=\"\",\"\",Reporte!$N133)","v":""},"",{"$f":"IFERROR(BT133*BASE!$AN$165/BASE!$AN133,\"\")","v":""},"",{"$f":"IF(BASE!S133=\"\",\"\",Reporte!$N133)","v":""},"",{"$f":"IFERROR(BX133*BASE!$AN$165/BASE!$AN133,\"\")","v":""},"",{"$f":"IF(BASE!T133=\"\",\"\",Reporte!$N133)","v":""},"",{"$f":"IFERROR(CB133*BASE!$AN$165/BASE!$AN133,\"\")","v":""},"",{"$f":"IF(BASE!U133=\"\",\"\",Reporte!$N133)","v":""},"",{"$f":"IFERROR(CF133*BASE!$AN$165/BASE!$AN133,\"\")","v":""},"",{"$f":"IF(BASE!V133=\"\",\"\",Reporte!$N133)","v":""},"",{"$f":"IFERROR(CJ133*BASE!$AN$165/BASE!$AN133,\"\")","v":""},"",{"$f":"IF(BASE!W133=\"\",\"\",Reporte!$N133)","v":""},"",{"$f":"IFERROR(CN133*BASE!$AN$165/BASE!$AN133,\"\")","v":""},"",{"$f":"IF(BASE!X133=\"\",\"\",Reporte!$N133)","v":""},"",{"$f":"IFERROR(CR133*BASE!$AN$165/BASE!$AN133,\"\")","v":""},"",{"$f":"IF(BASE!Y133=\"\",\"\",Reporte!$N133)","v":""},"",{"$f":"IFERROR(CV133*BASE!$AN$165/BASE!$AN133,\"\")","v":""},"",{"$f":"IF(BASE!Z133=\"\",\"\",Reporte!$N133)","v":""},"",{"$f":"IFERROR(CZ133*BASE!$AN$165/BASE!$AN133,\"\")","v":""},"",{"$f":"IF(BASE!AA133=\"\",\"\",Reporte!$N133)","v":""},"",{"$f":"IFERROR(DD133*BASE!$AN$165/BASE!$AN133,\"\")","v":""},"",{"$f":"IF(BASE!AB133=\"\",\"\",Reporte!$N133)","v":""},"",{"$f":"IFERROR(DH133*BASE!$AN$165/BASE!$AN133,\"\")","v":""},"",{"$f":"IF(BASE!AC133=\"\",\"\",Reporte!$N133)","v":""},"",{"$f":"IFERROR(DL133*BASE!$AN$165/BASE!$AN133,\"\")","v":""},"",{"$f":"IF(BASE!AD133=\"\",\"\",Reporte!$N133)","v":""},"",{"$f":"IFERROR(DP133*BASE!$AN$165/BASE!$AN133,\"\")","v":""},"",{"$f":"IF(BASE!AE133=\"\",\"\",Reporte!$N133)","v":""},"",{"$f":"IFERROR(DT133*BASE!$AN$165/BASE!$AN133,\"\")","v":""},"",{"$f":"IF(BASE!AF133=\"\",\"\",Reporte!$N133)","v":""},"",{"$f":"IFERROR(DX133*BASE!$AN$165/BASE!$AN133,\"\")","v":""},"",{"$f":"IF(BASE!AG133=\"\",\"\",Reporte!$N133)","v":""},"",{"$f":"IFERROR(EB133*BASE!$AN$165/BASE!$AN133,\"\")","v":""},"",{"$f":"IF(BASE!AH133=\"\",\"\",Reporte!$N133)","v":""},"",{"$f":"IFERROR(EF133*BASE!$AN$165/BASE!$AN133,\"\")","v":""},"",{"$f":"IF(BASE!AI133=\"\",\"\",Reporte!$N133)","v":""},"",{"$f":"IFERROR(EJ133*BASE!$AN$165/BASE!$AN133,\"\")","v":""},"",{"$f":"IF(BASE!AJ133=\"\",\"\",Reporte!$N133)","v":""},"",{"$f":"IFERROR(EN133*BASE!$AN$165/BASE!$AN133,\"\")","v":""},"",{"$f":"IF(BASE!AK133=\"\",\"\",Reporte!$N133)","v":""},"",{"$f":"IFERROR(ER133*BASE!$AN$165/BASE!$AN133,\"\")","v":""},"",{"$f":"IF(BASE!AL133=\"\",\"\",Reporte!$N133)","v":""},"",{"$f":"IFERROR(EV133*BASE!$AN$165/BASE!$AN133,\"\")","v":""},""]
["Matemáticas","Comp. Esp. 1","Criterio Evaluación 1.1","",{"$f":"Matematicas!E4","v":1},{"$f":"Matematicas!F4","v":5.5555555555555552E-2},{"$f":"Matematicas!G4","v":""},{"$f":"IFERROR(SUMPRODUCT(D134:D151,E134:E151)/SUMIF(D134:D151,\">=0\",E134:E151),\"\")","v":""},null,null,"Matemáticas","Comp. Esp. 1","Criterio Evaluación 1.1","",{"$f":"'Peso criterios carga horaria'!F134","v":4.5},{"$f":"O134*BASE!$AN$165/BASE!AN134","v":3.8708333333333336},1.0309278350515464E-2,"",{"$f":"IF(BASE!E134=\"\",\"\",Reporte!$N134)","v":""},{"$f":"IF(S134=\"\",\"\",1)","v":""},{"$f":"IFERROR(T134*BASE!$AN$165/BASE!$AN134,\"\")","v":""},{"$f":"IFERROR(T134/SUM(T$5:T$163),\"\")","v":""},{"$f":"IF(BASE!F134=\"\",\"\",Reporte!$N134)","v":""},{"$f":"IF(W134=\"\",\"\",1)","v":""},{"$f":"IFERROR(X134*BASE!$AN$165/BASE!$AN134,\"\")","v":""},{"$f":"IFERROR(X134/SUM(X$5:X$163),\"\")","v":""},{"$f":"IF(BASE!G134=\"\",\"\",Reporte!$N134)","v":""},{"$f":"IF(AA134=\"\",\"\",1)","v":""},{"$f":"IFERROR(AB134*BASE!$AN$165/BASE!$AN134,\"\")","v":""},{"$f":"IFERROR(AB134/SUM(AB$5:AB$163),\"\")","v":""},{"$f":"IF(BASE!H134=\"\",\"\",Reporte!$N134)","v":""},{"$f":"IF(AE134=\"\",\"\",1)","v":""},{"$f":"IFERROR(AF134*BASE!$AN$165/BASE!$AN134,\"\")","v":""},{"$f":"IFERROR(AF134/SUM(AF$5:AF$163),\"\")","v":""},{"$f":"IF(BASE!I134=\"\",\"\",Reporte!$N134)","v":""},{"$f":"IF(AI134=\"\",\"\",1)","v":""},{"$f":"IFERROR(AJ134*BASE!$AN$165/BASE!$AN134,\"\")","v":""},{"$f":"IFERROR(AJ134/SUM(AJ$5:AJ$163),\"\")","v":""},{"$f":"IF(BASE!J134=\"\",\"\",Reporte!$N134)","v":""},{"$f":"IF(AM134=\"\",\"\",1)","v":""},{"$f":"IFERROR(AN134*BASE!$AN$165/BASE!$AN134,\"\")","v":""},{"$f":"IFERROR(AN134/SUM(AN$5:AN$163),\"\")","v":""},{"$f":"IF(BASE!K134=\"\",\"\",Reporte!$N134)","v":""},{"$f":"IF(AQ134=\"\",\"\",1)","v":""},{"$f":"IFERROR(AR134*BASE!$AN$165/BASE!$AN134,\"\")","v":""},{"$f":"IFERROR(AR134/SUM(AR$5:AR$163),\"\")","v":""},{"$f":"IF(BASE!L134=\"\",\"\",Reporte!$N134)","v":""},{"$f":"IF(AU134=\"\",\"\",1)","v":""},{"$f":"IFERROR(AV134*BASE!$AN$165/BASE!$AN134,\"\")","v":""},{"$f":"IFERROR(AV134/SUM(AV$5:AV$163),\"\")","v":""},{"$f":"IF(BASE!M134=\"\",\"\",Reporte!$N134)","v":""},{"$f":"IF(AY134=\"\",\"\",1)","v":""},{"$f":"IFERROR(AZ134*BASE!$AN$165/BASE!$AN134,\"\")","v":""},{"$f":"IFERROR(AZ134/SUM(AZ$5:AZ$163),\"\")","v":""},{"$f":"IF(BASE!N134=\"\",\"\",Reporte!$N134)","v":""},{"$f":"IF(BC134=\"\",\"\",1)","v":""},{"$f":"IFERROR(BD134*BASE!$AN$165/BASE!$AN134,\"\")","v":""},{"$f":"IFERROR(BD134/SUM(BD$5:BD$163),\"\")","v":""},{"$f":"IF(BASE!O134=\"\",\"\",Reporte!$N134)","v":""},{"$f":"IF(BG134=\"\",\"\",1)","v":""},{"$f":"IFERROR(BH134*BASE!$AN$165/BASE!$AN134,\"\")","v":""},{"$f":"IFERROR(BH134/SUM(BH$5:BH$163),\"\")","v":""},{"$f":"IF(BASE!P134=\"\",\"\",Reporte!$N134)","v":""},{"$f":"IF(BK134=\"\",\"\",1)","v":""},{"$f":"IFERROR(BL134*BASE!$AN$165/BASE!$AN134,\"\")","v":""},{"$f":"IFERROR(BL134/SUM(BL$5:BL$163),\"\")","v":""},{"$f":"IF(BASE!Q134=\"\",\"\",Reporte!$N134)","v":""},{"$f":"IF(BO134=\"\",\"\",1)","v":""},{"$f":"IFERROR(BP134*BASE!$AN$165/BASE!$AN134,\"\")","v":""},{"$f":"IFERROR(BP134/SUM(BP$5:BP$163),\"\")","v":""},{"$f":"IF(BASE!R134=\"\",\"\",Reporte!$N134)","v":""},{"$f":"IF(BS134=\"\",\"\",1)","v":""},{"$f":"IFERROR(BT134*BASE!$AN$165/BASE!$AN134,\"\")","v":""},{"$f":"IFERROR(BT134/SUM(BT$5:BT$163),\"\")","v":""},{"$f":"IF(BASE!S134=\"\",\"\",Reporte!$N134)","v":""},{"$f":"IF(BW134=\"\",\"\",1)","v":""},{"$f":"IFERROR(BX134*BASE!$AN$165/BASE!$AN134,\"\")","v":""},{"$f":"IFERROR(BX134/SUM(BX$5:BX$163),\"\")","v":""},{"$f":"IF(BASE!T134=\"\",\"\",Reporte!$N134)","v":""},{"$f":"IF(CA134=\"\",\"\",1)","v":""},{"$f":"IFERROR(CB134*BASE!$AN$165/BASE!$AN134,\"\")","v":""},{"$f":"IFERROR(CB134/SUM(CB$5:CB$163),\"\")","v":""},{"$f":"IF(BASE!U134=\"\",\"\",Reporte!$N134)","v":""},{"$f":"IF(CE134=\"\",\"\",1)","v":""},{"$f":"IFERROR(CF134*BASE!$AN$165/BASE!$AN134,\"\")","v":""},{"$f":"IFERROR(CF134/SUM(CF$5:CF$163),\"\")","v":""},{"$f":"IF(BASE!V134=\"\",\"\",Reporte!$N134)","v":""},{"$f":"IF(CI134=\"\",\"\",1)","v":""},{"$f":"IFERROR(CJ134*BASE!$AN$165/BASE!$AN134,\"\")","v":""},{"$f":"IFERROR(CJ134/SUM(CJ$5:CJ$163),\"\")","v":""},{"$f":"IF(BASE!W134=\"\",\"\",Reporte!$N134)","v":""},{"$f":"IF(CM134=\"\",\"\",1)","v":""},{"$f":"IFERROR(CN134*BASE!$AN$165/BASE!$AN134,\"\")","v":""},{"$f":"IFERROR(CN134/SUM(CN$5:CN$163),\"\")","v":""},{"$f":"IF(BASE!X134=\"\",\"\",Reporte!$N134)","v":""},{"$f":"IF(CQ134=\"\",\"\",1)","v":""},{"$f":"IFERROR(CR134*BASE!$AN$165/BASE!$AN134,\"\")","v":""},{"$f":"IFERROR(CR134/SUM(CR$5:CR$163),\"\")","v":""},{"$f":"IF(BASE!Y134=\"\",\"\",Reporte!$N134)","v":""},{"$f":"IF(CU134=\"\",\"\",1)","v":""},{"$f":"IFERROR(CV134*BASE!$AN$165/BASE!$AN134,\"\")","v":""},{"$f":"IFERROR(CV134/SUM(CV$5:CV$163),\"\")","v":""},{"$f":"IF(BASE!Z134=\"\",\"\",Reporte!$N134)","v":""},{"$f":"IF(CY134=\"\",\"\",1)","v":""},{"$f":"IFERROR(CZ134*BASE!$AN$165/BASE!$AN134,\"\")","v":""},{"$f":"IFERROR(CZ134/SUM(CZ$5:CZ$163),\"\")","v":""},{"$f":"IF(BASE!AA134=\"\",\"\",Reporte!$N134)","v":""},{"$f":"IF(DC134=\"\",\"\",1)","v":""},{"$f":"IFERROR(DD134*BASE!$AN$165/BASE!$AN134,\"\")","v":""},{"$f":"IFERROR(DD134/SUM(DD$5:DD$163),\"\")","v":""},{"$f":"IF(BASE!AB134=\"\",\"\",Reporte!$N134)","v":""},{"$f":"IF(DG134=\"\",\"\",1)","v":""},{"$f":"IFERROR(DH134*BASE!$AN$165/BASE!$AN134,\"\")","v":""},{"$f":"IFERROR(DH134/SUM(DH$5:DH$163),\"\")","v":""},{"$f":"IF(BASE!AC134=\"\",\"\",Reporte!$N134)","v":""},{"$f":"IF(DK134=\"\",\"\",1)","v":""},{"$f":"IFERROR(DL134*BASE!$AN$165/BASE!$AN134,\"\")","v":""},{"$f":"IFERROR(DL134/SUM(DL$5:DL$163),\"\")","v":""},{"$f":"IF(BASE!AD134=\"\",\"\",Reporte!$N134)","v":""},{"$f":"IF(DO134=\"\",\"\",1)","v":""},{"$f":"IFERROR(DP134*BASE!$AN$165/BASE!$AN134,\"\")","v":""},{"$f":"IFERROR(DP134/SUM(DP$5:DP$163),\"\")","v":""},{"$f":"IF(BASE!AE134=\"\",\"\",Reporte!$N134)","v":""},{"$f":"IF(DS134=\"\",\"\",1)","v":""},{"$f":"IFERROR(DT134*BASE!$AN$165/BASE!$AN134,\"\")","v":""},{"$f":"IFERROR(DT134/SUM(DT$5:DT$163),\"\")","v":""},{"$f":"IF(BASE!AF134=\"\",\"\",Reporte!$N134)","v":""},{"$f":"IF(DW134=\"\",\"\",1)","v":""},{"$f":"IFERROR(DX134*BASE!$AN$165/BASE!$AN134,\"\")","v":""},{"$f":"IFERROR(DX134/SUM(DX$5:DX$163),\"\")","v":""},{"$f":"IF(BASE!AG134=\"\",\"\",Reporte!$N134)","v":""},{"$f":"IF(EA134=\"\",\"\",1)","v":""},{"$f":"IFERROR(EB134*BASE!$AN$165/BASE!$AN134,\"\")","v":""},{"$f":"IFERROR(EB134/SUM(EB$5:EB$163),\"\")","v":""},{"$f":"IF(BASE!AH134=\"\",\"\",Reporte!$N134)","v":""},{"$f":"IF(EE134=\"\",\"\",1)","v":""},{"$f":"IFERROR(EF134*BASE!$AN$165/BASE!$AN134,\"\")","v":""},{"$f":"IFERROR(EF134/SUM(EF$5:EF$163),\"\")","v":""},{"$f":"IF(BASE!AI134=\"\",\"\",Reporte!$N134)","v":""},{"$f":"IF(EI134=\"\",\"\",1)","v":""},{"$f":"IFERROR(EJ134*BASE!$AN$165/BASE!$AN134,\"\")","v":""},{"$f":"IFERROR(EJ134/SUM(EJ$5:EJ$163),\"\")","v":""},{"$f":"IF(BASE!AJ134=\"\",\"\",Reporte!$N134)","v":""},{"$f":"IF(EM134=\"\",\"\",1)","v":""},{"$f":"IFERROR(EN134*BASE!$AN$165/BASE!$AN134,\"\")","v":""},{"$f":"IFERROR(EN134/SUM(EN$5:EN$163),\"\")","v":""},{"$f":"IF(BASE!AK134=\"\",\"\",Reporte!$N134)","v":""},{"$f":"IF(EQ134=\"\",\"\",1)","v":""},{"$f":"IFERROR(ER134*BASE!$AN$165/BASE!$AN134,\"\")","v":""},{"$f":"IFERROR(ER134/SUM(ER$5:ER$163),\"\")","v":""},{"$f":"IF(BASE!AL134=\"\",\"\",Reporte!$N134)","v":""},{"$f":"IF(EU134=\"\",\"\",1)","v":""},{"$f":"IFERROR(EV134*BASE!$AN$165/BASE!$AN134,\"\")","v":""},{"$f":"IFERROR(EV134/SUM(EV$5:EV$163),\"\")","v":""}]
[null,null,"Criterio Evaluación 1.2","",{"$f":"Matematicas!E5","v":1},{"$f":"Matematicas!F5","v":5.5555555555555552E-2},{"$f":"Matematicas!G5","v":""},null,null,null,null,null,"Criterio Evaluación 1.2","",{"$f":"'Peso criterios carga horaria'!F135","v":4.5},{"$f":"O135*BASE!$AN$165/BASE!AN135","v":3.8708333333333336},1.0309278350515464E-2,"",{"$f":"IF(BASE!E135=\"\",\"\",Reporte!$N135)","v":""},"",{"$f":"IFERROR(T135*BASE!$AN$165/BASE!$AN135,\"\")","v":""},"",{"$f":"IF(BASE!F135=\"\",\"\",Reporte!$N135)","v":""},"",{"$f":"IFERROR(X135*BASE!$AN$165/BASE!$AN135,\"\")","v":""},"",{"$f":"IF(BASE!G135=\"\",\"\",Reporte!$N135)","v":""},"",{"$f":"IFERROR(AB135*BASE!$AN$165/BASE!$AN135,\"\")","v":""},"",{"$f":"IF(BASE!H135=\"\",\"\",Reporte!$N135)","v":""},"",{"$f":"IFERROR(AF135*BASE!$AN$165/BASE!$AN135,\"\")","v":""},"",{"$f":"IF(BASE!I135=\"\",\"\",Reporte!$N135)","v":""},"",{"$f":"IFERROR(AJ135*BASE!$AN$165/BASE!$AN135,\"\")","v":""},"",{"$f":"IF(BASE!J135=\"\",\"\",Reporte!$N135)","v":""},"",{"$f":"IFERROR(AN135*BASE!$AN$165/BASE!$AN135,\"\")","v":""},"",{"$f":"IF(BASE!K135=\"\",\"\",Reporte!$N135)","v":""},"",{"$f":"IFERROR(AR135*BASE!$AN$165/BASE!$AN135,\"\")","v":""},"",{"$f":"IF(BASE!L135=\"\",\"\",Reporte!$N135)","v":""},"",{"$f":"IFERROR(AV135*BASE!$AN$165/BASE!$AN135,\"\")","v":""},"",{"$f":"IF(BASE!M135=\"\",\"\",Reporte!$N135)","v":""},"",{"$f":"IFERROR(AZ135*BASE!$AN$165/BASE!$AN135,\"\")","v":""},"",{"$f":"IF(BASE!N135=\"\",\"\",Reporte!$N135)","v":""},"",{"$f":"IFERROR(BD135*BASE!$AN$165/BASE!$AN135,\"\")","v":""},"",{"$f":"IF(BASE!O135=\"\",\"\",Reporte!$N135)","v":""},"",{"$f":"IFERROR(BH135*BASE!$AN$165/BASE!$AN135,\"\")","v":""},"",{"$f":"IF(BASE!P135=\"\",\"\",Reporte!$N135)","v":""},"",{"$f":"IFERROR(BL135*BASE!$AN$165/BASE!$AN135,\"\")","v":""},"",{"$f":"IF(BASE!Q135=\"\",\"\",Reporte!$N135)","v":""},"",{"$f":"IFERROR(BP135*BASE!$AN$165/BASE!$AN135,\"\")","v":""},"",{"$f":"IF(BASE!R135=\"\",\"\",Reporte!$N135)","v":""},"",{"$f":"IFERROR(BT135*BASE!$AN$165/BASE!$AN135,\"\")","v":""},"",{"$f":"IF(BASE!S135=\"\",\"\",Reporte!$N135)","v":""},"",{"$f":"IFERROR(BX135*BASE!$AN$165/BASE!$AN135,\"\")","v":""},"",{"$f":"IF(BASE!T135=\"\",\"\",Reporte!$N135)","v":""},"",{"$f":"IFERROR(CB135*BASE!$AN$165/BASE!$AN135,\"\")","v":""},"",{"$f":"IF(BASE!U135=\"\",\"\",Reporte!$N135)","v":""},"",{"$f":"IFERROR(CF135*BASE!$AN$165/BASE!$AN135,\"\")","v":""},"",{"$f":"IF(BASE!V135=\"\",\"\",Reporte!$N135)","v":""},"",{"$f":"IFERROR(CJ135*BASE!$AN$165/BASE!$AN135,\"\")","v":""},"",{"$f":"IF(BASE!W135=\"\",\"\",Reporte!$N135)","v":""},"",{"$f":"IFERROR(CN135*BASE!$AN$165/BASE!$AN135,\"\")","v":""},"",{"$f":"IF(BASE!X135=\"\",\"\",Reporte!$N135)","v":""},"",{"$f":"IFERROR(CR135*BASE!$AN$165/BASE!$AN135,\"\")","v":""},"",{"$f":"IF(BASE!Y135=\"\",\"\",Reporte!$N135)","v":""},"",{"$f":"IFERROR(CV135*BASE!$AN$165/BASE!$AN135,\"\")","v":""},"",{"$f":"IF(BASE!Z135=\"\",\"\",Reporte!$N135)","v":""},"",{"$f":"IFERROR(CZ135*BASE!$AN$165/BASE!$AN135,\"\")","v":""},"",{"$f":"IF(BASE!AA135=\"\",\"\",Reporte!$N135)","v":""},"",{"$f":"IFERROR(DD135*BASE!$AN$165/BASE!$AN135,\"\")","v":""},"",{"$f":"IF(BASE!AB135=\"\",\"\",Reporte!$N135)","v":""},"",{"$f":"IFERROR(DH135*BASE!$AN$165/BASE!$AN135,\"\")","v":""},"",{"$f":"IF(BASE!AC135=\"\",\"\",Reporte!$N135)","v":""},"",{"$f":"IFERROR(DL135*BASE!$AN$165/BASE!$AN135,\"\")","v":""},"",{"$f":"IF(BASE!AD135=\"\",\"\",Reporte!$N135)","v":""},"",{"$f":"IFERROR(DP135*BASE!$AN$165/BASE!$AN135,\"\")","v":""},"",{"$f":"IF(BASE!AE135=\"\",\"\",Reporte!$N135)","v":""},"",{"$f":"IFERROR(DT135*BASE!$AN$165/BASE!$AN135,\"\")","v":""},"",{"$f":"IF(BASE!AF135=\"\",\"\",Reporte!$N135)","v":""},"",{"$f":"IFERROR(DX135*BASE!$AN$165/BASE!$AN135,\"\")","v":""},"",{"$f":"IF(BASE!AG135=\"\",\"\",Reporte!$N135)","v":""},"",{"$f":"IFERROR(EB135*BASE!$AN$165/BASE!$AN135,\"\")","v":""},"",{"$f":"IF(BASE!AH135=\"\",\"\",Reporte!$N135)","v":""},"",{"$f":"IFERROR(EF135*BASE!$AN$165/BASE!$AN135,\"\")","v":""},"",{"$f":"IF(BASE!AI135=\"\",\"\",Reporte!$N135)","v":""},"",{"$f":"IFERROR(EJ135*BASE!$AN$165/BASE!$AN135,\"\")","v":""},"",{"$f":"IF(BASE!AJ135=\"\",\"\",Reporte!$N135)","v":""},"",{"$f":"IFERROR(EN135*BASE!$AN$165/BASE!$AN135,\"\")","v":""},"",{"$f":"IF(BASE!AK135=\"\",\"\",Reporte!$N135)","v":""},"",{"$f":"IFERROR(ER135*BASE!$AN$165/BASE!$AN135,\"\")","v":""},"",{"$f":"IF(BASE!AL135=\"\",\"\",Reporte!$N135)","v":""},"",{"$f":"IFERROR(EV135*BASE!$AN$165/BASE!$AN135,\"\")","v":""},""]
[null,"Comp. Esp. 2","Criterio Evaluación 2.1","",{"$f":"Matematicas!E6","v":1},{"$f":"Matematicas!F6","v":5.5555555555555552E-2},{"$f":"Matematicas!G6","v":""},null,null,null,null,"Comp. Esp. 2","Criterio Evaluación 2.1","",{"$f":"'Peso criterios carga horaria'!F136","v":4.5},{"$f":"O136*BASE!$AN$165/BASE!AN136","v":3.8708333333333336},1.0309278350515464E-2,"",{"$f":"IF(BASE!E136=\"\",\"\",Reporte!$N136)","v":""},"",{"$f":"IFERROR(T136*BASE!$AN$165/BASE!$AN136,\"\")","v":""},"",{"$f":"IF(BASE!F136=\"\",\"\",Reporte!$N136)","v":""},"",{"$f":"IFERROR(X136*BASE!$AN$165/BASE!$AN136,\"\")","v":""},"",{"$f":"IF(BASE!G136=\"\",\"\",Reporte!$N136)","v":""},"",{"$f":"IFERROR(AB136*BASE!$AN$165/BASE!$AN136,\"\")","v":""},"",{"$f":"IF(BASE!H136=\"\",\"\",Reporte!$N136)","v":""},"",{"$f":"IFERROR(AF136*BASE!$AN$165/BASE!$AN136,\"\")","v":""},"",{"$f":"IF(BASE!I136=\"\",\"\",Reporte!$N136)","v":""},"",{"$f":"IFERROR(AJ136*BASE!$AN$165/BASE!$AN136,\"\")","v":""},"",{"$f":"IF(BASE!J136=\"\",\"\",Reporte!$N136)","v":""},"",{"$f":"IFERROR(AN136*BASE!$AN$165/BASE!$AN136,\"\")","v":""},"",{"$f":"IF(BASE!K136=\"\",\"\",Reporte!$N136)","v":""},"",{"$f":"IFERROR(AR136*BASE!$AN$165/BASE!$AN136,\"\")","v":""},"",{"$f":"IF(BASE!L136=\"\",\"\",Reporte!$N136)","v":""},"",{"$f":"IFERROR(AV136*BASE!$AN$165/BASE!$AN136,\"\")","v":""},"",{"$f":"IF(BASE!M136=\"\",\"\",Reporte!$N136)","v":""},"",{"$f":"IFERROR(AZ136*BASE!$AN$165/BASE!$AN136,\"\")","v":""},"",{"$f":"IF(BASE!N136=\"\",\"\",Reporte!$N136)","v":""},"",{"$f":"IFERROR(BD136*BASE!$AN$165/BASE!$AN136,\"\")","v":""},"",{"$f":"IF(BASE!O136=\"\",\"\",Reporte!$N136)","v":""},"",{"$f":"IFERROR(BH136*BASE!$AN$165/BASE!$AN136,\"\")","v":""},"",{"$f":"IF(BASE!P136=\"\",\"\",Reporte!$N136)","v":""},"",{"$f":"IFERROR(BL136*BASE!$AN$165/BASE!$AN136,\"\")","v":""},"",{"$f":"IF(BASE!Q136=\"\",\"\",Reporte!$N136)","v":""},"",{"$f":"IFERROR(BP136*BASE!$AN$165/BASE!$AN136,\"\")","v":""},"",{"$f":"IF(BASE!R136=\"\",\"\",Reporte!$N136)","v":""},"",{"$f":"IFERROR(BT136*BASE!$AN$165/BASE!$AN136,\"\")","v":""},"",{"$f":"IF(BASE!S136=\"\",\"\",Reporte!$N136)","v":""},"",{"$f":"IFERROR(BX136*BASE!$AN$165/BASE!$AN136,\"\")","v":""},"",{"$f":"IF(BASE!T136=\"\",\"\",Reporte!$N136)","v":""},"",{"$f":"IFERROR(CB136*BASE!$AN$165/BASE!$AN136,\"\")","v":""},"",{"$f":"IF(BASE!U136=\"\",\"\",Reporte!$N136)","v":""},"",{"$f":"IFERROR(CF136*BASE!$AN$165/BASE!$AN136,\"\")","v":""},"",{"$f":"IF(BASE!V136=\"\",\"\",Reporte!$N136)","v":""},"",{"$f":"IFERROR(CJ136*BASE!$AN$165/BASE!$AN136,\"\")","v":""},"",{"$f":"IF(BASE!W136=\"\",\"\",Reporte!$N136)","v":""},"",{"$f":"IFERROR(CN136*BASE!$AN$165/BASE!$AN136,\"\")","v":""},"",{"$f":"IF(BASE!X136=\"\",\"\",Reporte!$N136)","v":""},"",{"$f":"IFERROR(CR136*BASE!$AN$165/BASE!$AN136,\"\")","v":""},"",{"$f":"IF(BASE!Y136=\"\",\"\",Reporte!$N136)","v":""},"",{"$f":"IFERROR(CV136*BASE!$AN$165/BASE!$AN136,\"\")","v":""},"",{"$f":"IF(BASE!Z136=\"\",\"\",Reporte!$N136)","v":""},"",{"$f":"IFERROR(CZ136*BASE!$AN$165/BASE!$AN136,\"\")","v":""},"",{"$f":"IF(BASE!AA136=\"\",\"\",Reporte!$N136)","v":""},"",{"$f":"IFERROR(DD136*BASE!$AN$165/BASE!$AN136,\"\")","v":""},"",{"$f":"IF(BASE!AB136=\"\",\"\",Reporte!$N136)","v":""},"",{"$f":"IFERROR(DH136*BASE!$AN$165/BASE!$AN136,\"\")","v":""},"",{"$f":"IF(BASE!AC136=\"\",\"\",Reporte!$N136)","v":""},"",{"$f":"IFERROR(DL136*BASE!$AN$165/BASE!$AN136,\"\")","v":""},"",{"$f":"IF(BASE!AD136=\"\",\"\",Reporte!$N136)","v":""},"",{"$f":"IFERROR(DP136*BASE!$AN$165/BASE!$AN136,\"\")","v":""},"",{"$f":"IF(BASE!AE136=\"\",\"\",Reporte!$N136)","v":""},"",{"$f":"IFERROR(DT136*BASE!$AN$165/BASE!$AN136,\"\")","v":""},"",{"$f":"IF(BASE!AF136=\"\",\"\",Reporte!$N136)","v":""},"",{"$f":"IFERROR(DX136*BASE!$AN$165/BASE!$AN136,\"\")","v":""},"",{"$f":"IF(BASE!AG136=\"\",\"\",Reporte!$N136)","v":""},"",{"$f":"IFERROR(EB136*BASE!$AN$165/BASE!$AN136,\"\")","v":""},"",{"$f":"IF(BASE!AH136=\"\",\"\",Reporte!$N136)","v":""},"",{"$f":"IFERROR(EF136*BASE!$AN$165/BASE!$AN136,\"\")","v":""},"",{"$f":"IF(BASE!AI136=\"\",\"\",Reporte!$N136)","v":""},"",{"$f":"IFERROR(EJ136*BASE!$AN$165/BASE!$AN136,\"\")","v":""},"",{"$f":"IF(BASE!AJ136=\"\",\"\",Reporte!$N136)","v":""},"",{"$f":"IFERROR(EN136*BASE!$AN$165/BASE!$AN136,\"\")","v":""},"",{"$f":"IF(BASE!AK136=\"\",\"\",Reporte!$N136)","v":""},"",{"$f":"IFERROR(ER136*BASE!$AN$165/BASE!$AN136,\"\")","v":""},"",{"$f":"IF(BASE!AL136=\"\",\"\",Reporte!$N136)","v":""},"",{"$f":"IFERROR(EV136*BASE!$AN$165/BASE!$AN136,\"\")","v":""},""]
[null,null,"Criterio Evaluación 2.2","",{"$f":"Matematicas!E7","v":1},{"$f":"Matematicas!F7","v":5.5555555555555552E-2},{"$f":"Matematicas!G7","v":""},null,null,null,null,null,"Criterio Evaluación 2.2","",{"$f":"'Peso criterios carga horaria'!F137","v":4.5},{"$f":"O137*BASE!$AN$165/BASE!AN137","v":3.8708333333333336},1.0309278350515464E-2,"",{"$f":"IF(BASE!E137=\"\",\"\",Reporte!$N137)","v":""},"",{"$f":"IFERROR(T137*BASE!$AN$165/BASE!$AN137,\"\")","v":""},"",{"$f":"IF(BASE!F137=\"\",\"\",Reporte!$N137)","v":""},"",{"$f":"IFERROR(X137*BASE!$AN$165/BASE!$AN137,\"\")","v":""},"",{"$f":"IF(BASE!G137=\"\",\"\",Reporte!$N137)","v":""},"",{"$f":"IFERROR(AB137*BASE!$AN$165/BASE!$AN137,\"\")","v":""},"",{"$f":"IF(BASE!H137=\"\",\"\",Reporte!$N137)","v":""},"",{"$f":"IFERROR(AF137*BASE!$AN$165/BASE!$AN137,\"\")","v":""},"",{"$f":"IF(BASE!I137=\"\",\"\",Reporte!$N137)","v":""},"",{"$f":"IFERROR(AJ137*BASE!$AN$165/BASE!$AN137,\"\")","v":""},"",{"$f":"IF(BASE!J137=\"\",\"\",Reporte!$N137)","v":""},"",{"$f":"IFERROR(AN137*BASE!$AN$165/BASE!$AN137,\"\")","v":""},"",{"$f":"IF(BASE!K137=\"\",\"\",Reporte!$N137)","v":""},"",{"$f":"IFERROR(AR137*BASE!$AN$165/BASE!$AN137,\"\")","v":""},"",{"$f":"IF(BASE!L137=\"\",\"\",Reporte!$N137)","v":""},"",{"$f":"IFERROR(AV137*BASE!$AN$165/BASE!$AN137,\"\")","v":""},"",{"$f":"IF(BASE!M137=\"\",\"\",Reporte!$N137)","v":""},"",{"$f":"IFERROR(AZ137*BASE!$AN$165/BASE!$AN137,\"\")","v":""},"",{"$f":"IF(BASE!N137=\"\",\"\",Reporte!$N137)","v":""},"",{"$f":"IFERROR(BD137*BASE!$AN$165/BASE!$AN137,\"\")","v":""},"",{"$f":"IF(BASE!O137=\"\",\"\",Reporte!$N137)","v":""},"",{"$f":"IFERROR(BH137*BASE!$AN$165/BASE!$AN137,\"\")","v":""},"",{"$f":"IF(BASE!P137=\"\",\"\",Reporte!$N137)","v":""},"",{"$f":"IFERROR(BL137*BASE!$AN$165/BASE!$AN137,\"\")","v":""},"",{"$f":"IF(BASE!Q137=\"\",\"\",Reporte!$N137)","v":""},"",{"$f":"IFERROR(BP137*BASE!$AN$165/BASE!$AN137,\"\")","v":""},"",{"$f":"IF(BASE!R137=\"\",\"\",Reporte!$N137)","v":""},"",{"$f":"IFERROR(BT137*BASE!$AN$165/BASE!$AN137,\"\")","v":""},"",{"$f":"IF(BASE!S137=\"\",\"\",Reporte!$N137)","v":""},"",{"$f":"IFERROR(BX137*BASE!$AN$165/BASE!$AN137,\"\")","v":""},"",{"$f":"IF(BASE!T137=\"\",\"\",Reporte!$N137)","v":""},"",{"$f":"IFERROR(CB137*BASE!$AN$165/BASE!$AN137,\"\")","v":""},"",{"$f":"IF(BASE!U137=\"\",\"\",Reporte!$N137)","v":""},"",{"$f":"IFERROR(CF137*BASE!$AN$165/BASE!$AN137,\"\")","v":""},"",{"$f":"IF(BASE!V137=\"\",\"\",Reporte!$N137)","v":""},"",{"$f":"IFERROR(CJ137*BASE!$AN$165/BASE!$AN137,\"\")","v":""},"",{"$f":"IF(BASE!W137=\"\",\"\",Reporte!$N137)","v":""},"",{"$f":"IFERROR(CN137*BASE!$AN$165/BASE!$AN137,\"\")","v":""},"",{"$f":"IF(BASE!X137=\"\",\"\",Reporte!$N137)","v":""},"",{"$f":"IFERROR(CR137*BASE!$AN$165/BASE!$AN137,\"\")","v":""},"",{"$f":"IF(BASE!Y137=\"\",\"\",Reporte!$N137)","v":""},"",{"$f":"IFERROR(CV137*BASE!$AN$165/BASE!$AN137,\"\")","v":""},"",{"$f":"IF(BASE!Z137=\"\",\"\",Reporte!$N137)","v":""},"",{"$f":"IFERROR(CZ137*BASE!$AN$165/BASE!$AN137,\"\")","v":""},"",{"$f":"IF(BASE!AA137=\"\",\"\",Reporte!$N137)","v":""},"",{"$f":"IFERROR(DD137*BASE!$AN$165/BASE!$AN137,\"\")","v":""},"",{"$f":"IF(BASE!AB137=\"\",\"\",Reporte!$N137)","v":""},"",{"$f":"IFERROR(DH137*BASE!$AN$165/BASE!$AN137,\"\")","v":""},"",{"$f":"IF(BASE!AC137=\"\",\"\",Reporte!$N137)","v":""},"",{"$f":"IFERROR(DL137*BASE!$AN$165/BASE!$AN137,\"\")","v":""},"",{"$f":"IF(BASE!AD137=\"\",\"\",Reporte!$N137)","v":""},"",{"$f":"IFERROR(DP137*BASE!$AN$165/BASE!$AN137,\"\")","v":""},"",{"$f":"IF(BASE!AE137=\"\",\"\",Reporte!$N137)","v":""},"",{"$f":"IFERROR(DT137*BASE!$AN$165/BASE!$AN137,\"\")","v":""},"",{"$f":"IF(BASE!AF137=\"\",\"\",Reporte!$N137)","v":""},"",{"$f":"IFERROR(DX137*BASE!$AN$165/BASE!$AN137,\"\")","v":""},"",{"$f":"IF(BASE!AG137=\"\",\"\",Reporte!$N137)","v":""},"",{"$f":"IFERROR(EB137*BASE!$AN$165/BASE!$AN137,\"\")","v":""},"",{"$f":"IF(BASE!AH137=\"\",\"\",Reporte!$N137)","v":""},"",{"$f":"IFERROR(EF137*BASE!$AN$165/BASE!$AN137,\"\")","v":""},"",{"$f":"IF(BASE!AI137=\"\",\"\",Reporte!$N137)","v":""},"",{"$f":"IFERROR(EJ137*BASE!$AN$165/BASE!$AN137,\"\")","v":""},"",{"$f":"IF(BASE!AJ137=\"\",\"\",Reporte!$N137)","v":""},"",{"$f":"IFERROR(EN137*BASE!$AN$165/BASE!$AN137,\"\")","v":""},"",{"$f":"IF(BASE!AK137=\"\",\"\",Reporte!$N137)","v":""},"",{"$f":"IFERROR(ER137*BASE!$AN$165/BASE!$AN137,\"\")","v":""},"",{"$f":"IF(BASE!AL137=\"\",\"\",Reporte!$N137)","v":""},"",{"$f":"IFERROR(EV137*BASE!$AN$165/BASE!$AN137,\"\")","v":""},""]
[null,null,"Criterio Evaluación 2.3","",{"$f":"Matematicas!E8","v":1},{"$f":"Matematicas!F8","v":5.5555555555555552E-2},{"$f":"Matematicas!G8","v":""},null,null,null,null,null,"Criterio Evaluación 2.3","",{"$f":"'Peso criterios carga horaria'!F138","v":4.5},{"$f":"O138*BASE!$AN$165/BASE!AN138","v":3.8708333333333336},1.0309278350515464E-2,"",{"$f":"IF(BASE!E138=\"\",\"\",Reporte!$N138)","v":""},"",{"$f":"IFERROR(T138*BASE!$AN$165/BASE!$AN138,\"\")","v":""},"",{"$f":"IF(BASE!F138=\"\",\"\",Reporte!$N138)","v":""},"",{"$f":"IFERROR(X138*BASE!$AN$165/BASE!$AN138,\"\")","v":""},"",{"$f":"IF(BASE!G138=\"\",\"\",Reporte!$N138)","v":""},"",{"$f":"IFERROR(AB138*BASE!$AN$165/BASE!$AN138,\"\")","v":""},"",{"$f":"IF(BASE!H138=\"\",\"\",Reporte!$N138)","v":""},"",{"$f":"IFERROR(AF138*BASE!$AN$165/BASE!$AN138,\"\")","v":""},"",{"$f":"IF(BASE!I138=\"\",\"\",Reporte!$N138)","v":""},"",{"$f":"IFERROR(AJ138*BASE!$AN$165/BASE!$AN138,\"\")","v":""},"",{"$f":"IF(BASE!J138=\"\",\"\",Reporte!$N138)","v":""},"",{"$f":"IFERROR(AN138*BASE!$AN$165/BASE!$AN138,\"\")","v":""},"",{"$f":"IF(BASE!K138=\"\",\"\",Reporte!$N138)","v":""},"",{"$f":"IFERROR(AR138*BASE!$AN$165/BASE!$AN138,\"\")","v":""},"",{"$f":"IF(BASE!L138=\"\",\"\",Reporte!$N138)","v":""},"",{"$f":"IFERROR(AV138*BASE!$AN$165/BASE!$AN138,\"\")","v":""},"",{"$f":"IF(BASE!M138=\"\",\"\",Reporte!$N138)","v":""},"",{"$f":"IFERROR(AZ138*BASE!$AN$165/BASE!$AN138,\"\")","v":""},"",{"$f":"IF(BASE!N138=\"\",\"\",Reporte!$N138)","v":""},"",{"$f":"IFERROR(BD138*BASE!$AN$165/BASE!$AN138,\"\")","v":""},"",{"$f":"IF(BASE!O138=\"\",\"\",Reporte!$N138)","v":""},"",{"$f":"IFERROR(BH138*BASE!$AN$165/BASE!$AN138,\"\")","v":""},"",{"$f":"IF(BASE!P138=\"\",\"\",Reporte!$N138)","v":""},"",{"$f":"IFERROR(BL138*BASE!$AN$165/BASE!$AN138,\"\")","v":""},"",{"$f":"IF(BASE!Q138=\"\",\"\",Reporte!$N138)","v":""},"",{"$f":"IFERROR(BP138*BASE!$AN$165/BASE!$AN138,\"\")","v":""},"",{"$f":"IF(BASE!R138=\"\",\"\",Reporte!$N138)","v":""},"",{"$f":"IFERROR(BT138*BASE!$AN$165/BASE!$AN138,\"\")","v":""},"",{"$f":"IF(BASE!S138=\"\",\"\",Reporte!$N138)","v":""},"",{"$f":"IFERROR(BX138*BASE!$AN$165/BASE!$AN138,\"\")","v":""},"",{"$f":"IF(BASE!T138=\"\",\"\",Reporte!$N138)","v":""},"",{"$f":"IFERROR(CB138*BASE!$AN$165/BASE!$AN138,\"\")","v":""},"",{"$f":"IF(BASE!U138=\"\",\"\",Reporte!$N138)","v":""},"",{"$f":"IFERROR(CF138*BASE!$AN$165/BASE!$AN138,\"\")","v":""},"",{"$f":"IF(BASE!V138=\"\",\"\",Reporte!$N138)","v":""},"",{"$f":"IFERROR(CJ138*BASE!$AN$165/BASE!$AN138,\"\")","v":""},"",{"$f":"IF(BASE!W138=\"\",\"\",Reporte!$N138)","v":""},"",{"$f":"IFERROR(CN138*BASE!$AN$165/BASE!$AN138,\"\")","v":""},"",{"$f":"IF(BASE!X138=\"\",\"\",Reporte!$N138)","v":""},"",{"$f":"IFERROR(CR138*BASE!$AN$165/BASE!$AN138,\"\")","v":""},"",{"$f":"IF(BASE!Y138=\"\",\"\",Reporte!$N138)","v":""},"",{"$f":"IFERROR(CV138*BASE!$AN$165/BASE!$AN138,\"\")","v":""},"",{"$f":"IF(BASE!Z138=\"\",\"\",Reporte!$N138)","v":""},"",{"$f":"IFERROR(CZ138*BASE!$AN$165/BASE!$AN138,\"\")","v":""},"",{"$f":"IF(BASE!AA138=\"\",\"\",Reporte!$N138)","v":""},"",{"$f":"IFERROR(DD138*BASE!$AN$165/BASE!$AN138,\"\")","v":""},"",{"$f":"IF(BASE!AB138=\"\",\"\",Reporte!$N138)","v":""},"",{"$f":"IFERROR(DH138*BASE!$AN$165/BASE!$AN138,\"\")","v":""},"",{"$f":"IF(BASE!AC138=\"\",\"\",Reporte!$N138)","v":""},"",{"$f":"IFERROR(DL138*BASE!$AN$165/BASE!$AN138,\"\")","v":""},"",{"$f":"IF(BASE!AD138=\"\",\"\",Reporte!$N138)","v":""},"",{"$f":"IFERROR(DP138*BASE!$AN$165/BASE!$AN138,\"\")","v":""},"",{"$f":"IF(BASE!AE138=\"\",\"\",Reporte!$N138)","v":""},"",{"$f":"IFERROR(DT138*BASE!$AN$165/BASE!$AN138,\"\")","v":""},"",{"$f":"IF(BASE!AF138=\"\",\"\",Reporte!$N138)","v":""},"",{"$f":"IFERROR(DX138*BASE!$AN$165/BASE!$AN138,\"\")","v":""},"",{"$f":"IF(BASE!AG138=\"\",\"\",Reporte!$N138)","v":""},"",{"$f":"IFERROR(EB138*BASE!$AN$165/BASE!$AN138,\"\")","v":""},"",{"$f":"IF(BASE!AH138=\"\",\"\",Reporte!$N138)","v":""},"",{"$f":"IFERROR(EF138*BASE!$AN$165/BASE!$AN138,\"\")","v":""},"",{"$f":"IF(BASE!AI138=\"\",\"\",Reporte!$N138)","v":""},"",{"$f":"IFERROR(EJ138*BASE!$AN$165/BASE!$AN138,\"\")","v":""},"",{"$f":"IF(BASE!AJ138=\"\",\"\",Reporte!$N138)","v":""},"",{"$f":"IFERROR(EN138*BASE!$AN$165/BASE!$AN138,\"\")","v":""},"",{"$f":"IF(BASE!AK138=\"\",\"\",Reporte!$N138)","v":""},"",{"$f":"IFERROR(ER138*BASE!$AN$165/BASE!$AN138,\"\")","v":""},"",{"$f":"IF(BASE!AL138=\"\",\"\",Reporte!$N138)","v":""},"",{"$f":"IFERROR(EV138*BASE!$AN$165/BASE!$AN138,\"\")","v":""},""]
[null,null,"Criterio Evaluación 2.4","",{"$f":"Matematicas!E9","v":1},{"$f":"Matematicas!F9","v":5.5555555555555552E-2},{"$f":"Matematicas!G9","v":""},null,null,null,null,null,"Criterio Evaluación 2.4","",{"$f":"'Peso criterios carga horaria'!F139","v":4.5},{"$f":"O139*BASE!$AN$165/BASE!AN139","v":3.8708333333333336},1.0309278350515464E-2,"",{"$f":"IF(BASE!E139=\"\",\"\",Reporte!$N139)","v":""},"",{"$f":"IFERROR(T139*BASE!$AN$165/BASE!$AN139,\"\")","v":""},"",{"$f":"IF(BASE!F139=\"\",\"\",Reporte!$N139)","v":""},"",{"$f":"IFERROR(X139*BASE!$AN$165/BASE!$AN139,\"\")","v":""},"",{"$f":"IF(BASE!G139=\"\",\"\",Reporte!$N139)","v":""},"",{"$f":"IFERROR(AB139*BASE!$AN$165/BASE!$AN139,\"\")","v":""},"",{"$f":"IF(BASE!H139=\"\",\"\",Reporte!$N139)","v":""},"",{"$f":"IFERROR(AF139*BASE!$AN$165/BASE!$AN139,\"\")","v":""},"",{"$f":"IF(BASE!I139=\"\",\"\",Reporte!$N139)","v":""},"",{"$f":"IFERROR(AJ139*BASE!$AN$165/BASE!$AN139,\"\")","v":""},"",{"$f":"IF(BASE!J139=\"\",\"\",Reporte!$N139)","v":""},"",{"$f":"IFERROR(AN139*BASE!$AN$165/BASE!$AN139,\"\")","v":""},"",{"$f":"IF(BASE!K139=\"\",\"\",Reporte!$N139)","v":""},"",{"$f":"IFERROR(AR139*BASE!$AN$165/BASE!$AN139,\"\")","v":""},"",{"$f":"IF(BASE!L139=\"\",\"\",Reporte!$N139)","v":""},"",{"$f":"IFERROR(AV139*BASE!$AN$165/BASE!$AN139,\"\")","v":""},"",{"$f":"IF(BASE!M139=\"\",\"\",Reporte!$N139)","v":""},"",{"$f":"IFERROR(AZ139*BASE!$AN$165/BASE!$AN139,\"\")","v":""},"",{"$f":"IF(BASE!N139=\"\",\"\",Reporte!$N139)","v":""},"",{"$f":"IFERROR(BD139*BASE!$AN$165/BASE!$AN139,\"\")","v":""},"",{"$f":"IF(BASE!O139=\"\",\"\",Reporte!$N139)","v":""},"",{"$f":"IFERROR(BH139*BASE!$AN$165/BASE!$AN139,\"\")","v":""},"",{"$f":"IF(BASE!P139=\"\",\"\",Reporte!$N139)","v":""},"",{"$f":"IFERROR(BL139*BASE!$AN$165/BASE!$AN139,\"\")","v":""},"",{"$f":"IF(BASE!Q139=\"\",\"\",Reporte!$N139)","v":""},"",{"$f":"IFERROR(BP139*BASE!$AN$165/BASE!$AN139,\"\")","v":""},"",{"$f":"IF(BASE!R139=\"\",\"\",Reporte!$N139)","v":""},"",{"$f":"IFERROR(BT139*BASE!$AN$165/BASE!$AN139,\"\")","v":""},"",{"$f":"IF(BASE!S139=\"\",\"\",Reporte!$N139)","v":""},"",{"$f":"IFERROR(BX139*BASE!$AN$165/BASE!$AN139,\"\")","v":""},"",{"$f":"IF(BASE!T139=\"\",\"\",Reporte!$N139)","v":""},"",{"$f":"IFERROR(CB139*BASE!$AN$165/BASE!$AN139,\"\")","v":""},"",{"$f":"IF(BASE!U139=\"\",\"\",Reporte!$N139)","v":""},"",{"$f":"IFERROR(CF139*BASE!$AN$165/BASE!$AN139,\"\")","v":""},"",{"$f":"IF(BASE!V139=\"\",\"\",Reporte!$N139)","v":""},"",{"$f":"IFERROR(CJ139*BASE!$AN$165/BASE!$AN139,\"\")","v":""},"",{"$f":"IF(BASE!W139=\"\",\"\",Reporte!$N139)","v":""},"",{"$f":"IFERROR(CN139*BASE!$AN$165/BASE!$AN139,\"\")","v":""},"",{"$f":"IF(BASE!X139=\"\",\"\",Reporte!$N139)","v":""},"",{"$f":"IFERROR(CR139*BASE!$AN$165/BASE!$AN139,\"\")","v":""},"",{"$f":"IF(BASE!Y139=\"\",\"\",Reporte!$N139)","v":""},"",{"$f":"IFERROR(CV139*BASE!$AN$165/BASE!$AN139,\"\")","v":""},"",{"$f":"IF(BASE!Z139=\"\",\"\",Reporte!$N139)","v":""},"",{"$f":"IFERROR(CZ139*BASE!$AN$165/BASE!$AN139,\"\")","v":""},"",{"$f":"IF(BASE!AA139=\"\",\"\",Reporte!$N139)","v":""},"",{"$f":"IFERROR(DD139*BASE!$AN$165/BASE!$AN139,\"\")","v":""},"",{"$f":"IF(BASE!AB139=\"\",\"\",Reporte!$N139)","v":""},"",{"$f":"IFERROR(DH139*BASE!$AN$165/BASE!$AN139,\"\")","v":""},"",{"$f":"IF(BASE!AC139=\"\",\"\",Reporte!$N139)","v":""},"",{"$f":"IFERROR(DL139*BASE!$AN$165/BASE!$AN139,\"\")","v":""},"",{"$f":"IF(BASE!AD139=\"\",\"\",Reporte!$N139)","v":""},"",{"$f":"IFERROR(DP139*BASE!$AN$165/BASE!$AN139,\"\")","v":""},"",{"$f":"IF(BASE!AE139=\"\",\"\",Reporte!$N139)","v":""},"",{"$f":"IFERROR(DT139*BASE!$AN$165/BASE!$AN139,\"\")","v":""},"",{"$f":"IF(BASE!AF139=\"\",\"\",Reporte!$N139)","v":""},"",{"$f":"IFERROR(DX139*BASE!$AN$165/BASE!$AN139,\"\")","v":""},"",{"$f":"IF(BASE!AG139=\"\",\"\",Reporte!$N139)","v":""},"",{"$f":"IFERROR(EB139*BASE!$AN$165/BASE!$AN139,\"\")","v":""},"",{"$f":"IF(BASE!AH139=\"\",\"\",Reporte!$N139)","v":""},"",{"$f":"IFERROR(EF139*BASE!$AN$165/BASE!$AN139,\"\")","v":""},"",{"$f":"IF(BASE!AI139=\"\",\"\",Reporte!$N139)","v":""},"",{"$f":"IFERROR(EJ139*BASE!$AN$165/BASE!$AN139,\"\")","v":""},"",{"$f":"IF(BASE!AJ139=\"\",\"\",Reporte!$N139)","v":""},"",{"$f":"IFERROR(EN139*BASE!$AN$165/BASE!$AN139,\"\")","v":""},"",{"$f":"IF(BASE!AK139=\"\",\"\",Reporte!$N139)","v":""},"",{"$f":"IFERROR(ER139*BASE!$AN$165/BASE!$AN139,\"\")","v":""},"",{"$f":"IF(BASE!AL139=\"\",\"\",Reporte!$N139)","v":""},"",{"$f":"IFERROR(EV139*BASE!$AN$165/BASE!$AN139,\"\")","v":""},""]
[null,"Comp. Esp. 3","Criterio Evaluación 3.1","",{"$f":"Matematicas!E10","v":1},{"$f":"Matematicas!F10","v":5.5555555555555552E-2},{"$f":"Matematicas!G10","v":""},null,null,null,null,"Comp. Esp. 3","Criterio Evaluación 3.1","",{"$f":"'Peso criterios carga horaria'!F140","v":4.5},{"$f":"O140*BASE!$AN$165/BASE!AN140","v":3.8708333333333336},1.0309278350515464E-2,"",{"$f":"IF(BASE!E140=\"\",\"\",Reporte!$N140)","v":""},"",{"$f":"IFERROR(T140*BASE!$AN$165/BASE!$AN140,\"\")","v":""},"",{"$f":"IF(BASE!F140=\"\",\"\",Reporte!$N140)","v":""},"",{"$f":"IFERROR(X140*BASE!$AN$165/BASE!$AN140,\"\")","v":""},"",{"$f":"IF(BASE!G140=\"\",\"\",Reporte!$N140)","v":""},"",{"$f":"IFERROR(AB140*BASE!$AN$165/BASE!$AN140,\"\")","v":""},"",{"$f":"IF(BASE!H140=\"\",\"\",Reporte!$N140)","v":""},"",{"$f":"IFERROR(AF140*BASE!$AN$165/BASE!$AN140,\"\")","v":""},"",{"$f":"IF(BASE!I140=\"\",\"\",Reporte!$N140)","v":""},"",{"$f":"IFERROR(AJ140*BASE!$AN$165/BASE!$AN140,\"\")","v":""},"",{"$f":"IF(BASE!J140=\"\",\"\",Reporte!$N140)","v":""},"",{"$f":"IFERROR(AN140*BASE!$AN$165/BASE!$AN140,\"\")","v":""},"",{"$f":"IF(BASE!K140=\"\",\"\",Reporte!$N140)","v":""},"",{"$f":"IFERROR(AR140*BASE!$AN$165/BASE!$AN140,\"\")","v":""},"",{"$f":"IF(BASE!L140=\"\",\"\",Reporte!$N140)","v":""},"",{"$f":"IFERROR(AV140*BASE!$AN$165/BASE!$AN140,\"\")","v":""},"",{"$f":"IF(BASE!M140=\"\",\"\",Reporte!$N140)","v":""},"",{"$f":"IFERROR(AZ140*BASE!$AN$165/BASE!$AN140,\"\")","v":""},"",{"$f":"IF(BASE!N140=\"\",\"\",Reporte!$N140)","v":""},"",{"$f":"IFERROR(BD140*BASE!$AN$165/BASE!$AN140,\"\")","v":""},"",{"$f":"IF(BASE!O140=\"\",\"\",Reporte!$N140)","v":""},"",{"$f":"IFERROR(BH140*BASE!$AN$165/BASE!$AN140,\"\")","v":""},"",{"$f":"IF(BASE!P140=\"\",\"\",Reporte!$N140)","v":""},"",{"$f":"IFERROR(BL140*BASE!$AN$165/BASE!$AN140,\"\")","v":""},"",{"$f":"IF(BASE!Q140=\"\",\"\",Reporte!$N140)","v":""},"",{"$f":"IFERROR(BP140*BASE!$AN$165/BASE!$AN140,\"\")","v":""},"",{"$f":"IF(BASE!R140=\"\",\"\",Reporte!$N140)","v":""},"",{"$f":"IFERROR(BT140*BASE!$AN$165/BASE!$AN140,\"\")","v":""},"",{"$f":"IF(BASE!S140=\"\",\"\",Reporte!$N140)","v":""},"",{"$f":"IFERROR(BX140*BASE!$AN$165/BASE!$AN140,\"\")","v":""},"",{"$f":"IF(BASE!T140=\"\",\"\",Reporte!$N140)","v":""},"",{"$f":"IFERROR(CB140*BASE!$AN$165/BASE!$AN140,\"\")","v":""},"",{"$f":"IF(BASE!U140=\"\",\"\",Reporte!$N140)","v":""},"",{"$f":"IFERROR(CF140*BASE!$AN$165/BASE!$AN140,\"\")","v":""},"",{"$f":"IF(BASE!V140=\"\",\"\",Reporte!$N140)","v":""},"",{"$f":"IFERROR(CJ140*BASE!$AN$165/BASE!$AN140,\"\")","v":""},"",{"$f":"IF(BASE!W140=\"\",\"\",Reporte!$N140)","v":""},"",{"$f":"IFERROR(CN140*BASE!$AN$165/BASE!$AN140,\"\")","v":""},"",{"$f":"IF(BASE!X140=\"\",\"\",Reporte!$N140)","v":""},"",{"$f":"IFERROR(CR140*BASE!$AN$165/BASE!$AN140,\"\")","v":""},"",{"$f":"IF(BASE!Y140=\"\",\"\",Reporte!$N140)","v":""},"",{"$f":"IFERROR(CV140*BASE!$AN$165/BASE!$AN140,\"\")","v":""},"",{"$f":"IF(BASE!Z140=\"\",\"\",Reporte!$N140)","v":""},"",{"$f":"IFERROR(CZ140*BASE!$AN$165/BASE!$AN140,\"\")","v":""},"",{"$f":"IF(BASE!AA140=\"\",\"\",Reporte!$N140)","v":""},"",{"$f":"IFERROR(DD140*BASE!$AN$165/BASE!$AN140,\"\")","v":""},"",{"$f":"IF(BASE!AB140=\"\",\"\",Reporte!$N140)","v":""},"",{"$f":"IFERROR(DH140*BASE!$AN$165/BASE!$AN140,\"\")","v":""},"",{"$f":"IF(BASE!AC140=\"\",\"\",Reporte!$N140)","v":""},"",{"$f":"IFERROR(DL140*BASE!$AN$165/BASE!$AN140,\"\")","v":""},"",{"$f":"IF(BASE!AD140=\"\",\"\",Reporte!$N140)","v":""},"",{"$f":"IFERROR(DP140*BASE!$AN$165/BASE!$AN140,\"\")","v":""},"",{"$f":"IF(BASE!AE140=\"\",\"\",Reporte!$N140)","v":""},"",{"$f":"IFERROR(DT140*BASE!$AN$165/BASE!$AN140,\"\")","v":""},"",{"$f":"IF(BASE!AF140=\"\",\"\",Reporte!$N140)","v":""},"",{"$f":"IFERROR(DX140*BASE!$AN$165/BASE!$AN140,\"\")","v":""},"",{"$f":"IF(BASE!AG140=\"\",\"\",Reporte!$N140)","v":""},"",{"$f":"IFERROR(EB140*BASE!$AN$165/BASE!$AN140,\"\")","v":""},"",{"$f":"IF(BASE!AH140=\"\",\"\",Reporte!$N140)","v":""},"",{"$f":"IFERROR(EF140*BASE!$AN$165/BASE!$AN140,\"\")","v":""},"",{"$f":"IF(BASE!AI140=\"\",\"\",Reporte!$N140)","v":""},"",{"$f":"IFERROR(EJ140*BASE!$AN$165/BASE!$AN140,\"\")","v":""},"",{"$f":"IF(BASE!AJ140=\"\",\"\",Reporte!$N140)","v":""},"",{"$f":"IFERROR(EN140*BASE!$AN$165/BASE!$AN140,\"\")","v":""},"",{"$f":"IF(BASE!AK140=\"\",\"\",Reporte!$N140)","v":""},"",{"$f":"IFERROR(ER140*BASE!$AN$165/BASE!$AN140,\"\")","v":""},"",{"$f":"IF(BASE!AL140=\"\",\"\",Reporte!$N140)","v":""},"",{"$f":"IFERROR(EV140*BASE!$AN$165/BASE!$AN140,\"\")","v":""},""]
[null,null,"Criterio Evaluación 3.2","",{"$f":"Matematicas!E11","v":1},{"$f":"Matematicas!F11","v":5.5555555555555552E-2},{"$f":"Matematicas!G11","v":""},null,null,null,null,null,"Criterio Evaluación 3.2","",{"$f":"'Peso criterios carga horaria'!F141","v":4.5},{"$f":"O141*BASE!$AN$165/BASE!AN141","v":3.8708333333333336},1.0309278350515464E-2,"",{"$f":"IF(BASE!E141=\"\",\"\",Reporte!$N141)","v":""},"",{"$f":"IFERROR(T141*BASE!$AN$165/BASE!$AN141,\"\")","v":""},"",{"$f":"IF(BASE!F141=\"\",\"\",Reporte!$N141)","v":""},"",{"$f":"IFERROR(X141*BASE!$AN$165/BASE!$AN141,\"\")","v":""},"",{"$f":"IF(BASE!G141=\"\",\"\",Reporte!$N141)","v":""},"",{"$f":"IFERROR(AB141*BASE!$AN$165/BASE!$AN141,\"\")","v":""},"",{"$f":"IF(BASE!H141=\"\",\"\",Reporte!$N141)","v":""},"",{"$f":"IFERROR(AF141*BASE!$AN$165/BASE!$AN141,\"\")","v":""},"",{"$f":"IF(BASE!I141=\"\",\"\",Reporte!$N141)","v":""},"",{"$f":"IFERROR(AJ141*BASE!$AN$165/BASE!$AN141,\"\")","v":""},"",{"$f":"IF(BASE!J141=\"\",\"\",Reporte!$N141)","v":""},"",{"$f":"IFERROR(AN141*BASE!$AN$165/BASE!$AN141,\"\")","v":""},"",{"$f":"IF(BASE!K141=\"\",\"\",Reporte!$N141)","v":""},"",{"$f":"IFERROR(AR141*BASE!$AN$165/BASE!$AN141,\"\")","v":""},"",{"$f":"IF(BASE!L141=\"\",\"\",Reporte!$N141)","v":""},"",{"$f":"IFERROR(AV141*BASE!$AN$165/BASE!$AN141,\"\")","v":""},"",{"$f":"IF(BASE!M141=\"\",\"\",Reporte!$N141)","v":""},"",{"$f":"IFERROR(AZ141*BASE!$AN$165/BASE!$AN141,\"\")","v":""},"",{"$f":"IF(BASE!N141=\"\",\"\",Reporte!$N141)","v":""},"",{"$f":"IFERROR(BD141*BASE!$AN$165/BASE!$AN141,\"\")","v":""},"",{"$f":"IF(BASE!O141=\"\",\"\",Reporte!$N141)","v":""},"",{"$f":"IFERROR(BH141*BASE!$AN$165/BASE!$AN141,\"\")","v":""},"",{"$f":"IF(BASE!P141=\"\",\"\",Reporte!$N141)","v":""},"",{"$f":"IFERROR(BL141*BASE!$AN$165/BASE!$AN141,\"\")","v":""},"",{"$f":"IF(BASE!Q141=\"\",\"\",Reporte!$N141)","v":""},"",{"$f":"IFERROR(BP141*BASE!$AN$165/BASE!$AN141,\"\")","v":""},"",{"$f":"IF(BASE!R141=\"\",\"\",Reporte!$N141)","v":""},"",{"$f":"IFERROR(BT141*BASE!$AN$165/BASE!$AN141,\"\")","v":""},"",{"$f":"IF(BASE!S141=\"\",\"\",Reporte!$N141)","v":""},"",{"$f":"IFERROR(BX141*BASE!$AN$165/BASE!$AN141,\"\")","v":""},"",{"$f":"IF(BASE!T141=\"\",\"\",Reporte!$N141)","v":""},"",{"$f":"IFERROR(CB141*BASE!$AN$165/BASE!$AN141,\"\")","v":""},"",{"$f":"IF(BASE!U141=\"\",\"\",Reporte!$N141)","v":""},"",{"$f":"IFERROR(CF141*BASE!$AN$165/BASE!$AN141,\"\")","v":""},"",{"$f":"IF(BASE!V141=\"\",\"\",Reporte!$N141)","v":""},"",{"$f":"IFERROR(CJ141*BASE!$AN$165/BASE!$AN141,\"\")","v":""},"",{"$f":"IF(BASE!W141=\"\",\"\",Reporte!$N141)","v":""},"",{"$f":"IFERROR(CN141*BASE!$AN$165/BASE!$AN141,\"\")","v":""},"",{"$f":"IF(BASE!X141=\"\",\"\",Reporte!$N141)","v":""},"",{"$f":"IFERROR(CR141*BASE!$AN$165/BASE!$AN141,\"\")","v":""},"",{"$f":"IF(BASE!Y141=\"\",\"\",Reporte!$N141)","v":""},"",{"$f":"IFERROR(CV141*BASE!$AN$165/BASE!$AN141,\"\")","v":""},"",{"$f":"IF(BASE!Z141=\"\",\"\",Reporte!$N141)","v":""},"",{"$f":"IFERROR(CZ141*BASE!$AN$165/BASE!$AN141,\"\")","v":""},"",{"$f":"IF(BASE!AA141=\"\",\"\",Reporte!$N141)","v":""},"",{"$f":"IFERROR(DD141*BASE!$AN$165/BASE!$AN141,\"\")","v":""},"",{"$f":"IF(BASE!AB141=\"\",\"\",Reporte!$N141)","v":""},"",{"$f":"IFERROR(DH141*BASE!$AN$165/BASE!$AN141,\"\")","v":""},"",{"$f":"IF(BASE!AC141=\"\",\"\",Reporte!$N141)","v":""},"",{"$f":"IFERROR(DL141*BASE!$AN$165/BASE!$AN141,\"\")","v":""},"",{"$f":"IF(BASE!AD141=\"\",\"\",Reporte!$N141)","v":""},"",{"$f":"IFERROR(DP141*BASE!$AN$165/BASE!$AN141,\"\")","v":""},"",{"$f":"IF(BASE!AE141=\"\",\"\",Reporte!$N141)","v":""},"",{"$f":"IFERROR(DT141*BASE!$AN$165/BASE!$AN141,\"\")","v":""},"",{"$f":"IF(BASE!AF141=\"\",\"\",Reporte!$N141)","v":""},"",{"$f":"IFERROR(DX141*BASE!$AN$165/BASE!$AN141,\"\")","v":""},"",{"$f":"IF(BASE!AG141=\"\",\"\",Reporte!$N141)","v":""},"",{"$f":"IFERROR(EB141*BASE!$AN$165/BASE!$AN141,\"\")","v":""},"",{"$f":"IF(BASE!AH141=\"\",\"\",Reporte!$N141)","v":""},"",{"$f":"IFERROR(EF141*BASE!$AN$165/BASE!$AN141,\"\")","v":""},"",{"$f":"IF(BASE!AI141=\"\",\"\",Reporte!$N141)","v":""},"",{"$f":"IFERROR(EJ141*BASE!$AN$165/BASE!$AN141,\"\")","v":""},"",{"$f":"IF(BASE!AJ141=\"\",\"\",Reporte!$N141)","v":""},"",{"$f":"IFERROR(EN141*BASE!$AN$165/BASE!$AN141,\"\")","v":""},"",{"$f":"IF(BASE!AK141=\"\",\"\",Reporte!$N141)","v":""},"",{"$f":"IFERROR(ER141*BASE!$AN$165/BASE!$AN141,\"\")","v":""},"",{"$f":"IF(BASE!AL141=\"\",\"\",Reporte!$N141)","v":""},"",{"$f":"IFERROR(EV141*BASE!$AN$165/BASE!$AN141,\"\")","v":""},""]
[null,"Comp. Esp. 4","Criterio Evaluación 4.1","",{"$f":"Matematicas!E12","v":1},{"$f":"Matematicas!F12","v":5.5555555555555552E-2},{"$f":"Matematicas!G12","v":""},null,null,null,null,"Comp. Esp. 4","Criterio Evaluación 4.1","",{"$f":"'Peso criterios carga horaria'!F142","v":4.5},{"$f":"O142*BASE!$AN$165/BASE!AN142","v":3.8708333333333336},1.0309278350515464E-2,"",{"$f":"IF(BASE!E142=\"\",\"\",Reporte!$N142)","v":""},"",{"$f":"IFERROR(T142*BASE!$AN$165/BASE!$AN142,\"\")","v":""},"",{"$f":"IF(BASE!F142=\"\",\"\",Reporte!$N142)","v":""},"",{"$f":"IFERROR(X142*BASE!$AN$165/BASE!$AN142,\"\")","v":""},"",{"$f":"IF(BASE!G142=\"\",\"\",Reporte!$N142)","v":""},"",{"$f":"IFERROR(AB142*BASE!$AN$165/BASE!$AN142,\"\")","v":""},"",{"$f":"IF(BASE!H142=\"\",\"\",Reporte!$N142)","v":""},"",{"$f":"IFERROR(AF142*BASE!$AN$165/BASE!$AN142,\"\")","v":""},"",{"$f":"IF(BASE!I142=\"\",\"\",Reporte!$N142)","v":""},"",{"$f":"IFERROR(AJ142*BASE!$AN$165/BASE!$AN142,\"\")","v":""},"",{"$f":"IF(BASE!J142=\"\",\"\",Reporte!$N142)","v":""},"",{"$f":"IFERROR(AN142*BASE!$AN$165/BASE!$AN142,\"\")","v":""},"",{"$f":"IF(BASE!K142=\"\",\"\",Reporte!$N142)","v":""},"",{"$f":"IFERROR(AR142*BASE!$AN$165/BASE!$AN142,\"\")","v":""},"",{"$f":"IF(BASE!L142=\"\",\"\",Reporte!$N142)","v":""},"",{"$f":"IFERROR(AV142*BASE!$AN$165/BASE!$AN142,\"\")","v":""},"",{"$f":"IF(BASE!M142=\"\",\"\",Reporte!$N142)","v":""},"",{"$f":"IFERROR(AZ142*BASE!$AN$165/BASE!$AN142,\"\")","v":""},"",{"$f":"IF(BASE!N142=\"\",\"\",Reporte!$N142)","v":""},"",{"$f":"IFERROR(BD142*BASE!$AN$165/BASE!$AN142,\"\")","v":""},"",{"$f":"IF(BASE!O142=\"\",\"\",Reporte!$N142)","v":""},"",{"$f":"IFERROR(BH142*BASE!$AN$165/BASE!$AN142,\"\")","v":""},"",{"$f":"IF(BASE!P142=\"\",\"\",Reporte!$N142)","v":""},"",{"$f":"IFERROR(BL142*BASE!$AN$165/BASE!$AN142,\"\")","v":""},"",{"$f":"IF(BASE!Q142=\"\",\"\",Reporte!$N142)","v":""},"",{"$f":"IFERROR(BP142*BASE!$AN$165/BASE!$AN142,\"\")","v":""},"",{"$f":"IF(BASE!R142=\"\",\"\",Reporte!$N142)","v":""},"",{"$f":"IFERROR(BT142*BASE!$AN$165/BASE!$AN142,\"\")","v":""},"",{"$f":"IF(BASE!S142=\"\",\"\",Reporte!$N142)","v":""},"",{"$f":"IFERROR(BX142*BASE!$AN$165/BASE!$AN142,\"\")","v":""},"",{"$f":"IF(BASE!T142=\"\",\"\",Reporte!$N142)","v":""},"",{"$f":"IFERROR(CB142*BASE!$AN$165/BASE!$AN142,\"\")","v":""},"",{"$f":"IF(BASE!U142=\"\",\"\",Reporte!$N142)","v":""},"",{"$f":"IFERROR(CF142*BASE!$AN$165/BASE!$AN142,\"\")","v":""},"",{"$f":"IF(BASE!V142=\"\",\"\",Reporte!$N142)","v":""},"",{"$f":"IFERROR(CJ142*BASE!$AN$165/BASE!$AN142,\"\")","v":""},"",{"$f":"IF(BASE!W142=\"\",\"\",Reporte!$N142)","v":""},"",{"$f":"IFERROR(CN142*BASE!$AN$165/BASE!$AN142,\"\")","v":""},"",{"$f":"IF(BASE!X142=\"\",\"\",Reporte!$N142)","v":""},"",{"$f":"IFERROR(CR142*BASE!$AN$165/BASE!$AN142,\"\")","v":""},"",{"$f":"IF(BASE!Y142=\"\",\"\",Reporte!$N142)","v":""},"",{"$f":"IFERROR(CV142*BASE!$AN$165/BASE!$AN142,\"\")","v":""},"",{"$f":"IF(BASE!Z142=\"\",\"\",Reporte!$N142)","v":""},"",{"$f":"IFERROR(CZ142*BASE!$AN$165/BASE!$AN142,\"\")","v":""},"",{"$f":"IF(BASE!AA142=\"\",\"\",Reporte!$N142)","v":""},"",{"$f":"IFERROR(DD142*BASE!$AN$165/BASE!$AN142,\"\")","v":""},"",{"$f":"IF(BASE!AB142=\"\",\"\",Reporte!$N142)","v":""},"",{"$f":"IFERROR(DH142*BASE!$AN$165/BASE!$AN142,\"\")","v":""},"",{"$f":"IF(BASE!AC142=\"\",\"\",Reporte!$N142)","v":""},"",{"$f":"IFERROR(DL142*BASE!$AN$165/BASE!$AN142,\"\")","v":""},"",{"$f":"IF(BASE!AD142=\"\",\"\",Reporte!$N142)","v":""},"",{"$f":"IFERROR(DP142*BASE!$AN$165/BASE!$AN142,\"\")","v":""},"",{"$f":"IF(BASE!AE142=\"\",\"\",Reporte!$N142)","v":""},"",{"$f":"IFERROR(DT142*BASE!$AN$165/BASE!$AN142,\"\")","v":""},"",{"$f":"IF(BASE!AF142=\"\",\"\",Reporte!$N142)","v":""},"",{"$f":"IFERROR(DX142*BASE!$AN$165/BASE!$AN142,\"\")","v":""},"",{"$f":"IF(BASE!AG142=\"\",\"\",Reporte!$N142)","v":""},"",{"$f":"IFERROR(EB142*BASE!$AN$165/BASE!$AN142,\"\")","v":""},"",{"$f":"IF(BASE!AH142=\"\",\"\",Reporte!$N142)","v":""},"",{"$f":"IFERROR(EF142*BASE!$AN$165/BASE!$AN142,\"\")","v":""},"",{"$f":"IF(BASE!AI142=\"\",\"\",Reporte!$N142)","v":""},"",{"$f":"IFERROR(EJ142*BASE!$AN$165/BASE!$AN142,\"\")","v":""},"",{"$f":"IF(BASE!AJ142=\"\",\"\",Reporte!$N142)","v":""},"",{"$f":"IFERROR(EN142*BASE!$AN$165/BASE!$AN142,\"\")","v":""},"",{"$f":"IF(BASE!AK142=\"\",\"\",Reporte!$N142)","v":""},"",{"$f":"IFERROR(ER142*BASE!$AN$165/BASE!$AN142,\"\")","v":""},"",{"$f":"IF(BASE!AL142=\"\",\"\",Reporte!$N142)","v":""},"",{"$f":"IFERROR(EV142*BASE!$AN$165/BASE!$AN142,\"\")","v":""},""]
[null,null,"Criterio Evaluación 4.2","",{"$f":"Matematicas!E13","v":1},{"$f":"Matematicas!F13","v":5.5555555555555552E-2},{"$f":"Matematicas!G13","v":""},null,null,null,null,null,"Criterio Evaluación 4.2","",{"$f":"'Peso criterios carga horaria'!F143","v":4.5},{"$f":"O143*BASE!$AN$165/BASE!AN143","v":3.8708333333333336},1.0309278350515464E-2,"",{"$f":"IF(BASE!E143=\"\",\"\",Reporte!$N143)","v":""},"",{"$f":"IFERROR(T143*BASE!$AN$165/BASE!$AN143,\"\")","v":""},"",{"$f":"IF(BASE!F143=\"\",\"\",Reporte!$N143)","v":""},"",{"$f":"IFERROR(X143*BASE!$AN$165/BASE!$AN143,\"\")","v":""},"",{"$f":"IF(BASE!G143=\"\",\"\",Reporte!$N143)","v":""},"",{"$f":"IFERROR(AB143*BASE!$AN$165/BASE!$AN143,\"\")","v":""},"",{"$f":"IF(BASE!H143=\"\",\"\",Reporte!$N143)","v":""},"",{"$f":"IFERROR(AF143*BASE!$AN$165/BASE!$AN143,\"\")","v":""},"",{"$f":"IF(BASE!I143=\"\",\"\",Reporte!$N143)","v":""},"",{"$f":"IFERROR(AJ143*BASE!$AN$165/BASE!$AN143,\"\")","v":""},"",{"$f":"IF(BASE!J143=\"\",\"\",Reporte!$N143)","v":""},"",{"$f":"IFERROR(AN143*BASE!$AN$165/BASE!$AN143,\"\")","v":""},"",{"$f":"IF(BASE!K143=\"\",\"\",Reporte!$N143)","v":""},"",{"$f":"IFERROR(AR143*BASE!$AN$165/BASE!$AN143,\"\")","v":""},"",{"$f":"IF(BASE!L143=\"\",\"\",Reporte!$N143)","v":""},"",{"$f":"IFERROR(AV143*BASE!$AN$165/BASE!$AN143,\"\")","v":""},"",{"$f":"IF(BASE!M143=\"\",\"\",Reporte!$N143)","v":""},"",{"$f":"IFERROR(AZ143*BASE!$AN$165/BASE!$AN143,\"\")","v":""},"",{"$f":"IF(BASE!N143=\"\",\"\",Reporte!$N143)","v":""},"",{"$f":"IFERROR(BD143*BASE!$AN$165/BASE!$AN143,\"\")","v":""},"",{"$f":"IF(BASE!O143=\"\",\"\",Reporte!$N143)","v":""},"",{"$f":"IFERROR(BH143*BASE!$AN$165/BASE!$AN143,\"\")","v":""},"",{"$f":"IF(BASE!P143=\"\",\"\",Reporte!$N143)","v":""},"",{"$f":"IFERROR(BL143*BASE!$AN$165/BASE!$AN143,\"\")","v":""},"",{"$f":"IF(BASE!Q143=\"\",\"\",Reporte!$N143)","v":""},"",{"$f":"IFERROR(BP143*BASE!$AN$165/BASE!$AN143,\"\")","v":""},"",{"$f":"IF(BASE!R143=\"\",\"\",Reporte!$N143)","v":""},"",{"$f":"IFERROR(BT143*BASE!$AN$165/BASE!$AN143,\"\")","v":""},"",{"$f":"IF(BASE!S143=\"\",\"\",Reporte!$N143)","v":""},"",{"$f":"IFERROR(BX143*BASE!$AN$165/BASE!$AN143,\"\")","v":""},"",{"$f":"IF(BASE!T143=\"\",\"\",Reporte!$N143)","v":""},"",{"$f":"IFERROR(CB143*BASE!$AN$165/BASE!$AN143,\"\")","v":""},"",{"$f":"IF(BASE!U143=\"\",\"\",Reporte!$N143)","v":""},"",{"$f":"IFERROR(CF143*BASE!$AN$165/BASE!$AN143,\"\")","v":""},"",{"$f":"IF(BASE!V143=\"\",\"\",Reporte!$N143)","v":""},"",{"$f":"IFERROR(CJ143*BASE!$AN$165/BASE!$AN143,\"\")","v":""},"",{"$f":"IF(BASE!W143=\"\",\"\",Reporte!$N143)","v":""},"",{"$f":"IFERROR(CN143*BASE!$AN$165/BASE!$AN143,\"\")","v":""},"",{"$f":"IF(BASE!X143=\"\",\"\",Reporte!$N143)","v":""},"",{"$f":"IFERROR(CR143*BASE!$AN$165/BASE!$AN143,\"\")","v":""},"",{"$f":"IF(BASE!Y143=\"\",\"\",Reporte!$N143)","v":""},"",{"$f":"IFERROR(CV143*BASE!$AN$165/BASE!$AN143,\"\")","v":""},"",{"$f":"IF(BASE!Z143=\"\",\"\",Reporte!$N143)","v":""},"",{"$f":"IFERROR(CZ143*BASE!$AN$165/BASE!$AN143,\"\")","v":""},"",{"$f":"IF(BASE!AA143=\"\",\"\",Reporte!$N143)","v":""},"",{"$f":"IFERROR(DD143*BASE!$AN$165/BASE!$AN143,\"\")","v":""},"",{"$f":"IF(BASE!AB143=\"\",\"\",Reporte!$N143)","v":""},"",{"$f":"IFERROR(DH143*BASE!$AN$165/BASE!$AN143,\"\")","v":""},"",{"$f":"IF(BASE!AC143=\"\",\"\",Reporte!$N143)","v":""},"",{"$f":"IFERROR(DL143*BASE!$AN$165/BASE!$AN143,\"\")","v":""},"",{"$f":"IF(BASE!AD143=\"\",\"\",Reporte!$N143)","v":""},"",{"$f":"IFERROR(DP143*BASE!$AN$165/BASE!$AN143,\"\")","v":""},"",{"$f":"IF(BASE!AE143=\"\",\"\",Reporte!$N143)","v":""},"",{"$f":"IFERROR(DT143*BASE!$AN$165/BASE!$AN143,\"\")","v":""},"",{"$f":"IF(BASE!AF143=\"\",\"\",Reporte!$N143)","v":""},"",{"$f":"IFERROR(DX143*BASE!$AN$165/BASE!$AN143,\"\")","v":""},"",{"$f":"IF(BASE!AG143=\"\",\"\",Reporte!$N143)","v":""},"",{"$f":"IFERROR(EB143*BASE!$AN$165/BASE!$AN143,\"\")","v":""},"",{"$f":"IF(BASE!AH143=\"\",\"\",Reporte!$N143)","v":""},"",{"$f":"IFERROR(EF143*BASE!$AN$165/BASE!$AN143,\"\")","v":""},"",{"$f":"IF(BASE!AI143=\"\",\"\",Reporte!$N143)","v":""},"",{"$f":"IFERROR(EJ143*BASE!$AN$165/BASE!$AN143,\"\")","v":""},"",{"$f":"IF(BASE!AJ143=\"\",\"\",Reporte!$N143)","v":""},"",{"$f":"IFERROR(EN143*BASE!$AN$165/BASE!$AN143,\"\")","v":""},"",{"$f":"IF(BASE!AK143=\"\",\"\",Reporte!$N143)","v":""},"",{"$f":"IFERROR(ER143*BASE!$AN$165/BASE!$AN143,\"\")","v":""},"",{"$f":"IF(BASE!AL143=\"\",\"\",Reporte!$N143)","v":""},"",{"$f":"IFERROR(EV143*BASE!$AN$165/BASE!$AN143,\"\")","v":""},""]
[null,"Comp. Esp. 5","Criterio Evaluación 5.1","",{"$f":"Matematicas!E14","v":1},{"$f":"Matematicas!F14","v":5.5555555555555552E-2},{"$f":"Matematicas!G14","v":""},null,null,null,null,"Comp. Esp. 5","Criterio Evaluación 5.1","",{"$f":"'Peso criterios carga horaria'!F144","v":4.5},{"$f":"O144*BASE!$AN$165/BASE!AN144","v":3.8708333333333336},1.0309278350515464E-2,"",{"$f":"IF(BASE!E144=\"\",\"\",Reporte!$N144)","v":""},"",{"$f":"IFERROR(T144*BASE!$AN$165/BASE!$AN144,\"\")","v":""},"",{"$f":"IF(BASE!F144=\"\",\"\",Reporte!$N144)","v":""},"",{"$f":"IFERROR(X144*BASE!$AN$165/BASE!$AN144,\"\")","v":""},"",{"$f":"IF(BASE!G144=\"\",\"\",Reporte!$N144)","v":""},"",{"$f":"IFERROR(AB144*BASE!$AN$165/BASE!$AN144,\"\")","v":""},"",{"$f":"IF(BASE!H144=\"\",\"\",Reporte!$N144)","v":""},"",{"$f":"IFERROR(AF144*BASE!$AN$165/BASE!$AN144,\"\")","v":""},"",{"$f":"IF(BASE!I144=\"\",\"\",Reporte!$N144)","v":""},"",{"$f":"IFERROR(AJ144*BASE!$AN$165/BASE!$AN144,\"\")","v":""},"",{"$f":"IF(BASE!J144=\"\",\"\",Reporte!$N144)","v":""},"",{"$f":"IFERROR(AN144*BASE!$AN$165/BASE!$AN144,\"\")","v":""},"",{"$f":"IF(BASE!K144=\"\",\"\",Reporte!$N144)","v":""},"",{"$f":"IFERROR(AR144*BASE!$AN$165/BASE!$AN144,\"\")","v":""},"",{"$f":"IF(BASE!L144=\"\",\"\",Reporte!$N144)","v":""},"",{"$f":"IFERROR(AV144*BASE!$AN$165/BASE!$AN144,\"\")","v":""},"",{"$f":"IF(BASE!M144=\"\",\"\",Reporte!$N144)","v":""},"",{"$f":"IFERROR(AZ144*BASE!$AN$165/BASE!$AN144,\"\")","v":""},"",{"$f":"IF(BASE!N144=\"\",\"\",Reporte!$N144)","v":""},"",{"$f":"IFERROR(BD144*BASE!$AN$165/BASE!$AN144,\"\")","v":""},"",{"$f":"IF(BASE!O144=\"\",\"\",Reporte!$N144)","v":""},"",{"$f":"IFERROR(BH144*BASE!$AN$165/BASE!$AN144,\"\")","v":""},"",{"$f":"IF(BASE!P144=\"\",\"\",Reporte!$N144)","v":""},"",{"$f":"IFERROR(BL144*BASE!$AN$165/BASE!$AN144,\"\")","v":""},"",{"$f":"IF(BASE!Q144=\"\",\"\",Reporte!$N144)","v":""},"",{"$f":"IFERROR(BP144*BASE!$AN$165/BASE!$AN144,\"\")","v":""},"",{"$f":"IF(BASE!R144=\"\",\"\",Reporte!$N144)","v":""},"",{"$f":"IFERROR(BT144*BASE!$AN$165/BASE!$AN144,\"\")","v":""},"",{"$f":"IF(BASE!S144=\"\",\"\",Reporte!$N144)","v":""},"",{"$f":"IFERROR(BX144*BASE!$AN$165/BASE!$AN144,\"\")","v":""},"",{"$f":"IF(BASE!T144=\"\",\"\",Reporte!$N144)","v":""},"",{"$f":"IFERROR(CB144*BASE!$AN$165/BASE!$AN144,\"\")","v":""},"",{"$f":"IF(BASE!U144=\"\",\"\",Reporte!$N144)","v":""},"",{"$f":"IFERROR(CF144*BASE!$AN$165/BASE!$AN144,\"\")","v":""},"",{"$f":"IF(BASE!V144=\"\",\"\",Reporte!$N144)","v":""},"",{"$f":"IFERROR(CJ144*BASE!$AN$165/BASE!$AN144,\"\")","v":""},"",{"$f":"IF(BASE!W144=\"\",\"\",Reporte!$N144)","v":""},"",{"$f":"IFERROR(CN144*BASE!$AN$165/BASE!$AN144,\"\")","v":""},"",{"$f":"IF(BASE!X144=\"\",\"\",Reporte!$N144)","v":""},"",{"$f":"IFERROR(CR144*BASE!$AN$165/BASE!$AN144,\"\")","v":""},"",{"$f":"IF(BASE!Y144=\"\",\"\",Reporte!$N144)","v":""},"",{"$f":"IFERROR(CV144*BASE!$AN$165/BASE!$AN144,\"\")","v":""},"",{"$f":"IF(BASE!Z144=\"\",\"\",Reporte!$N144)","v":""},"",{"$f":"IFERROR(CZ144*BASE!$AN$165/BASE!$AN144,\"\")","v":""},"",{"$f":"IF(BASE!AA144=\"\",\"\",Reporte!$N144)","v":""},"",{"$f":"IFERROR(DD144*BASE!$AN$165/BASE!$AN144,\"\")","v":""},"",{"$f":"IF(BASE!AB144=\"\",\"\",Reporte!$N144)","v":""},"",{"$f":"IFERROR(DH144*BASE!$AN$165/BASE!$AN144,\"\")","v":""},"",{"$f":"IF(BASE!AC144=\"\",\"\",Reporte!$N144)","v":""},"",{"$f":"IFERROR(DL144*BASE!$AN$165/BASE!$AN144,\"\")","v":""},"",{"$f":"IF(BASE!AD144=\"\",\"\",Reporte!$N144)","v":""},"",{"$f":"IFERROR(DP144*BASE!$AN$165/BASE!$AN144,\"\")","v":""},"",{"$f":"IF(BASE!AE144=\"\",\"\",Reporte!$N144)","v":""},"",{"$f":"IFERROR(DT144*BASE!$AN$165/BASE!$AN144,\"\")","v":""},"",{"$f":"IF(BASE!AF144=\"\",\"\",Reporte!$N144)","v":""},"",{"$f":"IFERROR(DX144*BASE!$AN$165/BASE!$AN144,\"\")","v":""},"",{"$f":"IF(BASE!AG144=\"\",\"\",Reporte!$N144)","v":""},"",{"$f":"IFERROR(EB144*BASE!$AN$165/BASE!$AN144,\"\")","v":""},"",{"$f":"IF(BASE!AH144=\"\",\"\",Reporte!$N144)","v":""},"",{"$f":"IFERROR(EF144*BASE!$AN$165/BASE!$AN144,\"\")","v":""},"",{"$f":"IF(BASE!AI144=\"\",\"\",Reporte!$N144)","v":""},"",{"$f":"IFERROR(EJ144*BASE!$AN$165/BASE!$AN144,\"\")","v":""},"",{"$f":"IF(BASE!AJ144=\"\",\"\",Reporte!$N144)","v":""},"",{"$f":"IFERROR(EN144*BASE!$AN$165/BASE!$AN144,\"\")","v":""},"",{"$f":"IF(BASE!AK144=\"\",\"\",Reporte!$N144)","v":""},"",{"$f":"IFERROR(ER144*BASE!$AN$165/BASE!$AN144,\"\")","v":""},"",{"$f":"IF(BASE!AL144=\"\",\"\",Reporte!$N144)","v":""},"",{"$f":"IFERROR(EV144*BASE!$AN$165/BASE!$AN144,\"\")","v":""},""]
[null,null,"Criterio Evaluación 5.2","",{"$f":"Matematicas!E15","v":1},{"$f":"Matematicas!F15","v":5.5555555555555552E-2},{"$f":"Matematicas!G15","v":""},null,null,null,null,null,"Criterio Evaluación 5.2","",{"$f":"'Peso criterios carga horaria'!F145","v":4.5},{"$f":"O145*BASE!$AN$165/BASE!AN145","v":3.8708333333333336},1.0309278350515464E-2,"",{"$f":"IF(BASE!E145=\"\",\"\",Reporte!$N145)","v":""},"",{"$f":"IFERROR(T145*BASE!$AN$165/BASE!$AN145,\"\")","v":""},"",{"$f":"IF(BASE!F145=\"\",\"\",Reporte!$N145)","v":""},"",{"$f":"IFERROR(X145*BASE!$AN$165/BASE!$AN145,\"\")","v":""},"",{"$f":"IF(BASE!G145=\"\",\"\",Reporte!$N145)","v":""},"",{"$f":"IFERROR(AB145*BASE!$AN$165/BASE!$AN145,\"\")","v":""},"",{"$f":"IF(BASE!H145=\"\",\"\",Reporte!$N145)","v":""},"",{"$f":"IFERROR(AF145*BASE!$AN$165/BASE!$AN145,\"\")","v":""},"",{"$f":"IF(BASE!I145=\"\",\"\",Reporte!$N145)","v":""},"",{"$f":"IFERROR(AJ145*BASE!$AN$165/BASE!$AN145,\"\")","v":""},"",{"$f":"IF(BASE!J145=\"\",\"\",Reporte!$N145)","v":""},"",{"$f":"IFERROR(AN145*BASE!$AN$165/BASE!$AN145,\"\")","v":""},"",{"$f":"IF(BASE!K145=\"\",\"\",Reporte!$N145)","v":""},"",{"$f":"IFERROR(AR145*BASE!$AN$165/BASE!$AN145,\"\")","v":""},"",{"$f":"IF(BASE!L145=\"\",\"\",Reporte!$N145)","v":""},"",{"$f":"IFERROR(AV145*BASE!$AN$165/BASE!$AN145,\"\")","v":""},"",{"$f":"IF(BASE!M145=\"\",\"\",Reporte!$N145)","v":""},"",{"$f":"IFERROR(AZ145*BASE!$AN$165/BASE!$AN145,\"\")","v":""},"",{"$f":"IF(BASE!N145=\"\",\"\",Reporte!$N145)","v":""},"",{"$f":"IFERROR(BD145*BASE!$AN$165/BASE!$AN145,\"\")","v":""},"",{"$f":"IF(BASE!O145=\"\",\"\",Reporte!$N145)","v":""},"",{"$f":"IFERROR(BH145*BASE!$AN$165/BASE!$AN145,\"\")","v":""},"",{"$f":"IF(BASE!P145=\"\",\"\",Reporte!$N145)","v":""},"",{"$f":"IFERROR(BL145*BASE!$AN$165/BASE!$AN145,\"\")","v":""},"",{"$f":"IF(BASE!Q145=\"\",\"\",Reporte!$N145)","v":""},"",{"$f":"IFERROR(BP145*BASE!$AN$165/BASE!$AN145,\"\")","v":""},"",{"$f":"IF(BASE!R145=\"\",\"\",Reporte!$N145)","v":""},"",{"$f":"IFERROR(BT145*BASE!$AN$165/BASE!$AN145,\"\")","v":""},"",{"$f":"IF(BASE!S145=\"\",\"\",Reporte!$N145)","v":""},"",{"$f":"IFERROR(BX145*BASE!$AN$165/BASE!$AN145,\"\")","v":""},"",{"$f":"IF(BASE!T145=\"\",\"\",Reporte!$N145)","v":""},"",{"$f":"IFERROR(CB145*BASE!$AN$165/BASE!$AN145,\"\")","v":""},"",{"$f":"IF(BASE!U145=\"\",\"\",Reporte!$N145)","v":""},"",{"$f":"IFERROR(CF145*BASE!$AN$165/BASE!$AN145,\"\")","v":""},"",{"$f":"IF(BASE!V145=\"\",\"\",Reporte!$N145)","v":""},"",{"$f":"IFERROR(CJ145*BASE!$AN$165/BASE!$AN145,\"\")","v":""},"",{"$f":"IF(BASE!W145=\"\",\"\",Reporte!$N145)","v":""},"",{"$f":"IFERROR(CN145*BASE!$AN$165/BASE!$AN145,\"\")","v":""},"",{"$f":"IF(BASE!X145=\"\",\"\",Reporte!$N145)","v":""},"",{"$f":"IFERROR(CR145*BASE!$AN$165/BASE!$AN145,\"\")","v":""},"",{"$f":"IF(BASE!Y145=\"\",\"\",Reporte!$N145)","v":""},"",{"$f":"IFERROR(CV145*BASE!$AN$165/BASE!$AN145,\"\")","v":""},"",{"$f":"IF(BASE!Z145=\"\",\"\",Reporte!$N145)","v":""},"",{"$f":"IFERROR(CZ145*BASE!$AN$165/BASE!$AN145,\"\")","v":""},"",{"$f":"IF(BASE!AA145=\"\",\"\",Reporte!$N145)","v":""},"",{"$f":"IFERROR(DD145*BASE!$AN$165/BASE!$AN145,\"\")","v":""},"",{"$f":"IF(BASE!AB145=\"\",\"\",Reporte!$N145)","v":""},"",{"$f":"IFERROR(DH145*BASE!$AN$165/BASE!$AN145,\"\")","v":""},"",{"$f":"IF(BASE!AC145=\"\",\"\",Reporte!$N145)","v":""},"",{"$f":"IFERROR(DL145*BASE!$AN$165/BASE!$AN145,\"\")","v":""},"",{"$f":"IF(BASE!AD145=\"\",\"\",Reporte!$N145)","v":""},"",{"$f":"IFERROR(DP145*BASE!$AN$165/BASE!$AN145,\"\")","v":""},"",{"$f":"IF(BASE!AE145=\"\",\"\",Reporte!$N145)","v":""},"",{"$f":"IFERROR(DT145*BASE!$AN$165/BASE!$AN145,\"\")","v":""},"",{"$f":"IF(BASE!AF145=\"\",\"\",Reporte!$N145)","v":""},"",{"$f":"IFERROR(DX145*BASE!$AN$165/BASE!$AN145,\"\")","v":""},"",{"$f":"IF(BASE!AG145=\"\",\"\",Reporte!$N145)","v":""},"",{"$f":"IFERROR(EB145*BASE!$AN$165/BASE!$AN145,\"\")","v":""},"",{"$f":"IF(BASE!AH145=\"\",\"\",Reporte!$N145)","v":""},"",{"$f":"IFERROR(EF145*BASE!$AN$165/BASE!$AN145,\"\")","v":""},"",{"$f":"IF(BASE!AI145=\"\",\"\",Reporte!$N145)","v":""},"",{"$f":"IFERROR(EJ145*BASE!$AN$165/BASE!$AN145,\"\")","v":""},"",{"$f":"IF(BASE!AJ145=\"\",\"\",Reporte!$N145)","v":""},"",{"$f":"IFERROR(EN145*BASE!$AN$165/BASE!$AN145,\"\")","v":""},"",{"$f":"IF(BASE!AK145=\"\",\"\",Reporte!$N145)","v":""},"",{"$f":"IFERROR(ER145*BASE!$AN$165/BASE!$AN145,\"\")","v":""},"",{"$f":"IF(BASE!AL145=\"\",\"\",Reporte!$N145)","v":""},"",{"$f":"IFERROR(EV145*BASE!$AN$165/BASE!$AN145,\"\")","v":""},""]
[null,"Comp. Esp. 6","Criterio Evaluación 6.1","",{"$f":"Matematicas!E16","v":1},{"$f":"Matematicas!F16","v":5.5555555555555552E-2},{"$f":"Matematicas!G16","v":""},null,null,null,null,"Comp. Esp. 6","Criterio Evaluación 6.1","",{"$f":"'Peso criterios carga horaria'!F146","v":4.5},{"$f":"O146*BASE!$AN$165/BASE!AN146","v":3.8708333333333336},1.0309278350515464E-2,"",{"$f":"IF(BASE!E146=\"\",\"\",Reporte!$N146)","v":""},"",{"$f":"IFERROR(T146*BASE!$AN$165/BASE!$AN146,\"\")","v":""},"",{"$f":"IF(BASE!F146=\"\",\"\",Reporte!$N146)","v":""},"",{"$f":"IFERROR(X146*BASE!$AN$165/BASE!$AN146,\"\")","v":""},"",{"$f":"IF(BASE!G146=\"\",\"\",Reporte!$N146)","v":""},"",{"$f":"IFERROR(AB146*BASE!$AN$165/BASE!$AN146,\"\")","v":""},"",{"$f":"IF(BASE!H146=\"\",\"\",Reporte!$N146)","v":""},"",{"$f":"IFERROR(AF146*BASE!$AN$165/BASE!$AN146,\"\")","v":""},"",{"$f":"IF(BASE!I146=\"\",\"\",Reporte!$N146)","v":""},"",{"$f":"IFERROR(AJ146*BASE!$AN$165/BASE!$AN146,\"\")","v":""},"",{"$f":"IF(BASE!J146=\"\",\"\",Reporte!$N146)","v":""},"",{"$f":"IFERROR(AN146*BASE!$AN$165/BASE!$AN146,\"\")","v":""},"",{"$f":"IF(BASE!K146=\"\",\"\",Reporte!$N146)","v":""},"",{"$f":"IFERROR(AR146*BASE!$AN$165/BASE!$AN146,\"\")","v":""},"",{"$f":"IF(BASE!L146=\"\",\"\",Reporte!$N146)","v":""},"",{"$f":"IFERROR(AV146*BASE!$AN$165/BASE!$AN146,\"\")","v":""},"",{"$f":"IF(BASE!M146=\"\",\"\",Reporte!$N146)","v":""},"",{"$f":"IFERROR(AZ146*BASE!$AN$165/BASE!$AN146,\"\")","v":""},"",{"$f":"IF(BASE!N146=\"\",\"\",Reporte!$N146)","v":""},"",{"$f":"IFERROR(BD146*BASE!$AN$165/BASE!$AN146,\"\")","v":""},"",{"$f":"IF(BASE!O146=\"\",\"\",Reporte!$N146)","v":""},"",{"$f":"IFERROR(BH146*BASE!$AN$165/BASE!$AN146,\"\")","v":""},"",{"$f":"IF(BASE!P146=\"\",\"\",Reporte!$N146)","v":""},"",{"$f":"IFERROR(BL146*BASE!$AN$165/BASE!$AN146,\"\")","v":""},"",{"$f":"IF(BASE!Q146=\"\",\"\",Reporte!$N146)","v":""},"",{"$f":"IFERROR(BP146*BASE!$AN$165/BASE!$AN146,\"\")","v":""},"",{"$f":"IF(BASE!R146=\"\",\"\",Reporte!$N146)","v":""},"",{"$f":"IFERROR(BT146*BASE!$AN$165/BASE!$AN146,\"\")","v":""},"",{"$f":"IF(BASE!S146=\"\",\"\",Reporte!$N146)","v":""},"",{"$f":"IFERROR(BX146*BASE!$AN$165/BASE!$AN146,\"\")","v":""},"",{"$f":"IF(BASE!T146=\"\",\"\",Reporte!$N146)","v":""},"",{"$f":"IFERROR(CB146*BASE!$AN$165/BASE!$AN146,\"\")","v":""},"",{"$f":"IF(BASE!U146=\"\",\"\",Reporte!$N146)","v":""},"",{"$f":"IFERROR(CF146*BASE!$AN$165/BASE!$AN146,\"\")","v":""},"",{"$f":"IF(BASE!V146=\"\",\"\",Reporte!$N146)","v":""},"",{"$f":"IFERROR(CJ146*BASE!$AN$165/BASE!$AN146,\"\")","v":""},"",{"$f":"IF(BASE!W146=\"\",\"\",Reporte!$N146)","v":""},"",{"$f":"IFERROR(CN146*BASE!$AN$165/BASE!$AN146,\"\")","v":""},"",{"$f":"IF(BASE!X146=\"\",\"\",Reporte!$N146)","v":""},"",{"$f":"IFERROR(CR146*BASE!$AN$165/BASE!$AN146,\"\")","v":""},"",{"$f":"IF(BASE!Y146=\"\",\"\",Reporte!$N146)","v":""},"",{"$f":"IFERROR(CV146*BASE!$AN$165/BASE!$AN146,\"\")","v":""},"",{"$f":"IF(BASE!Z146=\"\",\"\",Reporte!$N146)","v":""},"",{"$f":"IFERROR(CZ146*BASE!$AN$165/BASE!$AN146,\"\")","v":""},"",{"$f":"IF(BASE!AA146=\"\",\"\",Reporte!$N146)","v":""},"",{"$f":"IFERROR(DD146*BASE!$AN$165/BASE!$AN146,\"\")","v":""},"",{"$f":"IF(BASE!AB146=\"\",\"\",Reporte!$N146)","v":""},"",{"$f":"IFERROR(DH146*BASE!$AN$165/BASE!$AN146,\"\")","v":""},"",{"$f":"IF(BASE!AC146=\"\",\"\",Reporte!$N146)","v":""},"",{"$f":"IFERROR(DL146*BASE!$AN$165/BASE!$AN146,\"\")","v":""},"",{"$f":"IF(BASE!AD146=\"\",\"\",Reporte!$N146)","v":""},"",{"$f":"IFERROR(DP146*BASE!$AN$165/BASE!$AN146,\"\")","v":""},"",{"$f":"IF(BASE!AE146=\"\",\"\",Reporte!$N146)","v":""},"",{"$f":"IFERROR(DT146*BASE!$AN$165/BASE!$AN146,\"\")","v":""},"",{"$f":"IF(BASE!AF146=\"\",\"\",Reporte!$N146)","v":""},"",{"$f":"IFERROR(DX146*BASE!$AN$165/BASE!$AN146,\"\")","v":""},"",{"$f":"IF(BASE!AG146=\"\",\"\",Reporte!$N146)","v":""},"",{"$f":"IFERROR(EB146*BASE!$AN$165/BASE!$AN146,\"\")","v":""},"",{"$f":"IF(BASE!AH146=\"\",\"\",Reporte!$N146)","v":""},"",{"$f":"IFERROR(EF146*BASE!$AN$165/BASE!$AN146,\"\")","v":""},"",{"$f":"IF(BASE!AI146=\"\",\"\",Reporte!$N146)","v":""},"",{"$f":"IFERROR(EJ146*BASE!$AN$165/BASE!$AN146,\"\")","v":""},"",{"$f":"IF(BASE!AJ146=\"\",\"\",Reporte!$N146)","v":""},"",{"$f":"IFERROR(EN146*BASE!$AN$165/BASE!$AN146,\"\")","v":""},"",{"$f":"IF(BASE!AK146=\"\",\"\",Reporte!$N146)","v":""},"",{"$f":"IFERROR(ER146*BASE!$AN$165/BASE!$AN146,\"\")","v":""},"",{"$f":"IF(BASE!AL146=\"\",\"\",Reporte!$N146)","v":""},"",{"$f":"IFERROR(EV146*BASE!$AN$165/BASE!$AN146,\"\")","v":""},""]
[null,null,"Criterio Evaluación 6.2","",{"$f":"Matematicas!E17","v":1},{"$f":"Matematicas!F17","v":5.5555555555555552E-2},{"$f":"Matematicas!G17","v":""},null,null,null,null,null,"Criterio Evaluación 6.2","",{"$f":"'Peso criterios carga horaria'!F147","v":4.5},{"$f":"O147*BASE!$AN$165/BASE!AN147","v":3.8708333333333336},1.0309278350515464E-2,"",{"$f":"IF(BASE!E147=\"\",\"\",Reporte!$N147)","v":""},"",{"$f":"IFERROR(T147*BASE!$AN$165/BASE!$AN147,\"\")","v":""},"",{"$f":"IF(BASE!F147=\"\",\"\",Reporte!$N147)","v":""},"",{"$f":"IFERROR(X147*BASE!$AN$165/BASE!$AN147,\"\")","v":""},"",{"$f":"IF(BASE!G147=\"\",\"\",Reporte!$N147)","v":""},"",{"$f":"IFERROR(AB147*BASE!$AN$165/BASE!$AN147,\"\")","v":""},"",{"$f":"IF(BASE!H147=\"\",\"\",Reporte!$N147)","v":""},"",{"$f":"IFERROR(AF147*BASE!$AN$165/BASE!$AN147,\"\")","v":""},"",{"$f":"IF(BASE!I147=\"\",\"\",Reporte!$N147)","v":""},"",{"$f":"IFERROR(AJ147*BASE!$AN$165/BASE!$AN147,\"\")","v":""},"",{"$f":"IF(BASE!J147=\"\",\"\",Reporte!$N147)","v":""},"",{"$f":"IFERROR(AN147*BASE!$AN$165/BASE!$AN147,\"\")","v":""},"",{"$f":"IF(BASE!K147=\"\",\"\",Reporte!$N147)","v":""},"",{"$f":"IFERROR(AR147*BASE!$AN$165/BASE!$AN147,\"\")","v":""},"",{"$f":"IF(BASE!L147=\"\",\"\",Reporte!$N147)","v":""},"",{"$f":"IFERROR(AV147*BASE!$AN$165/BASE!$AN147,\"\")","v":""},"",{"$f":"IF(BASE!M147=\"\",\"\",Reporte!$N147)","v":""},"",{"$f":"IFERROR(AZ147*BASE!$AN$165/BASE!$AN147,\"\")","v":""},"",{"$f":"IF(BASE!N147=\"\",\"\",Reporte!$N147)","v":""},"",{"$f":"IFERROR(BD147*BASE!$AN$165/BASE!$AN147,\"\")","v":""},"",{"$f":"IF(BASE!O147=\"\",\"\",Reporte!$N147)","v":""},"",{"$f":"IFERROR(BH147*BASE!$AN$165/BASE!$AN147,\"\")","v":""},"",{"$f":"IF(BASE!P147=\"\",\"\",Reporte!$N147)","v":""},"",{"$f":"IFERROR(BL147*BASE!$AN$165/BASE!$AN147,\"\")","v":""},"",{"$f":"IF(BASE!Q147=\"\",\"\",Reporte!$N147)","v":""},"",{"$f":"IFERROR(BP147*BASE!$AN$165/BASE!$AN147,\"\")","v":""},"",{"$f":"IF(BASE!R147=\"\",\"\",Reporte!$N147)","v":""},"",{"$f":"IFERROR(BT147*BASE!$AN$165/BASE!$AN147,\"\")","v":""},"",{"$f":"IF(BASE!S147=\"\",\"\",Reporte!$N147)","v":""},"",{"$f":"IFERROR(BX147*BASE!$AN$165/BASE!$AN147,\"\")","v":""},"",{"$f":"IF(BASE!T147=\"\",\"\",Reporte!$N147)","v":""},"",{"$f":"IFERROR(CB147*BASE!$AN$165/BASE!$AN147,\"\")","v":""},"",{"$f":"IF(BASE!U147=\"\",\"\",Reporte!$N147)","v":""},"",{"$f":"IFERROR(CF147*BASE!$AN$165/BASE!$AN147,\"\")","v":""},"",{"$f":"IF(BASE!V147=\"\",\"\",Reporte!$N147)","v":""},"",{"$f":"IFERROR(CJ147*BASE!$AN$165/BASE!$AN147,\"\")","v":""},"",{"$f":"IF(BASE!W147=\"\",\"\",Reporte!$N147)","v":""},"",{"$f":"IFERROR(CN147*BASE!$AN$165/BASE!$AN147,\"\")","v":""},"",{"$f":"IF(BASE!X147=\"\",\"\",Reporte!$N147)","v":""},"",{"$f":"IFERROR(CR147*BASE!$AN$165/BASE!$AN147,\"\")","v":""},"",{"$f":"IF(BASE!Y147=\"\",\"\",Reporte!$N147)","v":""},"",{"$f":"IFERROR(CV147*BASE!$AN$165/BASE!$AN147,\"\")","v":""},"",{"$f":"IF(BASE!Z147=\"\",\"\",Reporte!$N147)","v":""},"",{"$f":"IFERROR(CZ147*BASE!$AN$165/BASE!$AN147,\"\")","v":""},"",{"$f":"IF(BASE!AA147=\"\",\"\",Reporte!$N147)","v":""},"",{"$f":"IFERROR(DD147*BASE!$AN$165/BASE!$AN147,\"\")","v":""},"",{"$f":"IF(BASE!AB147=\"\",\"\",Reporte!$N147)","v":""},"",{"$f":"IFERROR(DH147*BASE!$AN$165/BASE!$AN147,\"\")","v":""},"",{"$f":"IF(BASE!AC147=\"\",\"\",Reporte!$N147)","v":""},"",{"$f":"IFERROR(DL147*BASE!$AN$165/BASE!$AN147,\"\")","v":""},"",{"$f":"IF(BASE!AD147=\"\",\"\",Reporte!$N147)","v":""},"",{"$f":"IFERROR(DP147*BASE!$AN$165/BASE!$AN147,\"\")","v":""},"",{"$f":"IF(BASE!AE147=\"\",\"\",Reporte!$N147)","v":""},"",{"$f":"IFERROR(DT147*BASE!$AN$165/BASE!$AN147,\"\")","v":""},"",{"$f":"IF(BASE!AF147=\"\",\"\",Reporte!$N147)","v":""},"",{"$f":"IFERROR(DX147*BASE!$AN$165/BASE!$AN147,\"\")","v":""},"",{"$f":"IF(BASE!AG147=\"\",\"\",Reporte!$N147)","v":""},"",{"$f":"IFERROR(EB147*BASE!$AN$165/BASE!$AN147,\"\")","v":""},"",{"$f":"IF(BASE!AH147=\"\",\"\",Reporte!$N147)","v":""},"",{"$f":"IFERROR(EF147*BASE!$AN$165/BASE!$AN147,\"\")","v":""},"",{"$f":"IF(BASE!AI147=\"\",\"\",Reporte!$N147)","v":""},"",{"$f":"IFERROR(EJ147*BASE!$AN$165/BASE!$AN147,\"\")","v":""},"",{"$f":"IF(BASE!AJ147=\"\",\"\",Reporte!$N147)","v":""},"",{"$f":"IFERROR(EN147*BASE!$AN$165/BASE!$AN147,\"\")","v":""},"",{"$f":"IF(BASE!AK147=\"\",\"\",Reporte!$N147)","v":""},"",{"$f":"IFERROR(ER147*BASE!$AN$165/BASE!$AN147,\"\")","v":""},"",{"$f":"IF(BASE!AL147=\"\",\"\",Reporte!$N147)","v":""},"",{"$f":"IFERROR(EV147*BASE!$AN$165/BASE!$AN147,\"\")","v":""},""]
[null,"Comp. Esp. 7","Criterio Evaluación 7.1","",{"$f":"Matematicas!E18","v":1},{"$f":"Matematicas!F18","v":5.5555555555555552E-2},{"$f":"Matematicas!G18","v":""},null,null,null,null,"Comp. Esp. 7","Criterio Evaluación 7.1","",{"$f":"'Peso criterios carga horaria'!F148","v":4.5},{"$f":"O148*BASE!$AN$165/BASE!AN148","v":3.8708333333333336},1.0309278350515464E-2,"",{"$f":"IF(BASE!E148=\"\",\"\",Reporte!$N148)","v":""},"",{"$f":"IFERROR(T148*BASE!$AN$165/BASE!$AN148,\"\")","v":""},"",{"$f":"IF(BASE!F148=\"\",\"\",Reporte!$N148)","v":""},"",{"$f":"IFERROR(X148*BASE!$AN$165/BASE!$AN148,\"\")","v":""},"",{"$f":"IF(BASE!G148=\"\",\"\",Reporte!$N148)","v":""},"",{"$f":"IFERROR(AB148*BASE!$AN$165/BASE!$AN148,\"\")","v":""},"",{"$f":"IF(BASE!H148=\"\",\"\",Reporte!$N148)","v":""},"",{"$f":"IFERROR(AF148*BASE!$AN$165/BASE!$AN148,\"\")","v":""},"",{"$f":"IF(BASE!I148=\"\",\"\",Reporte!$N148)","v":""},"",{"$f":"IFERROR(AJ148*BASE!$AN$165/BASE!$AN148,\"\")","v":""},"",{"$f":"IF(BASE!J148=\"\",\"\",Reporte!$N148)","v":""},"",{"$f":"IFERROR(AN148*BASE!$AN$165/BASE!$AN148,\"\")","v":""},"",{"$f":"IF(BASE!K148=\"\",\"\",Reporte!$N148)","v":""},"",{"$f":"IFERROR(AR148*BASE!$AN$165/BASE!$AN148,\"\")","v":""},"",{"$f":"IF(BASE!L148=\"\",\"\",Reporte!$N148)","v":""},"",{"$f":"IFERROR(AV148*BASE!$AN$165/BASE!$AN148,\"\")","v":""},"",{"$f":"IF(BASE!M148=\"\",\"\",Reporte!$N148)","v":""},"",{"$f":"IFERROR(AZ148*BASE!$AN$165/BASE!$AN148,\"\")","v":""},"",{"$f":"IF(BASE!N148=\"\",\"\",Reporte!$N148)","v":""},"",{"$f":"IFERROR(BD148*BASE!$AN$165/BASE!$AN148,\"\")","v":""},"",{"$f":"IF(BASE!O148=\"\",\"\",Reporte!$N148)","v":""},"",{"$f":"IFERROR(BH148*BASE!$AN$165/BASE!$AN148,\"\")","v":""},"",{"$f":"IF(BASE!P148=\"\",\"\",Reporte!$N148)","v":""},"",{"$f":"IFERROR(BL148*BASE!$AN$165/BASE!$AN148,\"\")","v":""},"",{"$f":"IF(BASE!Q148=\"\",\"\",Reporte!$N148)","v":""},"",{"$f":"IFERROR(BP148*BASE!$AN$165/BASE!$AN148,\"\")","v":""},"",{"$f":"IF(BASE!R148=\"\",\"\",Reporte!$N148)","v":""},"",{"$f":"IFERROR(BT148*BASE!$AN$165/BASE!$AN148,\"\")","v":""},"",{"$f":"IF(BASE!S148=\"\",\"\",Reporte!$N148)","v":""},"",{"$f":"IFERROR(BX148*BASE!$AN$165/BASE!$AN148,\"\")","v":""},"",{"$f":"IF(BASE!T148=\"\",\"\",Reporte!$N148)","v":""},"",{"$f":"IFERROR(CB148*BASE!$AN$165/BASE!$AN148,\"\")","v":""},"",{"$f":"IF(BASE!U148=\"\",\"\",Reporte!$N148)","v":""},"",{"$f":"IFERROR(CF148*BASE!$AN$165/BASE!$AN148,\"\")","v":""},"",{"$f":"IF(BASE!V148=\"\",\"\",Reporte!$N148)","v":""},"",{"$f":"IFERROR(CJ148*BASE!$AN$165/BASE!$AN148,\"\")","v":""},"",{"$f":"IF(BASE!W148=\"\",\"\",Reporte!$N148)","v":""},"",{"$f":"IFERROR(CN148*BASE!$AN$165/BASE!$AN148,\"\")","v":""},"",{"$f":"IF(BASE!X148=\"\",\"\",Reporte!$N148)","v":""},"",{"$f":"IFERROR(CR148*BASE!$AN$165/BASE!$AN148,\"\")","v":""},"",{"$f":"IF(BASE!Y148=\"\",\"\",Reporte!$N148)","v":""},"",{"$f":"IFERROR(CV148*BASE!$AN$165/BASE!$AN148,\"\")","v":""},"",{"$f":"IF(BASE!Z148=\"\",\"\",Reporte!$N148)","v":""},"",{"$f":"IFERROR(CZ148*BASE!$AN$165/BASE!$AN148,\"\")","v":""},"",{"$f":"IF(BASE!AA148=\"\",\"\",Reporte!$N148)","v":""},"",{"$f":"IFERROR(DD148*BASE!$AN$165/BASE!$AN148,\"\")","v":""},"",{"$f":"IF(BASE!AB148=\"\",\"\",Reporte!$N148)","v":""},"",{"$f":"IFERROR(DH148*BASE!$AN$165/BASE!$AN148,\"\")","v":""},"",{"$f":"IF(BASE!AC148=\"\",\"\",Reporte!$N148)","v":""},"",{"$f":"IFERROR(DL148*BASE!$AN$165/BASE!$AN148,\"\")","v":""},"",{"$f":"IF(BASE!AD148=\"\",\"\",Reporte!$N148)","v":""},"",{"$f":"IFERROR(DP148*BASE!$AN$165/BASE!$AN148,\"\")","v":""},"",{"$f":"IF(BASE!AE148=\"\",\"\",Reporte!$N148)","v":""},"",{"$f":"IFERROR(DT148*BASE!$AN$165/BASE!$AN148,\"\")","v":""},"",{"$f":"IF(BASE!AF148=\"\",\"\",Reporte!$N148)","v":""},"",{"$f":"IFERROR(DX148*BASE!$AN$165/BASE!$AN148,\"\")","v":""},"",{"$f":"IF(BASE!AG148=\"\",\"\",Reporte!$N148)","v":""},"",{"$f":"IFERROR(EB148*BASE!$AN$165/BASE!$AN148,\"\")","v":""},"",{"$f":"IF(BASE!AH148=\"\",\"\",Reporte!$N148)","v":""},"",{"$f":"IFERROR(EF148*BASE!$AN$165/BASE!$AN148,\"\")","v":""},"",{"$f":"IF(BASE!AI148=\"\",\"\",Reporte!$N148)","v":""},"",{"$f":"IFERROR(EJ148*BASE!$AN$165/BASE!$AN148,\"\")","v":""},"",{"$f":"IF(BASE!AJ148=\"\",\"\",Reporte!$N148)","v":""},"",{"$f":"IFERROR(EN148*BASE!$AN$165/BASE!$AN148,\"\")","v":""},"",{"$f":"IF(BASE!AK148=\"\",\"\",Reporte!$N148)","v":""},"",{"$f":"IFERROR(ER148*BASE!$AN$165/BASE!$AN148,\"\")","v":""},"",{"$f":"IF(BASE!AL148=\"\",\"\",Reporte!$N148)","v":""},"",{"$f":"IFERROR(EV148*BASE!$AN$165/BASE!$AN148,\"\")","v":""},""]
[null,null,"Criterio Evaluación 7.2","",{"$f":"Matematicas!E19","v":1},{"$f":"Matematicas!F19","v":5.5555555555555552E-2},{"$f":"Matematicas!G19","v":""},null,null,null,null,null,"Criterio Evaluación 7.2","",{"$f":"'Peso criterios carga horaria'!F149","v":4.5},{"$f":"O149*BASE!$AN$165/BASE!AN149","v":3.8708333333333336},1.0309278350515464E-2,"",{"$f":"IF(BASE!E149=\"\",\"\",Reporte!$N149)","v":""},"",{"$f":"IFERROR(T149*BASE!$AN$165/BASE!$AN149,\"\")","v":""},"",{"$f":"IF(BASE!F149=\"\",\"\",Reporte!$N149)","v":""},"",{"$f":"IFERROR(X149*BASE!$AN$165/BASE!$AN149,\"\")","v":""},"",{"$f":"IF(BASE!G149=\"\",\"\",Reporte!$N149)","v":""},"",{"$f":"IFERROR(AB149*BASE!$AN$165/BASE!$AN149,\"\")","v":""},"",{"$f":"IF(BASE!H149=\"\",\"\",Reporte!$N149)","v":""},"",{"$f":"IFERROR(AF149*BASE!$AN$165/BASE!$AN149,\"\")","v":""},"",{"$f":"IF(BASE!I149=\"\",\"\",Reporte!$N149)","v":""},"",{"$f":"IFERROR(AJ149*BASE!$AN$165/BASE!$AN149,\"\")","v":""},"",{"$f":"IF(BASE!J149=\"\",\"\",Reporte!$N149)","v":""},"",{"$f":"IFERROR(AN149*BASE!$AN$165/BASE!$AN149,\"\")","v":""},"",{"$f":"IF(BASE!K149=\"\",\"\",Reporte!$N149)","v":""},"",{"$f":"IFERROR(AR149*BASE!$AN$165/BASE!$AN149,\"\")","v":""},"",{"$f":"IF(BASE!L149=\"\",\"\",Reporte!$N149)","v":""},"",{"$f":"IFERROR(AV149*BASE!$AN$165/BASE!$AN149,\"\")","v":""},"",{"$f":"IF(BASE!M149=\"\",\"\",Reporte!$N149)","v":""},"",{"$f":"IFERROR(AZ149*BASE!$AN$165/BASE!$AN149,\"\")","v":""},"",{"$f":"IF(BASE!N149=\"\",\"\",Reporte!$N149)","v":""},"",{"$f":"IFERROR(BD149*BASE!$AN$165/BASE!$AN149,\"\")","v":""},"",{"$f":"IF(BASE!O149=\"\",\"\",Reporte!$N149)","v":""},"",{"$f":"IFERROR(BH149*BASE!$AN$165/BASE!$AN149,\"\")","v":""},"",{"$f":"IF(BASE!P149=\"\",\"\",Reporte!$N149)","v":""},"",{"$f":"IFERROR(BL149*BASE!$AN$165/BASE!$AN149,\"\")","v":""},"",{"$f":"IF(BASE!Q149=\"\",\"\",Reporte!$N149)","v":""},"",{"$f":"IFERROR(BP149*BASE!$AN$165/BASE!$AN149,\"\")","v":""},"",{"$f":"IF(BASE!R149=\"\",\"\",Reporte!$N149)","v":""},"",{"$f":"IFERROR(BT149*BASE!$AN$165/BASE!$AN149,\"\")","v":""},"",{"$f":"IF(BASE!S149=\"\",\"\",Reporte!$N149)","v":""},"",{"$f":"IFERROR(BX149*BASE!$AN$165/BASE!$AN149,\"\")","v":""},"",{"$f":"IF(BASE!T149=\"\",\"\",Reporte!$N149)","v":""},"",{"$f":"IFERROR(CB149*BASE!$AN$165/BASE!$AN149,\"\")","v":""},"",{"$f":"IF(BASE!U149=\"\",\"\",Reporte!$N149)","v":""},"",{"$f":"IFERROR(CF149*BASE!$AN$165/BASE!$AN149,\"\")","v":""},"",{"$f":"IF(BASE!V149=\"\",\"\",Reporte!$N149)","v":""},"",{"$f":"IFERROR(CJ149*BASE!$AN$165/BASE!$AN149,\"\")","v":""},"",{"$f":"IF(BASE!W149=\"\",\"\",Reporte!$N149)","v":""},"",{"$f":"IFERROR(CN149*BASE!$AN$165/BASE!$AN149,\"\")","v":""},"",{"$f":"IF(BASE!X149=\"\",\"\",Reporte!$N149)","v":""},"",{"$f":"IFERROR(CR149*BASE!$AN$165/BASE!$AN149,\"\")","v":""},"",{"$f":"IF(BASE!Y149=\"\",\"\",Reporte!$N149)","v":""},"",{"$f":"IFERROR(CV149*BASE!$AN$165/BASE!$AN149,\"\")","v":""},"",{"$f":"IF(BASE!Z149=\"\",\"\",Reporte!$N149)","v":""},"",{"$f":"IFERROR(CZ149*BASE!$AN$165/BASE!$AN149,\"\")","v":""},"",{"$f":"IF(BASE!AA149=\"\",\"\",Reporte!$N149)","v":""},"",{"$f":"IFERROR(DD149*BASE!$AN$165/BASE!$AN149,\"\")","v":""},"",{"$f":"IF(BASE!AB149=\"\",\"\",Reporte!$N149)","v":""},"",{"$f":"IFERROR(DH149*BASE!$AN$165/BASE!$AN149,\"\")","v":""},"",{"$f":"IF(BASE!AC149=\"\",\"\",Reporte!$N149)","v":""},"",{"$f":"IFERROR(DL149*BASE!$AN$165/BASE!$AN149,\"\")","v":""},"",{"$f":"IF(BASE!AD149=\"\",\"\",Reporte!$N149)","v":""},"",{"$f":"IFERROR(DP149*BASE!$AN$165/BASE!$AN149,\"\")","v":""},"",{"$f":"IF(BASE!AE149=\"\",\"\",Reporte!$N149)","v":""},"",{"$f":"IFERROR(DT149*BASE!$AN$165/BASE!$AN149,\"\")","v":""},"",{"$f":"IF(BASE!AF149=\"\",\"\",Reporte!$N149)","v":""},"",{"$f":"IFERROR(DX149*BASE!$AN$165/BASE!$AN149,\"\")","v":""},"",{"$f":"IF(BASE!AG149=\"\",\"\",Reporte!$N149)","v":""},"",{"$f":"IFERROR(EB149*BASE!$AN$165/BASE!$AN149,\"\")","v":""},"",{"$f":"IF(BASE!AH149=\"\",\"\",Reporte!$N149)","v":""},"",{"$f":"IFERROR(EF149*BASE!$AN$165/BASE!$AN149,\"\")","v":""},"",{"$f":"IF(BASE!AI149=\"\",\"\",Reporte!$N149)","v":""},"",{"$f":"IFERROR(EJ149*BASE!$AN$165/BASE!$AN149,\"\")","v":""},"",{"$f":"IF(BASE!AJ149=\"\",\"\",Reporte!$N149)","v":""},"",{"$f":"IFERROR(EN149*BASE!$AN$165/BASE!$AN149,\"\")","v":""},"",{"$f":"IF(BASE!AK149=\"\",\"\",Reporte!$N149)","v":""},"",{"$f":"IFERROR(ER149*BASE!$AN$165/BASE!$AN149,\"\")","v":""},"",{"$f":"IF(BASE!AL149=\"\",\"\",Reporte!$N149)","v":""},"",{"$f":"IFERROR(EV149*BASE!$AN$165/BASE!$AN149,\"\")","v":""},""]
[null,"Comp. Esp. 8","Criterio Evaluación 8.1","",{"$f":"Matematicas!E20","v":1},{"$f":"Matematicas!F20","v":5.5555555555555552E-2},{"$f":"Matematicas!G20","v":""},null,null,null,null,"Comp. Esp. 8","Criterio Evaluación 8.1","",{"$f":"'Peso criterios carga horaria'!F150","v":4.5},{"$f":"O150*BASE!$AN$165/BASE!AN150","v":3.8708333333333336},1.0309278350515464E-2,"",{"$f":"IF(BASE!E150=\"\",\"\",Reporte!$N150)","v":""},"",{"$f":"IFERROR(T150*BASE!$AN$165/BASE!$AN150,\"\")","v":""},"",{"$f":"IF(BASE!F150=\"\",\"\",Reporte!$N150)","v":""},"",{"$f":"IFERROR(X150*BASE!$AN$165/BASE!$AN150,\"\")","v":""},"",{"$f":"IF(BASE!G150=\"\",\"\",Reporte!$N150)","v":""},"",{"$f":"IFERROR(AB150*BASE!$AN$165/BASE!$AN150,\"\")","v":""},"",{"$f":"IF(BASE!H150=\"\",\"\",Reporte!$N150)","v":""},"",{"$f":"IFERROR(AF150*BASE!$AN$165/BASE!$AN150,\"\")","v":""},"",{"$f":"IF(BASE!I150=\"\",\"\",Reporte!$N150)","v":""},"",{"$f":"IFERROR(AJ150*BASE!$AN$165/BASE!$AN150,\"\")","v":""},"",{"$f":"IF(BASE!J150=\"\",\"\",Reporte!$N150)","v":""},"",{"$f":"IFERROR(AN150*BASE!$AN$165/BASE!$AN150,\"\")","v":""},"",{"$f":"IF(BASE!K150=\"\",\"\",Reporte!$N150)","v":""},"",{"$f":"IFERROR(AR150*BASE!$AN$165/BASE!$AN150,\"\")","v":""},"",{"$f":"IF(BASE!L150=\"\",\"\",Reporte!$N150)","v":""},"",{"$f":"IFERROR(AV150*BASE!$AN$165/BASE!$AN150,\"\")","v":""},"",{"$f":"IF(BASE!M150=\"\",\"\",Reporte!$N150)","v":""},"",{"$f":"IFERROR(AZ150*BASE!$AN$165/BASE!$AN150,\"\")","v":""},"",{"$f":"IF(BASE!N150=\"\",\"\",Reporte!$N150)","v":""},"",{"$f":"IFERROR(BD150*BASE!$AN$165/BASE!$AN150,\"\")","v":""},"",{"$f":"IF(BASE!O150=\"\",\"\",Reporte!$N150)","v":""},"",{"$f":"IFERROR(BH150*BASE!$AN$165/BASE!$AN150,\"\")","v":""},"",{"$f":"IF(BASE!P150=\"\",\"\",Reporte!$N150)","v":""},"",{"$f":"IFERROR(BL150*BASE!$AN$165/BASE!$AN150,\"\")","v":""},"",{"$f":"IF(BASE!Q150=\"\",\"\",Reporte!$N150)","v":""},"",{"$f":"IFERROR(BP150*BASE!$AN$165/BASE!$AN150,\"\")","v":""},"",{"$f":"IF(BASE!R150=\"\",\"\",Reporte!$N150)","v":""},"",{"$f":"IFERROR(BT150*BASE!$AN$165/BASE!$AN150,\"\")","v":""},"",{"$f":"IF(BASE!S150=\"\",\"\",Reporte!$N150)","v":""},"",{"$f":"IFERROR(BX150*BASE!$AN$165/BASE!$AN150,\"\")","v":""},"",{"$f":"IF(BASE!T150=\"\",\"\",Reporte!$N150)","v":""},"",{"$f":"IFERROR(CB150*BASE!$AN$165/BASE!$AN150,\"\")","v":""},"",{"$f":"IF(BASE!U150=\"\",\"\",Reporte!$N150)","v":""},"",{"$f":"IFERROR(CF150*BASE!$AN$165/BASE!$AN150,\"\")","v":""},"",{"$f":"IF(BASE!V150=\"\",\"\",Reporte!$N150)","v":""},"",{"$f":"IFERROR(CJ150*BASE!$AN$165/BASE!$AN150,\"\")","v":""},"",{"$f":"IF(BASE!W150=\"\",\"\",Reporte!$N150)","v":""},"",{"$f":"IFERROR(CN150*BASE!$AN$165/BASE!$AN150,\"\")","v":""},"",{"$f":"IF(BASE!X150=\"\",\"\",Reporte!$N150)","v":""},"",{"$f":"IFERROR(CR150*BASE!$AN$165/BASE!$AN150,\"\")","v":""},"",{"$f":"IF(BASE!Y150=\"\",\"\",Reporte!$N150)","v":""},"",{"$f":"IFERROR(CV150*BASE!$AN$165/BASE!$AN150,\"\")","v":""},"",{"$f":"IF(BASE!Z150=\"\",\"\",Reporte!$N150)","v":""},"",{"$f":"IFERROR(CZ150*BASE!$AN$165/BASE!$AN150,\"\")","v":""},"",{"$f":"IF(BASE!AA150=\"\",\"\",Reporte!$N150)","v":""},"",{"$f":"IFERROR(DD150*BASE!$AN$165/BASE!$AN150,\"\")","v":""},"",{"$f":"IF(BASE!AB150=\"\",\"\",Reporte!$N150)","v":""},"",{"$f":"IFERROR(DH150*BASE!$AN$165/BASE!$AN150,\"\")","v":""},"",{"$f":"IF(BASE!AC150=\"\",\"\",Reporte!$N150)","v":""},"",{"$f":"IFERROR(DL150*BASE!$AN$165/BASE!$AN150,\"\")","v":""},"",{"$f":"IF(BASE!AD150=\"\",\"\",Reporte!$N150)","v":""},"",{"$f":"IFERROR(DP150*BASE!$AN$165/BASE!$AN150,\"\")","v":""},"",{"$f":"IF(BASE!AE150=\"\",\"\",Reporte!$N150)","v":""},"",{"$f":"IFERROR(DT150*BASE!$AN$165/BASE!$AN150,\"\")","v":""},"",{"$f":"IF(BASE!AF150=\"\",\"\",Reporte!$N150)","v":""},"",{"$f":"IFERROR(DX150*BASE!$AN$165/BASE!$AN150,\"\")","v":""},"",{"$f":"IF(BASE!AG150=\"\",\"\",Reporte!$N150)","v":""},"",{"$f":"IFERROR(EB150*BASE!$AN$165/BASE!$AN150,\"\")","v":""},"",{"$f":"IF(BASE!AH150=\"\",\"\",Reporte!$N150)","v":""},"",{"$f":"IFERROR(EF150*BASE!$AN$165/BASE!$AN150,\"\")","v":""},"",{"$f":"IF(BASE!AI150=\"\",\"\",Reporte!$N150)","v":""},"",{"$f":"IFERROR(EJ150*BASE!$AN$165/BASE!$AN150,\"\")","v":""},"",{"$f":"IF(BASE!AJ150=\"\",\"\",Reporte!$N150)","v":""},"",{"$f":"IFERROR(EN150*BASE!$AN$165/BASE!$AN150,\"\")","v":""},"",{"$f":"IF(BASE!AK150=\"\",\"\",Reporte!$N150)","v":""},"",{"$f":"IFERROR(ER150*BASE!$AN$165/BASE!$AN150,\"\")","v":""},"",{"$f":"IF(BASE!AL150=\"\",\"\",Reporte!$N150)","v":""},"",{"$f":"IFERROR(EV150*BASE!$AN$165/BASE!$AN150,\"\")","v":""},""]
[null,null,"Criterio Evaluación 8.2","",{"$f":"Matematicas!E21","v":1},{"$f":"Matematicas!F21","v":5.5555555555555552E-2},{"$f":"Matematicas!G21","v":""},null,null,null,null,null,"Criterio Evaluación 8.2","",{"$f":"'Peso criterios carga horaria'!F151","v":4.5},{"$f":"O151*BASE!$AN$165/BASE!AN151","v":3.8708333333333336},1.0309278350515464E-2,"",{"$f":"IF(BASE!E151=\"\",\"\",Reporte!$N151)","v":""},"",{"$f":"IFERROR(T151*BASE!$AN$165/BASE!$AN151,\"\")","v":""},"",{"$f":"IF(BASE!F151=\"\",\"\",Reporte!$N151)","v":""},"",{"$f":"IFERROR(X151*BASE!$AN$165/BASE!$AN151,\"\")","v":""},"",{"$f":"IF(BASE!G151=\"\",\"\",Reporte!$N151)","v":""},"",{"$f":"IFERROR(AB151*BASE!$AN$165/BASE!$AN151,\"\")","v":""},"",{"$f":"IF(BASE!H151=\"\",\"\",Reporte!$N151)","v":""},"",{"$f":"IFERROR(AF151*BASE!$AN$165/BASE!$AN151,\"\")","v":""},"",{"$f":"IF(BASE!I151=\"\",\"\",Reporte!$N151)","v":""},"",{"$f":"IFERROR(AJ151*BASE!$AN$165/BASE!$AN151,\"\")","v":""},"",{"$f":"IF(BASE!J151=\"\",\"\",Reporte!$N151)","v":""},"",{"$f":"IFERROR(AN151*BASE!$AN$165/BASE!$AN151,\"\")","v":""},"",{"$f":"IF(BASE!K151=\"\",\"\",Reporte!$N151)","v":""},"",{"$f":"IFERROR(AR151*BASE!$AN$165/BASE!$AN151,\"\")","v":""},"",{"$f":"IF(BASE!L151=\"\",\"\",Reporte!$N151)","v":""},"",{"$f":"IFERROR(AV151*BASE!$AN$165/BASE!$AN151,\"\")","v":""},"",{"$f":"IF(BASE!M151=\"\",\"\",Reporte!$N151)","v":""},"",{"$f":"IFERROR(AZ151*BASE!$AN$165/BASE!$AN151,\"\")","v":""},"",{"$f":"IF(BASE!N151=\"\",\"\",Reporte!$N151)","v":""},"",{"$f":"IFERROR(BD151*BASE!$AN$165/BASE!$AN151,\"\")","v":""},"",{"$f":"IF(BASE!O151=\"\",\"\",Reporte!$N151)","v":""},"",{"$f":"IFERROR(BH151*BASE!$AN$165/BASE!$AN151,\"\")","v":""},"",{"$f":"IF(BASE!P151=\"\",\"\",Reporte!$N151)","v":""},"",{"$f":"IFERROR(BL151*BASE!$AN$165/BASE!$AN151,\"\")","v":""},"",{"$f":"IF(BASE!Q151=\"\",\"\",Reporte!$N151)","v":""},"",{"$f":"IFERROR(BP151*BASE!$AN$165/BASE!$AN151,\"\")","v":""},"",{"$f":"IF(BASE!R151=\"\",\"\",Reporte!$N151)","v":""},"",{"$f":"IFERROR(BT151*BASE!$AN$165/BASE!$AN151,\"\")","v":""},"",{"$f":"IF(BASE!S151=\"\",\"\",Reporte!$N151)","v":""},"",{"$f":"IFERROR(BX151*BASE!$AN$165/BASE!$AN151,\"\")","v":""},"",{"$f":"IF(BASE!T151=\"\",\"\",Reporte!$N151)","v":""},"",{"$f":"IFERROR(CB151*BASE!$AN$165/BASE!$AN151,\"\")","v":""},"",{"$f":"IF(BASE!U151=\"\",\"\",Reporte!$N151)","v":""},"",{"$f":"IFERROR(CF151*BASE!$AN$165/BASE!$AN151,\"\")","v":""},"",{"$f":"IF(BASE!V151=\"\",\"\",Reporte!$N151)","v":""},"",{"$f":"IFERROR(CJ151*BASE!$AN$165/BASE!$AN151,\"\")","v":""},"",{"$f":"IF(BASE!W151=\"\",\"\",Reporte!$N151)","v":""},"",{"$f":"IFERROR(CN151*BASE!$AN$165/BASE!$AN151,\"\")","v":""},"",{"$f":"IF(BASE!X151=\"\",\"\",Reporte!$N151)","v":""},"",{"$f":"IFERROR(CR151*BASE!$AN$165/BASE!$AN151,\"\")","v":""},"",{"$f":"IF(BASE!Y151=\"\",\"\",Reporte!$N151)","v":""},"",{"$f":"IFERROR(CV151*BASE!$AN$165/BASE!$AN151,\"\")","v":""},"",{"$f":"IF(BASE!Z151=\"\",\"\",Reporte!$N151)","v":""},"",{"$f":"IFERROR(CZ151*BASE!$AN$165/BASE!$AN151,\"\")","v":""},"",{"$f":"IF(BASE!AA151=\"\",\"\",Reporte!$N151)","v":""},"",{"$f":"IFERROR(DD151*BASE!$AN$165/BASE!$AN151,\"\")","v":""},"",{"$f":"IF(BASE!AB151=\"\",\"\",Reporte!$N151)","v":""},"",{"$f":"IFERROR(DH151*BASE!$AN$165/BASE!$AN151,\"\")","v":""},"",{"$f":"IF(BASE!AC151=\"\",\"\",Reporte!$N151)","v":""},"",{"$f":"IFERROR(DL151*BASE!$AN$165/BASE!$AN151,\"\")","v":""},"",{"$f":"IF(BASE!AD151=\"\",\"\",Reporte!$N151)","v":""},"",{"$f":"IFERROR(DP151*BASE!$AN$165/BASE!$AN151,\"\")","v":""},"",{"$f":"IF(BASE!AE151=\"\",\"\",Reporte!$N151)","v":""},"",{"$f":"IFERROR(DT151*BASE!$AN$165/BASE!$AN151,\"\")","v":""},"",{"$f":"IF(BASE!AF151=\"\",\"\",Reporte!$N151)","v":""},"",{"$f":"IFERROR(DX151*BASE!$AN$165/BASE!$AN151,\"\")","v":""},"",{"$f":"IF(BASE!AG151=\"\",\"\",Reporte!$N151)","v":""},"",{"$f":"IFERROR(EB151*BASE!$AN$165/BASE!$AN151,\"\")","v":""},"",{"$f":"IF(BASE!AH151=\"\",\"\",Reporte!$N151)","v":""},"",{"$f":"IFERROR(EF151*BASE!$AN$165/BASE!$AN151,\"\")","v":""},"",{"$f":"IF(BASE!AI151=\"\",\"\",Reporte!$N151)","v":""},"",{"$f":"IFERROR(EJ151*BASE!$AN$165/BASE!$AN151,\"\")","v":""},"",{"$f":"IF(BASE!AJ151=\"\",\"\",Reporte!$N151)","v":""},"",{"$f":"IFERROR(EN151*BASE!$AN$165/BASE!$AN151,\"\")","v":""},"",{"$f":"IF(BASE!AK151=\"\",\"\",Reporte!$N151)","v":""},"",{"$f":"IFERROR(ER151*BASE!$AN$165/BASE!$AN151,\"\")","v":""},"",{"$f":"IF(BASE!AL151=\"\",\"\",Reporte!$N151)","v":""},"",{"$f":"IFERROR(EV151*BASE!$AN$165/BASE!$AN151,\"\")","v":""},""]
["Religión","Comp. Esp. 1","Criterio Evaluación 1.4",{"$f":"N152","v":""},{"$f":"Religion!E4","v":1},{"$f":"Religion!F4","v":0.16666666666666666},{"$f":"Religion!G4","v":""},{"$f":"IFERROR(SUMPRODUCT(D152:D157,E152:E157)/SUMIF(D152:D157,\">=0\",E152:E157),\"\")","v":""},null,null,"Religión","Comp. Esp. 1","Criterio Evaluación 1.4","",{"$f":"'Peso criterios carga horaria'!F152","v":1},{"$f":"O152*BASE!$AN$165/BASE!AN152","v":1.6589285714285715},2.2909507445589921E-3,"",{"$f":"IF(BASE!E152=\"\",\"\",Reporte!$N152)","v":""},"",{"$f":"IFERROR(T152*BASE!$AN$165/BASE!$AN152,\"\")","v":""},"",{"$f":"IF(BASE!F152=\"\",\"\",Reporte!$N152)","v":""},"",{"$f":"IFERROR(X152*BASE!$AN$165/BASE!$AN152,\"\")","v":""},"",{"$f":"IF(BASE!G152=\"\",\"\",Reporte!$N152)","v":""},"",{"$f":"IFERROR(AB152*BASE!$AN$165/BASE!$AN152,\"\")","v":""},"",{"$f":"IF(BASE!H152=\"\",\"\",Reporte!$N152)","v":""},"",{"$f":"IFERROR(AF152*BASE!$AN$165/BASE!$AN152,\"\")","v":""},"",{"$f":"IF(BASE!I152=\"\",\"\",Reporte!$N152)","v":""},"",{"$f":"IFERROR(AJ152*BASE!$AN$165/BASE!$AN152,\"\")","v":""},"",{"$f":"IF(BASE!J152=\"\",\"\",Reporte!$N152)","v":""},"",{"$f":"IFERROR(AN152*BASE!$AN$165/BASE!$AN152,\"\")","v":""},"",{"$f":"IF(BASE!K152=\"\",\"\",Reporte!$N152)","v":""},"",{"$f":"IFERROR(AR152*BASE!$AN$165/BASE!$AN152,\"\")","v":""},"",{"$f":"IF(BASE!L152=\"\",\"\",Reporte!$N152)","v":""},"",{"$f":"IFERROR(AV152*BASE!$AN$165/BASE!$AN152,\"\")","v":""},"",{"$f":"IF(BASE!M152=\"\",\"\",Reporte!$N152)","v":""},"",{"$f":"IFERROR(AZ152*BASE!$AN$165/BASE!$AN152,\"\")","v":""},"",{"$f":"IF(BASE!N152=\"\",\"\",Reporte!$N152)","v":""},"",{"$f":"IFERROR(BD152*BASE!$AN$165/BASE!$AN152,\"\")","v":""},"",{"$f":"IF(BASE!O152=\"\",\"\",Reporte!$N152)","v":""},"",{"$f":"IFERROR(BH152*BASE!$AN$165/BASE!$AN152,\"\")","v":""},"",{"$f":"IF(BASE!P152=\"\",\"\",Reporte!$N152)","v":""},"",{"$f":"IFERROR(BL152*BASE!$AN$165/BASE!$AN152,\"\")","v":""},"",{"$f":"IF(BASE!Q152=\"\",\"\",Reporte!$N152)","v":""},"",{"$f":"IFERROR(BP152*BASE!$AN$165/BASE!$AN152,\"\")","v":""},"",{"$f":"IF(BASE!R152=\"\",\"\",Reporte!$N152)","v":""},"",{"$f":"IFERROR(BT152*BASE!$AN$165/BASE!$AN152,\"\")","v":""},"",{"$f":"IF(BASE!S152=\"\",\"\",Reporte!$N152)","v":""},"",{"$f":"IFERROR(BX152*BASE!$AN$165/BASE!$AN152,\"\")","v":""},"",{"$f":"IF(BASE!T152=\"\",\"\",Reporte!$N152)","v":""},"",{"$f":"IFERROR(CB152*BASE!$AN$165/BASE!$AN152,\"\")","v":""},"",{"$f":"IF(BASE!U152=\"\",\"\",Reporte!$N152)","v":""},"",{"$f":"IFERROR(CF152*BASE!$AN$165/BASE!$AN152,\"\")","v":""},"",{"$f":"IF(BASE!V152=\"\",\"\",Reporte!$N152)","v":""},"",{"$f":"IFERROR(CJ152*BASE!$AN$165/BASE!$AN152,\"\")","v":""},"",{"$f":"IF(BASE!W152=\"\",\"\",Reporte!$N152)","v":""},"",{"$f":"IFERROR(CN152*BASE!$AN$165/BASE!$AN152,\"\")","v":""},"",{"$f":"IF(BASE!X152=\"\",\"\",Reporte!$N152)","v":""},"",{"$f":"IFERROR(CR152*BASE!$AN$165/BASE!$AN152,\"\")","v":""},"",{"$f":"IF(BASE!Y152=\"\",\"\",Reporte!$N152)","v":""},"",{"$f":"IFERROR(CV152*BASE!$AN$165/BASE!$AN152,\"\")","v":""},"",{"$f":"IF(BASE!Z152=\"\",\"\",Reporte!$N152)","v":""},"",{"$f":"IFERROR(CZ152*BASE!$AN$165/BASE!$AN152,\"\")","v":""},"",{"$f":"IF(BASE!AA152=\"\",\"\",Reporte!$N152)","v":""},"",{"$f":"IFERROR(DD152*BASE!$AN$165/BASE!$AN152,\"\")","v":""},"",{"$f":"IF(BASE!AB152=\"\",\"\",Reporte!$N152)","v":""},"",{"$f":"IFERROR(DH152*BASE!$AN$165/BASE!$AN152,\"\")","v":""},"",{"$f":"IF(BASE!AC152=\"\",\"\",Reporte!$N152)","v":""},"",{"$f":"IFERROR(DL152*BASE!$AN$165/BASE!$AN152,\"\")","v":""},"",{"$f":"IF(BASE!AD152=\"\",\"\",Reporte!$N152)","v":""},"",{"$f":"IFERROR(DP152*BASE!$AN$165/BASE!$AN152,\"\")","v":""},"",{"$f":"IF(BASE!AE152=\"\",\"\",Reporte!$N152)","v":""},"",{"$f":"IFERROR(DT152*BASE!$AN$165/BASE!$AN152,\"\")","v":""},"",{"$f":"IF(BASE!AF152=\"\",\"\",Reporte!$N152)","v":""},"",{"$f":"IFERROR(DX152*BASE!$AN$165/BASE!$AN152,\"\")","v":""},"",{"$f":"IF(BASE!AG152=\"\",\"\",Reporte!$N152)","v":""},"",{"$f":"IFERROR(EB152*BASE!$AN$165/BASE!$AN152,\"\")","v":""},"",{"$f":"IF(BASE!AH152=\"\",\"\",Reporte!$N152)","v":""},"",{"$f":"IFERROR(EF152*BASE!$AN$165/BASE!$AN152,\"\")","v":""},"",{"$f":"IF(BASE!AI152=\"\",\"\",Reporte!$N152)","v":""},"",{"$f":"IFERROR(EJ152*BASE!$AN$165/BASE!$AN152,\"\")","v":""},"",{"$f":"IF(BASE!AJ152=\"\",\"\",Reporte!$N152)","v":""},"",{"$f":"IFERROR(EN152*BASE!$AN$165/BASE!$AN152,\"\")","v":""},"",{"$f":"IF(BASE!AK152=\"\",\"\",Reporte!$N152)","v":""},"",{"$f":"IFERROR(ER152*BASE!$AN$165/BASE!$AN152,\"\")","v":""},"",{"$f":"IF(BASE!AL152=\"\",\"\",Reporte!$N152)","v":""},"",{"$f":"IFERROR(EV152*BASE!$AN$165/BASE!$AN152,\"\")","v":""},""]
[null,"Comp. Esp. 2","Criterio Evaluación 2.4","",{"$f":"Religion!E5","v":1},{"$f":"Religion!F5","v":0.16666666666666666},{"$f":"Religion!G5","v":""},null,null,null,null,"Comp. Esp. 2","Criterio Evaluación 2.4","",{"$f":"'Peso criterios carga horaria'!F153","v":1},{"$f":"O153*BASE!$AN$165/BASE!AN153","v":1.6589285714285715},2.2909507445589921E-3,"",{"$f":"IF(BASE!E153=\"\",\"\",Reporte!$N153)","v":""},"",{"$f":"IFERROR(T153*BASE!$AN$165/BASE!$AN153,\"\")","v":""},"",{"$f":"IF(BASE!F153=\"\",\"\",Reporte!$N153)","v":""},"",{"$f":"IFERROR(X153*BASE!$AN$165/BASE!$AN153,\"\")","v":""},"",{"$f":"IF(BASE!G153=\"\",\"\",Reporte!$N153)","v":""},"",{"$f":"IFERROR(AB153*BASE!$AN$165/BASE!$AN153,\"\")","v":""},"",{"$f":"IF(BASE!H153=\"\",\"\",Reporte!$N153)","v":""},"",{"$f":"IFERROR(AF153*BASE!$AN$165/BASE!$AN153,\"\")","v":""},"",{"$f":"IF(BASE!I153=\"\",\"\",Reporte!$N153)","v":""},"",{"$f":"IFERROR(AJ153*BASE!$AN$165/BASE!$AN153,\"\")","v":""},"",{"$f":"IF(BASE!J153=\"\",\"\",Reporte!$N153)","v":""},"",{"$f":"IFERROR(AN153*BASE!$AN$165/BASE!$AN153,\"\")","v":""},"",{"$f":"IF(BASE!K153=\"\",\"\",Reporte!$N153)","v":""},"",{"$f":"IFERROR(AR153*BASE!$AN$165/BASE!$AN153,\"\")","v":""},"",{"$f":"IF(BASE!L153=\"\",\"\",Reporte!$N153)","v":""},"",{"$f":"IFERROR(AV153*BASE!$AN$165/BASE!$AN153,\"\")","v":""},"",{"$f":"IF(BASE!M153=\"\",\"\",Reporte!$N153)","v":""},"",{"$f":"IFERROR(AZ153*BASE!$AN$165/BASE!$AN153,\"\")","v":""},"",{"$f":"IF(BASE!N153=\"\",\"\",Reporte!$N153)","v":""},"",{"$f":"IFERROR(BD153*BASE!$AN$165/BASE!$AN153,\"\")","v":""},"",{"$f":"IF(BASE!O153=\"\",\"\",Reporte!$N153)","v":""},"",{"$f":"IFERROR(BH153*BASE!$AN$165/BASE!$AN153,\"\")","v":""},"",{"$f":"IF(BASE!P153=\"\",\"\",Reporte!$N153)","v":""},"",{"$f":"IFERROR(BL153*BASE!$AN$165/BASE!$AN153,\"\")","v":""},"",{"$f":"IF(BASE!Q153=\"\",\"\",Reporte!$N153)","v":""},"",{"$f":"IFERROR(BP153*BASE!$AN$165/BASE!$AN153,\"\")","v":""},"",{"$f":"IF(BASE!R153=\"\",\"\",Reporte!$N153)","v":""},"",{"$f":"IFERROR(BT153*BASE!$AN$165/BASE!$AN153,\"\")","v":""},"",{"$f":"IF(BASE!S153=\"\",\"\",Reporte!$N153)","v":""},"",{"$f":"IFERROR(BX153*BASE!$AN$165/BASE!$AN153,\"\")","v":""},"",{"$f":"IF(BASE!T153=\"\",\"\",Reporte!$N153)","v":""},"",{"$f":"IFERROR(CB153*BASE!$AN$165/BASE!$AN153,\"\")","v":""},"",{"$f":"IF(BASE!U153=\"\",\"\",Reporte!$N153)","v":""},"",{"$f":"IFERROR(CF153*BASE!$AN$165/BASE!$AN153,\"\")","v":""},"",{"$f":"IF(BASE!V153=\"\",\"\",Reporte!$N153)","v":""},"",{"$f":"IFERROR(CJ153*BASE!$AN$165/BASE!$AN153,\"\")","v":""},"",{"$f":"IF(BASE!W153=\"\",\"\",Reporte!$N153)","v":""},"",{"$f":"IFERROR(CN153*BASE!$AN$165/BASE!$AN153,\"\")","v":""},"",{"$f":"IF(BASE!X153=\"\",\"\",Reporte!$N153)","v":""},"",{"$f":"IFERROR(CR153*BASE!$AN$165/BASE!$AN153,\"\")","v":""},"",{"$f":"IF(BASE!Y153=\"\",\"\",Reporte!$N153)","v":""},"",{"$f":"IFERROR(CV153*BASE!$AN$165/BASE!$AN153,\"\")","v":""},"",{"$f":"IF(BASE!Z153=\"\",\"\",Reporte!$N153)","v":""},"",{"$f":"IFERROR(CZ153*BASE!$AN$165/BASE!$AN153,\"\")","v":""},"",{"$f":"IF(BASE!AA153=\"\",\"\",Reporte!$N153)","v":""},"",{"$f":"IFERROR(DD153*BASE!$AN$165/BASE!$AN153,\"\")","v":""},"",{"$f":"IF(BASE!AB153=\"\",\"\",Reporte!$N153)","v":""},"",{"$f":"IFERROR(DH153*BASE!$AN$165/BASE!$AN153,\"\")","v":""},"",{"$f":"IF(BASE!AC153=\"\",\"\",Reporte!$N153)","v":""},"",{"$f":"IFERROR(DL153*BASE!$AN$165/BASE!$AN153,\"\")","v":""},"",{"$f":"IF(BASE!AD153=\"\",\"\",Reporte!$N153)","v":""},"",{"$f":"IFERROR(DP153*BASE!$AN$165/BASE!$AN153,\"\")","v":""},"",{"$f":"IF(BASE!AE153=\"\",\"\",Reporte!$N153)","v":""},"",{"$f":"IFERROR(DT153*BASE!$AN$165/BASE!$AN153,\"\")","v":""},"",{"$f":"IF(BASE!AF153=\"\",\"\",Reporte!$N153)","v":""},"",{"$f":"IFERROR(DX153*BASE!$AN$165/BASE!$AN153,\"\")","v":""},"",{"$f":"IF(BASE!AG153=\"\",\"\",Reporte!$N153)","v":""},"",{"$f":"IFERROR(EB153*BASE!$AN$165/BASE!$AN153,\"\")","v":""},"",{"$f":"IF(BASE!AH153=\"\",\"\",Reporte!$N153)","v":""},"",{"$f":"IFERROR(EF153*BASE!$AN$165/BASE!$AN153,\"\")","v":""},"",{"$f":"IF(BASE!AI153=\"\",\"\",Reporte!$N153)","v":""},"",{"$f":"IFERROR(EJ153*BASE!$AN$165/BASE!$AN153,\"\")","v":""},"",{"$f":"IF(BASE!AJ153=\"\",\"\",Reporte!$N153)","v":""},"",{"$f":"IFERROR(EN153*BASE!$AN$165/BASE!$AN153,\"\")","v":""},"",{"$f":"IF(BASE!AK153=\"\",\"\",Reporte!$N153)","v":""},"",{"$f":"IFERROR(ER153*BASE!$AN$165/BASE!$AN153,\"\")","v":""},"",{"$f":"IF(BASE!AL153=\"\",\"\",Reporte!$N153)","v":""},"",{"$f":"IFERROR(EV153*BASE!$AN$165/BASE!$AN153,\"\")","v":""},""]
[null,"Comp. Esp. 3","Criterio Evaluación 3.4","",{"$f":"Religion!E6","v":1},{"$f":"Religion!F6","v":0.16666666666666666},{"$f":"Religion!G6","v":""},null,null,null,null,"Comp. Esp. 3","Criterio Evaluación 3.4","",{"$f":"'Peso criterios carga horaria'!F154","v":1},{"$f":"O154*BASE!$AN$165/BASE!AN154","v":1.6589285714285715},2.2909507445589921E-3,"",{"$f":"IF(BASE!E154=\"\",\"\",Reporte!$N154)","v":""},"",{"$f":"IFERROR(T154*BASE!$AN$165/BASE!$AN154,\"\")","v":""},"",{"$f":"IF(BASE!F154=\"\",\"\",Reporte!$N154)","v":""},"",{"$f":"IFERROR(X154*BASE!$AN$165/BASE!$AN154,\"\")","v":""},"",{"$f":"IF(BASE!G154=\"\",\"\",Reporte!$N154)","v":""},"",{"$f":"IFERROR(AB154*BASE!$AN$165/BASE!$AN154,\"\")","v":""},"",{"$f":"IF(BASE!H154=\"\",\"\",Reporte!$N154)","v":""},"",{"$f":"IFERROR(AF154*BASE!$AN$165/BASE!$AN154,\"\")","v":""},"",{"$f":"IF(BASE!I154=\"\",\"\",Reporte!$N154)","v":""},"",{"$f":"IFERROR(AJ154*BASE!$AN$165/BASE!$AN154,\"\")","v":""},"",{"$f":"IF(BASE!J154=\"\",\"\",Reporte!$N154)","v":""},"",{"$f":"IFERROR(AN154*BASE!$AN$165/BASE!$AN154,\"\")","v":""},"",{"$f":"IF(BASE!K154=\"\",\"\",Reporte!$N154)","v":""},"",{"$f":"IFERROR(AR154*BASE!$AN$165/BASE!$AN154,\"\")","v":""},"",{"$f":"IF(BASE!L154=\"\",\"\",Reporte!$N154)","v":""},"",{"$f":"IFERROR(AV154*BASE!$AN$165/BASE!$AN154,\"\")","v":""},"",{"$f":"IF(BASE!M154=\"\",\"\",Reporte!$N154)","v":""},"",{"$f":"IFERROR(AZ154*BASE!$AN$165/BASE!$AN154,\"\")","v":""},"",{"$f":"IF(BASE!N154=\"\",\"\",Reporte!$N154)","v":""},"",{"$f":"IFERROR(BD154*BASE!$AN$165/BASE!$AN154,\"\")","v":""},"",{"$f":"IF(BASE!O154=\"\",\"\",Reporte!$N154)","v":""},"",{"$f":"IFERROR(BH154*BASE!$AN$165/BASE!$AN154,\"\")","v":""},"",{"$f":"IF(BASE!P154=\"\",\"\",Reporte!$N154)","v":""},"",{"$f":"IFERROR(BL154*BASE!$AN$165/BASE!$AN154,\"\")","v":""},"",{"$f":"IF(BASE!Q154=\"\",\"\",Reporte!$N154)","v":""},"",{"$f":"IFERROR(BP154*BASE!$AN$165/BASE!$AN154,\"\")","v":""},"",{"$f":"IF(BASE!R154=\"\",\"\",Reporte!$N154)","v":""},"",{"$f":"IFERROR(BT154*BASE!$AN$165/BASE!$AN154,\"\")","v":""},"",{"$f":"IF(BASE!S154=\"\",\"\",Reporte!$N154)","v":""},"",{"$f":"IFERROR(BX154*BASE!$AN$165/BASE!$AN154,\"\")","v":""},"",{"$f":"IF(BASE!T154=\"\",\"\",Reporte!$N154)","v":""},"",{"$f":"IFERROR(CB154*BASE!$AN$165/BASE!$AN154,\"\")","v":""},"",{"$f":"IF(BASE!U154=\"\",\"\",Reporte!$N154)","v":""},"",{"$f":"IFERROR(CF154*BASE!$AN$165/BASE!$AN154,\"\")","v":""},"",{"$f":"IF(BASE!V154=\"\",\"\",Reporte!$N154)","v":""},"",{"$f":"IFERROR(CJ154*BASE!$AN$165/BASE!$AN154,\"\")","v":""},"",{"$f":"IF(BASE!W154=\"\",\"\",Reporte!$N154)","v":""},"",{"$f":"IFERROR(CN154*BASE!$AN$165/BASE!$AN154,\"\")","v":""},"",{"$f":"IF(BASE!X154=\"\",\"\",Reporte!$N154)","v":""},"",{"$f":"IFERROR(CR154*BASE!$AN$165/BASE!$AN154,\"\")","v":""},"",{"$f":"IF(BASE!Y154=\"\",\"\",Reporte!$N154)","v":""},"",{"$f":"IFERROR(CV154*BASE!$AN$165/BASE!$AN154,\"\")","v":""},"",{"$f":"IF(BASE!Z154=\"\",\"\",Reporte!$N154)","v":""},"",{"$f":"IFERROR(CZ154*BASE!$AN$165/BASE!$AN154,\"\")","v":""},"",{"$f":"IF(BASE!AA154=\"\",\"\",Reporte!$N154)","v":""},"",{"$f":"IFERROR(DD154*BASE!$AN$165/BASE!$AN154,\"\")","v":""},"",{"$f":"IF(BASE!AB154=\"\",\"\",Reporte!$N154)","v":""},"",{"$f":"IFERROR(DH154*BASE!$AN$165/BASE!$AN154,\"\")","v":""},"",{"$f":"IF(BASE!AC154=\"\",\"\",Reporte!$N154)","v":""},"",{"$f":"IFERROR(DL154*BASE!$AN$165/BASE!$AN154,\"\")","v":""},"",{"$f":"IF(BASE!AD154=\"\",\"\",Reporte!$N154)","v":""},"",{"$f":"IFERROR(DP154*BASE!$AN$165/BASE!$AN154,\"\")","v":""},"",{"$f":"IF(BASE!AE154=\"\",\"\",Reporte!$N154)","v":""},"",{"$f":"IFERROR(DT154*BASE!$AN$165/BASE!$AN154,\"\")","v":""},"",{"$f":"IF(BASE!AF154=\"\",\"\",Reporte!$N154)","v":""},"",{"$f":"IFERROR(DX154*BASE!$AN$165/BASE!$AN154,\"\")","v":""},"",{"$f":"IF(BASE!AG154=\"\",\"\",Reporte!$N154)","v":""},"",{"$f":"IFERROR(EB154*BASE!$AN$165/BASE!$AN154,\"\")","v":""},"",{"$f":"IF(BASE!AH154=\"\",\"\",Reporte!$N154)","v":""},"",{"$f":"IFERROR(EF154*BASE!$AN$165/BASE!$AN154,\"\")","v":""},"",{"$f":"IF(BASE!AI154=\"\",\"\",Reporte!$N154)","v":""},"",{"$f":"IFERROR(EJ154*BASE!$AN$165/BASE!$AN154,\"\")","v":""},"",{"$f":"IF(BASE!AJ154=\"\",\"\",Reporte!$N154)","v":""},"",{"$f":"IFERROR(EN154*BASE!$AN$165/BASE!$AN154,\"\")","v":""},"",{"$f":"IF(BASE!AK154=\"\",\"\",Reporte!$N154)","v":""},"",{"$f":"IFERROR(ER154*BASE!$AN$165/BASE!$AN154,\"\")","v":""},"",{"$f":"IF(BASE!AL154=\"\",\"\",Reporte!$N154)","v":""},"",{"$f":"IFERROR(EV154*BASE!$AN$165/BASE!$AN154,\"\")","v":""},""]
[null,"Comp. Esp. 4","Criterio Evaluación 4.4","",{"$f":"Religion!E7","v":1},{"$f":"Religion!F7","v":0.16666666666666666},{"$f":"Religion!G7","v":""},null,null,null,null,"Comp. Esp. 4","Criterio Evaluación 4.4","",{"$f":"'Peso criterios carga horaria'!F155","v":1},{"$f":"O155*BASE!$AN$165/BASE!AN155","v":1.6589285714285715},2.2909507445589921E-3,"",{"$f":"IF(BASE!E155=\"\",\"\",Reporte!$N155)","v":""},"",{"$f":"IFERROR(T155*BASE!$AN$165/BASE!$AN155,\"\")","v":""},"",{"$f":"IF(BASE!F155=\"\",\"\",Reporte!$N155)","v":""},"",{"$f":"IFERROR(X155*BASE!$AN$165/BASE!$AN155,\"\")","v":""},"",{"$f":"IF(BASE!G155=\"\",\"\",Reporte!$N155)","v":""},"",{"$f":"IFERROR(AB155*BASE!$AN$165/BASE!$AN155,\"\")","v":""},"",{"$f":"IF(BASE!H155=\"\",\"\",Reporte!$N155)","v":""},"",{"$f":"IFERROR(AF155*BASE!$AN$165/BASE!$AN155,\"\")","v":""},"",{"$f":"IF(BASE!I155=\"\",\"\",Reporte!$N155)","v":""},"",{"$f":"IFERROR(AJ155*BASE!$AN$165/BASE!$AN155,\"\")","v":""},"",{"$f":"IF(BASE!J155=\"\",\"\",Reporte!$N155)","v":""},"",{"$f":"IFERROR(AN155*BASE!$AN$165/BASE!$AN155,\"\")","v":""},"",{"$f":"IF(BASE!K155=\"\",\"\",Reporte!$N155)","v":""},"",{"$f":"IFERROR(AR155*BASE!$AN$165/BASE!$AN155,\"\")","v":""},"",{"$f":"IF(BASE!L155=\"\",\"\",Reporte!$N155)","v":""},"",{"$f":"IFERROR(AV155*BASE!$AN$165/BASE!$AN155,\"\")","v":""},"",{"$f":"IF(BASE!M155=\"\",\"\",Reporte!$N155)","v":""},"",{"$f":"IFERROR(AZ155*BASE!$AN$165/BASE!$AN155,\"\")","v":""},"",{"$f":"IF(BASE!N155=\"\",\"\",Reporte!$N155)","v":""},"",{"$f":"IFERROR(BD155*BASE!$AN$165/BASE!$AN155,\"\")","v":""},"",{"$f":"IF(BASE!O155=\"\",\"\",Reporte!$N155)","v":""},"",{"$f":"IFERROR(BH155*BASE!$AN$165/BASE!$AN155,\"\")","v":""},"",{"$f":"IF(BASE!P155=\"\",\"\",Reporte!$N155)","v":""},"",{"$f":"IFERROR(BL155*BASE!$AN$165/BASE!$AN155,\"\")","v":""},"",{"$f":"IF(BASE!Q155=\"\",\"\",Reporte!$N155)","v":""},"",{"$f":"IFERROR(BP155*BASE!$AN$165/BASE!$AN155,\"\")","v":""},"",{"$f":"IF(BASE!R155=\"\",\"\",Reporte!$N155)","v":""},"",{"$f":"IFERROR(BT155*BASE!$AN$165/BASE!$AN155,\"\")","v":""},"",{"$f":"IF(BASE!S155=\"\",\"\",Reporte!$N155)","v":""},"",{"$f":"IFERROR(BX155*BASE!$AN$165/BASE!$AN155,\"\")","v":""},"",{"$f":"IF(BASE!T155=\"\",\"\",Reporte!$N155)","v":""},"",{"$f":"IFERROR(CB155*BASE!$AN$165/BASE!$AN155,\"\")","v":""},"",{"$f":"IF(BASE!U155=\"\",\"\",Reporte!$N155)","v":""},"",{"$f":"IFERROR(CF155*BASE!$AN$165/BASE!$AN155,\"\")","v":""},"",{"$f":"IF(BASE!V155=\"\",\"\",Reporte!$N155)","v":""},"",{"$f":"IFERROR(CJ155*BASE!$AN$165/BASE!$AN155,\"\")","v":""},"",{"$f":"IF(BASE!W155=\"\",\"\",Reporte!$N155)","v":""},"",{"$f":"IFERROR(CN155*BASE!$AN$165/BASE!$AN155,\"\")","v":""},"",{"$f":"IF(BASE!X155=\"\",\"\",Reporte!$N155)","v":""},"",{"$f":"IFERROR(CR155*BASE!$AN$165/BASE!$AN155,\"\")","v":""},"",{"$f":"IF(BASE!Y155=\"\",\"\",Reporte!$N155)","v":""},"",{"$f":"IFERROR(CV155*BASE!$AN$165/BASE!$AN155,\"\")","v":""},"",{"$f":"IF(BASE!Z155=\"\",\"\",Reporte!$N155)","v":""},"",{"$f":"IFERROR(CZ155*BASE!$AN$165/BASE!$AN155,\"\")","v":""},"",{"$f":"IF(BASE!AA155=\"\",\"\",Reporte!$N155)","v":""},"",{"$f":"IFERROR(DD155*BASE!$AN$165/BASE!$AN155,\"\")","v":""},"",{"$f":"IF(BASE!AB155=\"\",\"\",Reporte!$N155)","v":""},"",{"$f":"IFERROR(DH155*BASE!$AN$165/BASE!$AN155,\"\")","v":""},"",{"$f":"IF(BASE!AC155=\"\",\"\",Reporte!$N155)","v":""},"",{"$f":"IFERROR(DL155*BASE!$AN$165/BASE!$AN155,\"\")","v":""},"",{"$f":"IF(BASE!AD155=\"\",\"\",Reporte!$N155)","v":""},"",{"$f":"IFERROR(DP155*BASE!$AN$165/BASE!$AN155,\"\")","v":""},"",{"$f":"IF(BASE!AE155=\"\",\"\",Reporte!$N155)","v":""},"",{"$f":"IFERROR(DT155*BASE!$AN$165/BASE!$AN155,\"\")","v":""},"",{"$f":"IF(BASE!AF155=\"\",\"\",Reporte!$N155)","v":""},"",{"$f":"IFERROR(DX155*BASE!$AN$165/BASE!$AN155,\"\")","v":""},"",{"$f":"IF(BASE!AG155=\"\",\"\",Reporte!$N155)","v":""},"",{"$f":"IFERROR(EB155*BASE!$AN$165/BASE!$AN155,\"\")","v":""},"",{"$f":"IF(BASE!AH155=\"\",\"\",Reporte!$N155)","v":""},"",{"$f":"IFERROR(EF155*BASE!$AN$165/BASE!$AN155,\"\")","v":""},"",{"$f":"IF(BASE!AI155=\"\",\"\",Reporte!$N155)","v":""},"",{"$f":"IFERROR(EJ155*BASE!$AN$165/BASE!$AN155,\"\")","v":""},"",{"$f":"IF(BASE!AJ155=\"\",\"\",Reporte!$N155)","v":""},"",{"$f":"IFERROR(EN155*BASE!$AN$165/BASE!$AN155,\"\")","v":""},"",{"$f":"IF(BASE!AK155=\"\",\"\",Reporte!$N155)","v":""},"",{"$f":"IFERROR(ER155*BASE!$AN$165/BASE!$AN155,\"\")","v":""},"",{"$f":"IF(BASE!AL155=\"\",\"\",Reporte!$N155)","v":""},"",{"$f":"IFERROR(EV155*BASE!$AN$165/BASE!$AN155,\"\")","v":""},""]
[null,"Comp. Esp. 5","Criterio Evaluación 5.4","",{"$f":"Religion!E8","v":1},{"$f":"Religion!F8","v":0.16666666666666666},{"$f":"Religion!G8","v":""},null,null,null,null,"Comp. Esp. 5","Criterio Evaluación 5.4","",{"$f":"'Peso criterios carga horaria'!F156","v":1},{"$f":"O156*BASE!$AN$165/BASE!AN156","v":1.6589285714285715},2.2909507445589921E-3,"",{"$f":"IF(BASE!E156=\"\",\"\",Reporte!$N156)","v":""},"",{"$f":"IFERROR(T156*BASE!$AN$165/BASE!$AN156,\"\")","v":""},"",{"$f":"IF(BASE!F156=\"\",\"\",Reporte!$N156)","v":""},"",{"$f":"IFERROR(X156*BASE!$AN$165/BASE!$AN156,\"\")","v":""},"",{"$f":"IF(BASE!G156=\"\",\"\",Reporte!$N156)","v":""},"",{"$f":"IFERROR(AB156*BASE!$AN$165/BASE!$AN156,\"\")","v":""},"",{"$f":"IF(BASE!H156=\"\",\"\",Reporte!$N156)","v":""},"",{"$f":"IFERROR(AF156*BASE!$AN$165/BASE!$AN156,\"\")","v":""},"",{"$f":"IF(BASE!I156=\"\",\"\",Reporte!$N156)","v":""},"",{"$f":"IFERROR(AJ156*BASE!$AN$165/BASE!$AN156,\"\")","v":""},"",{"$f":"IF(BASE!J156=\"\",\"\",Reporte!$N156)","v":""},"",{"$f":"IFERROR(AN156*BASE!$AN$165/BASE!$AN156,\"\")","v":""},"",{"$f":"IF(BASE!K156=\"\",\"\",Reporte!$N156)","v":""},"",{"$f":"IFERROR(AR156*BASE!$AN$165/BASE!$AN156,\"\")","v":""},"",{"$f":"IF(BASE!L156=\"\",\"\",Reporte!$N156)","v":""},"",{"$f":"IFERROR(AV156*BASE!$AN$165/BASE!$AN156,\"\")","v":""},"",{"$f":"IF(BASE!M156=\"\",\"\",Reporte!$N156)","v":""},"",{"$f":"IFERROR(AZ156*BASE!$AN$165/BASE!$AN156,\"\")","v":""},"",{"$f":"IF(BASE!N156=\"\",\"\",Reporte!$N156)","v":""},"",{"$f":"IFERROR(BD156*BASE!$AN$165/BASE!$AN156,\"\")","v":""},"",{"$f":"IF(BASE!O156=\"\",\"\",Reporte!$N156)","v":""},"",{"$f":"IFERROR(BH156*BASE!$AN$165/BASE!$AN156,\"\")","v":""},"",{"$f":"IF(BASE!P156=\"\",\"\",Reporte!$N156)","v":""},"",{"$f":"IFERROR(BL156*BASE!$AN$165/BASE!$AN156,\"\")","v":""},"",{"$f":"IF(BASE!Q156=\"\",\"\",Reporte!$N156)","v":""},"",{"$f":"IFERROR(BP156*BASE!$AN$165/BASE!$AN156,\"\")","v":""},"",{"$f":"IF(BASE!R156=\"\",\"\",Reporte!$N156)","v":""},"",{"$f":"IFERROR(BT156*BASE!$AN$165/BASE!$AN156,\"\")","v":""},"",{"$f":"IF(BASE!S156=\"\",\"\",Reporte!$N156)","v":""},"",{"$f":"IFERROR(BX156*BASE!$AN$165/BASE!$AN156,\"\")","v":""},"",{"$f":"IF(BASE!T156=\"\",\"\",Reporte!$N156)","v":""},"",{"$f":"IFERROR(CB156*BASE!$AN$165/BASE!$AN156,\"\")","v":""},"",{"$f":"IF(BASE!U156=\"\",\"\",Reporte!$N156)","v":""},"",{"$f":"IFERROR(CF156*BASE!$AN$165/BASE!$AN156,\"\")","v":""},"",{"$f":"IF(BASE!V156=\"\",\"\",Reporte!$N156)","v":""},"",{"$f":"IFERROR(CJ156*BASE!$AN$165/BASE!$AN156,\"\")","v":""},"",{"$f":"IF(BASE!W156=\"\",\"\",Reporte!$N156)","v":""},"",{"$f":"IFERROR(CN156*BASE!$AN$165/BASE!$AN156,\"\")","v":""},"",{"$f":"IF(BASE!X156=\"\",\"\",Reporte!$N156)","v":""},"",{"$f":"IFERROR(CR156*BASE!$AN$165/BASE!$AN156,\"\")","v":""},"",{"$f":"IF(BASE!Y156=\"\",\"\",Reporte!$N156)","v":""},"",{"$f":"IFERROR(CV156*BASE!$AN$165/BASE!$AN156,\"\")","v":""},"",{"$f":"IF(BASE!Z156=\"\",\"\",Reporte!$N156)","v":""},"",{"$f":"IFERROR(CZ156*BASE!$AN$165/BASE!$AN156,\"\")","v":""},"",{"$f":"IF(BASE!AA156=\"\",\"\",Reporte!$N156)","v":""},"",{"$f":"IFERROR(DD156*BASE!$AN$165/BASE!$AN156,\"\")","v":""},"",{"$f":"IF(BASE!AB156=\"\",\"\",Reporte!$N156)","v":""},"",{"$f":"IFERROR(DH156*BASE!$AN$165/BASE!$AN156,\"\")","v":""},"",{"$f":"IF(BASE!AC156=\"\",\"\",Reporte!$N156)","v":""},"",{"$f":"IFERROR(DL156*BASE!$AN$165/BASE!$AN156,\"\")","v":""},"",{"$f":"IF(BASE!AD156=\"\",\"\",Reporte!$N156)","v":""},"",{"$f":"IFERROR(DP156*BASE!$AN$165/BASE!$AN156,\"\")","v":""},"",{"$f":"IF(BASE!AE156=\"\",\"\",Reporte!$N156)","v":""},"",{"$f":"IFERROR(DT156*BASE!$AN$165/BASE!$AN156,\"\")","v":""},"",{"$f":"IF(BASE!AF156=\"\",\"\",Reporte!$N156)","v":""},"",{"$f":"IFERROR(DX156*BASE!$AN$165/BASE!$AN156,\"\")","v":""},"",{"$f":"IF(BASE!AG156=\"\",\"\",Reporte!$N156)","v":""},"",{"$f":"IFERROR(EB156*BASE!$AN$165/BASE!$AN156,\"\")","v":""},"",{"$f":"IF(BASE!AH156=\"\",\"\",Reporte!$N156)","v":""},"",{"$f":"IFERROR(EF156*BASE!$AN$165/BASE!$AN156,\"\")","v":""},"",{"$f":"IF(BASE!AI156=\"\",\"\",Reporte!$N156)","v":""},"",{"$f":"IFERROR(EJ156*BASE!$AN$165/BASE!$AN156,\"\")","v":""},"",{"$f":"IF(BASE!AJ156=\"\",\"\",Reporte!$N156)","v":""},"",{"$f":"IFERROR(EN156*BASE!$AN$165/BASE!$AN156,\"\")","v":""},"",{"$f":"IF(BASE!AK156=\"\",\"\",Reporte!$N156)","v":""},"",{"$f":"IFERROR(ER156*BASE!$AN$165/BASE!$AN156,\"\")","v":""},"",{"$f":"IF(BASE!AL156=\"\",\"\",Reporte!$N156)","v":""},"",{"$f":"IFERROR(EV156*BASE!$AN$165/BASE!$AN156,\"\")","v":""},""]
[null,"Comp. Esp. 6","Criterio Evaluación 6.4","",{"$f":"Religion!E9","v":1},{"$f":"Religion!F9","v":0.16666666666666666},{"$f":"Religion!G9","v":""},null,null,null,null,"Comp. Esp. 6","Criterio Evaluación 6.4","",{"$f":"'Peso criterios carga horaria'!F157","v":1},{"$f":"O157*BASE!$AN$165/BASE!AN157","v":1.6589285714285715},2.2909507445589921E-3,"",{"$f":"IF(BASE!E157=\"\",\"\",Reporte!$N157)","v":""},"",{"$f":"IFERROR(T157*BASE!$AN$165/BASE!$AN157,\"\")","v":""},"",{"$f":"IF(BASE!F157=\"\",\"\",Reporte!$N157)","v":""},"",{"$f":"IFERROR(X157*BASE!$AN$165/BASE!$AN157,\"\")","v":""},"",{"$f":"IF(BASE!G157=\"\",\"\",Reporte!$N157)","v":""},"",{"$f":"IFERROR(AB157*BASE!$AN$165/BASE!$AN157,\"\")","v":""},"",{"$f":"IF(BASE!H157=\"\",\"\",Reporte!$N157)","v":""},"",{"$f":"IFERROR(AF157*BASE!$AN$165/BASE!$AN157,\"\")","v":""},"",{"$f":"IF(BASE!I157=\"\",\"\",Reporte!$N157)","v":""},"",{"$f":"IFERROR(AJ157*BASE!$AN$165/BASE!$AN157,\"\")","v":""},"",{"$f":"IF(BASE!J157=\"\",\"\",Reporte!$N157)","v":""},"",{"$f":"IFERROR(AN157*BASE!$AN$165/BASE!$AN157,\"\")","v":""},"",{"$f":"IF(BASE!K157=\"\",\"\",Reporte!$N157)","v":""},"",{"$f":"IFERROR(AR157*BASE!$AN$165/BASE!$AN157,\"\")","v":""},"",{"$f":"IF(BASE!L157=\"\",\"\",Reporte!$N157)","v":""},"",{"$f":"IFERROR(AV157*BASE!$AN$165/BASE!$AN157,\"\")","v":""},"",{"$f":"IF(BASE!M157=\"\",\"\",Reporte!$N157)","v":""},"",{"$f":"IFERROR(AZ157*BASE!$AN$165/BASE!$AN157,\"\")","v":""},"",{"$f":"IF(BASE!N157=\"\",\"\",Reporte!$N157)","v":""},"",{"$f":"IFERROR(BD157*BASE!$AN$165/BASE!$AN157,\"\")","v":""},"",{"$f":"IF(BASE!O157=\"\",\"\",Reporte!$N157)","v":""},"",{"$f":"IFERROR(BH157*BASE!$AN$165/BASE!$AN157,\"\")","v":""},"",{"$f":"IF(BASE!P157=\"\",\"\",Reporte!$N157)","v":""},"",{"$f":"IFERROR(BL157*BASE!$AN$165/BASE!$AN157,\"\")","v":""},"",{"$f":"IF(BASE!Q157=\"\",\"\",Reporte!$N157)","v":""},"",{"$f":"IFERROR(BP157*BASE!$AN$165/BASE!$AN157,\"\")","v":""},"",{"$f":"IF(BASE!R157=\"\",\"\",Reporte!$N157)","v":""},"",{"$f":"IFERROR(BT157*BASE!$AN$165/BASE!$AN157,\"\")","v":""},"",{"$f":"IF(BASE!S157=\"\",\"\",Reporte!$N157)","v":""},"",{"$f":"IFERROR(BX157*BASE!$AN$165/BASE!$AN157,\"\")","v":""},"",{"$f":"IF(BASE!T157=\"\",\"\",Reporte!$N157)","v":""},"",{"$f":"IFERROR(CB157*BASE!$AN$165/BASE!$AN157,\"\")","v":""},"",{"$f":"IF(BASE!U157=\"\",\"\",Reporte!$N157)","v":""},"",{"$f":"IFERROR(CF157*BASE!$AN$165/BASE!$AN157,\"\")","v":""},"",{"$f":"IF(BASE!V157=\"\",\"\",Reporte!$N157)","v":""},"",{"$f":"IFERROR(CJ157*BASE!$AN$165/BASE!$AN157,\"\")","v":""},"",{"$f":"IF(BASE!W157=\"\",\"\",Reporte!$N157)","v":""},"",{"$f":"IFERROR(CN157*BASE!$AN$165/BASE!$AN157,\"\")","v":""},"",{"$f":"IF(BASE!X157=\"\",\"\",Reporte!$N157)","v":""},"",{"$f":"IFERROR(CR157*BASE!$AN$165/BASE!$AN157,\"\")","v":""},"",{"$f":"IF(BASE!Y157=\"\",\"\",Reporte!$N157)","v":""},"",{"$f":"IFERROR(CV157*BASE!$AN$165/BASE!$AN157,\"\")","v":""},"",{"$f":"IF(BASE!Z157=\"\",\"\",Reporte!$N157)","v":""},"",{"$f":"IFERROR(CZ157*BASE!$AN$165/BASE!$AN157,\"\")","v":""},"",{"$f":"IF(BASE!AA157=\"\",\"\",Reporte!$N157)","v":""},"",{"$f":"IFERROR(DD157*BASE!$AN$165/BASE!$AN157,\"\")","v":""},"",{"$f":"IF(BASE!AB157=\"\",\"\",Reporte!$N157)","v":""},"",{"$f":"IFERROR(DH157*BASE!$AN$165/BASE!$AN157,\"\")","v":""},"",{"$f":"IF(BASE!AC157=\"\",\"\",Reporte!$N157)","v":""},"",{"$f":"IFERROR(DL157*BASE!$AN$165/BASE!$AN157,\"\")","v":""},"",{"$f":"IF(BASE!AD157=\"\",\"\",Reporte!$N157)","v":""},"",{"$f":"IFERROR(DP157*BASE!$AN$165/BASE!$AN157,\"\")","v":""},"",{"$f":"IF(BASE!AE157=\"\",\"\",Reporte!$N157)","v":""},"",{"$f":"IFERROR(DT157*BASE!$AN$165/BASE!$AN157,\"\")","v":""},"",{"$f":"IF(BASE!AF157=\"\",\"\",Reporte!$N157)","v":""},"",{"$f":"IFERROR(DX157*BASE!$AN$165/BASE!$AN157,\"\")","v":""},"",{"$f":"IF(BASE!AG157=\"\",\"\",Reporte!$N157)","v":""},"",{"$f":"IFERROR(EB157*BASE!$AN$165/BASE!$AN157,\"\")","v":""},"",{"$f":"IF(BASE!AH157=\"\",\"\",Reporte!$N157)","v":""},"",{"$f":"IFERROR(EF157*BASE!$AN$165/BASE!$AN157,\"\")","v":""},"",{"$f":"IF(BASE!AI157=\"\",\"\",Reporte!$N157)","v":""},"",{"$f":"IFERROR(EJ157*BASE!$AN$165/BASE!$AN157,\"\")","v":""},"",{"$f":"IF(BASE!AJ157=\"\",\"\",Reporte!$N157)","v":""},"",{"$f":"IFERROR(EN157*BASE!$AN$165/BASE!$AN157,\"\")","v":""},"",{"$f":"IF(BASE!AK157=\"\",\"\",Reporte!$N157)","v":""},"",{"$f":"IFERROR(ER157*BASE!$AN$165/BASE!$AN157,\"\")","v":""},"",{"$f":"IF(BASE!AL157=\"\",\"\",Reporte!$N157)","v":""},"",{"$f":"IFERROR(EV157*BASE!$AN$165/BASE!$AN157,\"\")","v":""},""]
["Área dirigida al alumnado que no cursa religión","Comp. Esp. 1","Criterio Evaluación 1.1","",1,{"$f":"IFERROR(E158/SUMIF($D$158:$D$163,\">=0\",$E$158:$E$163),\"\")","v":""},{"$f":"IFERROR(F158/SUMIF($D$158:$D$163,\">=0\",$F$158:$F$163),\"\")","v":""},{"$f":"IFERROR(SUMPRODUCT(D158:D163,E158:E163)/SUMIF(D158:D163,\">=0\",E158:E163),\"\")","v":""},null,null,"Área dirigida al alumnado que no cursa religión","Comp. Esp. 1","Criterio Evaluación 1.1","",{"$f":"'Peso criterios carga horaria'!F158","v":1},{"$f":"O158*BASE!$AN$165/BASE!AN158","v":1.6589285714285715},2.2909507445589921E-3,"",{"$f":"IF(BASE!E158=\"\",\"\",Reporte!$N158)","v":""},"",{"$f":"IFERROR(T158*BASE!$AN$165/BASE!$AN158,\"\")","v":""},"",{"$f":"IF(BASE!F158=\"\",\"\",Reporte!$N158)","v":""},"",{"$f":"IFERROR(X158*BASE!$AN$165/BASE!$AN158,\"\")","v":""},"",{"$f":"IF(BASE!G158=\"\",\"\",Reporte!$N158)","v":""},"",{"$f":"IFERROR(AB158*BASE!$AN$165/BASE!$AN158,\"\")","v":""},"",{"$f":"IF(BASE!H158=\"\",\"\",Reporte!$N158)","v":""},"",{"$f":"IFERROR(AF158*BASE!$AN$165/BASE!$AN158,\"\")","v":""},"",{"$f":"IF(BASE!I158=\"\",\"\",Reporte!$N158)","v":""},"",{"$f":"IFERROR(AJ158*BASE!$AN$165/BASE!$AN158,\"\")","v":""},"",{"$f":"IF(BASE!J158=\"\",\"\",Reporte!$N158)","v":""},"",{"$f":"IFERROR(AN158*BASE!$AN$165/BASE!$AN158,\"\")","v":""},"",{"$f":"IF(BASE!K158=\"\",\"\",Reporte!$N158)","v":""},"",{"$f":"IFERROR(AR158*BASE!$AN$165/BASE!$AN158,\"\")","v":""},"",{"$f":"IF(BASE!L158=\"\",\"\",Reporte!$N158)","v":""},"",{"$f":"IFERROR(AV158*BASE!$AN$165/BASE!$AN158,\"\")","v":""},"",{"$f":"IF(BASE!M158=\"\",\"\",Reporte!$N158)","v":""},"",{"$f":"IFERROR(AZ158*BASE!$AN$165/BASE!$AN158,\"\")","v":""},"",{"$f":"IF(BASE!N158=\"\",\"\",Reporte!$N158)","v":""},"",{"$f":"IFERROR(BD158*BASE!$AN$165/BASE!$AN158,\"\")","v":""},"",{"$f":"IF(BASE!O158=\"\",\"\",Reporte!$N158)","v":""},"",{"$f":"IFERROR(BH158*BASE!$AN$165/BASE!$AN158,\"\")","v":""},"",{"$f":"IF(BASE!P158=\"\",\"\",Reporte!$N158)","v":""},"",{"$f":"IFERROR(BL158*BASE!$AN$165/BASE!$AN158,\"\")","v":""},"",{"$f":"IF(BASE!Q158=\"\",\"\",Reporte!$N158)","v":""},"",{"$f":"IFERROR(BP158*BASE!$AN$165/BASE!$AN158,\"\")","v":""},"",{"$f":"IF(BASE!R158=\"\",\"\",Reporte!$N158)","v":""},"",{"$f":"IFERROR(BT158*BASE!$AN$165/BASE!$AN158,\"\")","v":""},"",{"$f":"IF(BASE!S158=\"\",\"\",Reporte!$N158)","v":""},"",{"$f":"IFERROR(BX158*BASE!$AN$165/BASE!$AN158,\"\")","v":""},"",{"$f":"IF(BASE!T158=\"\",\"\",Reporte!$N158)","v":""},"",{"$f":"IFERROR(CB158*BASE!$AN$165/BASE!$AN158,\"\")","v":""},"",{"$f":"IF(BASE!U158=\"\",\"\",Reporte!$N158)","v":""},"",{"$f":"IFERROR(CF158*BASE!$AN$165/BASE!$AN158,\"\")","v":""},"",{"$f":"IF(BASE!V158=\"\",\"\",Reporte!$N158)","v":""},"",{"$f":"IFERROR(CJ158*BASE!$AN$165/BASE!$AN158,\"\")","v":""},"",{"$f":"IF(BASE!W158=\"\",\"\",Reporte!$N158)","v":""},"",{"$f":"IFERROR(CN158*BASE!$AN$165/BASE!$AN158,\"\")","v":""},"",{"$f":"IF(BASE!X158=\"\",\"\",Reporte!$N158)","v":""},"",{"$f":"IFERROR(CR158*BASE!$AN$165/BASE!$AN158,\"\")","v":""},"",{"$f":"IF(BASE!Y158=\"\",\"\",Reporte!$N158)","v":""},"",{"$f":"IFERROR(CV158*BASE!$AN$165/BASE!$AN158,\"\")","v":""},"",{"$f":"IF(BASE!Z158=\"\",\"\",Reporte!$N158)","v":""},"",{"$f":"IFERROR(CZ158*BASE!$AN$165/BASE!$AN158,\"\")","v":""},"",{"$f":"IF(BASE!AA158=\"\",\"\",Reporte!$N158)","v":""},"",{"$f":"IFERROR(DD158*BASE!$AN$165/BASE!$AN158,\"\")","v":""},"",{"$f":"IF(BASE!AB158=\"\",\"\",Reporte!$N158)","v":""},"",{"$f":"IFERROR(DH158*BASE!$AN$165/BASE!$AN158,\"\")","v":""},"",{"$f":"IF(BASE!AC158=\"\",\"\",Reporte!$N158)","v":""},"",{"$f":"IFERROR(DL158*BASE!$AN$165/BASE!$AN158,\"\")","v":""},"",{"$f":"IF(BASE!AD158=\"\",\"\",Reporte!$N158)","v":""},"",{"$f":"IFERROR(DP158*BASE!$AN$165/BASE!$AN158,\"\")","v":""},"",{"$f":"IF(BASE!AE158=\"\",\"\",Reporte!$N158)","v":""},"",{"$f":"IFERROR(DT158*BASE!$AN$165/BASE!$AN158,\"\")","v":""},"",{"$f":"IF(BASE!AF158=\"\",\"\",Reporte!$N158)","v":""},"",{"$f":"IFERROR(DX158*BASE!$AN$165/BASE!$AN158,\"\")","v":""},"",{"$f":"IF(BASE!AG158=\"\",\"\",Reporte!$N158)","v":""},"",{"$f":"IFERROR(EB158*BASE!$AN$165/BASE!$AN158,\"\")","v":""},"",{"$f":"IF(BASE!AH158=\"\",\"\",Reporte!$N158)","v":""},"",{"$f":"IFERROR(EF158*BASE!$AN$165/BASE!$AN158,\"\")","v":""},"",{"$f":"IF(BASE!AI158=\"\",\"\",Reporte!$N158)","v":""},"",{"$f":"IFERROR(EJ158*BASE!$AN$165/BASE!$AN158,\"\")","v":""},"",{"$f":"IF(BASE!AJ158=\"\",\"\",Reporte!$N158)","v":""},"",{"$f":"IFERROR(EN158*BASE!$AN$165/BASE!$AN158,\"\")","v":""},"",{"$f":"IF(BASE!AK158=\"\",\"\",Reporte!$N158)","v":""},"",{"$f":"IFERROR(ER158*BASE!$AN$165/BASE!$AN158,\"\")","v":""},"",{"$f":"IF(BASE!AL158=\"\",\"\",Reporte!$N158)","v":""},"",{"$f":"IFERROR(EV158*BASE!$AN$165/BASE!$AN158,\"\")","v":""},""]
[null,"Comp. Esp. 2","Criterio Evaluación 2.1","",1,{"$f":"IFERROR(E159/SUMIF($D$158:$D$163,\">=0\",$E$158:$E$163),\"\")","v":""},{"$f":"IFERROR(F159/SUMIF($D$158:$D$163,\">=0\",$F$158:$F$163),\"\")","v":""},null,null,null,null,"Comp. Esp. 2","Criterio Evaluación 2.1","",{"$f":"'Peso criterios carga horaria'!F159","v":1},{"$f":"O159*BASE!$AN$165/BASE!AN159","v":1.6589285714285715},2.2909507445589921E-3,"",{"$f":"IF(BASE!E159=\"\",\"\",Reporte!$N159)","v":""},"",{"$f":"IFERROR(T159*BASE!$AN$165/BASE!$AN159,\"\")","v":""},"",{"$f":"IF(BASE!F159=\"\",\"\",Reporte!$N159)","v":""},"",{"$f":"IFERROR(X159*BASE!$AN$165/BASE!$AN159,\"\")","v":""},"",{"$f":"IF(BASE!G159=\"\",\"\",Reporte!$N159)","v":""},"",{"$f":"IFERROR(AB159*BASE!$AN$165/BASE!$AN159,\"\")","v":""},"",{"$f":"IF(BASE!H159=\"\",\"\",Reporte!$N159)","v":""},"",{"$f":"IFERROR(AF159*BASE!$AN$165/BASE!$AN159,\"\")","v":""},"",{"$f":"IF(BASE!I159=\"\",\"\",Reporte!$N159)","v":""},"",{"$f":"IFERROR(AJ159*BASE!$AN$165/BASE!$AN159,\"\")","v":""},"",{"$f":"IF(BASE!J159=\"\",\"\",Reporte!$N159)","v":""},"",{"$f":"IFERROR(AN159*BASE!$AN$165/BASE!$AN159,\"\")","v":""},"",{"$f":"IF(BASE!K159=\"\",\"\",Reporte!$N159)","v":""},"",{"$f":"IFERROR(AR159*BASE!$AN$165/BASE!$AN159,\"\")","v":""},"",{"$f":"IF(BASE!L159=\"\",\"\",Reporte!$N159)","v":""},"",{"$f":"IFERROR(AV159*BASE!$AN$165/BASE!$AN159,\"\")","v":""},"",{"$f":"IF(BASE!M159=\"\",\"\",Reporte!$N159)","v":""},"",{"$f":"IFERROR(AZ159*BASE!$AN$165/BASE!$AN159,\"\")","v":""},"",{"$f":"IF(BASE!N159=\"\",\"\",Reporte!$N159)","v":""},"",{"$f":"IFERROR(BD159*BASE!$AN$165/BASE!$AN159,\"\")","v":""},"",{"$f":"IF(BASE!O159=\"\",\"\",Reporte!$N159)","v":""},"",{"$f":"IFERROR(BH159*BASE!$AN$165/BASE!$AN159,\"\")","v":""},"",{"$f":"IF(BASE!P159=\"\",\"\",Reporte!$N159)","v":""},"",{"$f":"IFERROR(BL159*BASE!$AN$165/BASE!$AN159,\"\")","v":""},"",{"$f":"IF(BASE!Q159=\"\",\"\",Reporte!$N159)","v":""},"",{"$f":"IFERROR(BP159*BASE!$AN$165/BASE!$AN159,\"\")","v":""},"",{"$f":"IF(BASE!R159=\"\",\"\",Reporte!$N159)","v":""},"",{"$f":"IFERROR(BT159*BASE!$AN$165/BASE!$AN159,\"\")","v":""},"",{"$f":"IF(BASE!S159=\"\",\"\",Reporte!$N159)","v":""},"",{"$f":"IFERROR(BX159*BASE!$AN$165/BASE!$AN159,\"\")","v":""},"",{"$f":"IF(BASE!T159=\"\",\"\",Reporte!$N159)","v":""},"",{"$f":"IFERROR(CB159*BASE!$AN$165/BASE!$AN159,\"\")","v":""},"",{"$f":"IF(BASE!U159=\"\",\"\",Reporte!$N159)","v":""},"",{"$f":"IFERROR(CF159*BASE!$AN$165/BASE!$AN159,\"\")","v":""},"",{"$f":"IF(BASE!V159=\"\",\"\",Reporte!$N159)","v":""},"",{"$f":"IFERROR(CJ159*BASE!$AN$165/BASE!$AN159,\"\")","v":""},"",{"$f":"IF(BASE!W159=\"\",\"\",Reporte!$N159)","v":""},"",{"$f":"IFERROR(CN159*BASE!$AN$165/BASE!$AN159,\"\")","v":""},"",{"$f":"IF(BASE!X159=\"\",\"\",Reporte!$N159)","v":""},"",{"$f":"IFERROR(CR159*BASE!$AN$165/BASE!$AN159,\"\")","v":""},"",{"$f":"IF(BASE!Y159=\"\",\"\",Reporte!$N159)","v":""},"",{"$f":"IFERROR(CV159*BASE!$AN$165/BASE!$AN159,\"\")","v":""},"",{"$f":"IF(BASE!Z159=\"\",\"\",Reporte!$N159)","v":""},"",{"$f":"IFERROR(CZ159*BASE!$AN$165/BASE!$AN159,\"\")","v":""},"",{"$f":"IF(BASE!AA159=\"\",\"\",Reporte!$N159)","v":""},"",{"$f":"IFERROR(DD159*BASE!$AN$165/BASE!$AN159,\"\")","v":""},"",{"$f":"IF(BASE!AB159=\"\",\"\",Reporte!$N159)","v":""},"",{"$f":"IFERROR(DH159*BASE!$AN$165/BASE!$AN159,\"\")","v":""},"",{"$f":"IF(BASE!AC159=\"\",\"\",Reporte!$N159)","v":""},"",{"$f":"IFERROR(DL159*BASE!$AN$165/BASE!$AN159,\"\")","v":""},"",{"$f":"IF(BASE!AD159=\"\",\"\",Reporte!$N159)","v":""},"",{"$f":"IFERROR(DP159*BASE!$AN$165/BASE!$AN159,\"\")","v":""},"",{"$f":"IF(BASE!AE159=\"\",\"\",Reporte!$N159)","v":""},"",{"$f":"IFERROR(DT159*BASE!$AN$165/BASE!$AN159,\"\")","v":""},"",{"$f":"IF(BASE!AF159=\"\",\"\",Reporte!$N159)","v":""},"",{"$f":"IFERROR(DX159*BASE!$AN$165/BASE!$AN159,\"\")","v":""},"",{"$f":"IF(BASE!AG159=\"\",\"\",Reporte!$N159)","v":""},"",{"$f":"IFERROR(EB159*BASE!$AN$165/BASE!$AN159,\"\")","v":""},"",{"$f":"IF(BASE!AH159=\"\",\"\",Reporte!$N159)","v":""},"",{"$f":"IFERROR(EF159*BASE!$AN$165/BASE!$AN159,\"\")","v":""},"",{"$f":"IF(BASE!AI159=\"\",\"\",Reporte!$N159)","v":""},"",{"$f":"IFERROR(EJ159*BASE!$AN$165/BASE!$AN159,\"\")","v":""},"",{"$f":"IF(BASE!AJ159=\"\",\"\",Reporte!$N159)","v":""},"",{"$f":"IFERROR(EN159*BASE!$AN$165/BASE!$AN159,\"\")","v":""},"",{"$f":"IF(BASE!AK159=\"\",\"\",Reporte!$N159)","v":""},"",{"$f":"IFERROR(ER159*BASE!$AN$165/BASE!$AN159,\"\")","v":""},"",{"$f":"IF(BASE!AL159=\"\",\"\",Reporte!$N159)","v":""},"",{"$f":"IFERROR(EV159*BASE!$AN$165/BASE!$AN159,\"\")","v":""},""]
[null,"Comp. Esp. 3","Criterio Evaluación 3.1","",1,"",{"$f":"IFERROR(F160/SUMIF($D$158:$D$163,\">=0\",$F$158:$F$163),\"\")","v":""},null,null,null,null,"Comp. Esp. 3","Criterio Evaluación 3.1","",{"$f":"'Peso criterios carga horaria'!F160","v":1},{"$f":"O160*BASE!$AN$165/BASE!AN160","v":1.6589285714285715},2.2909507445589921E-3,"",{"$f":"IF(BASE!E160=\"\",\"\",Reporte!$N160)","v":""},"",{"$f":"IFERROR(T160*BASE!$AN$165/BASE!$AN160,\"\")","v":""},"",{"$f":"IF(BASE!F160=\"\",\"\",Reporte!$N160)","v":""},"",{"$f":"IFERROR(X160*BASE!$AN$165/BASE!$AN160,\"\")","v":""},"",{"$f":"IF(BASE!G160=\"\",\"\",Reporte!$N160)","v":""},"",{"$f":"IFERROR(AB160*BASE!$AN$165/BASE!$AN160,\"\")","v":""},"",{"$f":"IF(BASE!H160=\"\",\"\",Reporte!$N160)","v":""},"",{"$f":"IFERROR(AF160*BASE!$AN$165/BASE!$AN160,\"\")","v":""},"",{"$f":"IF(BASE!I160=\"\",\"\",Reporte!$N160)","v":""},"",{"$f":"IFERROR(AJ160*BASE!$AN$165/BASE!$AN160,\"\")","v":""},"",{"$f":"IF(BASE!J160=\"\",\"\",Reporte!$N160)","v":""},"",{"$f":"IFERROR(AN160*BASE!$AN$165/BASE!$AN160,\"\")","v":""},"",{"$f":"IF(BASE!K160=\"\",\"\",Reporte!$N160)","v":""},"",{"$f":"IFERROR(AR160*BASE!$AN$165/BASE!$AN160,\"\")","v":""},"",{"$f":"IF(BASE!L160=\"\",\"\",Reporte!$N160)","v":""},"",{"$f":"IFERROR(AV160*BASE!$AN$165/BASE!$AN160,\"\")","v":""},"",{"$f":"IF(BASE!M160=\"\",\"\",Reporte!$N160)","v":""},"",{"$f":"IFERROR(AZ160*BASE!$AN$165/BASE!$AN160,\"\")","v":""},"",{"$f":"IF(BASE!N160=\"\",\"\",Reporte!$N160)","v":""},"",{"$f":"IFERROR(BD160*BASE!$AN$165/BASE!$AN160,\"\")","v":""},"",{"$f":"IF(BASE!O160=\"\",\"\",Reporte!$N160)","v":""},"",{"$f":"IFERROR(BH160*BASE!$AN$165/BASE!$AN160,\"\")","v":""},"",{"$f":"IF(BASE!P160=\"\",\"\",Reporte!$N160)","v":""},"",{"$f":"IFERROR(BL160*BASE!$AN$165/BASE!$AN160,\"\")","v":""},"",{"$f":"IF(BASE!Q160=\"\",\"\",Reporte!$N160)","v":""},"",{"$f":"IFERROR(BP160*BASE!$AN$165/BASE!$AN160,\"\")","v":""},"",{"$f":"IF(BASE!R160=\"\",\"\",Reporte!$N160)","v":""},"",{"$f":"IFERROR(BT160*BASE!$AN$165/BASE!$AN160,\"\")","v":""},"",{"$f":"IF(BASE!S160=\"\",\"\",Reporte!$N160)","v":""},"",{"$f":"IFERROR(BX160*BASE!$AN$165/BASE!$AN160,\"\")","v":""},"",{"$f":"IF(BASE!T160=\"\",\"\",Reporte!$N160)","v":""},"",{"$f":"IFERROR(CB160*BASE!$AN$165/BASE!$AN160,\"\")","v":""},"",{"$f":"IF(BASE!U160=\"\",\"\",Reporte!$N160)","v":""},"",{"$f":"IFERROR(CF160*BASE!$AN$165/BASE!$AN160,\"\")","v":""},"",{"$f":"IF(BASE!V160=\"\",\"\",Reporte!$N160)","v":""},"",{"$f":"IFERROR(CJ160*BASE!$AN$165/BASE!$AN160,\"\")","v":""},"",{"$f":"IF(BASE!W160=\"\",\"\",Reporte!$N160)","v":""},"",{"$f":"IFERROR(CN160*BASE!$AN$165/BASE!$AN160,\"\")","v":""},"",{"$f":"IF(BASE!X160=\"\",\"\",Reporte!$N160)","v":""},"",{"$f":"IFERROR(CR160*BASE!$AN$165/BASE!$AN160,\"\")","v":""},"",{"$f":"IF(BASE!Y160=\"\",\"\",Reporte!$N160)","v":""},"",{"$f":"IFERROR(CV160*BASE!$AN$165/BASE!$AN160,\"\")","v":""},"",{"$f":"IF(BASE!Z160=\"\",\"\",Reporte!$N160)","v":""},"",{"$f":"IFERROR(CZ160*BASE!$AN$165/BASE!$AN160,\"\")","v":""},"",{"$f":"IF(BASE!AA160=\"\",\"\",Reporte!$N160)","v":""},"",{"$f":"IFERROR(DD160*BASE!$AN$165/BASE!$AN160,\"\")","v":""},"",{"$f":"IF(BASE!AB160=\"\",\"\",Reporte!$N160)","v":""},"",{"$f":"IFERROR(DH160*BASE!$AN$165/BASE!$AN160,\"\")","v":""},"",{"$f":"IF(BASE!AC160=\"\",\"\",Reporte!$N160)","v":""},"",{"$f":"IFERROR(DL160*BASE!$AN$165/BASE!$AN160,\"\")","v":""},"",{"$f":"IF(BASE!AD160=\"\",\"\",Reporte!$N160)","v":""},"",{"$f":"IFERROR(DP160*BASE!$AN$165/BASE!$AN160,\"\")","v":""},"",{"$f":"IF(BASE!AE160=\"\",\"\",Reporte!$N160)","v":""},"",{"$f":"IFERROR(DT160*BASE!$AN$165/BASE!$AN160,\"\")","v":""},"",{"$f":"IF(BASE!AF160=\"\",\"\",Reporte!$N160)","v":""},"",{"$f":"IFERROR(DX160*BASE!$AN$165/BASE!$AN160,\"\")","v":""},"",{"$f":"IF(BASE!AG160=\"\",\"\",Reporte!$N160)","v":""},"",{"$f":"IFERROR(EB160*BASE!$AN$165/BASE!$AN160,\"\")","v":""},"",{"$f":"IF(BASE!AH160=\"\",\"\",Reporte!$N160)","v":""},"",{"$f":"IFERROR(EF160*BASE!$AN$165/BASE!$AN160,\"\")","v":""},"",{"$f":"IF(BASE!AI160=\"\",\"\",Reporte!$N160)","v":""},"",{"$f":"IFERROR(EJ160*BASE!$AN$165/BASE!$AN160,\"\")","v":""},"",{"$f":"IF(BASE!AJ160=\"\",\"\",Reporte!$N160)","v":""},"",{"$f":"IFERROR(EN160*BASE!$AN$165/BASE!$AN160,\"\")","v":""},"",{"$f":"IF(BASE!AK160=\"\",\"\",Reporte!$N160)","v":""},"",{"$f":"IFERROR(ER160*BASE!$AN$165/BASE!$AN160,\"\")","v":""},"",{"$f":"IF(BASE!AL160=\"\",\"\",Reporte!$N160)","v":""},"",{"$f":"IFERROR(EV160*BASE!$AN$165/BASE!$AN160,\"\")","v":""},""]
[null,"Comp. Esp. 4","Criterio Evaluación 4.1","",1,"",{"$f":"IFERROR(F161/SUMIF($D$158:$D$163,\">=0\",$F$158:$F$163),\"\")","v":""},null,null,null,null,"Comp. Esp. 4","Criterio Evaluación 4.1","",{"$f":"'Peso criterios carga horaria'!F161","v":1},{"$f":"O161*BASE!$AN$165/BASE!AN161","v":1.6589285714285715},2.2909507445589921E-3,"",{"$f":"IF(BASE!E161=\"\",\"\",Reporte!$N161)","v":""},"",{"$f":"IFERROR(T161*BASE!$AN$165/BASE!$AN161,\"\")","v":""},"",{"$f":"IF(BASE!F161=\"\",\"\",Reporte!$N161)","v":""},"",{"$f":"IFERROR(X161*BASE!$AN$165/BASE!$AN161,\"\")","v":""},"",{"$f":"IF(BASE!G161=\"\",\"\",Reporte!$N161)","v":""},"",{"$f":"IFERROR(AB161*BASE!$AN$165/BASE!$AN161,\"\")","v":""},"",{"$f":"IF(BASE!H161=\"\",\"\",Reporte!$N161)","v":""},"",{"$f":"IFERROR(AF161*BASE!$AN$165/BASE!$AN161,\"\")","v":""},"",{"$f":"IF(BASE!I161=\"\",\"\",Reporte!$N161)","v":""},"",{"$f":"IFERROR(AJ161*BASE!$AN$165/BASE!$AN161,\"\")","v":""},"",{"$f":"IF(BASE!J161=\"\",\"\",Reporte!$N161)","v":""},"",{"$f":"IFERROR(AN161*BASE!$AN$165/BASE!$AN161,\"\")","v":""},"",{"$f":"IF(BASE!K161=\"\",\"\",Reporte!$N161)","v":""},"",{"$f":"IFERROR(AR161*BASE!$AN$165/BASE!$AN161,\"\")","v":""},"",{"$f":"IF(BASE!L161=\"\",\"\",Reporte!$N161)","v":""},"",{"$f":"IFERROR(AV161*BASE!$AN$165/BASE!$AN161,\"\")","v":""},"",{"$f":"IF(BASE!M161=\"\",\"\",Reporte!$N161)","v":""},"",{"$f":"IFERROR(AZ161*BASE!$AN$165/BASE!$AN161,\"\")","v":""},"",{"$f":"IF(BASE!N161=\"\",\"\",Reporte!$N161)","v":""},"",{"$f":"IFERROR(BD161*BASE!$AN$165/BASE!$AN161,\"\")","v":""},"",{"$f":"IF(BASE!O161=\"\",\"\",Reporte!$N161)","v":""},"",{"$f":"IFERROR(BH161*BASE!$AN$165/BASE!$AN161,\"\")","v":""},"",{"$f":"IF(BASE!P161=\"\",\"\",Reporte!$N161)","v":""},"",{"$f":"IFERROR(BL161*BASE!$AN$165/BASE!$AN161,\"\")","v":""},"",{"$f":"IF(BASE!Q161=\"\",\"\",Reporte!$N161)","v":""},"",{"$f":"IFERROR(BP161*BASE!$AN$165/BASE!$AN161,\"\")","v":""},"",{"$f":"IF(BASE!R161=\"\",\"\",Reporte!$N161)","v":""},"",{"$f":"IFERROR(BT161*BASE!$AN$165/BASE!$AN161,\"\")","v":""},"",{"$f":"IF(BASE!S161=\"\",\"\",Reporte!$N161)","v":""},"",{"$f":"IFERROR(BX161*BASE!$AN$165/BASE!$AN161,\"\")","v":""},"",{"$f":"IF(BASE!T161=\"\",\"\",Reporte!$N161)","v":""},"",{"$f":"IFERROR(CB161*BASE!$AN$165/BASE!$AN161,\"\")","v":""},"",{"$f":"IF(BASE!U161=\"\",\"\",Reporte!$N161)","v":""},"",{"$f":"IFERROR(CF161*BASE!$AN$165/BASE!$AN161,\"\")","v":""},"",{"$f":"IF(BASE!V161=\"\",\"\",Reporte!$N161)","v":""},"",{"$f":"IFERROR(CJ161*BASE!$AN$165/BASE!$AN161,\"\")","v":""},"",{"$f":"IF(BASE!W161=\"\",\"\",Reporte!$N161)","v":""},"",{"$f":"IFERROR(CN161*BASE!$AN$165/BASE!$AN161,\"\")","v":""},"",{"$f":"IF(BASE!X161=\"\",\"\",Reporte!$N161)","v":""},"",{"$f":"IFERROR(CR161*BASE!$AN$165/BASE!$AN161,\"\")","v":""},"",{"$f":"IF(BASE!Y161=\"\",\"\",Reporte!$N161)","v":""},"",{"$f":"IFERROR(CV161*BASE!$AN$165/BASE!$AN161,\"\")","v":""},"",{"$f":"IF(BASE!Z161=\"\",\"\",Reporte!$N161)","v":""},"",{"$f":"IFERROR(CZ161*BASE!$AN$165/BASE!$AN161,\"\")","v":""},"",{"$f":"IF(BASE!AA161=\"\",\"\",Reporte!$N161)","v":""},"",{"$f":"IFERROR(DD161*BASE!$AN$165/BASE!$AN161,\"\")","v":""},"",{"$f":"IF(BASE!AB161=\"\",\"\",Reporte!$N161)","v":""},"",{"$f":"IFERROR(DH161*BASE!$AN$165/BASE!$AN161,\"\")","v":""},"",{"$f":"IF(BASE!AC161=\"\",\"\",Reporte!$N161)","v":""},"",{"$f":"IFERROR(DL161*BASE!$AN$165/BASE!$AN161,\"\")","v":""},"",{"$f":"IF(BASE!AD161=\"\",\"\",Reporte!$N161)","v":""},"",{"$f":"IFERROR(DP161*BASE!$AN$165/BASE!$AN161,\"\")","v":""},"",{"$f":"IF(BASE!AE161=\"\",\"\",Reporte!$N161)","v":""},"",{"$f":"IFERROR(DT161*BASE!$AN$165/BASE!$AN161,\"\")","v":""},"",{"$f":"IF(BASE!AF161=\"\",\"\",Reporte!$N161)","v":""},"",{"$f":"IFERROR(DX161*BASE!$AN$165/BASE!$AN161,\"\")","v":""},"",{"$f":"IF(BASE!AG161=\"\",\"\",Reporte!$N161)","v":""},"",{"$f":"IFERROR(EB161*BASE!$AN$165/BASE!$AN161,\"\")","v":""},"",{"$f":"IF(BASE!AH161=\"\",\"\",Reporte!$N161)","v":""},"",{"$f":"IFERROR(EF161*BASE!$AN$165/BASE!$AN161,\"\")","v":""},"",{"$f":"IF(BASE!AI161=\"\",\"\",Reporte!$N161)","v":""},"",{"$f":"IFERROR(EJ161*BASE!$AN$165/BASE!$AN161,\"\")","v":""},"",{"$f":"IF(BASE!AJ161=\"\",\"\",Reporte!$N161)","v":""},"",{"$f":"IFERROR(EN161*BASE!$AN$165/BASE!$AN161,\"\")","v":""},"",{"$f":"IF(BASE!AK161=\"\",\"\",Reporte!$N161)","v":""},"",{"$f":"IFERROR(ER161*BASE!$AN$165/BASE!$AN161,\"\")","v":""},"",{"$f":"IF(BASE!AL161=\"\",\"\",Reporte!$N161)","v":""},"",{"$f":"IFERROR(EV161*BASE!$AN$165/BASE!$AN161,\"\")","v":""},""]
[null,"Comp. Esp. 5","Criterio Evaluación 5.1","",1,"",{"$f":"IFERROR(F162/SUMIF($D$158:$D$163,\">=0\",$F$158:$F$163),\"\")","v":""},null,null,null,null,"Comp. Esp. 5","Criterio Evaluación 5.1","",{"$f":"'Peso criterios carga horaria'!F162","v":1},{"$f":"O162*BASE!$AN$165/BASE!AN162","v":1.6589285714285715},2.2909507445589921E-3,"",{"$f":"IF(BASE!E162=\"\",\"\",Reporte!$N162)","v":""},"",{"$f":"IFERROR(T162*BASE!$AN$165/BASE!$AN162,\"\")","v":""},"",{"$f":"IF(BASE!F162=\"\",\"\",Reporte!$N162)","v":""},"",{"$f":"IFERROR(X162*BASE!$AN$165/BASE!$AN162,\"\")","v":""},"",{"$f":"IF(BASE!G162=\"\",\"\",Reporte!$N162)","v":""},"",{"$f":"IFERROR(AB162*BASE!$AN$165/BASE!$AN162,\"\")","v":""},"",{"$f":"IF(BASE!H162=\"\",\"\",Reporte!$N162)","v":""},"",{"$f":"IFERROR(AF162*BASE!$AN$165/BASE!$AN162,\"\")","v":""},"",{"$f":"IF(BASE!I162=\"\",\"\",Reporte!$N162)","v":""},"",{"$f":"IFERROR(AJ162*BASE!$AN$165/BASE!$AN162,\"\")","v":""},"",{"$f":"IF(BASE!J162=\"\",\"\",Reporte!$N162)","v":""},"",{"$f":"IFERROR(AN162*BASE!$AN$165/BASE!$AN162,\"\")","v":""},"",{"$f":"IF(BASE!K162=\"\",\"\",Reporte!$N162)","v":""},"",{"$f":"IFERROR(AR162*BASE!$AN$165/BASE!$AN162,\"\")","v":""},"",{"$f":"IF(BASE!L162=\"\",\"\",Reporte!$N162)","v":""},"",{"$f":"IFERROR(AV162*BASE!$AN$165/BASE!$AN162,\"\")","v":""},"",{"$f":"IF(BASE!M162=\"\",\"\",Reporte!$N162)","v":""},"",{"$f":"IFERROR(AZ162*BASE!$AN$165/BASE!$AN162,\"\")","v":""},"",{"$f":"IF(BASE!N162=\"\",\"\",Reporte!$N162)","v":""},"",{"$f":"IFERROR(BD162*BASE!$AN$165/BASE!$AN162,\"\")","v":""},"",{"$f":"IF(BASE!O162=\"\",\"\",Reporte!$N162)","v":""},"",{"$f":"IFERROR(BH162*BASE!$AN$165/BASE!$AN162,\"\")","v":""},"",{"$f":"IF(BASE!P162=\"\",\"\",Reporte!$N162)","v":""},"",{"$f":"IFERROR(BL162*BASE!$AN$165/BASE!$AN162,\"\")","v":""},"",{"$f":"IF(BASE!Q162=\"\",\"\",Reporte!$N162)","v":""},"",{"$f":"IFERROR(BP162*BASE!$AN$165/BASE!$AN162,\"\")","v":""},"",{"$f":"IF(BASE!R162=\"\",\"\",Reporte!$N162)","v":""},"",{"$f":"IFERROR(BT162*BASE!$AN$165/BASE!$AN162,\"\")","v":""},"",{"$f":"IF(BASE!S162=\"\",\"\",Reporte!$N162)","v":""},"",{"$f":"IFERROR(BX162*BASE!$AN$165/BASE!$AN162,\"\")","v":""},"",{"$f":"IF(BASE!T162=\"\",\"\",Reporte!$N162)","v":""},"",{"$f":"IFERROR(CB162*BASE!$AN$165/BASE!$AN162,\"\")","v":""},"",{"$f":"IF(BASE!U162=\"\",\"\",Reporte!$N162)","v":""},"",{"$f":"IFERROR(CF162*BASE!$AN$165/BASE!$AN162,\"\")","v":""},"",{"$f":"IF(BASE!V162=\"\",\"\",Reporte!$N162)","v":""},"",{"$f":"IFERROR(CJ162*BASE!$AN$165/BASE!$AN162,\"\")","v":""},"",{"$f":"IF(BASE!W162=\"\",\"\",Reporte!$N162)","v":""},"",{"$f":"IFERROR(CN162*BASE!$AN$165/BASE!$AN162,\"\")","v":""},"",{"$f":"IF(BASE!X162=\"\",\"\",Reporte!$N162)","v":""},"",{"$f":"IFERROR(CR162*BASE!$AN$165/BASE!$AN162,\"\")","v":""},"",{"$f":"IF(BASE!Y162=\"\",\"\",Reporte!$N162)","v":""},"",{"$f":"IFERROR(CV162*BASE!$AN$165/BASE!$AN162,\"\")","v":""},"",{"$f":"IF(BASE!Z162=\"\",\"\",Reporte!$N162)","v":""},"",{"$f":"IFERROR(CZ162*BASE!$AN$165/BASE!$AN162,\"\")","v":""},"",{"$f":"IF(BASE!AA162=\"\",\"\",Reporte!$N162)","v":""},"",{"$f":"IFERROR(DD162*BASE!$AN$165/BASE!$AN162,\"\")","v":""},"",{"$f":"IF(BASE!AB162=\"\",\"\",Reporte!$N162)","v":""},"",{"$f":"IFERROR(DH162*BASE!$AN$165/BASE!$AN162,\"\")","v":""},"",{"$f":"IF(BASE!AC162=\"\",\"\",Reporte!$N162)","v":""},"",{"$f":"IFERROR(DL162*BASE!$AN$165/BASE!$AN162,\"\")","v":""},"",{"$f":"IF(BASE!AD162=\"\",\"\",Reporte!$N162)","v":""},"",{"$f":"IFERROR(DP162*BASE!$AN$165/BASE!$AN162,\"\")","v":""},"",{"$f":"IF(BASE!AE162=\"\",\"\",Reporte!$N162)","v":""},"",{"$f":"IFERROR(DT162*BASE!$AN$165/BASE!$AN162,\"\")","v":""},"",{"$f":"IF(BASE!AF162=\"\",\"\",Reporte!$N162)","v":""},"",{"$f":"IFERROR(DX162*BASE!$AN$165/BASE!$AN162,\"\")","v":""},"",{"$f":"IF(BASE!AG162=\"\",\"\",Reporte!$N162)","v":""},"",{"$f":"IFERROR(EB162*BASE!$AN$165/BASE!$AN162,\"\")","v":""},"",{"$f":"IF(BASE!AH162=\"\",\"\",Reporte!$N162)","v":""},"",{"$f":"IFERROR(EF162*BASE!$AN$165/BASE!$AN162,\"\")","v":""},"",{"$f":"IF(BASE!AI162=\"\",\"\",Reporte!$N162)","v":""},"",{"$f":"IFERROR(EJ162*BASE!$AN$165/BASE!$AN162,\"\")","v":""},"",{"$f":"IF(BASE!AJ162=\"\",\"\",Reporte!$N162)","v":""},"",{"$f":"IFERROR(EN162*BASE!$AN$165/BASE!$AN162,\"\")","v":""},"",{"$f":"IF(BASE!AK162=\"\",\"\",Reporte!$N162)","v":""},"",{"$f":"IFERROR(ER162*BASE!$AN$165/BASE!$AN162,\"\")","v":""},"",{"$f":"IF(BASE!AL162=\"\",\"\",Reporte!$N162)","v":""},"",{"$f":"IFERROR(EV162*BASE!$AN$165/BASE!$AN162,\"\")","v":""},""]
[null,"Comp. Esp. 6","Criterio Evaluación 6.1","",1,"",{"$f":"IFERROR(F163/SUMIF($D$158:$D$163,\">=0\",$F$158:$F$163),\"\")","v":""},null,null,null,null,"Comp. Esp. 6","Criterio Evaluación 6.1","",{"$f":"'Peso criterios carga horaria'!F163","v":1},{"$f":"O163*BASE!$AN$165/BASE!AN163","v":1.6589285714285715},2.2909507445589921E-3,"",{"$f":"IF(BASE!E163=\"\",\"\",Reporte!$N163)","v":""},"",{"$f":"IFERROR(T163*BASE!$AN$165/BASE!$AN163,\"\")","v":""},"",{"$f":"IF(BASE!F163=\"\",\"\",Reporte!$N163)","v":""},"",{"$f":"IFERROR(X163*BASE!$AN$165/BASE!$AN163,\"\")","v":""},"",{"$f":"IF(BASE!G163=\"\",\"\",Reporte!$N163)","v":""},"",{"$f":"IFERROR(AB163*BASE!$AN$165/BASE!$AN163,\"\")","v":""},"",{"$f":"IF(BASE!H163=\"\",\"\",Reporte!$N163)","v":""},"",{"$f":"IFERROR(AF163*BASE!$AN$165/BASE!$AN163,\"\")","v":""},"",{"$f":"IF(BASE!I163=\"\",\"\",Reporte!$N163)","v":""},"",{"$f":"IFERROR(AJ163*BASE!$AN$165/BASE!$AN163,\"\")","v":""},"",{"$f":"IF(BASE!J163=\"\",\"\",Reporte!$N163)","v":""},"",{"$f":"IFERROR(AN163*BASE!$AN$165/BASE!$AN163,\"\")","v":""},"",{"$f":"IF(BASE!K163=\"\",\"\",Reporte!$N163)","v":""},"",{"$f":"IFERROR(AR163*BASE!$AN$165/BASE!$AN163,\"\")","v":""},"",{"$f":"IF(BASE!L163=\"\",\"\",Reporte!$N163)","v":""},"",{"$f":"IFERROR(AV163*BASE!$AN$165/BASE!$AN163,\"\")","v":""},"",{"$f":"IF(BASE!M163=\"\",\"\",Reporte!$N163)","v":""},"",{"$f":"IFERROR(AZ163*BASE!$AN$165/BASE!$AN163,\"\")","v":""},"",{"$f":"IF(BASE!N163=\"\",\"\",Reporte!$N163)","v":""},"",{"$f":"IFERROR(BD163*BASE!$AN$165/BASE!$AN163,\"\")","v":""},"",{"$f":"IF(BASE!O163=\"\",\"\",Reporte!$N163)","v":""},"",{"$f":"IFERROR(BH163*BASE!$AN$165/BASE!$AN163,\"\")","v":""},"",{"$f":"IF(BASE!P163=\"\",\"\",Reporte!$N163)","v":""},"",{"$f":"IFERROR(BL163*BASE!$AN$165/BASE!$AN163,\"\")","v":""},"",{"$f":"IF(BASE!Q163=\"\",\"\",Reporte!$N163)","v":""},"",{"$f":"IFERROR(BP163*BASE!$AN$165/BASE!$AN163,\"\")","v":""},"",{"$f":"IF(BASE!R163=\"\",\"\",Reporte!$N163)","v":""},"",{"$f":"IFERROR(BT163*BASE!$AN$165/BASE!$AN163,\"\")","v":""},"",{"$f":"IF(BASE!S163=\"\",\"\",Reporte!$N163)","v":""},"",{"$f":"IFERROR(BX163*BASE!$AN$165/BASE!$AN163,\"\")","v":""},"",{"$f":"IF(BASE!T163=\"\",\"\",Reporte!$N163)","v":""},"",{"$f":"IFERROR(CB163*BASE!$AN$165/BASE!$AN163,\"\")","v":""},"",{"$f":"IF(BASE!U163=\"\",\"\",Reporte!$N163)","v":""},"",{"$f":"IFERROR(CF163*BASE!$AN$165/BASE!$AN163,\"\")","v":""},"",{"$f":"IF(BASE!V163=\"\",\"\",Reporte!$N163)","v":""},"",{"$f":"IFERROR(CJ163*BASE!$AN$165/BASE!$AN163,\"\")","v":""},"",{"$f":"IF(BASE!W163=\"\",\"\",Reporte!$N163)","v":""},"",{"$f":"IFERROR(CN163*BASE!$AN$165/BASE!$AN163,\"\")","v":""},"",{"$f":"IF(BASE!X163=\"\",\"\",Reporte!$N163)","v":""},"",{"$f":"IFERROR(CR163*BASE!$AN$165/BASE!$AN163,\"\")","v":""},"",{"$f":"IF(BASE!Y163=\"\",\"\",Reporte!$N163)","v":""},"",{"$f":"IFERROR(CV163*BASE!$AN$165/BASE!$AN163,\"\")","v":""},"",{"$f":"IF(BASE!Z163=\"\",\"\",Reporte!$N163)","v":""},"",{"$f":"IFERROR(CZ163*BASE!$AN$165/BASE!$AN163,\"\")","v":""},"",{"$f":"IF(BASE!AA163=\"\",\"\",Reporte!$N163)","v":""},"",{"$f":"IFERROR(DD163*BASE!$AN$165/BASE!$AN163,\"\")","v":""},"",{"$f":"IF(BASE!AB163=\"\",\"\",Reporte!$N163)","v":""},"",{"$f":"IFERROR(DH163*BASE!$AN$165/BASE!$AN163,\"\")","v":""},"",{"$f":"IF(BASE!AC163=\"\",\"\",Reporte!$N163)","v":""},"",{"$f":"IFERROR(DL163*BASE!$AN$165/BASE!$AN163,\"\")","v":""},"",{"$f":"IF(BASE!AD163=\"\",\"\",Reporte!$N163)","v":""},"",{"$f":"IFERROR(DP163*BASE!$AN$165/BASE!$AN163,\"\")","v":""},"",{"$f":"IF(BASE!AE163=\"\",\"\",Reporte!$N163)","v":""},"",{"$f":"IFERROR(DT163*BASE!$AN$165/BASE!$AN163,\"\")","v":""},"",{"$f":"IF(BASE!AF163=\"\",\"\",Reporte!$N163)","v":""},"",{"$f":"IFERROR(DX163*BASE!$AN$165/BASE!$AN163,\"\")","v":""},"",{"$f":"IF(BASE!AG163=\"\",\"\",Reporte!$N163)","v":""},"",{"$f":"IFERROR(EB163*BASE!$AN$165/BASE!$AN163,\"\")","v":""},"",{"$f":"IF(BASE!AH163=\"\",\"\",Reporte!$N163)","v":""},"",{"$f":"IFERROR(EF163*BASE!$AN$165/BASE!$AN163,\"\")","v":""},"",{"$f":"IF(BASE!AI163=\"\",\"\",Reporte!$N163)","v":""},"",{"$f":"IFERROR(EJ163*BASE!$AN$165/BASE!$AN163,\"\")","v":""},"",{"$f":"IF(BASE!AJ163=\"\",\"\",Reporte!$N163)","v":""},"",{"$f":"IFERROR(EN163*BASE!$AN$165/BASE!$AN163,\"\")","v":""},"",{"$f":"IF(BASE!AK163=\"\",\"\",Reporte!$N163)","v":""},"",{"$f":"IFERROR(ER163*BASE!$AN$165/BASE!$AN163,\"\")","v":""},"",{"$f":"IF(BASE!AL163=\"\",\"\",Reporte!$N163)","v":""},"",{"$f":"IFERROR(EV163*BASE!$AN$165/BASE!$AN163,\"\")","v":""},""]
[null,null,null,null,null,null,null,null,null,null,null,null,null,null,null,"TOTAL",{"$f":"SUM(Q5:Q163)","v":0.99999999999999778},{"$f":"SUM(R5:R163)","v":0},null,null,{"$f":"SUM(V5:V163)","v":0},null,null,null,{"$f":"SUM(Z5:Z163)","v":0},null,null,null,{"$f":"SUM(AD5:AD163)","v":0},null,null,null,{"$f":"SUM(AH5:AH163)","v":0},null,null,null,{"$f":"SUM(AL5:AL163)","v":0},null,null,null,{"$f":"SUM(AP5:AP163)","v":0},null,null,null,{"$f":"SUM(AT5:AT163)","v":0},null,null,null,{"$f":"SUM(AX5:AX163)","v":0},null,null,null,{"$f":"SUM(BB5:BB163)","v":0},null,null,null,{"$f":"SUM(BF5:BF163)","v":0},null,null,null,{"$f":"SUM(BJ5:BJ163)","v":0},null,null,null,{"$f":"SUM(BN5:BN163)","v":0},null,null,null,{"$f":"SUM(BR5:BR163)","v":0},null,null,null,{"$f":"SUM(BV5:BV163)","v":0},null,null,null,{"$f":"SUM(BZ5:BZ163)","v":0},null,null,null,{"$f":"SUM(CD5:CD163)","v":0},null,null,null,{"$f":"SUM(CH5:CH163)","v":0},null,null,null,{"$f":"SUM(CL5:CL163)","v":0},null,null,null,{"$f":"SUM(CP5:CP163)","v":0},null,null,null,{"$f":"SUM(CT5:CT163)","v":0},null,null,null,{"$f":"SUM(CX5:CX163)","v":0},null,null,null,{"$f":"SUM(DB5:DB163)","v":0},null,null,null,{"$f":"SUM(DF5:DF163)","v":0},null,null,null,{"$f":"SUM(DJ5:DJ163)","v":0},null,null,null,{"$f":"SUM(DN5:DN163)","v":0},null,null,null,{"$f":"SUM(DR5:DR163)","v":0},null,null,null,{"$f":"SUM(DV5:DV163)","v":0},null,null,null,{"$f":"SUM(DZ5:DZ163)","v":0},null,null,null,{"$f":"SUM(ED5:ED163)","v":0},null,null,null,{"$f":"SUM(EH5:EH163)","v":0},null,null,null,{"$f":"SUM(EL5:EL163)","v":0},null,null,null,{"$f":"SUM(EP5:EP163)","v":0},null,null,null,{"$f":"SUM(ET5:ET163)","v":0},null,null,null,{"$f":"SUM(EX5:EX163)","v":0}]
[null,null,null,null,null,null,null,null,null,null,"SÍ","CALIFICACIONE DESCRIPTORES",null,null,null,null,null,null,{"$f":"IFERROR(IF($P$3=\"SÍ\",SUMPRODUCT(S5:S163,$P5:$P163)/SUMIF(S5:S163,\">=0\",$P5:$P163),SUMPRODUCT(S5:S163,U5:U163)/SUMIF(S5:S163,\">=0\",U5:U163)),\"\")","v":""},null,null,null,{"$f":"IFERROR(IF($P$3=\"SÍ\",SUMPRODUCT(W5:W163,$P5:$P163)/SUMIF(W5:W163,\">=0\",$P5:$P163),SUMPRODUCT(W5:W163,Y5:Y163)/SUMIF(W5:W163,\">=0\",Y5:Y163)),\"\")","v":""},null,null,null,{"$f":"IFERROR(IF($P$3=\"SÍ\",SUMPRODUCT(AA5:AA163,$P5:$P163)/SUMIF(AA5:AA163,\">=0\",$P5:$P163),SUMPRODUCT(AA5:AA163,AC5:AC163)/SUMIF(AA5:AA163,\">=0\",AC5:AC163)),\"\")","v":""},null,null,null,{"$f":"IFERROR(IF($P$3=\"SÍ\",SUMPRODUCT(AE5:AE163,$P5:$P163)/SUMIF(AE5:AE163,\">=0\",$P5:$P163),SUMPRODUCT(AE5:AE163,AG5:AG163)/SUMIF(AE5:AE163,\">=0\",AG5:AG163)),\"\")","v":""},null,null,null,{"$f":"IFERROR(IF($P$3=\"SÍ\",SUMPRODUCT(AI5:AI163,$P5:$P163)/SUMIF(AI5:AI163,\">=0\",$P5:$P163),SUMPRODUCT(AI5:AI163,AK5:AK163)/SUMIF(AI5:AI163,\">=0\",AK5:AK163)),\"\")","v":""},null,null,null,{"$f":"IFERROR(IF($P$3=\"SÍ\",SUMPRODUCT(AM5:AM163,$P5:$P163)/SUMIF(AM5:AM163,\">=0\",$P5:$P163),SUMPRODUCT(AM5:AM163,AO5:AO163)/SUMIF(AM5:AM163,\">=0\",AO5:AO163)),\"\")","v":""},null,null,null,{"$f":"IFERROR(IF($P$3=\"SÍ\",SUMPRODUCT(AQ5:AQ163,$P5:$P163)/SUMIF(AQ5:AQ163,\">=0\",$P5:$P163),SUMPRODUCT(AQ5:AQ163,AS5:AS163)/SUMIF(AQ5:AQ163,\">=0\",AS5:AS163)),\"\")","v":""},null,null,null,{"$f":"IFERROR(IF($P$3=\"SÍ\",SUMPRODUCT(AU5:AU163,$P5:$P163)/SUMIF(AU5:AU163,\">=0\",$P5:$P163),SUMPRODUCT(AU5:AU163,AW5:AW163)/SUMIF(AU5:AU163,\">=0\",AW5:AW163)),\"\")","v":""},null,null,null,{"$f":"IFERROR(IF($P$3=\"SÍ\",SUMPRODUCT(AY5:AY163,$P5:$P163)/SUMIF(AY5:AY163,\">=0\",$P5:$P163),SUMPRODUCT(AY5:AY163,BA5:BA163)/SUMIF(AY5:AY163,\">=0\",BA5:BA163)),\"\")","v":""},null,null,null,{"$f":"IFERROR(IF($P$3=\"SÍ\",SUMPRODUCT(BC5:BC163,$P5:$P163)/SUMIF(BC5:BC163,\">=0\",$P5:$P163),SUMPRODUCT(BC5:BC163,BE5:BE163)/SUMIF(BC5:BC163,\">=0\",BE5:BE163)),\"\")","v":""},null,null,null,{"$f":"IFERROR(IF($P$3=\"SÍ\",SUMPRODUCT(BG5:BG163,$P5:$P163)/SUMIF(BG5:BG163,\">=0\",$P5:$P163),SUMPRODUCT(BG5:BG163,BI5:BI163)/SUMIF(BG5:BG163,\">=0\",BI5:BI163)),\"\")","v":""},null,null,null,{"$f":"IFERROR(IF($P$3=\"SÍ\",SUMPRODUCT(BK5:BK163,$P5:$P163)/SUMIF(BK5:BK163,\">=0\",$P5:$P163),SUMPRODUCT(BK5:BK163,BM5:BM163)/SUMIF(BK5:BK163,\">=0\",BM5:BM163)),\"\")","v":""},null,null,null,{"$f":"IFERROR(IF($P$3=\"SÍ\",SUMPRODUCT(BO5:BO163,$P5:$P163)/SUMIF(BO5:BO163,\">=0\",$P5:$P163),SUMPRODUCT(BO5:BO163,BQ5:BQ163)/SUMIF(BO5:BO163,\">=0\",BQ5:BQ163)),\"\")","v":""},null,null,null,{"$f":"IFERROR(IF($P$3=\"SÍ\",SUMPRODUCT(BS5:BS163,$P5:$P163)/SUMIF(BS5:BS163,\">=0\",$P5:$P163),SUMPRODUCT(BS5:BS163,BU5:BU163)/SUMIF(BS5:BS163,\">=0\",BU5:BU163)),\"\")","v":""},null,null,null,{"$f":"IFERROR(IF($P$3=\"SÍ\",SUMPRODUCT(BW5:BW163,$P5:$P163)/SUMIF(BW5:BW163,\">=0\",$P5:$P163),SUMPRODUCT(BW5:BW163,BY5:BY163)/SUMIF(BW5:BW163,\">=0\",BY5:BY163)),\"\")","v":""},null,null,null,{"$f":"IFERROR(IF($P$3=\"SÍ\",SUMPRODUCT(CA5:CA163,$P5:$P163)/SUMIF(CA5:CA163,\">=0\",$P5:$P163),SUMPRODUCT(CA5:CA163,CC5:CC163)/SUMIF(CA5:CA163,\">=0\",CC5:CC163)),\"\")","v":""},null,null,null,{"$f":"IFERROR(IF($P$3=\"SÍ\",SUMPRODUCT(CE5:CE163,$P5:$P163)/SUMIF(CE5:CE163,\">=0\",$P5:$P163),SUMPRODUCT(CE5:CE163,CG5:CG163)/SUMIF(CE5:CE163,\">=0\",CG5:CG163)),\"\")","v":""},null,null,null,{"$f":"IFERROR(IF($P$3=\"SÍ\",SUMPRODUCT(CI5:CI163,$P5:$P163)/SUMIF(CI5:CI163,\">=0\",$P5:$P163),SUMPRODUCT(CI5:CI163,CK5:CK163)/SUMIF(CI5:CI163,\">=0\",CK5:CK163)),\"\")","v":""},null,null,null,{"$f":"IFERROR(IF($P$3=\"SÍ\",SUMPRODUCT(CM5:CM163,$P5:$P163)/SUMIF(CM5:CM163,\">=0\",$P5:$P163),SUMPRODUCT(CM5:CM163,CO5:CO163)/SUMIF(CM5:CM163,\">=0\",CO5:CO163)),\"\")","v":""},null,null,null,{"$f":"IFERROR(IF($P$3=\"SÍ\",SUMPRODUCT(CQ5:CQ163,$P5:$P163)/SUMIF(CQ5:CQ163,\">=0\",$P5:$P163),SUMPRODUCT(CQ5:CQ163,CS5:CS163)/SUMIF(CQ5:CQ163,\">=0\",CS5:CS163)),\"\")","v":""},null,null,null,{"$f":"IFERROR(IF($P$3=\"SÍ\",SUMPRODUCT(CU5:CU163,$P5:$P163)/SUMIF(CU5:CU163,\">=0\",$P5:$P163),SUMPRODUCT(CU5:CU163,CW5:CW163)/SUMIF(CU5:CU163,\">=0\",CW5:CW163)),\"\")","v":""},null,null,null,{"$f":"IFERROR(IF($P$3=\"SÍ\",SUMPRODUCT(CY5:CY163,$P5:$P163)/SUMIF(CY5:CY163,\">=0\",$P5:$P163),SUMPRODUCT(CY5:CY163,DA5:DA163)/SUMIF(CY5:CY163,\">=0\",DA5:DA163)),\"\")","v":""},null,null,null,{"$f":"IFERROR(IF($P$3=\"SÍ\",SUMPRODUCT(DC5:DC163,$P5:$P163)/SUMIF(DC5:DC163,\">=0\",$P5:$P163),SUMPRODUCT(DC5:DC163,DE5:DE163)/SUMIF(DC5:DC163,\">=0\",DE5:DE163)),\"\")","v":""},null,null,null,{"$f":"IFERROR(IF($P$3=\"SÍ\",SUMPRODUCT(DG5:DG163,$P5:$P163)/SUMIF(DG5:DG163,\">=0\",$P5:$P163),SUMPRODUCT(DG5:DG163,DI5:DI163)/SUMIF(DG5:DG163,\">=0\",DI5:DI163)),\"\")","v":""},null,null,null,{"$f":"IFERROR(IF($P$3=\"SÍ\",SUMPRODUCT(DK5:DK163,$P5:$P163)/SUMIF(DK5:DK163,\">=0\",$P5:$P163),SUMPRODUCT(DK5:DK163,DM5:DM163)/SUMIF(DK5:DK163,\">=0\",DM5:DM163)),\"\")","v":""},null,null,null,{"$f":"IFERROR(IF($P$3=\"SÍ\",SUMPRODUCT(DO5:DO163,$P5:$P163)/SUMIF(DO5:DO163,\">=0\",$P5:$P163),SUMPRODUCT(DO5:DO163,DQ5:DQ163)/SUMIF(DO5:DO163,\">=0\",DQ5:DQ163)),\"\")","v":""},null,null,null,{"$f":"IFERROR(IF($P$3=\"SÍ\",SUMPRODUCT(DS5:DS163,$P5:$P163)/SUMIF(DS5:DS163,\">=0\",$P5:$P163),SUMPRODUCT(DS5:DS163,DU5:DU163)/SUMIF(DS5:DS163,\">=0\",DU5:DU163)),\"\")","v":""},null,null,null,{"$f":"IFERROR(IF($P$3=\"SÍ\",SUMPRODUCT(DW5:DW163,$P5:$P163)/SUMIF(DW5:DW163,\">=0\",$P5:$P163),SUMPRODUCT(DW5:DW163,DY5:DY163)/SUMIF(DW5:DW163,\">=0\",DY5:DY163)),\"\")","v":""},null,null,null,{"$f":"IFERROR(IF($P$3=\"SÍ\",SUMPRODUCT(EA5:EA163,$P5:$P163)/SUMIF(EA5:EA163,\">=0\",$P5:$P163),SUMPRODUCT(EA5:EA163,EC5:EC163)/SUMIF(EA5:EA163,\">=0\",EC5:EC163)),\"\")","v":""},null,null,null,{"$f":"IFERROR(IF($P$3=\"SÍ\",SUMPRODUCT(EE5:EE163,$P5:$P163)/SUMIF(EE5:EE163,\">=0\",$P5:$P163),SUMPRODUCT(EE5:EE163,EG5:EG163)/SUMIF(EE5:EE163,\">=0\",EG5:EG163)),\"\")","v":""},null,null,null,{"$f":"IFERROR(IF($P$3=\"SÍ\",SUMPRODUCT(EI5:EI163,$P5:$P163)/SUMIF(EI5:EI163,\">=0\",$P5:$P163),SUMPRODUCT(EI5:EI163,EK5:EK163)/SUMIF(EI5:EI163,\">=0\",EK5:EK163)),\"\")","v":""},null,null,null,{"$f":"IFERROR(IF($P$3=\"SÍ\",SUMPRODUCT(EM5:EM163,$P5:$P163)/SUMIF(EM5:EM163,\">=0\",$P5:$P163),SUMPRODUCT(EM5:EM163,EO5:EO163)/SUMIF(EM5:EM163,\">=0\",EO5:EO163)),\"\")","v":""},null,null,null,{"$f":"IFERROR(IF($P$3=\"SÍ\",SUMPRODUCT(EQ5:EQ163,$P5:$P163)/SUMIF(EQ5:EQ163,\">=0\",$P5:$P163),SUMPRODUCT(EQ5:EQ163,ES5:ES163)/SUMIF(EQ5:EQ163,\">=0\",ES5:ES163)),\"\")","v":""},null,null,null,{"$f":"IFERROR(IF($P$3=\"SÍ\",SUMPRODUCT(EU5:EU163,$P5:$P163)/SUMIF(EU5:EU163,\">=0\",$P5:$P163),SUMPRODUCT(EU5:EU163,EW5:EW163)/SUMIF(EU5:EU163,\">=0\",EW5:EW163)),\"\")","v":""}]
[null,null,null,null,null,null,null,null,null,null,"NO","PESO DESCRIPTORES ",null,null,null,null,null,null,{"$f":"'Peso descrip. vinculaciones'!E5","v":0.37058823529411766},null,null,null,{"$f":"'Peso descrip. vinculaciones'!I5","v":0.14117647058823529},null,null,null,{"$f":"'Peso descrip. vinculaciones'!M5","v":0.18235294117647058},null,null,null,{"$f":"'Peso descrip. vinculaciones'!Q5","v":7.0588235294117646E-2},null,null,null,{"$f":"'Peso descrip. vinculaciones'!U5","v":0.23529411764705882},null,null,null,{"$f":"'Peso descrip. vinculaciones'!Y5","v":0.125},null,null,null,{"$f":"'Peso descrip. vinculaciones'!AC5","v":0.27083333333333331},null,null,null,{"$f":"'Peso descrip. vinculaciones'!AG5","v":0.60416666666666663},null,null,null,{"$f":"'Peso descrip. vinculaciones'!AK5","v":0.32520325203252032},null,null,null,{"$f":"'Peso descrip. vinculaciones'!AO5","v":0.26829268292682928},null,null,null,{"$f":"'Peso descrip. vinculaciones'!AS5","v":0.10569105691056911},null,null,null,{"$f":"'Peso descrip. vinculaciones'!AW5","v":0.13821138211382114},null,null,null,{"$f":"'Peso descrip. vinculaciones'!BA5","v":0.16260162601626016},null,null,null,{"$f":"'Peso descrip. vinculaciones'!BE5","v":0.27358490566037735},null,null,null,{"$f":"'Peso descrip. vinculaciones'!BI5","v":0.21698113207547171},null,null,null,{"$f":"'Peso descrip. vinculaciones'!BM5","v":0.23584905660377359},null,null,null,{"$f":"'Peso descrip. vinculaciones'!BQ5","v":0.16981132075471697},null,null,null,{"$f":"'Peso descrip. vinculaciones'!BU5","v":0.10377358490566038},null,null,null,{"$f":"'Peso descrip. vinculaciones'!BY5","v":0.18888888888888888},null,null,null,{"$f":"'Peso descrip. vinculaciones'!CC5","v":9.4444444444444442E-2},null,null,null,{"$f":"'Peso descrip. vinculaciones'!CG5","v":0.27777777777777779},null,null,null,{"$f":"'Peso descrip. vinculaciones'!CK5","v":0.20555555555555555},null,null,null,{"$f":"'Peso descrip. vinculaciones'!CO5","v":0.23333333333333334},null,null,null,{"$f":"'Peso descrip. vinculaciones'!CS5","v":0.18965517241379309},null,null,null,{"$f":"'Peso descrip. vinculaciones'!CW5","v":0.31896551724137934},null,null,null,{"$f":"'Peso descrip. vinculaciones'!DA5","v":0.31034482758620691},null,null,null,{"$f":"'Peso descrip. vinculaciones'!DE5","v":0.18103448275862069},null,null,null,{"$f":"'Peso descrip. vinculaciones'!DI5","v":0.38666666666666666},null,null,null,{"$f":"'Peso descrip. vinculaciones'!DM5","v":9.3333333333333338E-2},null,null,null,{"$f":"'Peso descrip. vinculaciones'!DQ5","v":0.52},null,null,null,{"$f":"'Peso descrip. vinculaciones'!DU5","v":0.34234234234234234},null,null,null,{"$f":"'Peso descrip. vinculaciones'!DY5","v":0.15315315315315314},null,null,null,{"$f":"'Peso descrip. vinculaciones'!EC5","v":0.27927927927927926},null,null,null,{"$f":"'Peso descrip. vinculaciones'!EG5","v":0.22522522522522523}]
[null,null,null,null,null,null,null,null,null,null,null,"PORCENTAJES",null,null,null,null,null,null,{"$f":"S166/SUM($S166:$AI166)","v":0.37058823529411766},null,null,null,{"$f":"W166/SUM($S166:$AI166)","v":0.14117647058823529},null,null,null,{"$f":"AA166/SUM($S166:$AI166)","v":0.18235294117647058},null,null,null,{"$f":"AE166/SUM($S166:$AI166)","v":7.0588235294117646E-2},null,null,null,{"$f":"AI166/SUM($S166:$AI166)","v":0.23529411764705882},null,null,null,{"$f":"AM166/SUM($AM166:$AU166)","v":0.125},null,null,null,{"$f":"AQ166/SUM($AM166:$AU166)","v":0.27083333333333331},null,null,null,0.60416666666666663,null,null,null,{"$f":"AY166/SUM($AY166:$BO166)","v":0.32520325203252032},null,null,null,{"$f":"BC166/SUM($AY166:$BO166)","v":0.26829268292682928},null,null,null,0.10569105691056911,null,null,null,0.13821138211382114,null,null,null,0.16260162601626016,null,null,null,{"$f":"BS166/SUM($BS166:$CI166)","v":0.27358490566037741},null,null,null,{"$f":"BW166/SUM($BS166:$CI166)","v":0.21698113207547173},null,null,null,0.23584905660377362,null,null,null,0.169811320754717,null,null,null,0.1037735849056604,null,null,null,{"$f":"CM166/SUM($CM166:$DC166)","v":0.18888888888888888},null,null,null,{"$f":"CQ166/SUM($CM166:$DC166)","v":9.4444444444444442E-2},null,null,null,0.27777777777777779,null,null,null,0.20555555555555555,null,null,null,0.23333333333333334,null,null,null,{"$f":"DG166/SUM($DG166:$DS166)","v":0.18965517241379312},null,null,null,{"$f":"DK166/SUM($DG166:$DS166)","v":0.31896551724137939},null,null,null,0.31034482758620696,null,null,null,0.18103448275862072,null,null,null,{"$f":"DW166/SUM($DW166:$EE166)","v":0.38666666666666666},null,null,null,{"$f":"EA166/SUM($DW166:$EE166)","v":9.3333333333333338E-2},null,null,null,0.52,null,null,null,{"$f":"EI166/SUM($EI166:$EU166)","v":0.34234234234234234},null,null,null,{"$f":"EM166/SUM($EI166:$EU166)","v":0.15315315315315314},null,null,null,0.27927927927927926,null,null,null,0.22522522522522523]
[null,null,null,null,null,null,null,null,null,null,null,"CALIFICACIONES COMPETENCIAS",null,null,null,null,null,null,{"$f":"IFERROR(SUMPRODUCT(S165:AI165,S166:AI166)/SUMIF(S165:AI165,\">=0\",S166:AI166),\"\")","v":""},null,null,null,null,null,null,null,null,null,null,null,null,null,null,null,null,null,null,null,{"$f":"IFERROR(SUMPRODUCT(AM165:AU165,AM166:AU166)/SUMIF(AM165:AU165,\">=0\",AM166:AU166),\"\")","v":""},null,null,null,null,null,null,null,null,null,null,null,{"$f":"IFERROR(SUMPRODUCT(AY165:BO165,AY166:BO166)/SUMIF(AY165:BO165,\">=0\",AY166:BO166),\"\")","v":""},null,null,null,null,null,null,null,null,null,null,null,null,null,null,null,null,null,null,null,{"$f":"IFERROR(SUMPRODUCT(BS165:CI165,BS166:CI166)/SUMIF(BS165:CI165,\">=0\",BS166:CI166),\"\")","v":""},null,null,null,null,null,null,null,null,null,null,null,null,null,null,null,null,null,null,null,{"$f":"IFERROR(SUMPRODUCT(CM165:DC165,CM166:DC166)/SUMIF(CM165:DC165,\">=0\",CM166:DC166),\"\")","v":""},null,null,null,null,null,null,null,null,null,null,null,null,null,null,null,null,null,null,null,{"$f":"IFERROR(SUMPRODUCT(DG165:DS165,DG166:DS166)/SUMIF(DG165:DS165,\">=0\",DG166:DS166),\"\")","v":""},null,null,null,null,null,null,null,null,null,null,null,null,null,null,null,{"$f":"IFERROR(SUMPRODUCT(DW165:EE165,DW166:EE166)/SUMIF(DW165:EE165,\">=0\",DW166:EE166),\"\")","v":""},null,null,null,null,null,null,null,null,null,null,null,{"$f":"IFERROR(SUMPRODUCT(EI165:EU165,EI166:EU166)/SUMIF(EI165:EU165,\">=0\",EI166:EU166),\"\")","v":""}]
[null,null,null,null,null,null,null,null,null,null,null,null,null,null,null,null,null,null,{"$f":"S168","v":""},{"$f":"AM168","v":""},{"$f":"AY168","v":""},{"$f":"BS168","v":""},{"$f":"CM168","v":""},{"$f":"DG168","v":""},{"$f":"DW168","v":""},{"$f":"EI168","v":""}]
[]
[]
[]
[]
[]
[]
[null,null,null,null,null,null,null,null,null,null,null,null,null,null,null,null,null,{"$f":"SUMIF(N5:N163,\">=0\",Q5:Q163)","v":0}]

{"sheet":"BASE","index":25,"n_rows":165,"n_cols":40,"rows_kept":165,"cut":false,"hidden":false,"merged":[[2,19,3,19],[2,20,3,20],[2,17,3,17],[2,18,3,18],[2,9,3,9],[2,34,3,34],[2,35,3,35],[2,36,3,36],[2,37,3,37],[2,32,3,32],[2,21,3,21],[2,22,3,22],[2,23,3,23],[2,24,3,24],[2,25,3,25],[2,26,3,26],[2,27,3,27],[2,28,3,28],[2,29,3,29],[2,30,3,30],[2,31,3,31],[1,27,1,30],[1,31,1,33],[1,34,1,37],[1,38,3,38],[2,1,2,3],[2,4,3,4],[2,5,3,5],[2,6,3,6],[2,7,3,7],[2,8,3,8],[1,1,1,3],[1,4,1,8],[1,9,1,11],[1,12,1,16],[1,17,1,21],[1,22,1,26],[2,10,3,10],[2,11,3,11],[2,12,3,12],[2,13,3,13],[2,14,3,14],[2,15,3,15],[2,16,3,16],[2,33,3,33],[164,34,164,37],[163,2,163,3],[164,2,164,3],[164,4,164,8],[164,9,164,11],[164,12,164,16],[164,17,164,21],[164,22,164,26],[164,27,164,30],[164,31,164,33],[4,1,21,1],[4,2,6,2],[7,2,11,2],[12,2,14,2],[15,2,16,2],[17,2,19,2],[20,2,21,2],[22,1,42,1],[22,2,24,2],[25,2,28,2],[29,2,31,2],[32,2,33,2],[34,2,37,2],[151,1,156,1],[157,1,162,1],[38,2,39,2],[40,2,42,2],[43,1,54,1],[43,2,45,2],[46,2,48,2],[49,2,51,2],[52,2,54,2],[55,1,71,1],[55,2,57,2],[58,2,60,2],[61,2,63,2],[64,2,66,2],[67,2,71,2],[72,1,91,1],[72,2,75,2],[76,2,78,2],[79,2,81,2],[82,2,85,2],[86,2,88,2],[89,2,91,2],[92,1,117,1],[92,2,93,2],[94,2,95,2],[96,2,98,2],[99,2,101,2],[102,2,103,2],[104,2,107,2],[108,2,110,2],[111,2,113,2],[114,2,115,2],[116,2,117,2],[118,1,132,1],[118,2,119,2],[120,2,122,2],[123,2,124,2],[125,2,126,2],[127,2,129,2],[130,2,132,2],[133,1,150,1],[133,2,134,2],[135,2,138,2],[139,2,140,2],[141,2,142,2],[143,2,144,2],[145,2,146,2],[147,2,148,2],[149,2,150,2]]}
[]
[null,"Mapas de Relaciones Criteriales",null,null,"Competencia en Comunicación Lingüística",null,null,null,null,"Competencia Plurilingüe",null,null,"Competencia Matemática y Competencia en Ciencia, Tecnología e Ingeniería",null,null,null,null,"Competencia Digital",null,null,null,null,"Competencia Personal, Social y de Aprender a Aprender",null,null,null,null,"Competencia Ciudadana",null,null,null,"Competencia Emprendedora",null,null,"Competencia en Conciencia y Expresión Culturales",null,null,null,"Vinculaciones Criterios - Descriptores "]
[null,"4º EP",null,null,"CCL 1","CCL 2","CCL 3","CCL 4","CCL 5","CP 1","CP 2","CP 3","STEM 1","STEM 2","STEM 3","STEM 4","STEM 5 ","CD 1","CD 2","CD 3","CD 4","CD 5","CPSAA 1","CPSAA 2","CPSAA 3","CPSAA 4","CPSAA 5","CC 1","CC 2","CC 3","CC 4","CE 1","CE 2","CE 3 ","CCEC 1","CCEC 2","CCEC 3","CCEC 4"]
[]
[null,"Ciencias de la Naturaleza","Comp. Esp. 1","Criterio Evaluación 1.1",null,null,1,null,null,null,null,null,null,null,null,null,null,1,null,1,1,null,null,1,null,null,null,null,null,null,null,null,null,null,null,null,null,null,{"$f":"SUM(E5:AL5)","v":5},{"$f":"SUM($AM$5:$AM$22)","v":102}]
[null,null,null,"Criterio Evaluación 1.2",1,null,1,null,null,null,null,null,null,null,null,null,null,null,1,1,null,1,null,null,null,1,null,null,null,null,null,null,null,1,null,null,null,1,8,{"$f":"SUM($AM$5:$AM$22)","v":102}]
[null,null,null,"Criterio Evaluación 1.3",1,null,null,null,null,null,null,null,null,null,null,null,null,null,1,1,1,1,null,null,null,null,null,null,null,null,null,null,null,1,null,null,null,null,6,102]
[null,null,"Comp. Esp. 2","Criterio Evaluación 2.1",1,null,null,null,null,null,null,null,null,1,null,null,null,null,null,null,null,null,null,null,null,null,null,null,null,null,1,null,null,null,null,null,null,null,3,102]
[null,null,null,"Criterio Evaluación 2.2",null,1,1,null,null,null,null,null,null,null,null,null,null,1,null,null,1,null,null,null,null,null,null,null,null,null,null,null,null,null,null,null,null,null,4,102]
[null,null,null,"Criterio Evaluación 2.3",null,null,null,null,null,null,null,null,1,1,null,1,null,null,null,null,null,null,null,null,null,1,1,null,null,null,1,null,null,null,null,null,null,null,6,102]
[null,null,null,"Criterio Evaluación 2.4",1,1,1,null,null,null,null,null,null,1,null,null,null,1,null,null,null,null,null,null,null,null,1,null,null,null,null,null,null,null,null,null,null,null,6,102]
[null,null,null,"Criterio Evaluación 2.5",1,null,null,null,null,null,1,null,null,1,null,1,null,null,1,null,1,null,null,null,null,1,1,null,null,null,null,null,null,null,null,null,null,null,8,102]
[null,null,"Comp. Esp. 3","Criterio Evaluación 3.1",null,null,null,null,null,null,null,null,1,null,1,null,null,null,null,null,null,null,null,null,1,null,null,null,null,null,null,1,null,1,null,null,null,1,6,102]
[null,null,null,"Criterio Evaluación 3.2",1,null,null,null,null,null,null,null,null,1,null,1,null,null,null,null,null,null,null,null,null,null,null,null,null,null,null,null,null,null,null,null,null,null,3,102]
[null,null,null,"Criterio Evaluación 3.3",null,null,null,null,null,null,null,null,1,null,null,null,null,null,null,null,null,1,null,null,null,1,null,null,null,null,null,null,null,null,null,null,null,null,3,102]
[null,null,"Comp. Esp. 4","Criterio Evaluación 4.1",null,null,null,null,null,null,null,null,null,null,null,null,1,null,null,null,null,null,1,1,1,null,null,null,null,1,null,null,1,null,null,null,1,null,7,102]
[null,null,null,"Criterio Evaluación 4.2",null,null,null,null,null,null,null,null,null,null,null,null,1,null,null,null,1,null,null,1,null,null,null,null,null,1,null,null,null,null,null,null,null,null,4,102]
[null,null,"Comp. Esp. 5","Criterio Evaluación 5.1",1,null,null,1,null,null,null,null,1,1,null,1,null,1,null,null,null,null,null,null,null,null,null,null,null,null,null,1,null,null,1,null,null,null,8,102]
[null,null,null,"Criterio Evaluación 5.2",null,null,null,null,null,null,null,null,null,null,null,null,1,null,null,null,null,null,null,null,null,1,null,null,null,1,1,null,null,null,1,null,null,null,5,102]
[null,null,null,"Criterio Evaluación 5.3",null,null,null,null,null,null,null,null,null,null,null,null,1,null,null,null,null,null,null,null,null,null,null,null,null,1,1,1,null,null,1,null,null,null,5,102]
[null,null,"Comp. Esp. 6","Criterio Evaluación 6.1",null,null,null,null,1,null,null,null,null,1,null,null,1,null,null,null,1,null,null,null,null,1,null,1,null,null,1,null,null,null,null,null,null,null,7,102]
[null,null,null,"Criterio Evaluación 6.2",null,null,null,null,1,null,null,null,null,1,null,null,1,null,null,null,1,null,null,null,null,null,null,1,null,null,1,1,null,1,null,null,null,null,8,102]
[null,"Ciencias Sociales","Comp. Esp. 1","Criterio Evaluación 1.1",null,null,1,null,null,null,null,null,null,null,null,null,null,1,null,1,1,null,null,1,null,null,null,null,null,null,null,null,null,null,null,null,null,null,5,{"$f":"SUM($AM$23:$AM$43)","v":117}]
[null,null,null,"Criterio Evaluación 1.2",1,null,1,null,null,null,null,null,null,null,null,null,null,null,1,1,null,1,null,null,null,1,null,null,null,null,null,null,null,1,null,null,null,1,8,{"$f":"SUM($AM$23:$AM$43)","v":117}]
[null,null,null,"Criterio Evaluación 1.3",1,null,null,null,null,null,null,null,null,null,null,null,null,null,1,1,1,1,null,null,null,null,null,null,null,null,null,null,null,null,null,null,null,null,5,117]
[null,null,"Comp. Esp. 2","Criterio Evaluación 2.1",1,null,null,null,null,null,null,null,null,1,null,null,null,null,null,null,null,null,null,null,null,null,null,null,null,null,1,null,null,null,null,null,null,null,3,117]
[null,null,null,"Criterio Evaluación 2.2",null,1,1,null,null,null,null,null,null,null,null,null,null,1,null,null,1,null,null,null,null,null,null,null,null,null,null,null,null,null,null,null,null,null,4,117]
[null,null,null,"Criterio Evaluación 2.3",1,1,1,null,null,null,null,null,null,1,null,null,null,1,null,null,null,null,null,null,null,null,1,null,null,null,null,null,null,null,null,null,null,null,6,117]
[null,null,null,"Criterio Evaluación 2.4",1,null,null,null,null,null,1,null,null,1,null,1,null,null,1,null,1,null,null,null,null,1,1,null,null,null,null,null,null,null,null,null,null,null,8,117]
[null,null,"Comp. Esp. 3","Criterio Evaluación 3.1",1,null,null,1,null,null,null,null,1,1,null,1,null,1,null,null,null,null,null,null,null,null,null,null,null,null,null,1,null,null,1,null,null,null,8,117]
[null,null,null,"Criterio Evaluación 3.2",null,null,null,null,null,null,null,null,null,null,null,null,1,null,null,null,null,null,null,null,null,1,null,null,null,1,1,null,null,null,1,null,null,null,5,117]
[null,null,null,"Criterio Evaluación 3.3",null,null,null,null,null,null,null,null,null,null,null,null,1,null,null,null,null,null,null,null,null,null,null,null,null,1,1,1,null,null,1,null,null,null,5,117]
[null,null,"Comp. Esp. 4","Criterio Evaluación 4.1",null,null,null,null,1,null,null,null,null,1,null,null,1,null,null,null,null,null,null,null,null,1,null,1,null,null,1,null,null,null,null,null,null,null,6,117]
[null,null,null,"Criterio Evaluación 4.2",null,null,null,null,1,null,null,null,null,1,null,null,1,null,null,null,null,null,null,null,null,null,null,1,null,1,1,1,null,1,null,null,null,null,8,117]
[null,null,"Comp. Esp. 5","Criterio Evaluación 5.1",null,null,1,null,null,null,null,null,null,1,null,1,null,null,null,null,null,null,null,null,null,null,null,1,null,null,null,null,null,null,null,null,null,null,4,117]
[null,null,null,"Criterio Evaluación 5.2",null,null,1,null,null,null,null,null,null,null,null,1,null,null,null,null,null,null,null,null,null,1,null,1,null,1,null,null,1,null,1,null,null,null,7,117]
[null,null,null,"Criterio Evaluación 5.3",null,null,null,null,null,null,null,null,null,null,null,null,null,null,1,null,null,null,null,null,null,1,null,1,null,1,null,null,null,null,1,1,null,null,6,117]
[null,null,null,"Criterio Evaluación 5.4",null,null,null,null,null,null,null,null,null,null,null,1,null,null,1,null,null,null,null,null,1,null,null,null,null,null,null,null,null,null,null,null,null,1,4,117]
[null,null,"Comp. Esp. 6","Criterio Evaluación 6.1",null,null,null,null,null,null,null,1,null,null,null,null,null,null,null,null,null,null,1,null,1,null,null,null,1,1,null,null,null,null,1,null,null,null,6,117]
[null,null,null,"Criterio Evaluación 6.2",null,null,null,null,null,null,null,1,null,null,null,null,null,null,null,null,null,null,1,null,1,null,null,1,1,1,null,null,null,null,null,null,null,null,6,117]
[null,null,"Comp. Esp. 7","Criterio Evaluación 7.1",null,null,null,null,1,null,null,1,null,null,null,null,null,null,null,null,null,null,1,null,1,null,null,1,1,1,null,null,null,null,null,null,null,null,7,117]
[null,null,null,"Criterio Evaluación 7.2",null,null,null,null,null,null,null,null,null,null,null,null,null,null,null,null,null,null,null,null,null,null,null,1,1,null,null,null,null,null,1,null,null,null,3,117]
[null,null,null,"Criterio Evaluación 7.3",null,null,null,null,null,null,null,null,null,null,null,null,null,null,null,null,null,null,null,null,null,null,null,1,1,null,null,null,null,null,1,null,null,null,3,117]
[null,"Educación Plástica y Visual","Comp. Esp. 1","Criterio Evaluación 1.1",1,null,null,null,null,null,null,1,null,null,null,null,null,null,null,null,null,null,1,null,1,null,null,null,null,null,null,null,null,null,1,null,1,null,6,{"$f":"SUM($AM$44:$AM$55)","v":74}]
[null,null,null,"Criterio Evaluación 1.2",1,null,null,null,null,null,null,null,null,null,null,null,null,null,null,null,null,null,null,null,1,null,null,1,null,null,null,null,null,null,1,1,null,null,5,{"$f":"SUM($AM$44:$AM$55)","v":74}]
[null,null,null,"Criterio Evaluación 1.3",1,null,null,null,null,null,null,null,null,null,null,null,null,1,null,null,null,null,null,null,null,null,null,null,null,1,null,null,null,null,null,1,null,null,4,74]
[null,null,"Comp. Esp. 2","Criterio Evaluación 2.1",null,null,1,null,null,null,null,1,null,1,null,null,null,1,null,null,null,null,1,null,1,null,null,null,null,null,null,null,null,null,1,null,null,null,7,74]
[null,null,null,"Criterio Evaluación 2.2",null,null,null,null,null,null,null,1,null,null,null,null,null,1,null,null,null,null,1,null,1,null,null,null,null,1,null,null,null,null,1,1,null,null,7,74]
[null,null,null,"Criterio Evaluación 2.3",null,null,null,null,null,null,null,1,null,null,null,null,null,null,null,null,null,null,1,null,1,null,null,null,null,null,null,null,null,null,1,1,null,null,5,74]
[null,null,"Comp. Esp. 3","Criterio Evaluación 3.1",null,null,null,null,1,null,null,null,null,null,null,null,null,null,1,null,1,null,null,null,1,null,1,null,1,null,null,1,null,null,null,null,null,1,8,74]
[null,null,null,"Criterio Evaluación 3.2",1,null,null,null,null,null,null,null,null,null,null,null,null,null,null,null,null,null,1,null,null,null,1,null,null,null,null,1,null,null,null,null,1,1,6,74]
[null,null,null,"Criterio Evaluación 3.3",1,null,null,null,1,null,null,null,null,null,null,null,null,null,null,null,null,null,null,null,1,null,null,null,1,null,null,null,null,null,null,null,1,null,5,74]
[null,null,"Comp. Esp. 4","Criterio Evaluación 4.1",1,null,null,null,1,null,null,1,null,null,1,null,null,null,null,null,null,null,null,null,null,null,null,null,null,null,null,1,null,1,null,null,null,1,7,74]
[null,null,null,"Criterio Evaluación 4.2",1,null,null,null,1,null,null,null,null,null,1,null,null,null,null,null,null,null,null,null,1,1,null,null,1,null,null,null,null,1,null,null,null,1,8,74]
[null,null,null,"Criterio Evaluación 4.3",1,null,null,null,1,null,null,1,null,null,null,null,null,null,null,null,null,null,null,null,1,1,null,null,null,null,null,null,null,null,null,null,1,null,6,74]
[null,"Música y Danza  ","Comp. Esp. 1","Criterio Evaluación 1.1",1,null,null,null,null,null,null,1,null,null,null,null,null,null,null,null,null,null,1,null,1,null,null,null,null,null,null,null,null,null,1,null,1,null,6,{"$f":"SUM($AM$56:$AM$72)","v":99}]
[null,null,null,"Criterio Evaluación 1.2",1,null,null,null,null,null,null,null,null,null,null,null,null,null,null,null,null,null,null,null,1,null,null,1,null,null,null,null,null,null,1,1,null,null,5,{"$f":"SUM($AM$56:$AM$72)","v":99}]
[null,null,null,"Criterio Evaluación 1.3",1,null,null,null,null,null,null,null,null,null,null,null,null,null,null,null,null,null,null,null,null,null,null,null,null,1,null,null,null,null,null,1,null,null,3,99]
[null,null,"Comp. Esp. 2","Criterio Evaluación 2.1",null,null,1,null,null,null,null,1,null,1,null,null,null,1,null,null,null,null,1,null,1,null,null,null,null,null,null,null,null,null,1,null,null,null,7,99]
[null,null,null,"Criterio Evaluación 2.2",null,null,null,null,null,null,null,1,null,null,null,null,null,1,null,null,null,null,1,null,1,null,null,null,null,1,null,null,null,null,1,1,null,null,7,99]
[null,null,null,"Criterio Evaluación 2.3",null,null,null,null,null,null,null,1,null,null,null,null,null,null,null,null,null,null,1,null,1,null,null,null,null,null,null,null,null,null,1,1,null,null,5,99]
[null,null,"Comp. Esp. 3","Criterio Evaluación 3.1",null,null,null,null,1,null,null,null,null,null,null,null,null,null,1,null,1,null,null,null,1,null,1,null,1,null,null,1,null,null,null,null,null,1,8,99]
[null,null,null,"Criterio Evaluación 3.2",1,null,null,null,null,null,null,null,null,null,null,null,null,null,null,null,null,null,1,null,null,null,1,null,null,null,null,1,null,null,null,null,1,1,6,99]
[null,null,null,"Criterio Evaluación 3.3",1,null,null,null,1,null,null,null,null,null,null,null,null,null,null,null,null,null,null,null,1,null,null,null,1,null,null,null,null,null,null,null,1,null,5,99]
[null,null,"Comp. Esp. 4","Criterio Evaluación 4.1",1,null,null,null,1,null,null,1,null,null,1,null,null,null,null,null,null,null,null,null,null,null,null,null,null,null,null,1,null,1,null,null,null,1,7,99]
[null,null,null,"Criterio Evaluación 4.2",1,null,null,null,1,null,null,null,null,null,1,null,null,null,null,null,null,null,null,null,1,1,null,null,1,null,null,null,null,1,null,null,null,1,8,99]
[null,null,null,"Criterio Evaluación 4.3",1,null,null,null,1,null,null,1,null,null,null,null,null,null,null,null,null,null,null,null,1,1,null,null,null,null,null,null,null,null,null,null,1,null,6,99]
[null,null,"Comp. Esp. 5","Criterio Evaluación 5.1",null,null,null,null,null,null,null,null,null,null,null,null,1,null,null,null,null,null,null,1,null,null,null,null,null,null,null,null,null,null,null,null,1,1,4,99]
[null,null,null,"Criterio Evaluación 5.2",null,null,null,null,null,null,null,null,null,1,null,null,1,null,null,null,null,null,null,1,null,null,null,null,1,null,null,null,null,null,null,null,1,1,{"$f":"SUM(E69:AL69)","v":6},99]
[null,null,null,"Criterio Evaluación 5.3",null,null,null,null,1,null,null,null,null,null,null,null,null,null,null,null,null,null,1,1,null,null,null,null,null,null,null,null,null,null,null,null,1,1,5,99]
[null,null,null,"Criterio Evaluación 5.4",null,null,null,null,1,null,null,null,null,null,null,null,null,null,null,null,null,null,1,1,null,null,null,null,null,null,null,null,null,null,null,null,1,1,5,99]
[null,null,null,"Criterio Evaluación 5.5",null,null,null,null,1,null,null,null,null,1,null,null,null,null,null,null,null,null,1,1,null,null,null,null,1,null,null,null,null,null,null,null,1,null,6,99]
[null,"Educación Física","Comp. Esp. 1","Criterio Evaluación 1.1",null,null,null,null,null,null,null,null,null,1,null,null,1,null,null,null,null,null,null,1,null,null,null,null,null,null,null,null,null,null,null,null,null,null,3,{"$f":"SUM($AM$73:$AM$92)","v":70}]
[null,null,null,"Criterio Evaluación 1.2",null,null,null,null,null,null,null,null,null,1,null,null,1,null,null,null,null,null,null,1,null,null,null,null,null,null,null,null,null,1,null,null,null,null,4,{"$f":"SUM($AM$73:$AM$92)","v":70}]
[null,null,null,"Criterio Evaluación 1.3",null,null,null,null,null,null,null,null,null,1,null,null,1,null,null,null,null,null,null,1,null,null,1,null,null,null,null,null,null,null,null,null,null,null,4,70]
[null,null,null,"Criterio Evaluación 1.4",null,null,null,null,null,null,null,null,null,null,null,null,null,null,null,null,null,null,null,1,null,null,1,null,null,null,null,null,null,1,null,null,null,null,3,70]
[null,null,"Comp. Esp. 2","Criterio Evaluación 2.1",null,null,null,null,null,null,null,null,1,null,null,null,null,null,null,null,null,null,null,null,1,null,1,null,null,null,null,null,null,1,null,null,null,null,4,70]
[null,null,null,"Criterio Evaluación 2.2",null,null,null,null,null,null,null,null,1,null,null,null,null,null,null,null,null,null,null,null,null,1,null,null,null,null,null,1,null,null,null,null,null,null,3,70]
[null,null,null,"Criterio Evaluación 2.3",null,null,null,null,null,null,null,null,1,null,null,null,null,null,null,null,null,null,null,null,null,1,1,null,null,null,null,null,null,null,null,null,null,null,3,70]
[null,null,"Comp. Esp. 3","Criterio Evaluación 3.1",null,null,null,null,null,null,null,null,null,null,null,null,null,null,null,null,null,null,1,1,null,null,1,null,null,null,null,null,null,null,null,null,null,null,3,70]
[null,null,null,"Criterio Evaluación 3.2",null,null,null,null,null,null,null,null,null,null,null,null,null,null,null,null,null,null,1,null,1,null,null,null,1,1,null,null,null,null,null,null,null,null,4,70]
[null,null,null,"Criterio Evaluación 3.3",1,null,null,null,1,null,null,null,null,null,null,null,null,null,null,null,null,null,null,null,null,null,1,null,1,1,null,null,null,null,null,null,null,null,5,70]
[null,null,"Comp. Esp. 4","Criterio Evaluación 4.1",null,null,null,null,null,null,null,1,null,null,null,null,null,null,null,null,null,null,null,null,null,null,null,null,null,null,null,null,null,null,1,1,1,null,4,70]
[null,null,null,"Criterio Evaluación 4.2",null,null,null,null,null,null,null,null,null,null,null,null,null,null,null,null,null,null,1,null,null,null,null,null,null,1,null,null,null,null,null,null,null,null,2,70]
[null,null,null,"Criterio Evaluación 4.3",null,null,null,null,null,null,null,null,null,null,null,null,null,null,null,null,null,null,1,null,1,null,null,null,null,null,null,null,null,1,null,null,1,1,5,70]
[null,null,null,"Criterio Evaluación 4.4",null,null,null,null,null,null,null,null,null,null,null,null,null,null,null,null,null,null,1,null,1,null,null,null,null,null,null,null,null,null,null,null,null,null,2,70]
[null,null,"Comp. Esp. 5","Criterio Evaluación 5.1",null,null,null,null,null,null,null,null,null,null,null,null,1,null,null,null,null,null,null,1,null,null,null,null,null,null,1,1,null,null,null,null,null,null,4,70]
[null,null,null,"Criterio Evaluación 5.2",null,null,null,null,null,null,null,null,null,null,null,null,1,null,null,null,null,null,null,null,null,null,null,null,1,null,1,null,null,1,null,null,null,null,4,70]
[null,null,null,"Criterio Evaluación 5.3",null,null,null,null,null,null,null,null,null,null,null,null,null,null,null,null,null,null,null,null,null,null,null,null,1,null,null,1,null,1,null,null,null,null,3,70]
[null,null,"Comp. Esp. 6","Criterio Evaluación 6.1",null,1,1,null,null,null,null,null,null,null,null,null,null,null,null,null,null,null,null,null,null,null,1,null,null,null,null,null,null,null,null,null,null,null,3,70]
[null,null,null,"Criterio Evaluación 6.2",null,null,null,null,null,null,null,null,null,1,null,null,null,1,1,1,1,null,null,null,null,null,null,null,null,null,null,null,null,null,null,null,null,null,5,70]
[null,null,null,"Criterio Evaluación 6.3",1,null,null,null,null,null,null,null,null,null,null,null,null,null,null,null,null,null,null,null,null,null,1,null,null,null,null,null,null,null,null,null,null,null,2,70]
[null,"Lengua Castellana y Literatura","Comp. Esp. 1","Criterio Evaluación 1.1",1,null,null,null,null,null,1,null,null,null,null,null,null,null,null,null,null,null,null,null,null,null,null,1,1,null,null,null,null,null,null,null,1,null,5,{"$f":"SUM($AM$93:$AM$118)","v":165}]
[null,null,null,"Criterio Evaluación 1.2",1,null,null,null,1,null,null,1,null,null,null,null,null,null,null,null,null,null,null,null,1,null,null,1,1,1,null,null,null,null,1,null,null,null,8,{"$f":"SUM($AM$93:$AM$118)","v":165}]
[null,null,"Comp. Esp. 2","Criterio Evaluación 2.1",null,1,null,null,1,null,1,null,1,null,null,null,null,null,null,1,null,null,null,null,1,null,null,null,null,1,null,null,null,null,null,null,null,null,7,165]
[null,null,null,"Criterio Evaluación 2.2",null,1,null,null,null,null,1,null,1,null,null,null,null,null,null,null,null,null,null,null,1,null,null,null,null,null,null,null,null,null,null,null,1,null,5,165]
[null,null,"Comp. Esp. 3","Criterio Evaluación 3.1",1,null,1,null,1,null,1,null,1,null,null,null,null,null,1,null,null,null,null,null,null,null,null,null,null,null,null,1,null,null,null,null,1,null,8,165]
[null,null,null,"Criterio Evaluación 3.2",1,null,null,null,1,null,null,null,1,null,null,null,null,null,null,1,null,null,null,null,1,null,null,1,1,null,null,null,null,null,null,null,null,null,7,165]
[null,null,null,"Criterio Evaluación 3.3",1,null,1,null,1,null,null,null,null,null,null,null,null,null,null,null,null,null,null,null,1,null,null,null,null,null,null,1,null,null,null,null,null,null,5,165]
[null,null,"Comp. Esp. 4","Criterio Evaluación 4.1",null,1,null,1,1,null,1,null,1,null,null,null,null,1,null,null,null,null,null,null,null,1,1,null,null,null,null,null,null,null,null,null,null,null,8,165]
[null,null,null,"Criterio Evaluación 4.2",null,1,1,null,1,null,null,null,1,null,null,null,null,1,null,null,null,null,null,null,null,1,1,null,null,null,null,null,null,null,null,null,null,null,7,165]
[null,null,null,"Criterio Evaluación 4.3",null,1,1,null,null,null,null,null,1,null,null,null,null,null,null,null,null,null,null,null,null,null,1,null,null,null,null,null,null,null,null,null,null,null,4,165]
[null,null,"Comp. Esp. 5","Criterio Evaluación 5.1",1,null,1,null,1,null,null,null,1,null,null,null,null,null,1,1,null,null,null,null,null,null,1,null,1,null,null,null,null,1,null,null,null,null,9,165]
[null,null,null,"Criterio Evaluación 5.2",1,null,1,null,null,null,null,null,1,null,null,null,null,null,null,1,null,null,null,null,1,1,1,null,1,null,null,null,null,1,null,null,1,null,10,165]
[null,null,"Comp. Esp. 6","Criterio Evaluación 6.1",1,1,1,null,null,null,null,null,null,null,null,null,null,1,1,null,1,null,null,null,null,null,1,null,null,null,null,null,null,1,null,null,null,null,8,165]
[null,null,null,"Criterio Evaluación 6.2",1,null,null,null,null,null,null,null,null,null,null,null,null,null,1,1,null,null,null,null,null,1,null,null,1,null,null,null,null,1,null,null,null,1,7,165]
[null,null,null,"Criterio Evaluación 6.3",null,null,1,null,null,null,null,null,null,null,null,null,null,1,null,null,1,null,null,null,null,1,null,null,1,null,null,null,null,null,null,null,null,null,5,165]
[null,null,null,"Criterio Evaluación 6.4",null,null,1,null,null,null,null,null,1,null,null,null,null,1,null,null,null,null,null,null,null,null,1,null,null,null,null,null,null,null,null,null,null,null,4,165]
[null,null,"Comp. Esp. 7","Criterio Evaluación 7.1",null,null,null,1,null,null,null,null,null,null,null,null,null,null,null,1,null,null,null,null,null,null,null,null,null,1,null,null,null,null,1,null,1,null,5,165]
[null,null,null,"Criterio Evaluación 7.2",1,null,null,1,null,null,null,null,null,null,null,null,null,null,null,1,null,null,1,null,1,null,null,null,1,null,null,null,null,null,null,1,null,null,7,165]
[null,null,null,"Criterio Evaluación 7.3",1,null,null,1,null,null,null,null,null,null,null,null,null,null,null,null,null,null,1,null,1,null,null,null,null,null,null,null,null,null,null,1,1,null,6,165]
[null,null,"Comp. Esp. 8","Criterio Evaluación 8.1",1,1,null,1,null,null,null,null,null,null,null,null,null,null,null,null,null,null,null,null,null,null,null,null,null,null,null,null,null,null,1,1,null,null,5,165]
[null,null,null,"Criterio Evaluación 8.2",null,1,null,1,null,null,null,null,null,null,null,null,null,null,null,null,null,null,null,null,null,null,null,null,null,null,null,null,null,null,1,1,null,null,4,165]
[null,null,null,"Criterio Evaluación 8.3",1,null,null,1,null,null,null,null,null,null,null,null,null,null,null,null,null,null,null,null,null,null,null,null,null,null,null,1,null,1,null,null,1,1,6,165]
[null,null,"Comp. Esp. 9","Criterio Evaluación 9.1",1,1,null,null,null,null,1,null,null,1,null,null,null,null,1,null,null,null,null,null,null,null,1,null,null,null,null,null,null,null,null,null,null,null,6,165]
[null,null,null,"Criterio Evaluación 9.2",1,1,null,null,null,null,null,null,1,null,null,null,null,null,null,null,null,null,null,null,null,1,1,null,null,null,null,1,null,null,null,null,null,null,6,165]
[null,null,"Comp. Esp. 10","Criterio Evaluación 10.1",1,null,null,null,1,null,null,1,null,null,null,null,null,null,null,null,null,null,null,null,null,null,null,1,1,1,null,null,null,null,1,null,null,null,7,165]
[null,null,null,"Criterio Evaluación 10.2",1,null,null,null,1,null,null,1,null,null,null,null,null,null,null,null,null,null,null,null,1,null,null,1,1,null,null,null,null,null,null,null,null,null,6,165]
[null,"Lengua Extranjera","Comp. Esp. 1","Criterio Evaluación 1.1",null,1,null,1,null,null,null,null,1,null,null,null,null,null,null,null,null,null,null,null,null,null,null,null,null,null,null,1,null,null,null,1,null,null,5,{"$f":"SUM($AM$119:$AM$133)","v":82}]
[null,null,null,"Criterio Evaluación 1.2",null,1,1,null,null,1,null,null,1,null,null,null,null,null,null,null,null,null,null,null,null,null,1,null,null,null,null,null,null,null,null,null,null,null,5,{"$f":"SUM($AM$119:$AM$133)","v":82}]
[null,null,"Comp. Esp. 2","Criterio Evaluación 2.1",1,null,null,null,null,1,null,null,null,null,null,null,null,null,null,null,null,null,null,null,null,null,null,null,null,null,null,1,null,1,null,null,null,1,5,82]
[null,null,null,"Criterio Evaluación 2.2",1,null,null,null,null,1,null,null,null,null,null,null,null,null,1,null,null,null,null,null,null,null,null,null,null,null,null,1,null,1,null,null,null,1,6,82]
[null,null,null,"Criterio Evaluación 2.3",null,null,1,null,null,1,1,null,1,null,null,null,null,null,1,null,null,null,null,null,null,null,1,null,null,null,null,null,null,null,null,null,null,null,6,82]
[null,null,"Comp. Esp. 3","Criterio Evaluación 3.1",1,null,null,null,1,null,1,null,null,null,null,null,null,null,null,1,null,null,null,null,1,null,null,null,null,1,null,null,null,null,null,null,1,null,7,82]
[null,null,null,"Criterio Evaluación 3.2",1,null,null,null,1,1,null,null,1,null,null,null,null,null,null,null,null,null,null,null,null,null,null,null,null,null,null,null,null,1,null,null,null,null,5,82]
[null,null,"Comp. Esp. 4","Criterio Evaluación 4.1",null,1,null,null,null,null,1,1,1,null,null,null,null,null,null,null,null,null,null,null,1,null,null,null,null,null,null,null,null,null,1,null,null,null,6,82]
[null,null,null,"Criterio Evaluación 4.2",null,null,null,null,1,1,null,null,1,null,null,null,null,null,null,null,null,null,1,null,1,null,null,null,null,null,null,null,null,null,null,null,null,null,5,82]
[null,null,"Comp. Esp. 5","Criterio Evaluación 5.1",null,null,null,null,null,null,1,1,null,null,null,null,null,null,null,null,null,null,null,null,null,1,null,null,null,1,null,null,null,null,1,null,null,null,5,82]
[null,null,null,"Criterio Evaluación 5.2",null,null,1,null,null,null,null,null,1,null,null,null,null,null,1,null,null,null,null,null,null,1,null,null,null,null,null,null,null,1,null,null,null,null,5,82]
[null,null,null,"Criterio Evaluación 5.3",null,null,null,null,null,null,null,null,1,null,null,null,null,null,null,null,null,null,1,null,null,1,1,null,null,null,null,null,null,null,null,null,null,null,4,82]
[null,null,"Comp. Esp. 6","Criterio Evaluación 6.1",null,null,null,null,1,null,null,1,null,null,null,null,null,null,null,null,null,null,1,null,1,null,null,null,1,1,null,null,null,null,null,null,null,null,6,82]
[null,null,null,"Criterio Evaluación 6.2",null,null,null,null,1,null,1,1,null,null,null,null,null,null,null,null,null,null,null,null,1,null,null,null,null,1,null,null,null,null,1,null,null,null,6,82]
[null,null,null,"Criterio Evaluación 6.3",null,null,null,null,1,null,null,1,null,null,null,null,null,null,null,null,null,null,null,null,1,null,null,null,1,1,null,null,null,null,1,null,null,null,{"$f":"SUM(E133:AL133)","v":6},82]
[null,"Matemáticas","Comp. Esp. 1","Criterio Evaluación 1.1",null,1,null,null,null,null,null,null,1,1,null,1,null,null,null,null,null,null,null,null,null,null,null,null,null,null,null,null,null,1,null,null,null,null,5,{"$f":"SUM($AM$134:$AM$151)","v":108}]
[null,null,null,"Criterio Evaluación 1.2",1,null,null,null,null,null,null,null,1,1,null,1,null,null,1,null,null,null,null,null,null,null,1,null,null,null,null,1,null,1,null,null,null,1,9,{"$f":"SUM($AM$134:$AM$151)","v":108}]
[null,null,"Comp. Esp. 2","Criterio Evaluación 2.1",null,null,null,null,null,null,null,null,1,1,null,null,null,null,null,null,null,null,null,null,null,null,1,null,null,null,null,null,null,null,null,null,null,null,3,108]
[null,null,null,"Criterio Evaluación 2.2",null,null,null,null,null,null,null,null,1,null,null,null,null,null,null,null,null,null,null,null,null,1,null,null,null,null,null,1,null,1,null,null,null,null,4,108]
[null,null,null,"Criterio Evaluación 2.3",null,1,null,null,null,null,null,null,1,1,null,null,null,null,null,null,null,null,null,null,null,1,1,null,null,null,null,null,null,1,null,null,null,null,6,108]
[null,null,null,"Criterio Evaluación 2.4",null,null,null,null,null,null,null,null,1,null,null,null,null,null,null,null,null,null,null,null,null,null,1,null,null,null,null,null,null,1,null,null,null,null,3,108]
[null,null,"Comp. Esp. 3","Criterio Evaluación 3.1",null,null,null,null,null,null,null,null,1,1,null,1,null,1,null,1,null,1,null,null,null,null,1,null,null,null,null,null,null,null,null,null,null,null,7,108]
[null,null,null,"Criterio Evaluación 3.2",1,null,null,null,null,null,null,null,1,1,null,null,null,null,null,null,null,1,null,null,null,null,null,null,null,null,null,null,null,1,null,null,null,null,5,108]
[null,null,"Comp. Esp. 4","Criterio Evaluación 4.1",null,null,null,null,null,null,null,null,1,1,1,1,null,null,null,1,null,1,null,null,null,null,null,null,1,null,null,null,null,null,null,null,null,null,7,108]
[null,null,null,"Criterio Evaluación 4.2",null,null,null,null,null,null,null,null,1,1,1,null,null,1,1,1,null,1,null,null,null,null,null,null,1,null,null,null,null,1,null,null,null,null,9,108]
[null,null,"Comp. Esp. 5","Criterio Evaluación 5.1",null,null,null,null,null,null,null,null,1,null,1,null,null,null,null,1,null,null,null,null,null,1,null,null,1,null,1,null,null,null,null,null,null,null,6,108]
[null,null,null,"Criterio Evaluación 5.2",null,null,null,null,null,null,null,null,1,null,1,null,null,null,null,1,null,1,null,null,null,1,null,null,1,null,1,null,null,null,1,null,null,null,8,108]
[null,null,"Comp. Esp. 6","Criterio Evaluación 6.1",null,null,1,null,null,null,null,null,null,null,null,1,null,1,null,null,null,null,null,null,null,null,null,null,null,null,null,null,null,null,null,null,null,null,3,108]
[null,null,null,"Criterio Evaluación 6.2",1,null,1,null,null,null,null,null,1,1,null,1,null,1,null,1,null,1,null,null,null,null,null,null,null,null,null,null,null,1,null,null,null,1,10,108]
[null,null,"Comp. Esp. 7","Criterio Evaluación 7.1",1,null,null,null,null,null,null,null,null,null,null,null,null,null,null,null,null,null,1,null,null,1,1,null,null,null,null,null,1,null,null,null,1,null,6,108]
[null,null,null,"Criterio Evaluación 7.2",null,null,null,null,null,null,null,null,null,null,null,null,1,null,null,null,null,null,1,null,null,1,1,null,null,null,null,null,null,null,null,null,null,null,4,108]
[null,null,"Comp. Esp. 8","Criterio Evaluación 8.1",1,null,null,null,1,null,null,1,null,null,1,null,null,null,null,null,null,null,null,null,1,null,null,null,1,1,null,null,null,1,null,null,null,null,8,108]
[null,null,null,"Criterio Evaluación 8.2",null,null,null,null,null,null,null,null,null,null,1,null,null,null,null,null,null,null,1,null,null,null,null,null,1,1,null,null,null,1,null,null,null,null,5,108]
[null,"Religión","Comp. Esp. 1","Criterio Evaluación 1.1",1,null,1,null,null,null,null,null,null,null,null,null,null,1,null,null,1,null,1,1,null,1,1,null,null,null,null,null,1,1,null,null,1,null,11,{"$f":"SUM($AM$152:$AM$157)","v":56}]
[null,null,"Comp. Esp. 2","Criterio Evaluación 2.1",null,1,null,null,1,null,null,1,null,null,null,null,1,null,null,1,null,null,null,null,1,null,null,1,1,null,1,1,null,null,null,null,null,null,10,56]
[null,null,"Comp. Esp. 3","Criterio Evaluación 3.1",1,null,null,null,1,null,null,null,null,null,1,null,null,1,null,null,null,null,null,null,1,null,null,null,null,1,1,1,null,null,null,null,1,null,9,56]
[null,null,"Comp. Esp. 4","Criterio Evaluación 4.1",null,null,null,1,null,null,null,1,null,null,null,null,null,null,1,1,null,null,null,null,null,null,null,null,null,1,null,null,null,null,1,1,null,1,8,56]
[null,null,"Comp. Esp. 5","Criterio Evaluación 5.1",1,null,null,null,null,null,null,null,null,null,null,null,null,null,null,null,null,null,1,null,1,null,1,null,null,1,null,null,1,null,1,null,1,null,8,56]
[null,null,"Comp. Esp. 6","Criterio Evaluación 6.1",null,1,1,null,null,null,null,null,null,null,null,1,null,1,null,null,null,null,null,null,null,1,1,1,null,null,1,null,null,1,1,null,null,null,10,{"$f":"SUM($AM$152:$AM$157)","v":56}]
[null,"Área dirigida al alumnado que no cursa religión","Comp. Esp. 1","Criterio Evaluación 1.1",1,null,1,null,null,null,null,null,null,null,null,null,null,1,null,null,1,null,1,1,null,1,1,null,null,null,null,null,1,1,null,null,1,null,11,{"$f":"SUM($AM$158:$AM$163)","v":56}]
[null,null,"Comp. Esp. 2","Criterio Evaluación 2.1",null,1,null,null,1,null,null,1,null,null,null,null,1,null,null,1,null,null,null,null,1,null,null,1,1,null,1,1,null,null,null,null,null,null,10,56]
[null,null,"Comp. Esp. 3","Criterio Evaluación 3.1",1,null,null,null,1,null,null,null,null,null,1,null,null,1,null,null,null,null,null,null,1,null,null,null,null,1,1,1,null,null,null,null,1,null,9,56]
[null,null,"Comp. Esp. 4","Criterio Evaluación 4.1",null,null,null,1,null,null,null,1,null,null,null,null,null,null,1,1,null,null,null,null,null,null,null,null,null,1,null,null,null,null,1,1,null,1,8,56]
[null,null,"Comp. Esp. 5","Criterio Evaluación 5.1",1,null,null,null,null,null,null,null,null,null,null,null,null,null,null,null,null,null,1,null,1,null,1,null,null,1,null,null,1,null,1,null,1,null,8,56]
[null,null,"Comp. Esp. 6","Criterio Evaluación 6.1",null,1,1,null,null,null,null,null,null,null,null,1,null,1,null,null,null,null,null,null,null,1,1,1,null,null,1,null,null,1,1,null,null,null,10,{"$f":"SUM($AM$158:$AM$163)","v":56}]
[null,null,"Vinculaciones Criterios - Descriptores ",null,{"$f":"SUM(E5:E163)","v":63},24,31,12,40,6,13,29,40,33,13,17,20,29,23,25,18,11,34,17,50,37,42,22,37,36,21,29,7,39,38,17,31,25,{"$f":"SUM(E164:AL164)","v":929},{"$f":"SUM(AM5:AM163)","v":929}]
[null,null,"Vinculaciones Criterios - Competencia Clave",null,{"$f":"SUM(E164:I164)","v":170},null,null,null,null,{"$f":"SUM(J164:L164)","v":48},null,null,{"$f":"SUM(M164:Q164)","v":123},null,null,null,null,{"$f":"SUM(R164:V164)","v":106},null,null,null,null,{"$f":"SUM(W164:AA164)","v":180},null,null,null,null,{"$f":"SUM(AB164:AE164)","v":116},null,null,null,{"$f":"SUM(AF164:AH164)","v":75},null,null,{"$f":"SUM(AI164:AL164)","v":111},null,null,null,null,{"$f":"AN164/10","v":92.9}]